{"text_format":"1","workbook":"xlsx","n_sheets":21,"sheets":["メニュー","学級(結果①)","学級(結果②)","生徒(個人)","教員(結果①)","教員(結果②)","教員(個人)","生徒(データ入力①)","生徒(データ入力②)","教員(データ入力①)","教員(データ入力②)","質問項目(生徒)","質問項目(教員)","学級(一覧表①)","学級(一覧表②)","教員(一覧表①)","教員(一覧表②)","生徒第1回入力 (生徒個人表用)","生徒第２回入力 (生徒個人表用)","実施方法","結果作成"],"not_rendered":{"charts":40,"images":13,"macros":1,"external_links":0,"defined_names":27,"comments":0,"pivot_tables":0},"unopened":[],"bounds":{"document_bytes":16777216,"sheet_cells":100000,"rows_first":2000,"rows_last":500,"rows_between":2000,"halvings":0,"cell_chars":16384,"cell_head_chars":4096},"cells_cut":0,"cells_raw":0,"read":"whole","date_system":"1900"}

{"sheet":"メニュー","index":0,"n_rows":0,"n_cols":0,"rows_kept":0,"cut":false,"hidden":false,"merged":[]}

{"sheet":"学級(結果①)","index":1,"n_rows":3,"n_cols":7,"rows_kept":3,"cut":false,"hidden":false,"merged":[[3,30,5,32],[2,6,4,22],[2,0,4,1],[2,2,4,3]]}
[]
[]
["学級",null,"1回目",null,null,null,"安心チェックシートの結果"]

{"sheet":"学級(結果②)","index":2,"n_rows":3,"n_cols":7,"rows_kept":3,"cut":false,"hidden":false,"merged":[[2,0,4,1],[2,2,4,3],[2,6,4,22],[3,30,5,32]]}
[]
[]
["学級",null,"2回目",null,null,null,"安心チェックシートの結果"]

{"sheet":"生徒(個人)","index":3,"n_rows":25,"n_cols":86,"rows_kept":25,"cut":false,"hidden":false,"merged":[[2,23,2,24],[20,0,24,0],[21,6,24,12],[1,0,1,1],[2,0,2,19],[5,0,9,0],[10,0,14,0],[15,0,19,0],[3,23,3,24]]}
[null,null,null,null,null,null,null,null,null,null,null,null,null,null,null,null,null,null,null,null,null,null,null,null,null,null,null,null,null,null,null,null,null,null,null,null,{"$f":"'学級(一覧表①)'!I2","v":1},{"$f":"'学級(一覧表①)'!J2","v":2},{"$f":"'学級(一覧表①)'!K2","v":3},{"$f":"'学級(一覧表①)'!L2","v":4},{"$f":"'学級(一覧表①)'!M2","v":5},{"$f":"'学級(一覧表①)'!N2","v":6},{"$f":"'学級(一覧表①)'!O2","v":7},{"$f":"'学級(一覧表①)'!P2","v":8},{"$f":"'学級(一覧表①)'!Q2","v":9},{"$f":"'学級(一覧表①)'!R2","v":10},{"$f":"'学級(一覧表①)'!S2","v":11},{"$f":"'学級(一覧表①)'!T2","v":12},{"$f":"'学級(一覧表①)'!U2","v":13},{"$f":"'学級(一覧表①)'!V2","v":14},{"$f":"'学級(一覧表①)'!W2","v":15},{"$f":"'学級(一覧表①)'!X2","v":16},{"$f":"'学級(一覧表①)'!Y2","v":17},{"$f":"'学級(一覧表①)'!Z2","v":18},{"$f":"'学級(一覧表①)'!AA2","v":19},{"$f":"'学級(一覧表①)'!AB2","v":20},{"$f":"'学級(一覧表①)'!AC2","v":21},{"$f":"'学級(一覧表①)'!AD2","v":22},{"$f":"'学級(一覧表①)'!AE2","v":23},{"$f":"'学級(一覧表①)'!AF2","v":24},{"$f":"'学級(一覧表①)'!AG2","v":25},{"$f":"'学級(一覧表①)'!AH2","v":26},{"$f":"'学級(一覧表①)'!AI2","v":27},{"$f":"'学級(一覧表①)'!AJ2","v":28},{"$f":"'学級(一覧表①)'!AK2","v":29},{"$f":"'学級(一覧表①)'!AL2","v":30},{"$f":"'学級(一覧表①)'!AM2","v":31},{"$f":"'学級(一覧表①)'!AN2","v":32},{"$f":"'学級(一覧表①)'!AO2","v":33},{"$f":"'学級(一覧表①)'!AP2","v":34},{"$f":"'学級(一覧表①)'!AQ2","v":35},{"$f":"'学級(一覧表①)'!AR2","v":36},{"$f":"'学級(一覧表①)'!AS2","v":37},{"$f":"'学級(一覧表①)'!AT2","v":38},{"$f":"'学級(一覧表①)'!AU2","v":39},{"$f":"'学級(一覧表①)'!AV2","v":40},{"$f":"'学級(一覧表①)'!AW2","v":41},{"$f":"'学級(一覧表①)'!AX2","v":42},{"$f":"'学級(一覧表①)'!AY2","v":43},{"$f":"'学級(一覧表①)'!AZ2","v":44},{"$f":"'学級(一覧表①)'!BA2","v":45},{"$f":"'学級(一覧表①)'!BB2","v":46},{"$f":"'学級(一覧表①)'!BC2","v":47},{"$f":"'学級(一覧表①)'!BD2","v":48},{"$f":"'学級(一覧表①)'!BE2","v":49},{"$f":"'学級(一覧表①)'!BF2","v":50}]
["生徒個人シート",null,null,null,null,null,null,null,null,null,null,null,null,null,null,null,null,null,null,null,null,null,null,null,null,null,null,null,null,null,null,null,null,null,null,null,{"$f":"'学級(一覧表①)'!I3","v":""},{"$f":"'学級(一覧表①)'!J3","v":""},{"$f":"'学級(一覧表①)'!K3","v":""},{"$f":"'学級(一覧表①)'!L3","v":""},{"$f":"'学級(一覧表①)'!M3","v":""},{"$f":"'学級(一覧表①)'!N3","v":""},{"$f":"'学級(一覧表①)'!O3","v":""},{"$f":"'学級(一覧表①)'!P3","v":""},{"$f":"'学級(一覧表①)'!Q3","v":""},{"$f":"'学級(一覧表①)'!R3","v":""},{"$f":"'学級(一覧表①)'!S3","v":""},{"$f":"'学級(一覧表①)'!T3","v":""},{"$f":"'学級(一覧表①)'!U3","v":""},{"$f":"'学級(一覧表①)'!V3","v":""},{"$f":"'学級(一覧表①)'!W3","v":""},{"$f":"'学級(一覧表①)'!X3","v":""},{"$f":"'学級(一覧表①)'!Y3","v":""},{"$f":"'学級(一覧表①)'!Z3","v":""},{"$f":"'学級(一覧表①)'!AA3","v":""},{"$f":"'学級(一覧表①)'!AB3","v":""},{"$f":"'学級(一覧表①)'!AC3","v":""},{"$f":"'学級(一覧表①)'!AD3","v":""},{"$f":"'学級(一覧表①)'!AE3","v":""},{"$f":"'学級(一覧表①)'!AF3","v":""},{"$f":"'学級(一覧表①)'!AG3","v":""},{"$f":"'学級(一覧表①)'!AH3","v":""},{"$f":"'学級(一覧表①)'!AI3","v":""},{"$f":"'学級(一覧表①)'!AJ3","v":""},{"$f":"'学級(一覧表①)'!AK3","v":""},{"$f":"'学級(一覧表①)'!AL3","v":""},{"$f":"'学級(一覧表①)'!AM3","v":""},{"$f":"'学級(一覧表①)'!AN3","v":""},{"$f":"'学級(一覧表①)'!AO3","v":""},{"$f":"'学級(一覧表①)'!AP3","v":""},{"$f":"'学級(一覧表①)'!AQ3","v":""},{"$f":"'学級(一覧表①)'!AR3","v":""},{"$f":"'学級(一覧表①)'!AS3","v":""},{"$f":"'学級(一覧表①)'!AT3","v":""},{"$f":"'学級(一覧表①)'!AU3","v":""},{"$f":"'学級(一覧表①)'!AV3","v":""},{"$f":"'学級(一覧表①)'!AW3","v":""},{"$f":"'学級(一覧表①)'!AX3","v":""},{"$f":"'学級(一覧表①)'!AY3","v":""},{"$f":"'学級(一覧表①)'!AZ3","v":""},{"$f":"'学級(一覧表①)'!BA3","v":""},{"$f":"'学級(一覧表①)'!BB3","v":""},{"$f":"'学級(一覧表①)'!BC3","v":""},{"$f":"'学級(一覧表①)'!BD3","v":""},{"$f":"'学級(一覧表①)'!BE3","v":""},{"$f":"'学級(一覧表①)'!BF3","v":""}]
["４→そう思う，３→少しそう思う，２→あまりそう思わない，１→そう思わない",null,null,null,null,null,null,null,null,null,null,null,null,null,null,null,null,null,null,null,null,null,null,null,null,1,null,null,null,null,null,null,null,null,null,null,{"$f":"'学級(一覧表②)'!I3","v":""},{"$f":"'学級(一覧表②)'!J3","v":""},{"$f":"'学級(一覧表②)'!K3","v":""},{"$f":"'学級(一覧表②)'!L3","v":""},{"$f":"'学級(一覧表②)'!M3","v":""},{"$f":"'学級(一覧表②)'!N3","v":""},{"$f":"'学級(一覧表②)'!O3","v":""},{"$f":"'学級(一覧表②)'!P3","v":""},{"$f":"'学級(一覧表②)'!Q3","v":""},{"$f":"'学級(一覧表②)'!R3","v":""},{"$f":"'学級(一覧表②)'!S3","v":""},{"$f":"'学級(一覧表②)'!T3","v":""},{"$f":"'学級(一覧表②)'!U3","v":""},{"$f":"'学級(一覧表②)'!V3","v":""},{"$f":"'学級(一覧表②)'!W3","v":""},{"$f":"'学級(一覧表②)'!X3","v":""},{"$f":"'学級(一覧表②)'!Y3","v":""},{"$f":"'学級(一覧表②)'!Z3","v":""},{"$f":"'学級(一覧表②)'!AA3","v":""},{"$f":"'学級(一覧表②)'!AB3","v":""},{"$f":"'学級(一覧表②)'!AC3","v":""},{"$f":"'学級(一覧表②)'!AD3","v":""},{"$f":"'学級(一覧表②)'!AE3","v":""},{"$f":"'学級(一覧表②)'!AF3","v":""},{"$f":"'学級(一覧表②)'!AG3","v":""},{"$f":"'学級(一覧表②)'!AH3","v":""},{"$f":"'学級(一覧表②)'!AI3","v":""},{"$f":"'学級(一覧表②)'!AJ3","v":""},{"$f":"'学級(一覧表②)'!AK3","v":""},{"$f":"'学級(一覧表②)'!AL3","v":""},{"$f":"'学級(一覧表②)'!AM3","v":""},{"$f":"'学級(一覧表②)'!AN3","v":""},{"$f":"'学級(一覧表②)'!AO3","v":""},{"$f":"'学級(一覧表②)'!AP3","v":""},{"$f":"'学級(一覧表②)'!AQ3","v":""},{"$f":"'学級(一覧表②)'!AR3","v":""},{"$f":"'学級(一覧表②)'!AS3","v":""},{"$f":"'学級(一覧表②)'!AT3","v":""},{"$f":"'学級(一覧表②)'!AU3","v":""},{"$f":"'学級(一覧表②)'!AV3","v":""},{"$f":"'学級(一覧表②)'!AW3","v":""},{"$f":"'学級(一覧表②)'!AX3","v":""},{"$f":"'学級(一覧表②)'!AY3","v":""},{"$f":"'学級(一覧表②)'!AZ3","v":""},{"$f":"'学級(一覧表②)'!BA3","v":""},{"$f":"'学級(一覧表②)'!BB3","v":""},{"$f":"'学級(一覧表②)'!BC3","v":""},{"$f":"'学級(一覧表②)'!BD3","v":""},{"$f":"'学級(一覧表②)'!BE3","v":""},{"$f":"'学級(一覧表②)'!BF3","v":""}]
[null,null,1,2,3,null,null,null,null,null,null,null,null,null,null,null,null,null,null,null,null,null,null,"番号入力→",null,1,null,null,null,null,null,null,null,null,null,null,{"$f":"IF(AND(AK2=\"\",AK3=\"\"),\"\",IF(AK2=\"\",AK3,AK2))","v":""},{"$f":"IF(AND(AL2=\"\",AL3=\"\"),\"\",IF(AL2=\"\",AL3,AL2))","v":""},"","","","","","","","","","","","","","","","","","","","","","","","","","","","","","","","","","","","","","","","","","","","","","","",""]
[{"$f":"Z4","v":1},{"$f":"IF(A5=\"\",\"\",HLOOKUP(A5,AK1:CH4,4,FALSE))","v":""},"第1回","第2回"]
["教師や仲間から学級の一員として認められているという安心感","私の学級では，私は先生と話（日記や日誌なども含む）をする機会が多くある。",{"$f":"IF(B5=\"\",\"\",HLOOKUP($A$5,'生徒第1回入力 (生徒個人表用)'!$I$3:$BF$24,3,FALSE))","v":""},{"$f":"IF(B5=\"\",\"\",HLOOKUP($A$5,'生徒第２回入力 (生徒個人表用)'!$I$3:$BF$24,3,FALSE))","v":""}]
[null,"私の学級では，私に役割があり，その働きが認められていると感じる。",{"$f":"IF(B5=\"\",\"\",HLOOKUP($A$5,'生徒第1回入力 (生徒個人表用)'!$I$3:$BF$24,4,FALSE))","v":""},{"$f":"IF(B5=\"\",\"\",HLOOKUP($A$5,'生徒第２回入力 (生徒個人表用)'!$I$3:$BF$24,4,FALSE))","v":""}]
[null,"私の学級では，先生や友達は私の頑張りや良いところを認めてくれている。",{"$f":"IF(B5=\"\",\"\",HLOOKUP($A$5,'生徒第1回入力 (生徒個人表用)'!$I$3:$BF$24,5,FALSE))","v":""},{"$f":"IF(B5=\"\",\"\",HLOOKUP($A$5,'生徒第２回入力 (生徒個人表用)'!$I$3:$BF$24,5,FALSE))","v":""}]
[null,"私の学級では，私のことを理解してくれる先生や友達がいる。",{"$f":"IF(B5=\"\",\"\",HLOOKUP($A$5,'生徒第1回入力 (生徒個人表用)'!$I$3:$BF$24,6,FALSE))","v":""},{"$f":"IF(B5=\"\",\"\",HLOOKUP($A$5,'生徒第２回入力 (生徒個人表用)'!$I$3:$BF$24,6,FALSE))","v":""}]
[null,"私の学級では，私の考えや発言が取り上げられたり紹介されたりすることがある。",{"$f":"IF(B5=\"\",\"\",HLOOKUP($A$5,'生徒第1回入力 (生徒個人表用)'!$I$3:$BF$24,7,FALSE))","v":""},{"$f":"IF(B5=\"\",\"\",HLOOKUP($A$5,'生徒第２回入力 (生徒個人表用)'!$I$3:$BF$24,7,FALSE))","v":""}]
["教師や仲間から理解され受け入れられているという安心感","私の学級では，先生や友達は私の話を最後まで聞いてくれる。",{"$f":"IF(B5=\"\",\"\",HLOOKUP($A$5,'生徒第1回入力 (生徒個人表用)'!$I$3:$BF$24,8,FALSE))","v":""},{"$f":"IF(B5=\"\",\"\",HLOOKUP($A$5,'生徒第２回入力 (生徒個人表用)'!$I$3:$BF$24,8,FALSE))","v":""}]
[null,"私の学級には，悩みや困りごとを相談できる先生や友達がいる。",{"$f":"IF(B5=\"\",\"\",HLOOKUP($A$5,'生徒第1回入力 (生徒個人表用)'!$I$3:$BF$24,9,FALSE))","v":""},{"$f":"IF(B5=\"\",\"\",HLOOKUP($A$5,'生徒第２回入力 (生徒個人表用)'!$I$3:$BF$24,9,FALSE))","v":""}]
[null,"私の学級では，誰かの発言や行動を否定したり批判したりせずに尊重している。",{"$f":"IF(B5=\"\",\"\",HLOOKUP($A$5,'生徒第1回入力 (生徒個人表用)'!$I$3:$BF$24,10,FALSE))","v":""},{"$f":"IF(B5=\"\",\"\",HLOOKUP($A$5,'生徒第２回入力 (生徒個人表用)'!$I$3:$BF$24,10,FALSE))","v":""}]
[null,"私の学級では，みんなで協力して一つのことに取り組むことができる。",{"$f":"IF(B5=\"\",\"\",HLOOKUP($A$5,'生徒第1回入力 (生徒個人表用)'!$I$3:$BF$24,11,FALSE))","v":""},{"$f":"IF(B5=\"\",\"\",HLOOKUP($A$5,'生徒第２回入力 (生徒個人表用)'!$I$3:$BF$24,11,FALSE))","v":""}]
[null,"私の学級では，誰かのユーモアある発言に対し，学級が温かい笑いで包まれる雰囲気がある。",{"$f":"IF(B5=\"\",\"\",HLOOKUP($A$5,'生徒第1回入力 (生徒個人表用)'!$I$3:$BF$24,12,FALSE))","v":""},{"$f":"IF(B5=\"\",\"\",HLOOKUP($A$5,'生徒第２回入力 (生徒個人表用)'!$I$3:$BF$24,12,FALSE))","v":""}]
["自分の考え、選択、決定が尊重されているという安心感","私の学級では，自分（たち）で学習や生活の目標を決め，振り返りをしている。",{"$f":"IF(B5=\"\",\"\",HLOOKUP($A$5,'生徒第1回入力 (生徒個人表用)'!$I$3:$BF$24,13,FALSE))","v":""},{"$f":"IF(B5=\"\",\"\",HLOOKUP($A$5,'生徒第２回入力 (生徒個人表用)'!$I$3:$BF$24,13,FALSE))","v":""}]
[null,"私の学級では，話合いなど自分たちが中心となって活動する場面が多くある。",{"$f":"IF(B5=\"\",\"\",HLOOKUP($A$5,'生徒第1回入力 (生徒個人表用)'!$I$3:$BF$24,14,FALSE))","v":""},{"$f":"IF(B5=\"\",\"\",HLOOKUP($A$5,'生徒第２回入力 (生徒個人表用)'!$I$3:$BF$24,14,FALSE))","v":""}]
[null,"私の学級では，自分で調べたり制作したりするときに，先生や友達からアドバイスをもらえる。",{"$f":"IF(B5=\"\",\"\",HLOOKUP($A$5,'生徒第1回入力 (生徒個人表用)'!$I$3:$BF$24,15,FALSE))","v":""},{"$f":"IF(B5=\"\",\"\",HLOOKUP($A$5,'生徒第２回入力 (生徒個人表用)'!$I$3:$BF$24,15,FALSE))","v":""}]
[null,"私の学級では，私の考えを伝えたいと思える場面や機会がある。",{"$f":"IF(B5=\"\",\"\",HLOOKUP($A$5,'生徒第1回入力 (生徒個人表用)'!$I$3:$BF$24,16,FALSE))","v":""},{"$f":"IF(B5=\"\",\"\",HLOOKUP($A$5,'生徒第２回入力 (生徒個人表用)'!$I$3:$BF$24,16,FALSE))","v":""}]
[null,"私の学級では，自分一人で考える場面で，必要な情報が示されている。",{"$f":"IF(B5=\"\",\"\",HLOOKUP($A$5,'生徒第1回入力 (生徒個人表用)'!$I$3:$BF$24,17,FALSE))","v":""},{"$f":"IF(B5=\"\",\"\",HLOOKUP($A$5,'生徒第２回入力 (生徒個人表用)'!$I$3:$BF$24,17,FALSE))","v":""}]
["ルールが守られ他者から傷つけられないという安心感","私の学級では，係活動や清掃など，みんなが自分の役割に責任を持って取り組んでいる。",{"$f":"IF(B5=\"\",\"\",HLOOKUP($A$5,'生徒第1回入力 (生徒個人表用)'!$I$3:$BF$24,18,FALSE))","v":""},{"$f":"IF(B5=\"\",\"\",HLOOKUP($A$5,'生徒第２回入力 (生徒個人表用)'!$I$3:$BF$24,18,FALSE))","v":""}]
[null,"私の学級には，友達の間違いや失敗を冷やかしたり，からかったりしない雰囲気がある。",{"$f":"IF(B5=\"\",\"\",HLOOKUP($A$5,'生徒第1回入力 (生徒個人表用)'!$I$3:$BF$24,19,FALSE))","v":""},{"$f":"IF(B5=\"\",\"\",HLOOKUP($A$5,'生徒第２回入力 (生徒個人表用)'!$I$3:$BF$24,19,FALSE))","v":""}]
[null,"私の学級には，周りの迷惑になる言動をしてはいけない雰囲気がある。",{"$f":"IF(B5=\"\",\"\",HLOOKUP($A$5,'生徒第1回入力 (生徒個人表用)'!$I$3:$BF$24,20,FALSE))","v":""},{"$f":"IF(B5=\"\",\"\",HLOOKUP($A$5,'生徒第２回入力 (生徒個人表用)'!$I$3:$BF$24,20,FALSE))","v":""}]
[null,"私の学級では，みんなが活動の始まりと終わりの時間を守っている。",{"$f":"IF(B5=\"\",\"\",HLOOKUP($A$5,'生徒第1回入力 (生徒個人表用)'!$I$3:$BF$24,21,FALSE))","v":""},{"$f":"IF(B5=\"\",\"\",HLOOKUP($A$5,'生徒第２回入力 (生徒個人表用)'!$I$3:$BF$24,21,FALSE))","v":""}]
[null,"私の学級では，人の心や体を傷つける言葉や行為を許さない雰囲気がある。",{"$f":"IF(B5=\"\",\"\",HLOOKUP($A$5,'生徒第1回入力 (生徒個人表用)'!$I$3:$BF$24,22,FALSE))","v":""},{"$f":"IF(B5=\"\",\"\",HLOOKUP($A$5,'生徒第２回入力 (生徒個人表用)'!$I$3:$BF$24,22,FALSE))","v":""}]

{"sheet":"教員(結果①)","index":4,"n_rows":3,"n_cols":7,"rows_kept":3,"cut":false,"hidden":false,"merged":[[2,0,4,1],[2,2,4,3],[2,6,4,22],[3,30,5,32]]}
[]
[]
["教員",null,"1回目",null,null,null,"安心チェックシートの結果"]

{"sheet":"教員(結果②)","index":5,"n_rows":3,"n_cols":7,"rows_kept":3,"cut":false,"hidden":false,"merged":[[2,0,4,1],[2,2,4,3],[2,6,4,22],[3,30,5,32]]}
[]
[]
["教員",null,"2回目",null,null,null,"安心チェックシートの結果"]

{"sheet":"教員(個人)","index":6,"n_rows":25,"n_cols":96,"rows_kept":25,"cut":false,"hidden":false,"merged":[[1,30,3,32],[20,0,24,0],[21,6,24,12],[1,0,1,1],[2,0,2,19],[5,0,9,0],[10,0,14,0],[15,0,19,0],[2,23,2,24],[3,23,3,24]]}
[null,null,null,null,null,null,null,null,null,null,null,null,null,null,null,null,null,null,null,null,null,null,null,null,null,null,null,null,null,null,null,null,null,null,null,null,{"$f":"'教員(一覧表①)'!I2","v":""},{"$f":"'教員(一覧表①)'!J2","v":""},{"$f":"'教員(一覧表①)'!K2","v":""},{"$f":"'教員(一覧表①)'!L2","v":""},{"$f":"'教員(一覧表①)'!M2","v":""},{"$f":"'教員(一覧表①)'!N2","v":""},{"$f":"'教員(一覧表①)'!O2","v":""},{"$f":"'教員(一覧表①)'!P2","v":""},{"$f":"'教員(一覧表①)'!Q2","v":""},{"$f":"'教員(一覧表①)'!R2","v":""},{"$f":"'教員(一覧表①)'!S2","v":""},{"$f":"'教員(一覧表①)'!T2","v":""},{"$f":"'教員(一覧表①)'!U2","v":""},{"$f":"'教員(一覧表①)'!V2","v":""},{"$f":"'教員(一覧表①)'!W2","v":""},{"$f":"'教員(一覧表①)'!X2","v":""},{"$f":"'教員(一覧表①)'!Y2","v":""},{"$f":"'教員(一覧表①)'!Z2","v":""},{"$f":"'教員(一覧表①)'!AA2","v":""},{"$f":"'教員(一覧表①)'!AB2","v":""},{"$f":"'教員(一覧表①)'!AC2","v":""},{"$f":"'教員(一覧表①)'!AD2","v":""},{"$f":"'教員(一覧表①)'!AE2","v":""},{"$f":"'教員(一覧表①)'!AF2","v":""},{"$f":"'教員(一覧表①)'!AG2","v":""},{"$f":"'教員(一覧表①)'!AH2","v":""},{"$f":"'教員(一覧表①)'!AI2","v":""},{"$f":"'教員(一覧表①)'!AJ2","v":""},{"$f":"'教員(一覧表①)'!AK2","v":""},{"$f":"'教員(一覧表①)'!AL2","v":""},{"$f":"'教員(一覧表①)'!AM2","v":""},{"$f":"'教員(一覧表①)'!AN2","v":""},{"$f":"'教員(一覧表①)'!AO2","v":""},{"$f":"'教員(一覧表①)'!AP2","v":""},{"$f":"'教員(一覧表①)'!AQ2","v":""},{"$f":"'教員(一覧表①)'!AR2","v":""},{"$f":"'教員(一覧表①)'!AS2","v":""},{"$f":"'教員(一覧表①)'!AT2","v":""},{"$f":"'教員(一覧表①)'!AU2","v":""},{"$f":"'教員(一覧表①)'!AV2","v":""},{"$f":"'教員(一覧表①)'!AW2","v":""},{"$f":"'教員(一覧表①)'!AX2","v":""},{"$f":"'教員(一覧表①)'!AY2","v":""},{"$f":"'教員(一覧表①)'!AZ2","v":""},{"$f":"'教員(一覧表①)'!BA2","v":""},{"$f":"'教員(一覧表①)'!BB2","v":""},{"$f":"'教員(一覧表①)'!BC2","v":""},{"$f":"'教員(一覧表①)'!BD2","v":""},{"$f":"'教員(一覧表①)'!BE2","v":""},{"$f":"'教員(一覧表①)'!BF2","v":""},{"$f":"'教員(一覧表①)'!BG2","v":""},{"$f":"'教員(一覧表①)'!BH2","v":""},{"$f":"'教員(一覧表①)'!BI2","v":""},{"$f":"'教員(一覧表①)'!BJ2","v":""},{"$f":"'教員(一覧表①)'!BK2","v":""},{"$f":"'教員(一覧表①)'!BL2","v":""},{"$f":"'教員(一覧表①)'!BM2","v":""},{"$f":"'教員(一覧表①)'!BN2","v":""},{"$f":"'教員(一覧表①)'!BO2","v":""},{"$f":"'教員(一覧表①)'!BP2","v":""}]
["教員個人シート",null,null,null,null,null,null,null,null,null,null,null,null,null,null,null,null,null,null,null,null,null,null,null,null,null,null,null,null,null,null,null,null,null,null,null,{"$f":"'教員(一覧表①)'!I3","v":""},{"$f":"'教員(一覧表①)'!J3","v":""},{"$f":"'教員(一覧表①)'!K3","v":""},{"$f":"'教員(一覧表①)'!L3","v":""},{"$f":"'教員(一覧表①)'!M3","v":""},{"$f":"'教員(一覧表①)'!N3","v":""},{"$f":"'教員(一覧表①)'!O3","v":""},{"$f":"'教員(一覧表①)'!P3","v":""},{"$f":"'教員(一覧表①)'!Q3","v":""},{"$f":"'教員(一覧表①)'!R3","v":""},{"$f":"'教員(一覧表①)'!S3","v":""},{"$f":"'教員(一覧表①)'!T3","v":""},{"$f":"'教員(一覧表①)'!U3","v":""},{"$f":"'教員(一覧表①)'!V3","v":""},{"$f":"'教員(一覧表①)'!W3","v":""},{"$f":"'教員(一覧表①)'!X3","v":""},{"$f":"'教員(一覧表①)'!Y3","v":""},{"$f":"'教員(一覧表①)'!Z3","v":""},{"$f":"'教員(一覧表①)'!AA3","v":""},{"$f":"'教員(一覧表①)'!AB3","v":""},{"$f":"'教員(一覧表①)'!AC3","v":""},{"$f":"'教員(一覧表①)'!AD3","v":""},{"$f":"'教員(一覧表①)'!AE3","v":""},{"$f":"'教員(一覧表①)'!AF3","v":""},{"$f":"'教員(一覧表①)'!AG3","v":""},{"$f":"'教員(一覧表①)'!AH3","v":""},{"$f":"'教員(一覧表①)'!AI3","v":""},{"$f":"'教員(一覧表①)'!AJ3","v":""},{"$f":"'教員(一覧表①)'!AK3","v":""},{"$f":"'教員(一覧表①)'!AL3","v":""},{"$f":"'教員(一覧表①)'!AM3","v":""},{"$f":"'教員(一覧表①)'!AN3","v":""},{"$f":"'教員(一覧表①)'!AO3","v":""},{"$f":"'教員(一覧表①)'!AP3","v":""},{"$f":"'教員(一覧表①)'!AQ3","v":""},{"$f":"'教員(一覧表①)'!AR3","v":""},{"$f":"'教員(一覧表①)'!AS3","v":""},{"$f":"'教員(一覧表①)'!AT3","v":""},{"$f":"'教員(一覧表①)'!AU3","v":""},{"$f":"'教員(一覧表①)'!AV3","v":""},{"$f":"'教員(一覧表①)'!AW3","v":""},{"$f":"'教員(一覧表①)'!AX3","v":""},{"$f":"'教員(一覧表①)'!AY3","v":""},{"$f":"'教員(一覧表①)'!AZ3","v":""},{"$f":"'教員(一覧表①)'!BA3","v":""},{"$f":"'教員(一覧表①)'!BB3","v":""},{"$f":"'教員(一覧表①)'!BC3","v":""},{"$f":"'教員(一覧表①)'!BD3","v":""},{"$f":"'教員(一覧表①)'!BE3","v":""},{"$f":"'教員(一覧表①)'!BF3","v":""},{"$f":"'教員(一覧表①)'!BG3","v":""},{"$f":"'教員(一覧表①)'!BH3","v":""},{"$f":"'教員(一覧表①)'!BI3","v":""},{"$f":"'教員(一覧表①)'!BJ3","v":""},{"$f":"'教員(一覧表①)'!BK3","v":""},{"$f":"'教員(一覧表①)'!BL3","v":""},{"$f":"'教員(一覧表①)'!BM3","v":""},{"$f":"'教員(一覧表①)'!BN3","v":""},{"$f":"'教員(一覧表①)'!BO3","v":""},{"$f":"'教員(一覧表①)'!BP3","v":""}]
["４→そう思う，３→少しそう思う，２→あまりそう思わない，１→そう思わない",null,null,null,null,null,null,null,null,null,null,null,null,null,null,null,null,null,null,null,null,null,null,null,null,1,null,null,null,null,null,null,null,null,null,null,{"$f":"'教員(一覧表②)'!I3","v":""},{"$f":"'教員(一覧表②)'!J3","v":""},{"$f":"'教員(一覧表②)'!K3","v":""},{"$f":"'教員(一覧表②)'!L3","v":""},{"$f":"'教員(一覧表②)'!M3","v":""},{"$f":"'教員(一覧表②)'!N3","v":""},{"$f":"'教員(一覧表②)'!O3","v":""},{"$f":"'教員(一覧表②)'!P3","v":""},{"$f":"'教員(一覧表②)'!Q3","v":""},{"$f":"'教員(一覧表②)'!R3","v":""},{"$f":"'教員(一覧表②)'!S3","v":""},{"$f":"'教員(一覧表②)'!T3","v":""},{"$f":"'教員(一覧表②)'!U3","v":""},{"$f":"'教員(一覧表②)'!V3","v":""},{"$f":"'教員(一覧表②)'!W3","v":""},{"$f":"'教員(一覧表②)'!X3","v":""},{"$f":"'教員(一覧表②)'!Y3","v":""},{"$f":"'教員(一覧表②)'!Z3","v":""},{"$f":"'教員(一覧表②)'!AA3","v":""},{"$f":"'教員(一覧表②)'!AB3","v":""},{"$f":"'教員(一覧表②)'!AC3","v":""},{"$f":"'教員(一覧表②)'!AD3","v":""},{"$f":"'教員(一覧表②)'!AE3","v":""},{"$f":"'教員(一覧表②)'!AF3","v":""},{"$f":"'教員(一覧表②)'!AG3","v":""},{"$f":"'教員(一覧表②)'!AH3","v":""},{"$f":"'教員(一覧表②)'!AI3","v":""},{"$f":"'教員(一覧表②)'!AJ3","v":""},{"$f":"'教員(一覧表②)'!AK3","v":""},{"$f":"'教員(一覧表②)'!AL3","v":""},{"$f":"'教員(一覧表②)'!AM3","v":""},{"$f":"'教員(一覧表②)'!AN3","v":""},{"$f":"'教員(一覧表②)'!AO3","v":""},{"$f":"'教員(一覧表②)'!AP3","v":""},{"$f":"'教員(一覧表②)'!AQ3","v":""},{"$f":"'教員(一覧表②)'!AR3","v":""},{"$f":"'教員(一覧表②)'!AS3","v":""},{"$f":"'教員(一覧表②)'!AT3","v":""},{"$f":"'教員(一覧表②)'!AU3","v":""},{"$f":"'教員(一覧表②)'!AV3","v":""},{"$f":"'教員(一覧表②)'!AW3","v":""},{"$f":"'教員(一覧表②)'!AX3","v":""},{"$f":"'教員(一覧表②)'!AY3","v":""},{"$f":"'教員(一覧表②)'!AZ3","v":""},{"$f":"'教員(一覧表②)'!BA3","v":""},{"$f":"'教員(一覧表②)'!BB3","v":""},{"$f":"'教員(一覧表②)'!BC3","v":""},{"$f":"'教員(一覧表②)'!BD3","v":""},{"$f":"'教員(一覧表②)'!BE3","v":""},{"$f":"'教員(一覧表②)'!BF3","v":""},{"$f":"'教員(一覧表②)'!BG3","v":""},{"$f":"'教員(一覧表②)'!BH3","v":""},{"$f":"'教員(一覧表②)'!BI3","v":""},{"$f":"'教員(一覧表②)'!BJ3","v":""},{"$f":"'教員(一覧表②)'!BK3","v":""},{"$f":"'教員(一覧表②)'!BL3","v":""},{"$f":"'教員(一覧表②)'!BM3","v":""},{"$f":"'教員(一覧表②)'!BN3","v":""},{"$f":"'教員(一覧表②)'!BO3","v":""},{"$f":"'教員(一覧表②)'!BP3","v":""}]
[null,null,1,2,3,null,null,null,null,null,null,null,null,null,null,null,null,null,null,null,null,null,null,"番号入力→",null,1,null,null,null,null,null,null,null,null,null,null,{"$f":"IF(AND(AK2=\"\",AK3=\"\"),\"\",IF(AK2=\"\",AK3,AK2))","v":""},"","","","","","","","","","","","","","","","","","","","","","","","","","","","","","","",{"$f":"IF(AND(BQ2=\"\",BQ3=\"\"),\"\",IF(BQ2=\"\",BQ3,BQ2))","v":""},"","","","","","","","","","","","","","","","","","","","","","","","","","",""]
[{"$f":"$Z$4","v":1},{"$f":"IF(A5=\"\",\"\",IFERROR(HLOOKUP(A5,AK1:CH4,4,FALSE),\"\"))","v":""},"第1回","第2回"]
["教師や仲間から学級の一員として認められているという安心感","私は，毎日多くの生徒と会話（日記や日誌なども含む）をするように心掛けている。",{"$f":"IF(B5=\"\",\"\",HLOOKUP($A$5,'教員(一覧表①)'!$I$2:$BP$23,3,FALSE))","v":""},{"$f":"IF(B5=\"\",\"\",HLOOKUP($A$5,'教員(一覧表②)'!$I$2:$BP$23,3,FALSE))","v":""}]
[null,"私は，どの生徒にも役割を与え，その活躍を認めている。",{"$f":"IF(B5=\"\",\"\",HLOOKUP($A$5,'教員(一覧表①)'!$I$2:$BP$23,4,FALSE))","v":""},{"$f":"IF(B5=\"\",\"\",HLOOKUP($A$5,'教員(一覧表②)'!$I$2:$BP$23,4,FALSE))","v":""}]
[null,"私は，生徒に承認や称賛，励ましの言葉を掛けている。",{"$f":"IF(B5=\"\",\"\",HLOOKUP($A$5,'教員(一覧表①)'!$I$2:$BP$23,5,FALSE))","v":""},{"$f":"IF(B5=\"\",\"\",HLOOKUP($A$5,'教員(一覧表②)'!$I$2:$BP$23,5,FALSE))","v":""}]
[null,"私は，生徒一人一人を理解し尊重している。 ",{"$f":"IF(B5=\"\",\"\",HLOOKUP($A$5,'教員(一覧表①)'!$I$2:$BP$23,6,FALSE))","v":""},{"$f":"IF(B5=\"\",\"\",HLOOKUP($A$5,'教員(一覧表②)'!$I$2:$BP$23,6,FALSE))","v":""}]
[null,"私は，すべての生徒の考えや発言を取り上げている。",{"$f":"IF(B5=\"\",\"\",HLOOKUP($A$5,'教員(一覧表①)'!$I$2:$BP$23,7,FALSE))","v":""},{"$f":"IF(B5=\"\",\"\",HLOOKUP($A$5,'教員(一覧表②)'!$I$2:$BP$23,7,FALSE))","v":""}]
["教師や仲間から理解され受け入れられているという安心感","私は，生徒の話を最後まで遮らずに聞いている。",{"$f":"IF(B5=\"\",\"\",HLOOKUP($A$5,'教員(一覧表①)'!$I$2:$BP$23,8,FALSE))","v":""},{"$f":"IF(B5=\"\",\"\",HLOOKUP($A$5,'教員(一覧表②)'!$I$2:$BP$23,8,FALSE))","v":""}]
[null,"私は，生徒が悩みや困りごとを相談しやすい雰囲気づくりをしている。",{"$f":"IF(B5=\"\",\"\",HLOOKUP($A$5,'教員(一覧表①)'!$I$2:$BP$23,9,FALSE))","v":""},{"$f":"IF(B5=\"\",\"\",HLOOKUP($A$5,'教員(一覧表②)'!$I$2:$BP$23,9,FALSE))","v":""}]
[null,"私は，生徒に自分と違う意見でも尊重するよう伝えている。",{"$f":"IF(B5=\"\",\"\",HLOOKUP($A$5,'教員(一覧表①)'!$I$2:$BP$23,10,FALSE))","v":""},{"$f":"IF(B5=\"\",\"\",HLOOKUP($A$5,'教員(一覧表②)'!$I$2:$BP$23,10,FALSE))","v":""}]
[null,"私は，生徒同士が協力して一つのことに取り組むための工夫をしている。",{"$f":"IF(B5=\"\",\"\",HLOOKUP($A$5,'教員(一覧表①)'!$I$2:$BP$23,11,FALSE))","v":""},{"$f":"IF(B5=\"\",\"\",HLOOKUP($A$5,'教員(一覧表②)'!$I$2:$BP$23,11,FALSE))","v":""}]
[null,"私は，誰かのユーモアある発言に対し，温かい笑いが生まれるような雰囲気づくりをしている。",{"$f":"IF(B5=\"\",\"\",HLOOKUP($A$5,'教員(一覧表①)'!$I$2:$BP$23,12,FALSE))","v":""},{"$f":"IF(B5=\"\",\"\",HLOOKUP($A$5,'教員(一覧表②)'!$I$2:$BP$23,12,FALSE))","v":""}]
["自分の考え、選択、決定が尊重されているという安心感","私は，生徒が自分（たち）で学習や生活の目標を決め振り返る場を設けている。",{"$f":"IF(B5=\"\",\"\",HLOOKUP($A$5,'教員(一覧表①)'!$I$2:$BP$23,13,FALSE))","v":""},{"$f":"IF(B5=\"\",\"\",HLOOKUP($A$5,'教員(一覧表②)'!$I$2:$BP$23,13,FALSE))","v":""}]
[null,"私は，生徒主体の活動場面を設けている。",{"$f":"IF(B5=\"\",\"\",HLOOKUP($A$5,'教員(一覧表①)'!$I$2:$BP$23,14,FALSE))","v":""},{"$f":"IF(B5=\"\",\"\",HLOOKUP($A$5,'教員(一覧表②)'!$I$2:$BP$23,14,FALSE))","v":""}]
[null,"私は，生徒が調べたり制作したりする場面で個別に声掛けをしている。",{"$f":"IF(B5=\"\",\"\",HLOOKUP($A$5,'教員(一覧表①)'!$I$2:$BP$23,15,FALSE))","v":""},{"$f":"IF(B5=\"\",\"\",HLOOKUP($A$5,'教員(一覧表②)'!$I$2:$BP$23,15,FALSE))","v":""}]
[null,"私は，生徒が自分の考えを伝えたいと思えるような場面や機会を設けている。",{"$f":"IF(B5=\"\",\"\",HLOOKUP($A$5,'教員(一覧表①)'!$I$2:$BP$23,16,FALSE))","v":""},{"$f":"IF(B5=\"\",\"\",HLOOKUP($A$5,'教員(一覧表②)'!$I$2:$BP$23,16,FALSE))","v":""}]
[null,"私は，生徒が自分一人で考えるために必要な支援をしている。",{"$f":"IF(B5=\"\",\"\",HLOOKUP($A$5,'教員(一覧表①)'!$I$2:$BP$23,17,FALSE))","v":""},{"$f":"IF(B5=\"\",\"\",HLOOKUP($A$5,'教員(一覧表②)'!$I$2:$BP$23,17,FALSE))","v":""}]
["ルールが守られ他者から傷つけられないという安心感","私は，生徒が自分の役割に責任を持って取り組めるようにしている。",{"$f":"IF(B5=\"\",\"\",HLOOKUP($A$5,'教員(一覧表①)'!$I$2:$BP$23,18,FALSE))","v":""},{"$f":"IF(B5=\"\",\"\",HLOOKUP($A$5,'教員(一覧表②)'!$I$2:$BP$23,18,FALSE))","v":""}]
[null,"私は，生徒がお互いの間違いや失敗を冷やかしたり，からかったりしない雰囲気づくりをしている。",{"$f":"IF(B5=\"\",\"\",HLOOKUP($A$5,'教員(一覧表①)'!$I$2:$BP$23,19,FALSE))","v":""},{"$f":"IF(B5=\"\",\"\",HLOOKUP($A$5,'教員(一覧表②)'!$I$2:$BP$23,19,FALSE))","v":""}]
[null,"私は，生徒が周りの迷惑になるような言動を許さない雰囲気づくりをしている。",{"$f":"IF(B5=\"\",\"\",HLOOKUP($A$5,'教員(一覧表①)'!$I$2:$BP$23,20,FALSE))","v":""},{"$f":"IF(B5=\"\",\"\",HLOOKUP($A$5,'教員(一覧表②)'!$I$2:$BP$23,20,FALSE))","v":""}]
[null,"私は，活動の始まりと終わりの時間を守っている。",{"$f":"IF(B5=\"\",\"\",HLOOKUP($A$5,'教員(一覧表①)'!$I$2:$BP$23,21,FALSE))","v":""},{"$f":"IF(B5=\"\",\"\",HLOOKUP($A$5,'教員(一覧表②)'!$I$2:$BP$23,21,FALSE))","v":""}]
[null,"私は，人の心や体を傷つける言葉や行為を見逃さず毅然とした対応をとっている。",{"$f":"IF(B5=\"\",\"\",HLOOKUP($A$5,'教員(一覧表①)'!$I$2:$BP$23,22,FALSE))","v":""},{"$f":"IF(B5=\"\",\"\",HLOOKUP($A$5,'教員(一覧表②)'!$I$2:$BP$23,22,FALSE))","v":""}]

{"sheet":"生徒(データ入力①)","index":7,"n_rows":49,"n_cols":55,"rows_kept":49,"cut":false,"hidden":false,"merged":[[3,3,3,4],[25,3,25,8]]}
[null,null,null,null,null,1,2,3,4,5,6,7,8,9,10,11,12,13,14,15,16,17,18,19,20,21,22,23,24,25,26,27,28,29,30,31,32,33,34,35,36,37,38,39,40,41,42,43,44,45,46,47,48,49,50]
[]
[null,null,null,null,"出席番号"]
[null,null,null,"氏名"]
[null,null,null,1,"私の学級では，自分（たち）で学習や生活の目標を決め，振り返りをしている。"]
[null,null,null,2,"私の学級では，みんなで協力して一つのことに取り組むことができる。"]
[null,null,null,3,"私の学級では，私の考えを伝えたいと思える場面や機会がある。"]
[null,null,null,4,"私の学級には，友達の間違いや失敗を冷やかしたり，からかったりしない雰囲気がある。"]
[null,null,null,5,"私の学級では，誰かのユーモアある発言に対し，学級が温かい笑いで包まれる雰囲気がある。"]
[null,null,null,6,"私の学級では，私の考えや発言が取り上げられたり紹介されたりすることがある。"]
[null,null,null,7,"私の学級では，人の心や体を傷つける言葉や行為を許さない雰囲気がある。"]
[null,null,null,8,"私の学級では，先生や友達は私の話を最後まで聞いてくれる。"]
[null,null,null,9,"私の学級では，自分で調べたり制作したりするときに，先生や友達からアドバイスをもらえる。"]
[null,null,null,10,"私の学級では，係活動や清掃など，みんなが自分の役割に責任を持って取り組んでいる。"]
[null,null,null,11,"私の学級には，周りの迷惑になる言動をしてはいけない雰囲気がある。"]
[null,null,null,12,"私の学級では，自分一人で考える場面で，必要な情報が示されている。"]
[null,null,null,13,"私の学級では，私のことを理解してくれる先生や友達がいる。"]
[null,null,null,14,"私の学級には，悩みや困りごとを相談できる先生や友達がいる。"]
[null,null,null,15,"私の学級では，私は先生と話（日記や日誌なども含む）をする機会が多くある。"]
[null,null,null,16,"私の学級では，先生や友達は私の頑張りや良いところを認めてくれている。"]
[null,null,null,17,"私の学級では，誰かの発言や行動を否定したり批判したりせずに尊重している。"]
[null,null,null,18,"私の学級では，私に役割があり，その働きが認められていると感じる。"]
[null,null,null,19,"私の学級では，みんなが活動の始まりと終わりの時間を守っている。"]
[null,null,null,20,"私の学級では，話合いなど自分たちが中心となって活動する場面が多くある。"]
[]
[]
[null,null,null,null,"出席番号"]
[null,null,null,null,"氏名"]
[null,null,null,null,"入力"]
[null,null,null,1,"私は，生徒が自分（たち）で学習や生活の目標を決め振り返る場を設けている。",{"$f":"IF(F$29=\"\",\"-\",IF(MID(F$29,$D30,1)=\" \",\"\",VALUE(MID(F$29,$D30,1))))","v":"-"},"-","-","-","-","-","-","-","-","-","-","-","-","-","-","-",{"$f":"IF(V$29=\"\",\"-\",IF(MID(V$29,$D30,1)=\" \",\"\",VALUE(MID(V$29,$D30,1))))","v":"-"},"-","-","-","-","-","-","-","-","-","-","-","-","-","-","-","-","-","-",{"$f":"IF(AO$29=\"\",\"-\",IF(MID(AO$29,$D30,1)=\" \",\"\",VALUE(MID(AO$29,$D30,1))))","v":"-"},"-","-","-","-","-","-","-","-","-","-","-","-","-","-"]
[null,null,null,2,"私は，生徒同士が協力して一つのことに取り組むための工夫をしている。","-","-","-","-","-","-","-","-","-","-","-","-","-","-","-","-","-","-","-","-","-","-","-","-","-","-","-","-","-","-","-","-","-","-","-","-","-","-","-","-","-","-","-","-","-","-","-","-","-","-"]
[null,null,null,3,"私は，生徒が自分の考えを伝えたいと思えるような場面や機会を設けている。","-","-","-","-","-","-","-","-","-","-","-","-","-","-","-","-","-","-","-","-","-","-","-","-","-","-","-","-","-","-","-","-","-","-","-","-","-","-","-","-","-","-","-","-","-","-","-","-","-","-"]
[null,null,null,4,"私は，生徒がお互いの間違いや失敗を冷やかしたり，からかったりしない雰囲気づくりをしている。","-","-","-","-","-","-","-","-","-","-","-","-","-","-","-","-","-","-","-","-","-","-","-","-","-","-","-","-","-","-","-","-","-","-","-","-","-","-","-","-","-","-","-","-","-","-","-","-","-","-"]
[null,null,null,5,"私は，誰かのユーモアある発言に対し，温かい笑いが生まれるような雰囲気づくりをしている。","-","-","-","-","-","-","-","-","-","-","-","-","-","-","-","-","-","-","-","-","-","-","-","-","-","-","-","-","-","-","-","-","-","-","-","-","-","-","-","-","-","-","-","-","-","-","-","-","-","-"]
[null,null,null,6,"私は，すべての生徒の考えや発言を取り上げている。","-","-","-","-","-","-","-","-","-","-","-","-","-","-","-","-","-","-","-","-","-","-","-","-","-","-",{"$f":"IF(AF$29=\"\",\"-\",IF(MID(AF$29,$D35,1)=\" \",\"\",VALUE(MID(AF$29,$D35,1))))","v":"-"},"-","-","-","-","-","-","-","-","-","-","-","-","-","-","-","-","-","-","-","-","-","-","-"]
[null,null,null,7,"私は，人の心や体を傷つける言葉や行為を見逃さず毅然とした対応をとっている。","-","-","-","-","-","-","-","-","-","-","-","-","-","-","-","-","-","-","-","-","-","-","-","-","-","-","-","-","-","-","-","-","-","-","-","-","-","-","-","-","-","-","-","-","-","-","-","-","-","-"]
[null,null,null,8,"私は，生徒の話を最後まで遮らずに聞いている。","-","-","-","-","-","-","-","-","-","-","-","-","-","-","-","-","-","-","-","-","-","-","-","-","-","-","-","-","-","-","-","-","-","-","-","-","-","-","-","-","-","-","-","-","-","-","-","-","-","-"]
[null,null,null,9,"私は，生徒が調べたり制作したりする場面で個別に声掛けをしている。","-","-","-","-","-","-","-","-","-","-","-","-","-","-","-","-","-","-","-","-","-","-","-","-","-","-","-","-","-","-","-","-","-","-","-","-","-","-","-","-","-","-","-","-","-","-","-","-","-","-"]
[null,null,null,10,"私は，生徒が自分の役割に責任を持って取り組めるようにしている。","-","-","-","-","-","-","-","-","-","-","-","-","-","-","-","-","-","-","-","-","-","-","-","-","-","-","-","-","-","-","-","-","-","-","-","-","-","-","-","-","-","-","-","-","-","-","-","-","-","-"]
[null,null,null,11,"私は，生徒が周りの迷惑になるような言動を許さない雰囲気づくりをしている。",{"$f":"IF(F$29=\"\",\"-\",IF(MID(F$29,$D40,1)=\" \",\"\",VALUE(MID(F$29,$D40,1))))","v":"-"},"-","-","-","-","-","-","-","-","-","-","-","-","-","-","-","-","-","-","-","-","-","-","-","-","-","-","-","-","-","-","-","-","-","-","-","-","-","-","-","-","-","-","-","-","-","-","-","-","-"]
[null,null,null,12,"私は，生徒が自分一人で考えるために必要な支援をしている。","-","-",{"$f":"IF(H$29=\"\",\"-\",IF(MID(H$29,$D41,1)=\" \",\"\",VALUE(MID(H$29,$D41,1))))","v":"-"},"-","-","-","-","-","-","-","-","-","-","-","-","-","-","-","-","-","-","-","-","-","-","-","-","-","-","-","-","-","-","-","-","-","-","-","-","-","-","-","-","-","-","-","-","-","-","-"]
[null,null,null,13,"私は，生徒一人一人を理解し尊重している。 ","-","-","-","-","-","-","-","-","-","-","-","-","-","-","-","-","-","-","-","-","-","-","-","-","-","-","-","-","-","-","-","-","-","-","-","-","-","-","-","-","-","-","-","-","-","-","-","-","-","-"]
[null,null,null,14,"私は，生徒が悩みや困りごとを相談しやすい雰囲気づくりをしている。","-","-","-","-","-","-","-","-","-","-","-","-","-","-","-","-","-","-","-","-","-","-","-","-","-","-","-","-","-","-","-","-","-","-","-","-","-","-","-","-","-","-","-","-","-","-","-","-","-","-"]
[null,null,null,15,"私は，毎日多くの生徒と会話（日記や日誌なども含む）をするように心掛けている。","-","-","-","-","-","-","-","-","-","-","-","-","-","-","-","-","-","-","-","-","-","-","-","-","-","-","-","-","-","-","-","-","-","-","-","-","-","-","-","-","-","-","-","-","-","-","-","-","-","-"]
[null,null,null,16,"私は，生徒に承認や称賛，励ましの言葉を掛けている。","-","-","-","-","-","-","-","-","-","-","-","-","-","-","-","-","-","-","-","-","-","-","-","-","-","-","-","-","-","-","-","-","-","-","-","-","-","-","-","-","-","-","-","-","-","-","-","-","-","-"]
[null,null,null,17,"私は，生徒に自分と違う意見でも尊重するよう伝えている。","-","-","-","-","-","-","-","-","-","-","-","-",{"$f":"IF(R$29=\"\",\"-\",IF(MID(R$29,$D46,1)=\" \",\"\",VALUE(MID(R$29,$D46,1))))","v":"-"},"-","-","-","-","-","-","-","-","-","-","-","-","-","-","-","-","-","-","-","-","-","-","-",{"$f":"IF(AP$29=\"\",\"-\",IF(MID(AP$29,$D46,1)=\" \",\"\",VALUE(MID(AP$29,$D46,1))))","v":"-"},"-","-","-","-","-","-","-","-","-","-","-","-","-"]
[null,null,null,18,"私は，どの生徒にも役割を与え，その活躍を認めている。","-","-","-","-","-","-","-","-","-","-","-","-","-","-","-","-","-","-","-","-","-","-","-","-","-","-","-","-","-","-","-","-","-","-","-","-","-","-","-","-","-","-","-","-","-","-","-","-","-","-"]
[null,null,null,19,"私は，活動の始まりと終わりの時間を守っている。","-","-","-","-","-","-","-","-","-","-","-","-","-","-","-","-","-","-","-","-","-","-","-","-","-","-","-","-","-","-","-","-","-","-","-","-","-","-","-","-","-","-","-","-","-","-","-","-","-","-"]
[null,null,null,20,"私は，生徒主体の活動場面を設けている。","-","-","-","-","-","-","-","-","-","-","-","-","-","-","-","-","-","-","-","-","-","-","-","-","-","-","-","-","-","-","-","-","-","-","-","-","-","-","-","-","-","-","-","-","-","-","-","-","-","-"]

{"sheet":"生徒(データ入力②)","index":8,"n_rows":49,"n_cols":55,"rows_kept":49,"cut":false,"hidden":false,"merged":[[3,3,3,4],[25,3,25,8]]}
[null,null,null,null,null,1,2,3,4,5,6,7,8,9,10,11,12,13,14,15,16,17,18,19,20,21,22,23,24,25,26,27,28,29,30,31,32,33,34,35,36,37,38,39,40,41,42,43,44,45,46,47,48,49,50]
[]
[null,null,null,null,"出席番号"]
[null,null,null,"氏名"]
[null,null,null,1,"私の学級では，自分（たち）で学習や生活の目標を決め，振り返りをしている。"]
[null,null,null,2,"私の学級では，みんなで協力して一つのことに取り組むことができる。"]
[null,null,null,3,"私の学級では，私の考えを伝えたいと思える場面や機会がある。"]
[null,null,null,4,"私の学級には，友達の間違いや失敗を冷やかしたり，からかったりしない雰囲気がある。"]
[null,null,null,5,"私の学級では，誰かのユーモアある発言に対し，学級が温かい笑いで包まれる雰囲気がある。"]
[null,null,null,6,"私の学級では，私の考えや発言が取り上げられたり紹介されたりすることがある。"]
[null,null,null,7,"私の学級では，人の心や体を傷つける言葉や行為を許さない雰囲気がある。"]
[null,null,null,8,"私の学級では，先生や友達は私の話を最後まで聞いてくれる。"]
[null,null,null,9,"私の学級では，自分で調べたり制作したりするときに，先生や友達からアドバイスをもらえる。"]
[null,null,null,10,"私の学級では，係活動や清掃など，みんなが自分の役割に責任を持って取り組んでいる。"]
[null,null,null,11,"私の学級には，周りの迷惑になる言動をしてはいけない雰囲気がある。"]
[null,null,null,12,"私の学級では，自分一人で考える場面で，必要な情報が示されている。"]
[null,null,null,13,"私の学級では，私のことを理解してくれる先生や友達がいる。"]
[null,null,null,14,"私の学級には，悩みや困りごとを相談できる先生や友達がいる。"]
[null,null,null,15,"私の学級では，私は先生と話（日記や日誌なども含む）をする機会が多くある。"]
[null,null,null,16,"私の学級では，先生や友達は私の頑張りや良いところを認めてくれている。"]
[null,null,null,17,"私の学級では，誰かの発言や行動を否定したり批判したりせずに尊重している。"]
[null,null,null,18,"私の学級では，私に役割があり，その働きが認められていると感じる。"]
[null,null,null,19,"私の学級では，みんなが活動の始まりと終わりの時間を守っている。"]
[null,null,null,20,"私の学級では，話合いなど自分たちが中心となって活動する場面が多くある。"]
[]
[]
[null,null,null,null,"出席番号"]
[null,null,null,null,"氏名"]
[null,null,null,null,"入力"]
[null,null,null,1,"私は，生徒が自分（たち）で学習や生活の目標を決め振り返る場を設けている。",{"$f":"IF(F$29=\"\",\"-\",IF(MID(F$29,$D30,1)=\" \",\"\",VALUE(MID(F$29,$D30,1))))","v":"-"},{"$f":"IF(G$29=\"\",\"-\",IF(MID(G$29,$D30,1)=\" \",\"\",VALUE(MID(G$29,$D30,1))))","v":"-"},{"$f":"IF(H$29=\"\",\"-\",IF(MID(H$29,$D30,1)=\" \",\"\",VALUE(MID(H$29,$D30,1))))","v":"-"},"-","-","-","-","-","-","-","-","-","-","-","-","-","-","-","-","-","-","-","-","-","-","-","-","-","-","-","-","-","-","-","-","-","-","-","-","-",{"$f":"IF(AT$29=\"\",\"-\",IF(MID(AT$29,$D30,1)=\" \",\"\",VALUE(MID(AT$29,$D30,1))))","v":"-"},"-","-","-","-","-","-","-","-","-"]
[null,null,null,2,"私は，生徒同士が協力して一つのことに取り組むための工夫をしている。",{"$f":"IF(F$29=\"\",\"-\",IF(MID(F$29,$D31,1)=\" \",\"\",VALUE(MID(F$29,$D31,1))))","v":"-"},"-","-","-","-","-","-","-","-","-","-","-","-","-","-","-","-","-","-","-","-","-","-","-","-","-","-","-","-","-","-","-","-","-","-","-","-","-","-","-","-","-","-","-","-","-","-","-","-","-"]
[null,null,null,3,"私は，生徒が自分の考えを伝えたいと思えるような場面や機会を設けている。","-","-","-","-","-","-","-","-","-","-","-","-","-","-","-","-","-","-","-","-","-","-","-","-","-","-","-","-","-","-","-","-","-","-","-","-","-","-","-","-","-","-","-","-","-","-","-","-","-","-"]
[null,null,null,4,"私は，生徒がお互いの間違いや失敗を冷やかしたり，からかったりしない雰囲気づくりをしている。","-","-","-","-","-","-","-","-","-","-","-","-","-","-","-","-","-","-","-","-","-","-","-","-","-","-","-","-","-","-","-","-","-","-","-","-","-","-","-","-","-","-","-","-","-","-","-","-","-","-"]
[null,null,null,5,"私は，誰かのユーモアある発言に対し，温かい笑いが生まれるような雰囲気づくりをしている。","-","-","-","-","-","-","-","-","-","-","-","-","-","-","-","-","-","-","-","-","-","-","-","-","-","-","-","-","-","-","-","-","-","-","-","-","-","-","-","-","-","-","-","-","-","-","-","-","-","-"]
[null,null,null,6,"私は，すべての生徒の考えや発言を取り上げている。","-","-","-","-","-","-","-","-","-","-","-","-","-","-","-","-","-","-","-","-","-","-","-","-","-","-","-","-","-","-","-","-","-","-","-","-","-","-","-","-","-","-","-","-","-","-","-","-","-","-"]
[null,null,null,7,"私は，人の心や体を傷つける言葉や行為を見逃さず毅然とした対応をとっている。","-","-","-","-","-","-","-","-","-","-","-","-","-","-","-","-","-","-","-","-","-","-","-","-","-","-","-","-","-","-","-","-","-","-","-","-","-","-","-","-","-","-","-","-","-","-","-","-","-","-"]
[null,null,null,8,"私は，生徒の話を最後まで遮らずに聞いている。","-","-","-","-","-",{"$f":"IF(K$29=\"\",\"-\",IF(MID(K$29,$D37,1)=\" \",\"\",VALUE(MID(K$29,$D37,1))))","v":"-"},"-","-","-","-","-","-","-","-","-","-","-","-","-","-","-","-","-","-","-","-","-","-","-","-","-","-","-","-","-","-","-","-","-","-","-","-","-","-","-","-","-","-","-","-"]
[null,null,null,9,"私は，生徒が調べたり制作したりする場面で個別に声掛けをしている。","-","-","-","-","-","-","-","-","-","-","-","-","-","-","-","-","-","-","-","-","-","-","-","-","-","-","-","-","-","-","-","-","-","-","-","-","-","-","-","-","-","-","-","-","-","-","-","-","-","-"]
[null,null,null,10,"私は，生徒が自分の役割に責任を持って取り組めるようにしている。","-","-","-","-","-","-","-","-","-","-","-","-","-","-","-","-","-","-","-","-","-","-","-","-","-","-","-","-","-","-","-","-","-","-","-","-","-","-","-","-","-","-","-","-","-","-","-","-","-","-"]
[null,null,null,11,"私は，生徒が周りの迷惑になるような言動を許さない雰囲気づくりをしている。","-","-","-","-","-","-","-","-","-","-","-","-","-","-","-","-","-","-","-","-","-","-","-","-","-","-","-","-","-","-","-","-","-","-","-","-","-","-","-","-","-","-","-","-","-","-","-","-","-","-"]
[null,null,null,12,"私は，生徒が自分一人で考えるために必要な支援をしている。","-","-","-","-","-","-","-","-","-","-","-","-","-","-","-","-","-","-","-","-","-","-","-","-","-","-","-","-","-","-","-","-","-","-","-","-","-","-","-","-","-","-","-","-","-","-","-","-","-","-"]
[null,null,null,13,"私は，生徒一人一人を理解し尊重している。 ","-","-","-","-","-","-","-","-","-","-","-","-","-","-","-","-","-","-","-","-","-","-","-","-","-","-","-","-","-","-","-","-","-","-","-","-","-","-","-","-","-","-","-","-","-","-","-","-","-","-"]
[null,null,null,14,"私は，生徒が悩みや困りごとを相談しやすい雰囲気づくりをしている。","-","-","-","-","-","-","-","-","-","-","-","-","-","-","-","-","-","-","-","-","-","-","-","-","-","-","-","-","-","-","-","-","-","-","-","-","-","-","-","-","-","-","-","-","-","-","-","-","-","-"]
[null,null,null,15,"私は，毎日多くの生徒と会話（日記や日誌なども含む）をするように心掛けている。","-","-","-","-","-","-","-","-","-","-","-","-","-","-","-","-","-","-","-","-","-","-","-","-","-","-","-","-","-","-","-","-","-","-","-","-","-","-","-","-","-","-","-","-","-","-","-","-","-","-"]
[null,null,null,16,"私は，生徒に承認や称賛，励ましの言葉を掛けている。","-","-",{"$f":"IF(H$29=\"\",\"-\",IF(MID(H$29,$D45,1)=\" \",\"\",VALUE(MID(H$29,$D45,1))))","v":"-"},"-","-","-","-","-","-","-","-","-","-","-","-","-","-","-","-","-","-","-","-","-","-","-","-","-","-","-","-","-","-","-","-","-","-","-","-","-","-","-","-","-","-","-","-","-","-","-"]
[null,null,null,17,"私は，生徒に自分と違う意見でも尊重するよう伝えている。","-","-","-","-","-","-","-","-","-","-","-","-","-","-","-","-","-","-","-","-","-","-","-","-","-","-","-","-","-","-","-","-","-","-","-","-","-","-","-","-",{"$f":"IF(AT$29=\"\",\"-\",IF(MID(AT$29,$D46,1)=\" \",\"\",VALUE(MID(AT$29,$D46,1))))","v":"-"},"-","-","-","-","-","-","-","-","-"]
[null,null,null,18,"私は，どの生徒にも役割を与え，その活躍を認めている。","-","-","-","-","-","-","-","-","-","-","-","-","-","-","-","-","-","-","-","-",{"$f":"IF(Z$29=\"\",\"-\",IF(MID(Z$29,$D47,1)=\" \",\"\",VALUE(MID(Z$29,$D47,1))))","v":"-"},"-","-","-","-","-","-","-","-","-","-","-","-","-","-","-","-","-","-","-","-","-","-","-","-","-","-","-","-","-"]
[null,null,null,19,"私は，活動の始まりと終わりの時間を守っている。","-","-","-","-","-","-","-","-","-","-","-","-","-","-","-","-",{"$f":"IF(V$29=\"\",\"-\",IF(MID(V$29,$D48,1)=\" \",\"\",VALUE(MID(V$29,$D48,1))))","v":"-"},"-","-","-","-","-","-","-","-","-","-","-","-","-","-","-","-","-","-","-","-","-","-","-","-","-","-","-","-","-","-","-","-","-"]
[null,null,null,20,"私は，生徒主体の活動場面を設けている。","-","-","-","-","-","-","-","-","-","-","-","-","-","-","-","-","-","-","-","-","-","-","-","-","-","-","-","-","-","-","-","-","-","-","-","-","-","-","-","-","-","-","-","-","-","-","-","-","-","-"]

{"sheet":"教員(データ入力①)","index":9,"n_rows":50,"n_cols":65,"rows_kept":50,"cut":false,"hidden":false,"merged":[[3,3,3,4]]}
[null,null,null,null,null,1,2,3,4,5,6,7,8,9,10,11,12,13,14,15,16,17,18,19,20,21,22,23,24,25,26,27,28,29,30,31,32,33,34,35,36,37,38,39,40,41,42,43,44,45,46,47,48,49,50,51,52,53,54,55,56,57,58,59,60]
[]
[null,null,null,null,"回答者番号"]
[null,null,null,"氏名"]
[null,null,null,1,"私は，生徒が自分（たち）で学習や生活の目標を決め振り返る場を設けている。"]
[null,null,null,2,"私は，生徒同士が協力して一つのことに取り組むための工夫をしている。"]
[null,null,null,3,"私は，生徒が自分の考えを伝えたいと思えるような場面や機会を設けている。"]
[null,null,null,4,"私は，生徒がお互いの間違いや失敗を冷やかしたり，からかったりしない雰囲気づくりをしている。"]
[null,null,null,5,"私は，誰かのユーモアある発言に対し，温かい笑いが生まれるような雰囲気づくりをしている。"]
[null,null,null,6,"私は，すべての生徒の考えや発言を取り上げている。"]
[null,null,null,7,"私は，人の心や体を傷つける言葉や行為を見逃さず毅然とした対応をとっている。"]
[null,null,null,8,"私は，生徒の話を最後まで遮らずに聞いている。"]
[null,null,null,9,"私は，生徒が調べたり制作したりする場面で個別に声掛けをしている。"]
[null,null,null,10,"私は，生徒が自分の役割に責任を持って取り組めるようにしている。"]
[null,null,null,11,"私は，生徒が周りの迷惑になるような言動を許さない雰囲気づくりをしている。"]
[null,null,null,12,"私は，生徒が自分一人で考えるために必要な支援をしている。"]
[null,null,null,13,"私は，生徒一人一人を理解し尊重している。 "]
[null,null,null,14,"私は，生徒が悩みや困りごとを相談しやすい雰囲気づくりをしている。"]
[null,null,null,15,"私は，毎日多くの生徒と会話（日記や日誌なども含む）をするように心掛けている。"]
[null,null,null,16,"私は，生徒に承認や称賛，励ましの言葉を掛けている。"]
[null,null,null,17,"私は，生徒に自分と違う意見でも尊重するよう伝えている。"]
[null,null,null,18,"私は，どの生徒にも役割を与え，その活躍を認めている。"]
[null,null,null,19,"私は，活動の始まりと終わりの時間を守っている。"]
[null,null,null,20,"私は，生徒主体の活動場面を設けている。"]
[]
[]
[]
[null,null,null,null,"回答者番号"]
[null,null,null,null,"氏名"]
[null,null,null,null,"入力"]
[null,null,null,1,"私は，生徒が自分（たち）で学習や生活の目標を決め振り返る場を設けている。",{"$f":"IF(F$30=\"\",\"-\",IF(MID(F$30,$D31,1)=\" \",\"\",VALUE(MID(F$30,$D31,1))))","v":"-"},{"$f":"IF(G$30=\"\",\"-\",IF(MID(G$30,$D31,1)=\" \",\"\",VALUE(MID(G$30,$D31,1))))","v":"-"},{"$f":"IF(H$30=\"\",\"-\",IF(MID(H$30,$D31,1)=\" \",\"\",VALUE(MID(H$30,$D31,1))))","v":"-"},"-","-","-","-","-","-","-","-","-","-","-","-","-","-","-","-","-","-","-","-","-","-","-","-","-","-","-","-","-","-","-","-","-","-","-","-","-",{"$f":"IF(AT$30=\"\",\"-\",IF(MID(AT$30,$D31,1)=\" \",\"\",VALUE(MID(AT$30,$D31,1))))","v":"-"},"-","-","-","-","-","-","-","-","-","-","-","-","-","-","-","-","-","-","-"]
[null,null,null,2,"私は，生徒同士が協力して一つのことに取り組むための工夫をしている。",{"$f":"IF(F$30=\"\",\"-\",IF(MID(F$30,$D32,1)=\" \",\"\",VALUE(MID(F$30,$D32,1))))","v":"-"},"-","-","-","-","-","-","-","-","-","-","-","-","-","-","-","-","-","-","-","-","-","-","-","-","-","-","-","-","-","-","-","-","-","-","-","-","-","-","-","-","-","-","-","-","-","-","-","-","-","-","-","-","-","-","-","-","-","-","-"]
[null,null,null,3,"私は，生徒が自分の考えを伝えたいと思えるような場面や機会を設けている。","-","-","-","-","-","-","-","-","-","-","-","-","-","-","-","-","-","-","-","-","-","-","-","-","-","-","-","-","-","-","-","-","-","-","-","-","-","-","-","-","-","-","-","-","-","-","-","-","-","-","-","-","-","-","-","-","-","-","-","-"]
[null,null,null,4,"私は，生徒がお互いの間違いや失敗を冷やかしたり，からかったりしない雰囲気づくりをしている。","-","-","-","-","-","-","-","-","-","-","-","-","-","-","-","-","-","-","-","-","-","-","-","-","-","-","-","-","-","-","-","-","-","-","-","-","-","-","-","-","-","-","-","-","-","-","-","-","-","-","-","-","-","-","-","-","-","-","-","-"]
[null,null,null,5,"私は，誰かのユーモアある発言に対し，温かい笑いが生まれるような雰囲気づくりをしている。","-","-","-","-","-","-","-","-","-","-","-","-","-","-","-","-","-","-","-","-","-","-","-","-","-","-","-","-","-","-","-","-","-","-","-","-","-","-","-","-","-","-","-","-","-","-","-","-","-","-","-","-","-","-","-","-","-","-","-","-"]
[null,null,null,6,"私は，すべての生徒の考えや発言を取り上げている。","-","-","-","-","-","-","-","-","-","-","-","-","-","-","-","-","-","-","-","-","-","-","-","-","-","-","-","-","-","-","-","-","-","-","-","-","-","-","-","-","-","-","-","-","-","-","-","-","-","-","-","-","-","-","-","-","-","-","-","-"]
[null,null,null,7,"私は，人の心や体を傷つける言葉や行為を見逃さず毅然とした対応をとっている。","-","-","-","-","-","-","-","-","-","-","-","-","-","-","-","-","-","-","-","-","-","-","-","-","-","-","-","-","-","-","-","-","-","-","-","-","-","-","-","-","-","-","-","-","-","-","-","-","-","-","-","-","-","-","-","-","-","-","-","-"]
[null,null,null,8,"私は，生徒の話を最後まで遮らずに聞いている。","-","-","-","-","-",{"$f":"IF(K$30=\"\",\"-\",IF(MID(K$30,$D38,1)=\" \",\"\",VALUE(MID(K$30,$D38,1))))","v":"-"},"-","-","-","-","-","-","-","-","-","-","-","-","-","-","-","-","-","-","-","-","-","-","-","-","-","-","-","-","-","-","-","-","-","-","-","-","-","-","-","-","-","-","-","-","-","-","-","-","-","-","-","-","-","-"]
[null,null,null,9,"私は，生徒が調べたり制作したりする場面で個別に声掛けをしている。","-","-","-","-","-","-","-","-","-","-","-","-","-","-","-","-","-","-","-","-","-","-","-","-","-","-","-","-","-","-","-","-","-","-","-","-","-","-","-","-","-","-","-","-","-","-","-","-","-","-","-","-","-","-","-","-","-","-","-","-"]
[null,null,null,10,"私は，生徒が自分の役割に責任を持って取り組めるようにしている。","-","-","-","-","-","-","-","-","-","-","-","-","-","-","-","-","-","-","-","-","-","-","-","-","-","-","-","-","-","-","-","-","-","-","-","-","-","-","-","-","-","-","-","-","-","-","-","-","-","-","-","-","-","-","-","-","-","-","-","-"]
[null,null,null,11,"私は，生徒が周りの迷惑になるような言動を許さない雰囲気づくりをしている。","-","-","-","-","-","-","-","-","-","-","-","-","-","-","-","-","-","-","-","-","-","-","-","-","-","-","-","-","-","-","-","-","-","-","-","-","-","-","-","-","-","-","-","-","-","-","-","-","-","-","-","-","-","-","-","-","-","-","-","-"]
[null,null,null,12,"私は，生徒が自分一人で考えるために必要な支援をしている。","-","-","-","-","-","-","-","-","-","-","-","-","-","-","-","-","-","-","-","-","-","-","-","-","-","-","-","-","-","-","-","-","-","-","-","-","-","-","-","-","-","-","-","-","-","-","-","-","-","-","-","-","-","-","-","-","-","-","-","-"]
[null,null,null,13,"私は，生徒一人一人を理解し尊重している。 ","-","-","-","-","-","-","-","-","-","-","-","-","-","-","-","-","-","-","-","-","-","-","-","-","-","-","-","-","-","-","-","-","-","-","-","-","-","-","-","-","-","-","-","-","-","-","-","-","-","-","-","-","-","-","-",{"$f":"IF(BI$30=\"\",\"-\",IF(MID(BI$30,$D43,1)=\" \",\"\",VALUE(MID(BI$30,$D43,1))))","v":"-"},"-","-","-","-"]
[null,null,null,14,"私は，生徒が悩みや困りごとを相談しやすい雰囲気づくりをしている。","-","-","-","-","-","-","-","-","-","-","-","-","-","-","-","-","-","-","-","-","-","-","-","-","-","-","-","-","-","-","-","-",{"$f":"IF(AL$30=\"\",\"-\",IF(MID(AL$30,$D44,1)=\" \",\"\",VALUE(MID(AL$30,$D44,1))))","v":"-"},"-","-","-","-","-","-","-","-",{"$f":"IF(AU$30=\"\",\"-\",IF(MID(AU$30,$D44,1)=\" \",\"\",VALUE(MID(AU$30,$D44,1))))","v":"-"},"-","-","-","-","-","-","-","-","-","-","-","-","-","-","-","-","-","-"]
[null,null,null,15,"私は，毎日多くの生徒と会話（日記や日誌なども含む）をするように心掛けている。","-","-","-","-","-","-","-","-","-","-","-","-","-","-","-","-","-","-","-","-","-","-","-","-","-","-","-","-","-","-","-","-","-","-","-","-","-","-","-","-","-","-","-","-","-","-","-","-","-","-","-","-","-","-","-","-","-","-","-","-"]
[null,null,null,16,"私は，生徒に承認や称賛，励ましの言葉を掛けている。","-","-",{"$f":"IF(H$30=\"\",\"-\",IF(MID(H$30,$D46,1)=\" \",\"\",VALUE(MID(H$30,$D46,1))))","v":"-"},"-","-","-","-","-","-","-","-","-","-","-","-","-","-","-","-","-","-","-","-","-","-","-","-","-","-","-","-","-","-","-","-","-","-","-","-","-","-","-","-","-","-","-","-","-","-","-","-","-","-","-","-","-","-","-","-","-"]
[null,null,null,17,"私は，生徒に自分と違う意見でも尊重するよう伝えている。","-","-","-","-","-","-","-","-","-","-","-","-","-","-","-","-","-","-","-","-","-","-","-","-","-","-","-","-","-","-","-","-","-","-","-","-","-","-","-","-","-","-","-","-","-","-","-","-","-","-","-","-","-","-","-","-","-","-","-","-"]
[null,null,null,18,"私は，どの生徒にも役割を与え，その活躍を認めている。","-","-","-","-","-","-","-","-","-","-","-","-","-","-","-","-","-","-","-","-","-","-","-","-","-","-","-","-","-","-","-","-","-","-","-","-","-","-","-","-","-","-","-","-","-","-","-","-","-","-","-","-","-","-","-","-","-","-","-","-"]
[null,null,null,19,"私は，活動の始まりと終わりの時間を守っている。","-","-","-","-","-","-","-","-","-","-","-","-","-","-","-","-","-","-","-","-","-","-","-","-","-","-","-","-","-","-","-","-","-","-","-","-","-","-","-","-","-","-","-","-","-","-","-","-","-","-","-","-","-","-","-","-","-","-","-","-"]
[null,null,null,20,"私は，生徒主体の活動場面を設けている。","-","-","-","-","-","-","-","-","-","-","-","-","-","-","-","-","-","-","-","-","-","-","-","-","-","-","-","-","-","-","-","-","-","-","-","-","-","-","-","-","-","-","-","-","-","-","-","-","-","-","-","-","-","-","-","-","-","-","-","-"]

{"sheet":"教員(データ入力②)","index":10,"n_rows":50,"n_cols":65,"rows_kept":50,"cut":false,"hidden":false,"merged":[[3,3,3,4],[25,3,25,8]]}
[null,null,null,null,null,1,2,3,4,5,6,7,8,9,10,11,12,13,14,15,16,17,18,19,20,21,22,23,24,25,26,27,28,29,30,31,32,33,34,35,36,37,38,39,40,41,42,43,44,45,46,47,48,49,50,51,52,53,54,55,56,57,58,59,60]
[]
[null,null,null,null,"回答者番号"]
[null,null,null,"氏名"]
[null,null,null,1,"私は，生徒が自分（たち）で学習や生活の目標を決め振り返る場を設けている。"]
[null,null,null,2,"私は，生徒同士が協力して一つのことに取り組むための工夫をしている。"]
[null,null,null,3,"私は，生徒が自分の考えを伝えたいと思えるような場面や機会を設けている。"]
[null,null,null,4,"私は，生徒がお互いの間違いや失敗を冷やかしたり，からかったりしない雰囲気づくりをしている。"]
[null,null,null,5,"私は，誰かのユーモアある発言に対し，温かい笑いが生まれるような雰囲気づくりをしている。"]
[null,null,null,6,"私は，すべての生徒の考えや発言を取り上げている。"]
[null,null,null,7,"私は，人の心や体を傷つける言葉や行為を見逃さず毅然とした対応をとっている。"]
[null,null,null,8,"私は，生徒の話を最後まで遮らずに聞いている。"]
[null,null,null,9,"私は，生徒が調べたり制作したりする場面で個別に声掛けをしている。"]
[null,null,null,10,"私は，生徒が自分の役割に責任を持って取り組めるようにしている。"]
[null,null,null,11,"私は，生徒が周りの迷惑になるような言動を許さない雰囲気づくりをしている。"]
[null,null,null,12,"私は，生徒が自分一人で考えるために必要な支援をしている。"]
[null,null,null,13,"私は，生徒一人一人を理解し尊重している。 "]
[null,null,null,14,"私は，生徒が悩みや困りごとを相談しやすい雰囲気づくりをしている。"]
[null,null,null,15,"私は，毎日多くの生徒と会話（日記や日誌なども含む）をするように心掛けている。"]
[null,null,null,16,"私は，生徒に承認や称賛，励ましの言葉を掛けている。"]
[null,null,null,17,"私は，生徒に自分と違う意見でも尊重するよう伝えている。"]
[null,null,null,18,"私は，どの生徒にも役割を与え，その活躍を認めている。"]
[null,null,null,19,"私は，活動の始まりと終わりの時間を守っている。"]
[null,null,null,20,"私は，生徒主体の活動場面を設けている。"]
[]
[]
[]
[null,null,null,null,"回答者番号"]
[null,null,null,null,"氏名"]
[null,null,null,null,"入力"]
[null,null,null,1,"私は，生徒が自分（たち）で学習や生活の目標を決め振り返る場を設けている。",{"$f":"IF(F$30=\"\",\"-\",IF(MID(F$30,$D31,1)=\" \",\"\",VALUE(MID(F$30,$D31,1))))","v":"-"},{"$f":"IF(G$30=\"\",\"-\",IF(MID(G$30,$D31,1)=\" \",\"\",VALUE(MID(G$30,$D31,1))))","v":"-"},{"$f":"IF(H$30=\"\",\"-\",IF(MID(H$30,$D31,1)=\" \",\"\",VALUE(MID(H$30,$D31,1))))","v":"-"},"-","-","-","-","-","-","-","-","-","-","-","-","-","-","-","-","-","-","-","-","-","-","-","-","-","-","-","-","-","-","-","-","-","-","-","-","-",{"$f":"IF(AT$30=\"\",\"-\",IF(MID(AT$30,$D31,1)=\" \",\"\",VALUE(MID(AT$30,$D31,1))))","v":"-"},"-","-","-","-","-","-","-","-","-","-","-","-","-","-","-","-","-","-","-"]
[null,null,null,2,"私は，生徒同士が協力して一つのことに取り組むための工夫をしている。",{"$f":"IF(F$30=\"\",\"-\",IF(MID(F$30,$D32,1)=\" \",\"\",VALUE(MID(F$30,$D32,1))))","v":"-"},"-","-","-","-","-","-","-","-","-","-","-","-","-","-","-","-","-","-","-","-","-","-","-","-","-","-","-","-","-","-","-","-","-","-","-","-","-","-","-","-","-","-","-","-","-","-","-","-","-","-","-","-","-","-","-","-","-","-","-"]
[null,null,null,3,"私は，生徒が自分の考えを伝えたいと思えるような場面や機会を設けている。","-","-","-","-","-","-","-","-","-","-","-","-","-","-","-","-","-","-","-","-","-","-","-","-","-","-","-","-","-","-","-","-","-","-","-","-","-","-","-","-","-","-","-","-","-","-","-","-","-","-","-","-","-","-","-","-","-","-","-","-"]
[null,null,null,4,"私は，生徒がお互いの間違いや失敗を冷やかしたり，からかったりしない雰囲気づくりをしている。","-","-","-","-","-","-","-","-","-","-","-","-","-","-","-","-","-","-","-","-","-","-","-","-","-","-","-","-","-","-","-","-","-","-","-","-","-","-","-","-","-","-","-","-","-","-","-","-","-","-","-","-","-","-","-","-","-","-","-","-"]
[null,null,null,5,"私は，誰かのユーモアある発言に対し，温かい笑いが生まれるような雰囲気づくりをしている。","-","-","-","-","-","-","-","-","-","-","-","-","-","-","-","-","-","-","-","-","-","-","-","-","-","-","-","-","-","-","-","-","-","-","-","-","-","-","-","-","-","-","-","-","-","-","-","-","-","-","-","-","-","-","-","-","-","-","-","-"]
[null,null,null,6,"私は，すべての生徒の考えや発言を取り上げている。","-","-","-","-","-","-","-","-","-","-","-","-","-","-","-","-","-","-","-","-","-","-","-","-","-","-","-","-","-","-","-","-","-","-","-","-","-","-","-","-","-","-","-","-","-","-","-","-","-","-","-","-","-","-","-","-","-","-","-","-"]
[null,null,null,7,"私は，人の心や体を傷つける言葉や行為を見逃さず毅然とした対応をとっている。","-","-","-","-","-","-","-","-","-","-","-","-","-","-","-","-","-","-","-","-","-","-","-","-","-","-","-","-","-","-","-","-","-","-","-","-","-","-","-","-","-","-","-","-","-","-","-","-","-","-","-","-","-","-","-","-","-","-","-","-"]
[null,null,null,8,"私は，生徒の話を最後まで遮らずに聞いている。","-","-","-","-","-",{"$f":"IF(K$30=\"\",\"-\",IF(MID(K$30,$D38,1)=\" \",\"\",VALUE(MID(K$30,$D38,1))))","v":"-"},"-","-","-","-","-","-","-","-","-","-","-","-","-","-","-","-","-","-","-","-","-","-","-","-","-","-","-","-","-","-","-","-","-","-","-","-","-","-","-","-","-","-","-","-","-","-","-","-","-","-","-","-","-","-"]
[null,null,null,9,"私は，生徒が調べたり制作したりする場面で個別に声掛けをしている。","-","-","-","-","-","-","-","-","-","-","-","-","-","-","-","-","-","-","-","-","-","-","-","-","-","-","-","-","-","-","-","-","-","-","-","-","-","-","-","-","-","-","-","-","-","-","-","-","-","-","-","-","-","-","-","-","-","-","-","-"]
[null,null,null,10,"私は，生徒が自分の役割に責任を持って取り組めるようにしている。","-","-","-","-","-","-","-","-","-","-","-","-","-","-","-","-","-","-","-","-","-","-","-","-","-","-","-","-","-","-","-","-","-","-","-","-","-","-","-","-","-","-","-","-","-","-","-","-","-","-","-","-","-","-","-","-","-","-","-","-"]
[null,null,null,11,"私は，生徒が周りの迷惑になるような言動を許さない雰囲気づくりをしている。","-","-","-","-","-","-","-","-","-","-","-","-","-","-","-","-","-","-","-","-","-","-","-","-","-","-","-","-","-","-","-","-","-","-","-","-","-","-","-","-","-","-","-","-","-","-","-","-","-","-","-","-","-","-","-","-","-","-","-","-"]
[null,null,null,12,"私は，生徒が自分一人で考えるために必要な支援をしている。","-","-","-","-","-","-","-","-","-","-","-","-","-","-","-","-","-","-","-","-","-","-","-","-","-","-","-","-","-","-","-","-","-","-","-","-","-","-","-","-","-","-","-","-","-","-","-","-","-","-","-","-","-","-","-","-","-","-","-","-"]
[null,null,null,13,"私は，生徒一人一人を理解し尊重している。 ","-","-","-","-","-","-","-","-","-","-","-","-","-","-","-","-","-","-","-","-","-","-","-","-","-","-","-","-","-","-","-","-","-","-","-","-","-","-","-","-","-","-","-","-","-","-","-","-","-","-","-","-","-","-","-",{"$f":"IF(BI$30=\"\",\"-\",IF(MID(BI$30,$D43,1)=\" \",\"\",VALUE(MID(BI$30,$D43,1))))","v":"-"},"-","-","-","-"]
[null,null,null,14,"私は，生徒が悩みや困りごとを相談しやすい雰囲気づくりをしている。","-","-","-","-","-","-","-","-","-","-","-","-","-","-","-","-","-","-","-","-","-","-","-","-","-","-","-","-","-","-","-","-","-","-","-","-","-","-","-","-","-","-","-","-","-","-","-","-","-","-","-","-","-","-","-","-","-","-","-","-"]
[null,null,null,15,"私は，毎日多くの生徒と会話（日記や日誌なども含む）をするように心掛けている。","-","-","-","-","-","-","-","-","-","-","-","-","-","-","-","-","-","-","-","-","-","-","-","-","-","-","-","-","-","-","-","-","-","-","-","-","-","-","-","-","-","-","-","-","-","-","-","-","-","-","-","-","-","-","-","-","-","-","-","-"]
[null,null,null,16,"私は，生徒に承認や称賛，励ましの言葉を掛けている。","-","-",{"$f":"IF(H$30=\"\",\"-\",IF(MID(H$30,$D46,1)=\" \",\"\",VALUE(MID(H$30,$D46,1))))","v":"-"},"-","-","-","-","-","-","-","-","-","-","-","-","-","-","-","-","-","-","-","-","-","-","-","-","-","-","-","-","-","-","-","-","-","-","-","-","-","-","-","-","-","-","-","-","-","-","-","-","-","-","-","-","-","-","-","-","-"]
[null,null,null,17,"私は，生徒に自分と違う意見でも尊重するよう伝えている。","-","-","-","-","-","-","-","-","-","-","-","-","-","-","-","-","-","-","-","-","-","-","-","-","-","-","-","-","-","-","-","-","-","-","-","-","-","-","-","-","-","-","-","-","-","-","-","-","-","-","-","-","-","-","-","-","-","-","-","-"]
[null,null,null,18,"私は，どの生徒にも役割を与え，その活躍を認めている。","-","-","-","-","-","-","-","-","-","-","-","-","-","-","-","-","-","-","-","-",{"$f":"IF(Z$30=\"\",\"-\",IF(MID(Z$30,$D48,1)=\" \",\"\",VALUE(MID(Z$30,$D48,1))))","v":"-"},"-","-","-","-","-","-","-","-","-","-","-","-","-","-","-","-","-","-","-","-","-","-","-","-","-","-","-","-","-","-","-","-","-","-","-","-","-","-","-"]
[null,null,null,19,"私は，活動の始まりと終わりの時間を守っている。","-","-","-","-","-","-","-","-","-","-","-","-","-","-","-","-",{"$f":"IF(V$30=\"\",\"-\",IF(MID(V$30,$D49,1)=\" \",\"\",VALUE(MID(V$30,$D49,1))))","v":"-"},"-","-","-","-","-","-","-","-","-","-","-","-","-","-","-","-","-","-","-","-","-","-","-","-","-","-","-","-","-","-","-","-","-","-","-","-","-","-","-","-","-","-","-"]
[null,null,null,20,"私は，生徒主体の活動場面を設けている。","-","-","-","-","-","-","-","-","-","-","-","-","-","-","-","-","-","-","-","-","-","-","-","-","-","-","-","-","-","-","-","-","-","-","-","-","-","-","-","-","-","-","-","-","-","-","-","-","-","-","-","-","-","-","-","-","-","-","-","-"]

{"sheet":"質問項目(生徒)","index":11,"n_rows":61,"n_cols":10,"rows_kept":61,"cut":false,"hidden":false,"merged":[[1,1,1,6],[2,1,2,6],[3,1,4,2],[26,1,26,6],[4,9,4,13],[3,9,3,13],[2,9,2,13]]}
[]
[null,"安心チェックシート（生徒用）",null,null,null,null,null,null,"※Formsのデータ貼付用"]
[null,"　　　　　　　　　　　　　　　　　　　　　　　　　　（　　　）年（　　　）組　（　　　　）番　　氏名（　　　　　　　　　　　　　　　　　）　",null,null,null,null,null,null,"出席番号欄の作成に使用","出席番号を選んでください。"]
[null,"生徒のみなさんへ　\nこれはテストではありません。このアンケートは学級での生活をより良いものにしていくために，皆さんが普段，どのように感じているかを質問するものです。質問に答えるときは，時間を掛けずに，自分の思ったとおり，感じたとおりに答えてください。\n\n※質問の中に，「先生たち」という表現がありますが，担任や学級に関わっている先生方を指します。\n※場面は，学級にかかわる生活の全ての場面を想定してください。回答は，一番近いと感じるものを選んでください。",null,"そう思う","少しそう\n思う","あまりそう思わない","そう\n思わない",null,"氏名欄の作成に使用","氏名を入力してください。"]
[null,null,null,4,3,2,1,null,"質問項目作成に使用","【回答形式】\n4件法です。そう思う→４　少しそう思う→３　あまりそう思わない→２　そう思わない→１"]
[null,1,"私の学級では，私は先生と話（日記や日誌なども含む）をする機会が多くある。",4,3,2,1]
[null,2,"私の学級では，私の考えを伝えたいと思える場面や機会がある。",4,3,2,1,null,"回答番号",4]
[null,3,"私の学級では，私のことを理解してくれる先生や友達がいる。",4,3,2,1,null,null,3]
[null,4,"私の学級には，友達の間違いや失敗を冷やかしたり，からかったりしない雰囲気がある。",4,3,2,1,null,null,2]
[null,5,"私の学級では，自分一人で考える場面で，必要な情報が示されている。",4,3,2,1,null,null,1]
[null,6,"私の学級では，誰かのユーモアある発言に対し，学級が温かい笑いで包まれる雰囲気がある。",4,3,2,1]
[null,7,"私の学級では，人の心や体を傷つける言葉や行為を許さない雰囲気がある。",4,3,2,1,null,"出席番号",1]
[null,8,"私の学級では，自分（たち）で学習や生活の目標を決め，振り返りをしている。",4,3,2,1,null,null,2]
[null,9,"私の学級では，先生や友達は私の頑張りや良いところを認めてくれている。",4,3,2,1,null,null,3]
[null,10,"私の学級では，係活動や清掃など，みんなが自分の役割に責任を持って取り組んでいる。",4,3,2,1,null,null,4]
[null,11,"私の学級には，周りの迷惑になる言動をしてはいけない雰囲気がある。",4,3,2,1,null,null,5]
[null,12,"私の学級では，私の考えや発言が取り上げられたり紹介されたりすることがある。",4,3,2,1,null,null,6]
[null,13,"私の学級では，みんなで協力して一つのことに取り組むことができる。",4,3,2,1,null,null,7]
[null,14,"私の学級では，話合いなど自分たちが中心となって活動する場面が多くある。",4,3,2,1,null,null,8]
[null,15,"私の学級では，先生や友達は私の話を最後まで聞いてくれる。",4,3,2,1,null,null,9]
[null,16,"私の学級では，誰かの発言や行動を否定したり批判したりせずに尊重している。",4,3,2,1,null,null,10]
[null,17,"私の学級では，自分で調べたり制作したりするときに，先生や友達からアドバイスをもらえる。",4,3,2,1,null,null,11]
[null,18,"私の学級には，悩みや困りごとを相談できる先生や友達がいる。",4,3,2,1,null,null,12]
[null,19,"私の学級では，みんなが活動の始まりと終わりの時間を守っている。",4,3,2,1,null,null,13]
[null,20,"私の学級では，私に役割があり，その働きが認められていると感じる。",4,3,2,1,null,null,14]
[null,null,null,null,null,null,null,null,null,15]
[null,null,null,null,null,null,null,null,null,16]
[null,null,null,null,null,null,null,null,null,17]
[null,null,null,null,null,null,null,null,null,18]
[null,null,null,null,null,null,null,null,null,19]
[null,null,null,null,null,null,null,null,null,20]
[null,null,null,null,null,null,null,null,null,21]
[null,null,null,null,null,null,null,null,null,22]
[null,null,null,null,null,null,null,null,null,23]
[null,null,null,null,null,null,null,null,null,24]
[null,null,null,null,null,null,null,null,null,25]
[null,null,null,null,null,null,null,null,null,26]
[null,null,null,null,null,null,null,null,null,27]
[null,null,null,null,null,null,null,null,null,28]
[null,null,null,null,null,null,null,null,null,29]
[null,null,null,null,null,null,null,null,null,30]
[null,null,null,null,null,null,null,null,null,31]
[null,null,null,null,null,null,null,null,null,32]
[null,null,null,null,null,null,null,null,null,33]
[null,null,null,null,null,null,null,null,null,34]
[null,null,null,null,null,null,null,null,null,35]
[null,null,null,null,null,null,null,null,null,36]
[null,null,null,null,null,null,null,null,null,37]
[null,null,null,null,null,null,null,null,null,38]
[null,null,null,null,null,null,null,null,null,39]
[null,null,null,null,null,null,null,null,null,40]
[null,null,null,null,null,null,null,null,null,41]
[null,null,null,null,null,null,null,null,null,42]
[null,null,null,null,null,null,null,null,null,43]
[null,null,null,null,null,null,null,null,null,44]
[null,null,null,null,null,null,null,null,null,45]
[null,null,null,null,null,null,null,null,null,46]
[null,null,null,null,null,null,null,null,null,47]
[null,null,null,null,null,null,null,null,null,48]
[null,null,null,null,null,null,null,null,null,49]
[null,null,null,null,null,null,null,null,null,50]

{"sheet":"質問項目(教員)","index":12,"n_rows":71,"n_cols":10,"rows_kept":71,"cut":false,"hidden":false,"merged":[[1,1,1,6],[2,1,2,6],[3,1,4,2],[26,1,26,6],[2,9,2,13],[3,9,3,13],[4,9,4,13]]}
[]
[null,"安心チェックシート（教員用）",null,null,null,null,null,null,"※Formsのデータ貼付用"]
[null,"　　　　　　　　　　　　　　　　　　　　　　　　　　　　　　（　　　）年　氏名（　　　　　　　　　　　　　　　　　）　",null,null,null,null,null,null,"回答者番号の作成に使用","回答者番号を選んでください。"]
[null,"先生方へ\n　このアンケートは児童生徒が学級での生活をよりよいものにしていくために，先生方が普段，担当する学級についてどのように感じているかを質問するものです。先生方の指導力を測るものではありません。質問に答えるときは，時間を掛けずに，自分の思ったとおり，感じたとおりに答えてください。",null,"そう思う","少しそう\n思う","あまりそう思わない","そう\n思わない",null,"氏名欄の作成に使用","氏名を入力してください。"]
[null,null,null,4,3,2,1,null,"質問項目作成に使用","【回答形式】\n4件法です。そう思う→４　少しそう思う→３　あまりそう思わない→２　そう思わない→１"]
[null,1,"私は，毎日多くの生徒と会話（日記や日誌なども含む）をするように心掛けている。",4,3,2,1]
[null,2,"私は，生徒が自分の考えを伝えたいと思えるような場面や機会を設けている。",4,3,2,1,null,"回答番号",4]
[null,3,"私は，生徒一人一人を理解し尊重している。 ",4,3,2,1,null,null,3]
[null,4,"私は，生徒がお互いの間違いや失敗を冷やかしたり，からかったりしない雰囲気づくりをしている。",4,3,2,1,null,null,2]
[null,5,"私は，生徒が自分一人で考えるために必要な支援をしている。",4,3,2,1,null,null,1]
[null,6,"私は，誰かのユーモアある発言に対し，温かい笑いが生まれるような雰囲気づくりをしている。",4,3,2,1]
[null,7,"私は，人の心や体を傷つける言葉や行為を見逃さず毅然とした対応をとっている。",4,3,2,1,null,"回答者番号",1]
[null,8,"私は，生徒が自分（たち）で学習や生活の目標を決め，振り返る場を設けている。",4,3,2,1,null,null,2]
[null,9,"私は，生徒に承認や称賛，励ましの言葉を掛けている。",4,3,2,1,null,null,3]
[null,10,"私は，生徒が自分の役割に責任を持って取り組めるようにしている。",4,3,2,1,null,null,4]
[null,11,"私は，生徒が周りの迷惑になるような言動を許さない雰囲気づくりをしている。",4,3,2,1,null,null,5]
[null,12,"私は，すべての生徒の考えや発言を取り上げている。",4,3,2,1,null,null,6]
[null,13,"私は，生徒同士が協力して一つのことに取り組むための工夫をしている。",4,3,2,1,null,null,7]
[null,14,"私は，生徒主体の活動場面を設けている。",4,3,2,1,null,null,8]
[null,15,"私は，生徒の話を最後まで遮らずに聞いている。",4,3,2,1,null,null,9]
[null,16,"私は，生徒に自分と違う意見でも尊重するよう伝えている。",4,3,2,1,null,null,10]
[null,17,"私は，生徒が調べたり制作したりする場面で個別に声掛けをしている。",4,3,2,1,null,null,11]
[null,18,"私は，生徒が悩みや困りごとを相談しやすい雰囲気づくりをしている。",4,3,2,1,null,null,12]
[null,19,"私は，活動の始まりと終わりの時間を守っている。",4,3,2,1,null,null,13]
[null,20,"私は，どの生徒にも役割を与え，その活躍を認めている。",4,3,2,1,null,null,14]
[null,null,null,null,null,null,null,null,null,15]
[null,"ご協力ありがとうございました。",null,null,null,null,null,null,null,16]
[null,null,null,null,null,null,null,null,null,17]
[null,null,null,null,null,null,null,null,null,18]
[null,null,null,null,null,null,null,null,null,19]
[null,null,null,null,null,null,null,null,null,20]
[null,null,null,null,null,null,null,null,null,21]
[null,null,null,null,null,null,null,null,null,22]
[null,null,null,null,null,null,null,null,null,23]
[null,null,null,null,null,null,null,null,null,24]
[null,null,null,null,null,null,null,null,null,25]
[null,null,null,null,null,null,null,null,null,26]
[null,null,null,null,null,null,null,null,null,27]
[null,null,null,null,null,null,null,null,null,28]
[null,null,null,null,null,null,null,null,null,29]
[null,null,null,null,null,null,null,null,null,30]
[null,null,null,null,null,null,null,null,null,31]
[null,null,null,null,null,null,null,null,null,32]
[null,null,null,null,null,null,null,null,null,33]
[null,null,null,null,null,null,null,null,null,34]
[null,null,null,null,null,null,null,null,null,35]
[null,null,null,null,null,null,null,null,null,36]
[null,null,null,null,null,null,null,null,null,37]
[null,null,null,null,null,null,null,null,null,38]
[null,null,null,null,null,null,null,null,null,39]
[null,null,null,null,null,null,null,null,null,40]
[null,null,null,null,null,null,null,null,null,41]
[null,null,null,null,null,null,null,null,null,42]
[null,null,null,null,null,null,null,null,null,43]
[null,null,null,null,null,null,null,null,null,44]
[null,null,null,null,null,null,null,null,null,45]
[null,null,null,null,null,null,null,null,null,46]
[null,null,null,null,null,null,null,null,null,47]
[null,null,null,null,null,null,null,null,null,48]
[null,null,null,null,null,null,null,null,null,49]
[null,null,null,null,null,null,null,null,null,50]
[null,null,null,null,null,null,null,null,null,51]
[null,null,null,null,null,null,null,null,null,52]
[null,null,null,null,null,null,null,null,null,53]
[null,null,null,null,null,null,null,null,null,54]
[null,null,null,null,null,null,null,null,null,55]
[null,null,null,null,null,null,null,null,null,56]
[null,null,null,null,null,null,null,null,null,57]
[null,null,null,null,null,null,null,null,null,58]
[null,null,null,null,null,null,null,null,null,59]
[null,null,null,null,null,null,null,null,null,60]

{"sheet":"学級(一覧表①)","index":13,"n_rows":23,"n_cols":90,"rows_kept":23,"cut":false,"hidden":false,"merged":[[1,69,2,69],[1,68,2,68],[3,1,7,1],[13,1,17,1],[18,1,22,1],[1,64,2,64],[1,65,2,65],[1,62,2,62],[8,1,12,1],[1,67,2,67],[1,58,2,58],[1,59,2,59],[1,61,2,61],[1,60,2,60],[1,63,2,63],[1,66,2,66]]}
[null,null,null,null,null,null,null,null,1,2,3,4,5,6,7,8,9,10,11,12,13,14,15,16,17,18,19,20,21,22,23,24,25,26,27,28,29,30,31,32,33,34,35,36,37,38,39,40,41,42,43,44,45,46,47,48,49,50]
[null,null,null,4,3,2,1,"NO",1,2,3,4,5,6,7,8,9,10,11,12,13,14,15,16,17,18,19,20,21,22,23,24,25,26,27,28,29,30,31,32,33,34,35,36,37,38,39,40,41,42,43,44,45,46,47,48,49,50,"４と答えた人数","割合","比較増減","３と答えた人数","割合","比較増減","２と答えた人数","割合","比較増減","１と答えた人数","割合","比較増減"]
[null,"第1回目","学級","%\n（人数）","%\n（人数）","%\n（人数）","%\n（人数）",null,{"$f":"IF('生徒(データ入力①)'!$F$3=\"\",\"\",IFERROR(HLOOKUP(I$2,'生徒(データ入力①)'!$F$3:$AS$24,2,FALSE)&\"\",\"\"))","v":""},{"$f":"IF('生徒(データ入力①)'!$F$3=\"\",\"\",IFERROR(HLOOKUP(J$2,'生徒(データ入力①)'!$F$3:$AS$24,2,FALSE)&\"\",\"\"))","v":""},{"$f":"IF('生徒(データ入力①)'!$F$3=\"\",\"\",IFERROR(HLOOKUP(K$2,'生徒(データ入力①)'!$F$3:$AS$24,2,FALSE)&\"\",\"\"))","v":""},{"$f":"IF('生徒(データ入力①)'!$F$3=\"\",\"\",IFERROR(HLOOKUP(L$2,'生徒(データ入力①)'!$F$3:$AS$24,2,FALSE)&\"\",\"\"))","v":""},{"$f":"IF('生徒(データ入力①)'!$F$3=\"\",\"\",IFERROR(HLOOKUP(M$2,'生徒(データ入力①)'!$F$3:$AS$24,2,FALSE)&\"\",\"\"))","v":""},{"$f":"IF('生徒(データ入力①)'!$F$3=\"\",\"\",IFERROR(HLOOKUP(N$2,'生徒(データ入力①)'!$F$3:$AS$24,2,FALSE)&\"\",\"\"))","v":""},{"$f":"IF('生徒(データ入力①)'!$F$3=\"\",\"\",IFERROR(HLOOKUP(O$2,'生徒(データ入力①)'!$F$3:$AS$24,2,FALSE)&\"\",\"\"))","v":""},{"$f":"IF('生徒(データ入力①)'!$F$3=\"\",\"\",IFERROR(HLOOKUP(P$2,'生徒(データ入力①)'!$F$3:$AS$24,2,FALSE)&\"\",\"\"))","v":""},{"$f":"IF('生徒(データ入力①)'!$F$3=\"\",\"\",IFERROR(HLOOKUP(Q$2,'生徒(データ入力①)'!$F$3:$AS$24,2,FALSE)&\"\",\"\"))","v":""},{"$f":"IF('生徒(データ入力①)'!$F$3=\"\",\"\",IFERROR(HLOOKUP(R$2,'生徒(データ入力①)'!$F$3:$AS$24,2,FALSE)&\"\",\"\"))","v":""},{"$f":"IF('生徒(データ入力①)'!$F$3=\"\",\"\",IFERROR(HLOOKUP(S$2,'生徒(データ入力①)'!$F$3:$AS$24,2,FALSE)&\"\",\"\"))","v":""},{"$f":"IF('生徒(データ入力①)'!$F$3=\"\",\"\",IFERROR(HLOOKUP(T$2,'生徒(データ入力①)'!$F$3:$AS$24,2,FALSE)&\"\",\"\"))","v":""},{"$f":"IF('生徒(データ入力①)'!$F$3=\"\",\"\",IFERROR(HLOOKUP(U$2,'生徒(データ入力①)'!$F$3:$AS$24,2,FALSE)&\"\",\"\"))","v":""},{"$f":"IF('生徒(データ入力①)'!$F$3=\"\",\"\",IFERROR(HLOOKUP(V$2,'生徒(データ入力①)'!$F$3:$AS$24,2,FALSE)&\"\",\"\"))","v":""},{"$f":"IF('生徒(データ入力①)'!$F$3=\"\",\"\",IFERROR(HLOOKUP(W$2,'生徒(データ入力①)'!$F$3:$AS$24,2,FALSE)&\"\",\"\"))","v":""},{"$f":"IF('生徒(データ入力①)'!$F$3=\"\",\"\",IFERROR(HLOOKUP(X$2,'生徒(データ入力①)'!$F$3:$AS$24,2,FALSE)&\"\",\"\"))","v":""},{"$f":"IF('生徒(データ入力①)'!$F$3=\"\",\"\",IFERROR(HLOOKUP(Y$2,'生徒(データ入力①)'!$F$3:$AS$24,2,FALSE)&\"\",\"\"))","v":""},{"$f":"IF('生徒(データ入力①)'!$F$3=\"\",\"\",IFERROR(HLOOKUP(Z$2,'生徒(データ入力①)'!$F$3:$AS$24,2,FALSE)&\"\",\"\"))","v":""},{"$f":"IF('生徒(データ入力①)'!$F$3=\"\",\"\",IFERROR(HLOOKUP(AA$2,'生徒(データ入力①)'!$F$3:$AS$24,2,FALSE)&\"\",\"\"))","v":""},{"$f":"IF('生徒(データ入力①)'!$F$3=\"\",\"\",IFERROR(HLOOKUP(AB$2,'生徒(データ入力①)'!$F$3:$AS$24,2,FALSE)&\"\",\"\"))","v":""},{"$f":"IF('生徒(データ入力①)'!$F$3=\"\",\"\",IFERROR(HLOOKUP(AC$2,'生徒(データ入力①)'!$F$3:$AS$24,2,FALSE)&\"\",\"\"))","v":""},{"$f":"IF('生徒(データ入力①)'!$F$3=\"\",\"\",IFERROR(HLOOKUP(AD$2,'生徒(データ入力①)'!$F$3:$AS$24,2,FALSE)&\"\",\"\"))","v":""},{"$f":"IF('生徒(データ入力①)'!$F$3=\"\",\"\",IFERROR(HLOOKUP(AE$2,'生徒(データ入力①)'!$F$3:$AS$24,2,FALSE)&\"\",\"\"))","v":""},{"$f":"IF('生徒(データ入力①)'!$F$3=\"\",\"\",IFERROR(HLOOKUP(AF$2,'生徒(データ入力①)'!$F$3:$AS$24,2,FALSE)&\"\",\"\"))","v":""},{"$f":"IF('生徒(データ入力①)'!$F$3=\"\",\"\",IFERROR(HLOOKUP(AG$2,'生徒(データ入力①)'!$F$3:$AS$24,2,FALSE)&\"\",\"\"))","v":""},{"$f":"IF('生徒(データ入力①)'!$F$3=\"\",\"\",IFERROR(HLOOKUP(AH$2,'生徒(データ入力①)'!$F$3:$AS$24,2,FALSE)&\"\",\"\"))","v":""},{"$f":"IF('生徒(データ入力①)'!$F$3=\"\",\"\",IFERROR(HLOOKUP(AI$2,'生徒(データ入力①)'!$F$3:$AS$24,2,FALSE)&\"\",\"\"))","v":""},{"$f":"IF('生徒(データ入力①)'!$F$3=\"\",\"\",IFERROR(HLOOKUP(AJ$2,'生徒(データ入力①)'!$F$3:$AS$24,2,FALSE)&\"\",\"\"))","v":""},{"$f":"IF('生徒(データ入力①)'!$F$3=\"\",\"\",IFERROR(HLOOKUP(AK$2,'生徒(データ入力①)'!$F$3:$AS$24,2,FALSE)&\"\",\"\"))","v":""},{"$f":"IF('生徒(データ入力①)'!$F$3=\"\",\"\",IFERROR(HLOOKUP(AL$2,'生徒(データ入力①)'!$F$3:$AS$24,2,FALSE)&\"\",\"\"))","v":""},{"$f":"IF('生徒(データ入力①)'!$F$3=\"\",\"\",IFERROR(HLOOKUP(AM$2,'生徒(データ入力①)'!$F$3:$AS$24,2,FALSE)&\"\",\"\"))","v":""},{"$f":"IF('生徒(データ入力①)'!$F$3=\"\",\"\",IFERROR(HLOOKUP(AN$2,'生徒(データ入力①)'!$F$3:$AS$24,2,FALSE)&\"\",\"\"))","v":""},{"$f":"IF('生徒(データ入力①)'!$F$3=\"\",\"\",IFERROR(HLOOKUP(AO$2,'生徒(データ入力①)'!$F$3:$AS$24,2,FALSE)&\"\",\"\"))","v":""},{"$f":"IF('生徒(データ入力①)'!$F$3=\"\",\"\",IFERROR(HLOOKUP(AP$2,'生徒(データ入力①)'!$F$3:$AS$24,2,FALSE)&\"\",\"\"))","v":""},{"$f":"IF('生徒(データ入力①)'!$F$3=\"\",\"\",IFERROR(HLOOKUP(AQ$2,'生徒(データ入力①)'!$F$3:$AS$24,2,FALSE)&\"\",\"\"))","v":""},{"$f":"IF('生徒(データ入力①)'!$F$3=\"\",\"\",IFERROR(HLOOKUP(AR$2,'生徒(データ入力①)'!$F$3:$AS$24,2,FALSE)&\"\",\"\"))","v":""},{"$f":"IF('生徒(データ入力①)'!$F$3=\"\",\"\",IFERROR(HLOOKUP(AS$2,'生徒(データ入力①)'!$F$3:$AS$24,2,FALSE)&\"\",\"\"))","v":""},{"$f":"IF('生徒(データ入力①)'!$F$3=\"\",\"\",IFERROR(HLOOKUP(AT$2,'生徒(データ入力①)'!$F$3:$AS$24,2,FALSE)&\"\",\"\"))","v":""},{"$f":"IF('生徒(データ入力①)'!$F$3=\"\",\"\",IFERROR(HLOOKUP(AU$2,'生徒(データ入力①)'!$F$3:$AS$24,2,FALSE)&\"\",\"\"))","v":""},{"$f":"IF('生徒(データ入力①)'!$F$3=\"\",\"\",IFERROR(HLOOKUP(AV$2,'生徒(データ入力①)'!$F$3:$AS$24,2,FALSE)&\"\",\"\"))","v":""},{"$f":"IF('生徒(データ入力①)'!$F$3=\"\",\"\",IFERROR(HLOOKUP(AW$2,'生徒(データ入力①)'!$F$3:$BC$24,2,FALSE)&\"\",\"\"))","v":""},{"$f":"IF('生徒(データ入力①)'!$F$3=\"\",\"\",IFERROR(HLOOKUP(AX$2,'生徒(データ入力①)'!$F$3:$BC$24,2,FALSE)&\"\",\"\"))","v":""},{"$f":"IF('生徒(データ入力①)'!$F$3=\"\",\"\",IFERROR(HLOOKUP(AY$2,'生徒(データ入力①)'!$F$3:$BC$24,2,FALSE)&\"\",\"\"))","v":""},{"$f":"IF('生徒(データ入力①)'!$F$3=\"\",\"\",IFERROR(HLOOKUP(AZ$2,'生徒(データ入力①)'!$F$3:$BC$24,2,FALSE)&\"\",\"\"))","v":""},{"$f":"IF('生徒(データ入力①)'!$F$3=\"\",\"\",IFERROR(HLOOKUP(BA$2,'生徒(データ入力①)'!$F$3:$BC$24,2,FALSE)&\"\",\"\"))","v":""},{"$f":"IF('生徒(データ入力①)'!$F$3=\"\",\"\",IFERROR(HLOOKUP(BB$2,'生徒(データ入力①)'!$F$3:$BC$24,2,FALSE)&\"\",\"\"))","v":""},{"$f":"IF('生徒(データ入力①)'!$F$3=\"\",\"\",IFERROR(HLOOKUP(BC$2,'生徒(データ入力①)'!$F$3:$BC$24,2,FALSE)&\"\",\"\"))","v":""},{"$f":"IF('生徒(データ入力①)'!$F$3=\"\",\"\",IFERROR(HLOOKUP(BD$2,'生徒(データ入力①)'!$F$3:$BC$24,2,FALSE)&\"\",\"\"))","v":""},{"$f":"IF('生徒(データ入力①)'!$F$3=\"\",\"\",IFERROR(HLOOKUP(BE$2,'生徒(データ入力①)'!$F$3:$BC$24,2,FALSE)&\"\",\"\"))","v":""},{"$f":"IF('生徒(データ入力①)'!$F$3=\"\",\"\",IFERROR(HLOOKUP(BF$2,'生徒(データ入力①)'!$F$3:$BC$24,2,FALSE)&\"\",\"\"))","v":""},null,null,null,null,null,null,null,null,null,null,null,null,null,"肯定人数","割合","否定人数","割合"]
[null,"教師や仲間から学級の一員として認められているという安心感",{"$f":"'生徒(個人)'!B6","v":"私の学級では，私は先生と話（日記や日誌なども含む）をする機会が多くある。"},{"$f":"BH4&\"%\"&\"（\"&BG4&\"人）\"","v":{"$error":"#DIV/0!"}},{"$f":"BK4&\"%\"&\"（\"&BJ4&\"人\"&\"）\"","v":{"$error":"#DIV/0!"}},{"$f":"BN4&\"%\"&\"（\"&BM4&\"人\"&\"）\"","v":{"$error":"#DIV/0!"}},{"$f":"BQ4&\"%\"&\"（\"&BP4&\"人\"&\"）\"","v":{"$error":"#DIV/0!"}},null,{"$f":"IF('生徒(データ入力①)'!$F$3=\"\",\"\",IFERROR(HLOOKUP(I$2,'生徒(データ入力①)'!$F$3:$AS$24,17,FALSE)&\"\",\"\"))","v":""},{"$f":"IF('生徒(データ入力①)'!$F$3=\"\",\"\",IFERROR(HLOOKUP(J$2,'生徒(データ入力①)'!$F$3:$AS$24,17,FALSE)&\"\",\"\"))","v":""},{"$f":"IF('生徒(データ入力①)'!$F$3=\"\",\"\",IFERROR(HLOOKUP(K$2,'生徒(データ入力①)'!$F$3:$AS$24,17,FALSE)&\"\",\"\"))","v":""},{"$f":"IF('生徒(データ入力①)'!$F$3=\"\",\"\",IFERROR(HLOOKUP(L$2,'生徒(データ入力①)'!$F$3:$AS$24,17,FALSE)&\"\",\"\"))","v":""},{"$f":"IF('生徒(データ入力①)'!$F$3=\"\",\"\",IFERROR(HLOOKUP(M$2,'生徒(データ入力①)'!$F$3:$AS$24,17,FALSE)&\"\",\"\"))","v":""},{"$f":"IF('生徒(データ入力①)'!$F$3=\"\",\"\",IFERROR(HLOOKUP(N$2,'生徒(データ入力①)'!$F$3:$AS$24,17,FALSE)&\"\",\"\"))","v":""},{"$f":"IF('生徒(データ入力①)'!$F$3=\"\",\"\",IFERROR(HLOOKUP(O$2,'生徒(データ入力①)'!$F$3:$AS$24,17,FALSE)&\"\",\"\"))","v":""},{"$f":"IF('生徒(データ入力①)'!$F$3=\"\",\"\",IFERROR(HLOOKUP(P$2,'生徒(データ入力①)'!$F$3:$AS$24,17,FALSE)&\"\",\"\"))","v":""},{"$f":"IF('生徒(データ入力①)'!$F$3=\"\",\"\",IFERROR(HLOOKUP(Q$2,'生徒(データ入力①)'!$F$3:$AS$24,17,FALSE)&\"\",\"\"))","v":""},{"$f":"IF('生徒(データ入力①)'!$F$3=\"\",\"\",IFERROR(HLOOKUP(R$2,'生徒(データ入力①)'!$F$3:$AS$24,17,FALSE)&\"\",\"\"))","v":""},{"$f":"IF('生徒(データ入力①)'!$F$3=\"\",\"\",IFERROR(HLOOKUP(S$2,'生徒(データ入力①)'!$F$3:$AS$24,17,FALSE)&\"\",\"\"))","v":""},{"$f":"IF('生徒(データ入力①)'!$F$3=\"\",\"\",IFERROR(HLOOKUP(T$2,'生徒(データ入力①)'!$F$3:$AS$24,17,FALSE)&\"\",\"\"))","v":""},{"$f":"IF('生徒(データ入力①)'!$F$3=\"\",\"\",IFERROR(HLOOKUP(U$2,'生徒(データ入力①)'!$F$3:$AS$24,17,FALSE)&\"\",\"\"))","v":""},{"$f":"IF('生徒(データ入力①)'!$F$3=\"\",\"\",IFERROR(HLOOKUP(V$2,'生徒(データ入力①)'!$F$3:$AS$24,17,FALSE)&\"\",\"\"))","v":""},{"$f":"IF('生徒(データ入力①)'!$F$3=\"\",\"\",IFERROR(HLOOKUP(W$2,'生徒(データ入力①)'!$F$3:$AS$24,17,FALSE)&\"\",\"\"))","v":""},{"$f":"IF('生徒(データ入力①)'!$F$3=\"\",\"\",IFERROR(HLOOKUP(X$2,'生徒(データ入力①)'!$F$3:$AS$24,17,FALSE)&\"\",\"\"))","v":""},{"$f":"IF('生徒(データ入力①)'!$F$3=\"\",\"\",IFERROR(HLOOKUP(Y$2,'生徒(データ入力①)'!$F$3:$AS$24,17,FALSE)&\"\",\"\"))","v":""},{"$f":"IF('生徒(データ入力①)'!$F$3=\"\",\"\",IFERROR(HLOOKUP(Z$2,'生徒(データ入力①)'!$F$3:$AS$24,17,FALSE)&\"\",\"\"))","v":""},{"$f":"IF('生徒(データ入力①)'!$F$3=\"\",\"\",IFERROR(HLOOKUP(AA$2,'生徒(データ入力①)'!$F$3:$AS$24,17,FALSE)&\"\",\"\"))","v":""},{"$f":"IF('生徒(データ入力①)'!$F$3=\"\",\"\",IFERROR(HLOOKUP(AB$2,'生徒(データ入力①)'!$F$3:$AS$24,17,FALSE)&\"\",\"\"))","v":""},{"$f":"IF('生徒(データ入力①)'!$F$3=\"\",\"\",IFERROR(HLOOKUP(AC$2,'生徒(データ入力①)'!$F$3:$AS$24,17,FALSE)&\"\",\"\"))","v":""},{"$f":"IF('生徒(データ入力①)'!$F$3=\"\",\"\",IFERROR(HLOOKUP(AD$2,'生徒(データ入力①)'!$F$3:$AS$24,17,FALSE)&\"\",\"\"))","v":""},{"$f":"IF('生徒(データ入力①)'!$F$3=\"\",\"\",IFERROR(HLOOKUP(AE$2,'生徒(データ入力①)'!$F$3:$AS$24,17,FALSE)&\"\",\"\"))","v":""},{"$f":"IF('生徒(データ入力①)'!$F$3=\"\",\"\",IFERROR(HLOOKUP(AF$2,'生徒(データ入力①)'!$F$3:$AS$24,17,FALSE)&\"\",\"\"))","v":""},{"$f":"IF('生徒(データ入力①)'!$F$3=\"\",\"\",IFERROR(HLOOKUP(AG$2,'生徒(データ入力①)'!$F$3:$AS$24,17,FALSE)&\"\",\"\"))","v":""},{"$f":"IF('生徒(データ入力①)'!$F$3=\"\",\"\",IFERROR(HLOOKUP(AH$2,'生徒(データ入力①)'!$F$3:$AS$24,17,FALSE)&\"\",\"\"))","v":""},{"$f":"IF('生徒(データ入力①)'!$F$3=\"\",\"\",IFERROR(HLOOKUP(AI$2,'生徒(データ入力①)'!$F$3:$AS$24,17,FALSE)&\"\",\"\"))","v":""},{"$f":"IF('生徒(データ入力①)'!$F$3=\"\",\"\",IFERROR(HLOOKUP(AJ$2,'生徒(データ入力①)'!$F$3:$AS$24,17,FALSE)&\"\",\"\"))","v":""},{"$f":"IF('生徒(データ入力①)'!$F$3=\"\",\"\",IFERROR(HLOOKUP(AK$2,'生徒(データ入力①)'!$F$3:$AS$24,17,FALSE)&\"\",\"\"))","v":""},{"$f":"IF('生徒(データ入力①)'!$F$3=\"\",\"\",IFERROR(HLOOKUP(AL$2,'生徒(データ入力①)'!$F$3:$AS$24,17,FALSE)&\"\",\"\"))","v":""},{"$f":"IF('生徒(データ入力①)'!$F$3=\"\",\"\",IFERROR(HLOOKUP(AM$2,'生徒(データ入力①)'!$F$3:$AS$24,17,FALSE)&\"\",\"\"))","v":""},{"$f":"IF('生徒(データ入力①)'!$F$3=\"\",\"\",IFERROR(HLOOKUP(AN$2,'生徒(データ入力①)'!$F$3:$AS$24,17,FALSE)&\"\",\"\"))","v":""},{"$f":"IF('生徒(データ入力①)'!$F$3=\"\",\"\",IFERROR(HLOOKUP(AO$2,'生徒(データ入力①)'!$F$3:$AS$24,17,FALSE)&\"\",\"\"))","v":""},{"$f":"IF('生徒(データ入力①)'!$F$3=\"\",\"\",IFERROR(HLOOKUP(AP$2,'生徒(データ入力①)'!$F$3:$AS$24,17,FALSE)&\"\",\"\"))","v":""},{"$f":"IF('生徒(データ入力①)'!$F$3=\"\",\"\",IFERROR(HLOOKUP(AQ$2,'生徒(データ入力①)'!$F$3:$AS$24,17,FALSE)&\"\",\"\"))","v":""},{"$f":"IF('生徒(データ入力①)'!$F$3=\"\",\"\",IFERROR(HLOOKUP(AR$2,'生徒(データ入力①)'!$F$3:$AS$24,17,FALSE)&\"\",\"\"))","v":""},{"$f":"IF('生徒(データ入力①)'!$F$3=\"\",\"\",IFERROR(HLOOKUP(AS$2,'生徒(データ入力①)'!$F$3:$AS$24,17,FALSE)&\"\",\"\"))","v":""},{"$f":"IF('生徒(データ入力①)'!$F$3=\"\",\"\",IFERROR(HLOOKUP(AT$2,'生徒(データ入力①)'!$F$3:$AS$24,17,FALSE)&\"\",\"\"))","v":""},{"$f":"IF('生徒(データ入力①)'!$F$3=\"\",\"\",IFERROR(HLOOKUP(AU$2,'生徒(データ入力①)'!$F$3:$AS$24,17,FALSE)&\"\",\"\"))","v":""},{"$f":"IF('生徒(データ入力①)'!$F$3=\"\",\"\",IFERROR(HLOOKUP(AV$2,'生徒(データ入力①)'!$F$3:$AS$24,17,FALSE)&\"\",\"\"))","v":""},{"$f":"IF('生徒(データ入力①)'!$F$3=\"\",\"\",IFERROR(HLOOKUP(AW$2,'生徒(データ入力①)'!$F$3:$BC$24,17,FALSE)&\"\",\"\"))","v":""},{"$f":"IF('生徒(データ入力①)'!$F$3=\"\",\"\",IFERROR(HLOOKUP(AX$2,'生徒(データ入力①)'!$F$3:$BC$24,17,FALSE)&\"\",\"\"))","v":""},{"$f":"IF('生徒(データ入力①)'!$F$3=\"\",\"\",IFERROR(HLOOKUP(AY$2,'生徒(データ入力①)'!$F$3:$BC$24,17,FALSE)&\"\",\"\"))","v":""},{"$f":"IF('生徒(データ入力①)'!$F$3=\"\",\"\",IFERROR(HLOOKUP(AZ$2,'生徒(データ入力①)'!$F$3:$BC$24,17,FALSE)&\"\",\"\"))","v":""},{"$f":"IF('生徒(データ入力①)'!$F$3=\"\",\"\",IFERROR(HLOOKUP(BA$2,'生徒(データ入力①)'!$F$3:$BC$24,17,FALSE)&\"\",\"\"))","v":""},{"$f":"IF('生徒(データ入力①)'!$F$3=\"\",\"\",IFERROR(HLOOKUP(BB$2,'生徒(データ入力①)'!$F$3:$BC$24,17,FALSE)&\"\",\"\"))","v":""},{"$f":"IF('生徒(データ入力①)'!$F$3=\"\",\"\",IFERROR(HLOOKUP(BC$2,'生徒(データ入力①)'!$F$3:$BC$24,17,FALSE)&\"\",\"\"))","v":""},{"$f":"IF('生徒(データ入力①)'!$F$3=\"\",\"\",IFERROR(HLOOKUP(BD$2,'生徒(データ入力①)'!$F$3:$BC$24,17,FALSE)&\"\",\"\"))","v":""},{"$f":"IF('生徒(データ入力①)'!$F$3=\"\",\"\",IFERROR(HLOOKUP(BE$2,'生徒(データ入力①)'!$F$3:$BC$24,17,FALSE)&\"\",\"\"))","v":""},{"$f":"IF('生徒(データ入力①)'!$F$3=\"\",\"\",IFERROR(HLOOKUP(BF$2,'生徒(データ入力①)'!$F$3:$BC$24,17,FALSE)&\"\",\"\"))","v":""},{"$f":"COUNTIF(I4:BF4,\"4\")","v":0},{"$f":"ROUND((BG4/(50-COUNTBLANK(I4:BF4)))*100,1)","v":{"$error":"#DIV/0!"}},null,{"$f":"COUNTIF(I4:BF4,\"3\")","v":0},{"$f":"ROUND(BJ4/(50-COUNTBLANK(I4:BF4))*100,1)","v":{"$error":"#DIV/0!"}},null,{"$f":"COUNTIF(I4:BF4,\"2\")","v":0},{"$f":"ROUND(BM4/(50-COUNTBLANK(I4:BF4))*100,1)","v":{"$error":"#DIV/0!"}},null,{"$f":"COUNTIF(I4:BF4,\"1\")","v":0},{"$f":"ROUND(BP4/(50-COUNTBLANK(I4:BF4))*100,1)","v":{"$error":"#DIV/0!"}},null,null,{"$f":"BG4+BJ4","v":0},{"$f":"BH4+BK4","v":{"$error":"#DIV/0!"}},{"$f":"BM4+BP4","v":0},{"$f":"BN4+BQ4","v":{"$error":"#DIV/0!"}},null,"人数",null,null,null,null,"割合",null,null,null,null,"肯定値と否定値"]
[null,null,{"$f":"'生徒(個人)'!B7","v":"私の学級では，私に役割があり，その働きが認められていると感じる。"},{"$f":"BH5&\"%\"&\"（\"&BG5&\"人）\"","v":{"$error":"#DIV/0!"}},{"$error":"#DIV/0!"},{"$error":"#DIV/0!"},{"$error":"#DIV/0!"},null,{"$f":"IF('生徒(データ入力①)'!$F$3=\"\",\"\",IFERROR(HLOOKUP(I$2,'生徒(データ入力①)'!$F$3:$AS$24,20,FALSE)&\"\",\"\"))","v":""},{"$f":"IF('生徒(データ入力①)'!$F$3=\"\",\"\",IFERROR(HLOOKUP(J$2,'生徒(データ入力①)'!$F$3:$AS$24,20,FALSE)&\"\",\"\"))","v":""},{"$f":"IF('生徒(データ入力①)'!$F$3=\"\",\"\",IFERROR(HLOOKUP(K$2,'生徒(データ入力①)'!$F$3:$AS$24,20,FALSE)&\"\",\"\"))","v":""},{"$f":"IF('生徒(データ入力①)'!$F$3=\"\",\"\",IFERROR(HLOOKUP(L$2,'生徒(データ入力①)'!$F$3:$AS$24,20,FALSE)&\"\",\"\"))","v":""},{"$f":"IF('生徒(データ入力①)'!$F$3=\"\",\"\",IFERROR(HLOOKUP(M$2,'生徒(データ入力①)'!$F$3:$AS$24,20,FALSE)&\"\",\"\"))","v":""},{"$f":"IF('生徒(データ入力①)'!$F$3=\"\",\"\",IFERROR(HLOOKUP(N$2,'生徒(データ入力①)'!$F$3:$AS$24,20,FALSE)&\"\",\"\"))","v":""},{"$f":"IF('生徒(データ入力①)'!$F$3=\"\",\"\",IFERROR(HLOOKUP(O$2,'生徒(データ入力①)'!$F$3:$AS$24,20,FALSE)&\"\",\"\"))","v":""},{"$f":"IF('生徒(データ入力①)'!$F$3=\"\",\"\",IFERROR(HLOOKUP(P$2,'生徒(データ入力①)'!$F$3:$AS$24,20,FALSE)&\"\",\"\"))","v":""},{"$f":"IF('生徒(データ入力①)'!$F$3=\"\",\"\",IFERROR(HLOOKUP(Q$2,'生徒(データ入力①)'!$F$3:$AS$24,20,FALSE)&\"\",\"\"))","v":""},{"$f":"IF('生徒(データ入力①)'!$F$3=\"\",\"\",IFERROR(HLOOKUP(R$2,'生徒(データ入力①)'!$F$3:$AS$24,20,FALSE)&\"\",\"\"))","v":""},{"$f":"IF('生徒(データ入力①)'!$F$3=\"\",\"\",IFERROR(HLOOKUP(S$2,'生徒(データ入力①)'!$F$3:$AS$24,20,FALSE)&\"\",\"\"))","v":""},{"$f":"IF('生徒(データ入力①)'!$F$3=\"\",\"\",IFERROR(HLOOKUP(T$2,'生徒(データ入力①)'!$F$3:$AS$24,20,FALSE)&\"\",\"\"))","v":""},{"$f":"IF('生徒(データ入力①)'!$F$3=\"\",\"\",IFERROR(HLOOKUP(U$2,'生徒(データ入力①)'!$F$3:$AS$24,20,FALSE)&\"\",\"\"))","v":""},{"$f":"IF('生徒(データ入力①)'!$F$3=\"\",\"\",IFERROR(HLOOKUP(V$2,'生徒(データ入力①)'!$F$3:$AS$24,20,FALSE)&\"\",\"\"))","v":""},{"$f":"IF('生徒(データ入力①)'!$F$3=\"\",\"\",IFERROR(HLOOKUP(W$2,'生徒(データ入力①)'!$F$3:$AS$24,20,FALSE)&\"\",\"\"))","v":""},{"$f":"IF('生徒(データ入力①)'!$F$3=\"\",\"\",IFERROR(HLOOKUP(X$2,'生徒(データ入力①)'!$F$3:$AS$24,20,FALSE)&\"\",\"\"))","v":""},{"$f":"IF('生徒(データ入力①)'!$F$3=\"\",\"\",IFERROR(HLOOKUP(Y$2,'生徒(データ入力①)'!$F$3:$AS$24,20,FALSE)&\"\",\"\"))","v":""},{"$f":"IF('生徒(データ入力①)'!$F$3=\"\",\"\",IFERROR(HLOOKUP(Z$2,'生徒(データ入力①)'!$F$3:$AS$24,20,FALSE)&\"\",\"\"))","v":""},{"$f":"IF('生徒(データ入力①)'!$F$3=\"\",\"\",IFERROR(HLOOKUP(AA$2,'生徒(データ入力①)'!$F$3:$AS$24,20,FALSE)&\"\",\"\"))","v":""},{"$f":"IF('生徒(データ入力①)'!$F$3=\"\",\"\",IFERROR(HLOOKUP(AB$2,'生徒(データ入力①)'!$F$3:$AS$24,20,FALSE)&\"\",\"\"))","v":""},{"$f":"IF('生徒(データ入力①)'!$F$3=\"\",\"\",IFERROR(HLOOKUP(AC$2,'生徒(データ入力①)'!$F$3:$AS$24,20,FALSE)&\"\",\"\"))","v":""},{"$f":"IF('生徒(データ入力①)'!$F$3=\"\",\"\",IFERROR(HLOOKUP(AD$2,'生徒(データ入力①)'!$F$3:$AS$24,20,FALSE)&\"\",\"\"))","v":""},{"$f":"IF('生徒(データ入力①)'!$F$3=\"\",\"\",IFERROR(HLOOKUP(AE$2,'生徒(データ入力①)'!$F$3:$AS$24,20,FALSE)&\"\",\"\"))","v":""},{"$f":"IF('生徒(データ入力①)'!$F$3=\"\",\"\",IFERROR(HLOOKUP(AF$2,'生徒(データ入力①)'!$F$3:$AS$24,20,FALSE)&\"\",\"\"))","v":""},{"$f":"IF('生徒(データ入力①)'!$F$3=\"\",\"\",IFERROR(HLOOKUP(AG$2,'生徒(データ入力①)'!$F$3:$AS$24,20,FALSE)&\"\",\"\"))","v":""},{"$f":"IF('生徒(データ入力①)'!$F$3=\"\",\"\",IFERROR(HLOOKUP(AH$2,'生徒(データ入力①)'!$F$3:$AS$24,20,FALSE)&\"\",\"\"))","v":""},{"$f":"IF('生徒(データ入力①)'!$F$3=\"\",\"\",IFERROR(HLOOKUP(AI$2,'生徒(データ入力①)'!$F$3:$AS$24,20,FALSE)&\"\",\"\"))","v":""},{"$f":"IF('生徒(データ入力①)'!$F$3=\"\",\"\",IFERROR(HLOOKUP(AJ$2,'生徒(データ入力①)'!$F$3:$AS$24,20,FALSE)&\"\",\"\"))","v":""},{"$f":"IF('生徒(データ入力①)'!$F$3=\"\",\"\",IFERROR(HLOOKUP(AK$2,'生徒(データ入力①)'!$F$3:$AS$24,20,FALSE)&\"\",\"\"))","v":""},{"$f":"IF('生徒(データ入力①)'!$F$3=\"\",\"\",IFERROR(HLOOKUP(AL$2,'生徒(データ入力①)'!$F$3:$AS$24,20,FALSE)&\"\",\"\"))","v":""},{"$f":"IF('生徒(データ入力①)'!$F$3=\"\",\"\",IFERROR(HLOOKUP(AM$2,'生徒(データ入力①)'!$F$3:$AS$24,20,FALSE)&\"\",\"\"))","v":""},{"$f":"IF('生徒(データ入力①)'!$F$3=\"\",\"\",IFERROR(HLOOKUP(AN$2,'生徒(データ入力①)'!$F$3:$AS$24,20,FALSE)&\"\",\"\"))","v":""},{"$f":"IF('生徒(データ入力①)'!$F$3=\"\",\"\",IFERROR(HLOOKUP(AO$2,'生徒(データ入力①)'!$F$3:$AS$24,20,FALSE)&\"\",\"\"))","v":""},{"$f":"IF('生徒(データ入力①)'!$F$3=\"\",\"\",IFERROR(HLOOKUP(AP$2,'生徒(データ入力①)'!$F$3:$AS$24,20,FALSE)&\"\",\"\"))","v":""},{"$f":"IF('生徒(データ入力①)'!$F$3=\"\",\"\",IFERROR(HLOOKUP(AQ$2,'生徒(データ入力①)'!$F$3:$AS$24,20,FALSE)&\"\",\"\"))","v":""},{"$f":"IF('生徒(データ入力①)'!$F$3=\"\",\"\",IFERROR(HLOOKUP(AR$2,'生徒(データ入力①)'!$F$3:$AS$24,20,FALSE)&\"\",\"\"))","v":""},{"$f":"IF('生徒(データ入力①)'!$F$3=\"\",\"\",IFERROR(HLOOKUP(AS$2,'生徒(データ入力①)'!$F$3:$AS$24,20,FALSE)&\"\",\"\"))","v":""},{"$f":"IF('生徒(データ入力①)'!$F$3=\"\",\"\",IFERROR(HLOOKUP(AT$2,'生徒(データ入力①)'!$F$3:$AS$24,20,FALSE)&\"\",\"\"))","v":""},{"$f":"IF('生徒(データ入力①)'!$F$3=\"\",\"\",IFERROR(HLOOKUP(AU$2,'生徒(データ入力①)'!$F$3:$AS$24,20,FALSE)&\"\",\"\"))","v":""},{"$f":"IF('生徒(データ入力①)'!$F$3=\"\",\"\",IFERROR(HLOOKUP(AV$2,'生徒(データ入力①)'!$F$3:$AS$24,20,FALSE)&\"\",\"\"))","v":""},{"$f":"IF('生徒(データ入力①)'!$F$3=\"\",\"\",IFERROR(HLOOKUP(AW$2,'生徒(データ入力①)'!$F$3:$BC$24,20,FALSE)&\"\",\"\"))","v":""},{"$f":"IF('生徒(データ入力①)'!$F$3=\"\",\"\",IFERROR(HLOOKUP(AX$2,'生徒(データ入力①)'!$F$3:$BC$24,20,FALSE)&\"\",\"\"))","v":""},{"$f":"IF('生徒(データ入力①)'!$F$3=\"\",\"\",IFERROR(HLOOKUP(AY$2,'生徒(データ入力①)'!$F$3:$BC$24,20,FALSE)&\"\",\"\"))","v":""},{"$f":"IF('生徒(データ入力①)'!$F$3=\"\",\"\",IFERROR(HLOOKUP(AZ$2,'生徒(データ入力①)'!$F$3:$BC$24,20,FALSE)&\"\",\"\"))","v":""},{"$f":"IF('生徒(データ入力①)'!$F$3=\"\",\"\",IFERROR(HLOOKUP(BA$2,'生徒(データ入力①)'!$F$3:$BC$24,20,FALSE)&\"\",\"\"))","v":""},{"$f":"IF('生徒(データ入力①)'!$F$3=\"\",\"\",IFERROR(HLOOKUP(BB$2,'生徒(データ入力①)'!$F$3:$BC$24,20,FALSE)&\"\",\"\"))","v":""},{"$f":"IF('生徒(データ入力①)'!$F$3=\"\",\"\",IFERROR(HLOOKUP(BC$2,'生徒(データ入力①)'!$F$3:$BC$24,20,FALSE)&\"\",\"\"))","v":""},{"$f":"IF('生徒(データ入力①)'!$F$3=\"\",\"\",IFERROR(HLOOKUP(BD$2,'生徒(データ入力①)'!$F$3:$BC$24,20,FALSE)&\"\",\"\"))","v":""},{"$f":"IF('生徒(データ入力①)'!$F$3=\"\",\"\",IFERROR(HLOOKUP(BE$2,'生徒(データ入力①)'!$F$3:$BC$24,20,FALSE)&\"\",\"\"))","v":""},{"$f":"IF('生徒(データ入力①)'!$F$3=\"\",\"\",IFERROR(HLOOKUP(BF$2,'生徒(データ入力①)'!$F$3:$BC$24,20,FALSE)&\"\",\"\"))","v":""},0,{"$f":"ROUND((BG5/(50-COUNTBLANK(I5:BF5)))*100,1)","v":{"$error":"#DIV/0!"}},null,0,{"$f":"ROUND(BJ5/(50-COUNTBLANK(I5:BF5))*100,1)","v":{"$error":"#DIV/0!"}},null,0,{"$f":"ROUND(BM5/(50-COUNTBLANK(I5:BF5))*100,1)","v":{"$error":"#DIV/0!"}},null,0,{"$f":"ROUND(BP5/(50-COUNTBLANK(I5:BF5))*100,1)","v":{"$error":"#DIV/0!"}},null,null,{"$f":"BG5+BJ5","v":0},{"$f":"BH5+BK5","v":{"$error":"#DIV/0!"}},{"$f":"BM5+BP5","v":0},{"$f":"BN5+BQ5","v":{"$error":"#DIV/0!"}},null,4,3,2,1,"合計",4,3,2,1]
[null,null,{"$f":"'生徒(個人)'!B8","v":"私の学級では，先生や友達は私の頑張りや良いところを認めてくれている。"},{"$error":"#DIV/0!"},{"$error":"#DIV/0!"},{"$error":"#DIV/0!"},{"$error":"#DIV/0!"},null,{"$f":"IF('生徒(データ入力①)'!$F$3=\"\",\"\",IFERROR(HLOOKUP(I$2,'生徒(データ入力①)'!$F$3:$AS$24,18,FALSE)&\"\",\"\"))","v":""},{"$f":"IF('生徒(データ入力①)'!$F$3=\"\",\"\",IFERROR(HLOOKUP(J$2,'生徒(データ入力①)'!$F$3:$AS$24,18,FALSE)&\"\",\"\"))","v":""},{"$f":"IF('生徒(データ入力①)'!$F$3=\"\",\"\",IFERROR(HLOOKUP(K$2,'生徒(データ入力①)'!$F$3:$AS$24,18,FALSE)&\"\",\"\"))","v":""},{"$f":"IF('生徒(データ入力①)'!$F$3=\"\",\"\",IFERROR(HLOOKUP(L$2,'生徒(データ入力①)'!$F$3:$AS$24,18,FALSE)&\"\",\"\"))","v":""},{"$f":"IF('生徒(データ入力①)'!$F$3=\"\",\"\",IFERROR(HLOOKUP(M$2,'生徒(データ入力①)'!$F$3:$AS$24,18,FALSE)&\"\",\"\"))","v":""},{"$f":"IF('生徒(データ入力①)'!$F$3=\"\",\"\",IFERROR(HLOOKUP(N$2,'生徒(データ入力①)'!$F$3:$AS$24,18,FALSE)&\"\",\"\"))","v":""},{"$f":"IF('生徒(データ入力①)'!$F$3=\"\",\"\",IFERROR(HLOOKUP(O$2,'生徒(データ入力①)'!$F$3:$AS$24,18,FALSE)&\"\",\"\"))","v":""},{"$f":"IF('生徒(データ入力①)'!$F$3=\"\",\"\",IFERROR(HLOOKUP(P$2,'生徒(データ入力①)'!$F$3:$AS$24,18,FALSE)&\"\",\"\"))","v":""},{"$f":"IF('生徒(データ入力①)'!$F$3=\"\",\"\",IFERROR(HLOOKUP(Q$2,'生徒(データ入力①)'!$F$3:$AS$24,18,FALSE)&\"\",\"\"))","v":""},{"$f":"IF('生徒(データ入力①)'!$F$3=\"\",\"\",IFERROR(HLOOKUP(R$2,'生徒(データ入力①)'!$F$3:$AS$24,18,FALSE)&\"\",\"\"))","v":""},{"$f":"IF('生徒(データ入力①)'!$F$3=\"\",\"\",IFERROR(HLOOKUP(S$2,'生徒(データ入力①)'!$F$3:$AS$24,18,FALSE)&\"\",\"\"))","v":""},{"$f":"IF('生徒(データ入力①)'!$F$3=\"\",\"\",IFERROR(HLOOKUP(T$2,'生徒(データ入力①)'!$F$3:$AS$24,18,FALSE)&\"\",\"\"))","v":""},{"$f":"IF('生徒(データ入力①)'!$F$3=\"\",\"\",IFERROR(HLOOKUP(U$2,'生徒(データ入力①)'!$F$3:$AS$24,18,FALSE)&\"\",\"\"))","v":""},{"$f":"IF('生徒(データ入力①)'!$F$3=\"\",\"\",IFERROR(HLOOKUP(V$2,'生徒(データ入力①)'!$F$3:$AS$24,18,FALSE)&\"\",\"\"))","v":""},{"$f":"IF('生徒(データ入力①)'!$F$3=\"\",\"\",IFERROR(HLOOKUP(W$2,'生徒(データ入力①)'!$F$3:$AS$24,18,FALSE)&\"\",\"\"))","v":""},{"$f":"IF('生徒(データ入力①)'!$F$3=\"\",\"\",IFERROR(HLOOKUP(X$2,'生徒(データ入力①)'!$F$3:$AS$24,18,FALSE)&\"\",\"\"))","v":""},{"$f":"IF('生徒(データ入力①)'!$F$3=\"\",\"\",IFERROR(HLOOKUP(Y$2,'生徒(データ入力①)'!$F$3:$AS$24,18,FALSE)&\"\",\"\"))","v":""},{"$f":"IF('生徒(データ入力①)'!$F$3=\"\",\"\",IFERROR(HLOOKUP(Z$2,'生徒(データ入力①)'!$F$3:$AS$24,18,FALSE)&\"\",\"\"))","v":""},{"$f":"IF('生徒(データ入力①)'!$F$3=\"\",\"\",IFERROR(HLOOKUP(AA$2,'生徒(データ入力①)'!$F$3:$AS$24,18,FALSE)&\"\",\"\"))","v":""},{"$f":"IF('生徒(データ入力①)'!$F$3=\"\",\"\",IFERROR(HLOOKUP(AB$2,'生徒(データ入力①)'!$F$3:$AS$24,18,FALSE)&\"\",\"\"))","v":""},{"$f":"IF('生徒(データ入力①)'!$F$3=\"\",\"\",IFERROR(HLOOKUP(AC$2,'生徒(データ入力①)'!$F$3:$AS$24,18,FALSE)&\"\",\"\"))","v":""},{"$f":"IF('生徒(データ入力①)'!$F$3=\"\",\"\",IFERROR(HLOOKUP(AD$2,'生徒(データ入力①)'!$F$3:$AS$24,18,FALSE)&\"\",\"\"))","v":""},{"$f":"IF('生徒(データ入力①)'!$F$3=\"\",\"\",IFERROR(HLOOKUP(AE$2,'生徒(データ入力①)'!$F$3:$AS$24,18,FALSE)&\"\",\"\"))","v":""},{"$f":"IF('生徒(データ入力①)'!$F$3=\"\",\"\",IFERROR(HLOOKUP(AF$2,'生徒(データ入力①)'!$F$3:$AS$24,18,FALSE)&\"\",\"\"))","v":""},{"$f":"IF('生徒(データ入力①)'!$F$3=\"\",\"\",IFERROR(HLOOKUP(AG$2,'生徒(データ入力①)'!$F$3:$AS$24,18,FALSE)&\"\",\"\"))","v":""},{"$f":"IF('生徒(データ入力①)'!$F$3=\"\",\"\",IFERROR(HLOOKUP(AH$2,'生徒(データ入力①)'!$F$3:$AS$24,18,FALSE)&\"\",\"\"))","v":""},{"$f":"IF('生徒(データ入力①)'!$F$3=\"\",\"\",IFERROR(HLOOKUP(AI$2,'生徒(データ入力①)'!$F$3:$AS$24,18,FALSE)&\"\",\"\"))","v":""},{"$f":"IF('生徒(データ入力①)'!$F$3=\"\",\"\",IFERROR(HLOOKUP(AJ$2,'生徒(データ入力①)'!$F$3:$AS$24,18,FALSE)&\"\",\"\"))","v":""},{"$f":"IF('生徒(データ入力①)'!$F$3=\"\",\"\",IFERROR(HLOOKUP(AK$2,'生徒(データ入力①)'!$F$3:$AS$24,18,FALSE)&\"\",\"\"))","v":""},{"$f":"IF('生徒(データ入力①)'!$F$3=\"\",\"\",IFERROR(HLOOKUP(AL$2,'生徒(データ入力①)'!$F$3:$AS$24,18,FALSE)&\"\",\"\"))","v":""},{"$f":"IF('生徒(データ入力①)'!$F$3=\"\",\"\",IFERROR(HLOOKUP(AM$2,'生徒(データ入力①)'!$F$3:$AS$24,18,FALSE)&\"\",\"\"))","v":""},{"$f":"IF('生徒(データ入力①)'!$F$3=\"\",\"\",IFERROR(HLOOKUP(AN$2,'生徒(データ入力①)'!$F$3:$AS$24,18,FALSE)&\"\",\"\"))","v":""},{"$f":"IF('生徒(データ入力①)'!$F$3=\"\",\"\",IFERROR(HLOOKUP(AO$2,'生徒(データ入力①)'!$F$3:$AS$24,18,FALSE)&\"\",\"\"))","v":""},{"$f":"IF('生徒(データ入力①)'!$F$3=\"\",\"\",IFERROR(HLOOKUP(AP$2,'生徒(データ入力①)'!$F$3:$AS$24,18,FALSE)&\"\",\"\"))","v":""},{"$f":"IF('生徒(データ入力①)'!$F$3=\"\",\"\",IFERROR(HLOOKUP(AQ$2,'生徒(データ入力①)'!$F$3:$AS$24,18,FALSE)&\"\",\"\"))","v":""},{"$f":"IF('生徒(データ入力①)'!$F$3=\"\",\"\",IFERROR(HLOOKUP(AR$2,'生徒(データ入力①)'!$F$3:$AS$24,18,FALSE)&\"\",\"\"))","v":""},{"$f":"IF('生徒(データ入力①)'!$F$3=\"\",\"\",IFERROR(HLOOKUP(AS$2,'生徒(データ入力①)'!$F$3:$AS$24,18,FALSE)&\"\",\"\"))","v":""},{"$f":"IF('生徒(データ入力①)'!$F$3=\"\",\"\",IFERROR(HLOOKUP(AT$2,'生徒(データ入力①)'!$F$3:$AS$24,18,FALSE)&\"\",\"\"))","v":""},{"$f":"IF('生徒(データ入力①)'!$F$3=\"\",\"\",IFERROR(HLOOKUP(AU$2,'生徒(データ入力①)'!$F$3:$AS$24,18,FALSE)&\"\",\"\"))","v":""},{"$f":"IF('生徒(データ入力①)'!$F$3=\"\",\"\",IFERROR(HLOOKUP(AV$2,'生徒(データ入力①)'!$F$3:$AS$24,18,FALSE)&\"\",\"\"))","v":""},{"$f":"IF('生徒(データ入力①)'!$F$3=\"\",\"\",IFERROR(HLOOKUP(AW$2,'生徒(データ入力①)'!$F$3:$BC$24,18,FALSE)&\"\",\"\"))","v":""},{"$f":"IF('生徒(データ入力①)'!$F$3=\"\",\"\",IFERROR(HLOOKUP(AX$2,'生徒(データ入力①)'!$F$3:$BC$24,18,FALSE)&\"\",\"\"))","v":""},{"$f":"IF('生徒(データ入力①)'!$F$3=\"\",\"\",IFERROR(HLOOKUP(AY$2,'生徒(データ入力①)'!$F$3:$BC$24,18,FALSE)&\"\",\"\"))","v":""},{"$f":"IF('生徒(データ入力①)'!$F$3=\"\",\"\",IFERROR(HLOOKUP(AZ$2,'生徒(データ入力①)'!$F$3:$BC$24,18,FALSE)&\"\",\"\"))","v":""},{"$f":"IF('生徒(データ入力①)'!$F$3=\"\",\"\",IFERROR(HLOOKUP(BA$2,'生徒(データ入力①)'!$F$3:$BC$24,18,FALSE)&\"\",\"\"))","v":""},{"$f":"IF('生徒(データ入力①)'!$F$3=\"\",\"\",IFERROR(HLOOKUP(BB$2,'生徒(データ入力①)'!$F$3:$BC$24,18,FALSE)&\"\",\"\"))","v":""},{"$f":"IF('生徒(データ入力①)'!$F$3=\"\",\"\",IFERROR(HLOOKUP(BC$2,'生徒(データ入力①)'!$F$3:$BC$24,18,FALSE)&\"\",\"\"))","v":""},{"$f":"IF('生徒(データ入力①)'!$F$3=\"\",\"\",IFERROR(HLOOKUP(BD$2,'生徒(データ入力①)'!$F$3:$BC$24,18,FALSE)&\"\",\"\"))","v":""},{"$f":"IF('生徒(データ入力①)'!$F$3=\"\",\"\",IFERROR(HLOOKUP(BE$2,'生徒(データ入力①)'!$F$3:$BC$24,18,FALSE)&\"\",\"\"))","v":""},{"$f":"IF('生徒(データ入力①)'!$F$3=\"\",\"\",IFERROR(HLOOKUP(BF$2,'生徒(データ入力①)'!$F$3:$BC$24,18,FALSE)&\"\",\"\"))","v":""},0,{"$error":"#DIV/0!"},null,0,{"$error":"#DIV/0!"},null,0,{"$error":"#DIV/0!"},null,0,{"$error":"#DIV/0!"},null,null,0,{"$f":"BH6+BK6","v":{"$error":"#DIV/0!"}},{"$f":"BM6+BP6","v":0},{"$f":"BN6+BQ6","v":{"$error":"#DIV/0!"}},"自己存在感の感受平均",{"$f":"BG4+BG5+BG6+BG7+BG8","v":0},{"$f":"BJ4+BJ5+BJ6+BJ7+BJ8","v":0},{"$f":"BM4+BM5+BM6+BM7+BM8","v":0},{"$f":"BP4+BP5+BP6+BP7+BP8","v":0},{"$f":"SUM(BY6:CB6)","v":0},{"$f":"ROUND((BY6/$CC$6)*100,1)","v":{"$error":"#DIV/0!"}},{"$f":"ROUND((BZ6/$CC$6)*100,1)","v":{"$error":"#DIV/0!"}},{"$f":"ROUND((CA6/$CC$6)*100,1)","v":{"$error":"#DIV/0!"}},{"$f":"ROUND((CB6/$CC$6)*100,1)","v":{"$error":"#DIV/0!"}},null,{"$f":"BY6+BZ6","v":0},{"$f":"CA6+CB6","v":0},{"$f":"ROUND(CD6+CE6,1)","v":{"$error":"#DIV/0!"}},{"$f":"ROUND(CF6+CG6,1)","v":{"$error":"#DIV/0!"}}]
[null,null,{"$f":"'生徒(個人)'!B9","v":"私の学級では，私のことを理解してくれる先生や友達がいる。"},{"$error":"#DIV/0!"},{"$error":"#DIV/0!"},{"$error":"#DIV/0!"},{"$error":"#DIV/0!"},null,{"$f":"IF('生徒(データ入力①)'!$F$3=\"\",\"\",IFERROR(HLOOKUP(I$2,'生徒(データ入力①)'!$F$3:$AS$24,15,FALSE)&\"\",\"\"))","v":""},{"$f":"IF('生徒(データ入力①)'!$F$3=\"\",\"\",IFERROR(HLOOKUP(J$2,'生徒(データ入力①)'!$F$3:$AS$24,15,FALSE)&\"\",\"\"))","v":""},{"$f":"IF('生徒(データ入力①)'!$F$3=\"\",\"\",IFERROR(HLOOKUP(K$2,'生徒(データ入力①)'!$F$3:$AS$24,15,FALSE)&\"\",\"\"))","v":""},{"$f":"IF('生徒(データ入力①)'!$F$3=\"\",\"\",IFERROR(HLOOKUP(L$2,'生徒(データ入力①)'!$F$3:$AS$24,15,FALSE)&\"\",\"\"))","v":""},{"$f":"IF('生徒(データ入力①)'!$F$3=\"\",\"\",IFERROR(HLOOKUP(M$2,'生徒(データ入力①)'!$F$3:$AS$24,15,FALSE)&\"\",\"\"))","v":""},{"$f":"IF('生徒(データ入力①)'!$F$3=\"\",\"\",IFERROR(HLOOKUP(N$2,'生徒(データ入力①)'!$F$3:$AS$24,15,FALSE)&\"\",\"\"))","v":""},{"$f":"IF('生徒(データ入力①)'!$F$3=\"\",\"\",IFERROR(HLOOKUP(O$2,'生徒(データ入力①)'!$F$3:$AS$24,15,FALSE)&\"\",\"\"))","v":""},{"$f":"IF('生徒(データ入力①)'!$F$3=\"\",\"\",IFERROR(HLOOKUP(P$2,'生徒(データ入力①)'!$F$3:$AS$24,15,FALSE)&\"\",\"\"))","v":""},{"$f":"IF('生徒(データ入力①)'!$F$3=\"\",\"\",IFERROR(HLOOKUP(Q$2,'生徒(データ入力①)'!$F$3:$AS$24,15,FALSE)&\"\",\"\"))","v":""},{"$f":"IF('生徒(データ入力①)'!$F$3=\"\",\"\",IFERROR(HLOOKUP(R$2,'生徒(データ入力①)'!$F$3:$AS$24,15,FALSE)&\"\",\"\"))","v":""},{"$f":"IF('生徒(データ入力①)'!$F$3=\"\",\"\",IFERROR(HLOOKUP(S$2,'生徒(データ入力①)'!$F$3:$AS$24,15,FALSE)&\"\",\"\"))","v":""},{"$f":"IF('生徒(データ入力①)'!$F$3=\"\",\"\",IFERROR(HLOOKUP(T$2,'生徒(データ入力①)'!$F$3:$AS$24,15,FALSE)&\"\",\"\"))","v":""},{"$f":"IF('生徒(データ入力①)'!$F$3=\"\",\"\",IFERROR(HLOOKUP(U$2,'生徒(データ入力①)'!$F$3:$AS$24,15,FALSE)&\"\",\"\"))","v":""},{"$f":"IF('生徒(データ入力①)'!$F$3=\"\",\"\",IFERROR(HLOOKUP(V$2,'生徒(データ入力①)'!$F$3:$AS$24,15,FALSE)&\"\",\"\"))","v":""},{"$f":"IF('生徒(データ入力①)'!$F$3=\"\",\"\",IFERROR(HLOOKUP(W$2,'生徒(データ入力①)'!$F$3:$AS$24,15,FALSE)&\"\",\"\"))","v":""},{"$f":"IF('生徒(データ入力①)'!$F$3=\"\",\"\",IFERROR(HLOOKUP(X$2,'生徒(データ入力①)'!$F$3:$AS$24,15,FALSE)&\"\",\"\"))","v":""},{"$f":"IF('生徒(データ入力①)'!$F$3=\"\",\"\",IFERROR(HLOOKUP(Y$2,'生徒(データ入力①)'!$F$3:$AS$24,15,FALSE)&\"\",\"\"))","v":""},{"$f":"IF('生徒(データ入力①)'!$F$3=\"\",\"\",IFERROR(HLOOKUP(Z$2,'生徒(データ入力①)'!$F$3:$AS$24,15,FALSE)&\"\",\"\"))","v":""},{"$f":"IF('生徒(データ入力①)'!$F$3=\"\",\"\",IFERROR(HLOOKUP(AA$2,'生徒(データ入力①)'!$F$3:$AS$24,15,FALSE)&\"\",\"\"))","v":""},{"$f":"IF('生徒(データ入力①)'!$F$3=\"\",\"\",IFERROR(HLOOKUP(AB$2,'生徒(データ入力①)'!$F$3:$AS$24,15,FALSE)&\"\",\"\"))","v":""},{"$f":"IF('生徒(データ入力①)'!$F$3=\"\",\"\",IFERROR(HLOOKUP(AC$2,'生徒(データ入力①)'!$F$3:$AS$24,15,FALSE)&\"\",\"\"))","v":""},{"$f":"IF('生徒(データ入力①)'!$F$3=\"\",\"\",IFERROR(HLOOKUP(AD$2,'生徒(データ入力①)'!$F$3:$AS$24,15,FALSE)&\"\",\"\"))","v":""},{"$f":"IF('生徒(データ入力①)'!$F$3=\"\",\"\",IFERROR(HLOOKUP(AE$2,'生徒(データ入力①)'!$F$3:$AS$24,15,FALSE)&\"\",\"\"))","v":""},{"$f":"IF('生徒(データ入力①)'!$F$3=\"\",\"\",IFERROR(HLOOKUP(AF$2,'生徒(データ入力①)'!$F$3:$AS$24,15,FALSE)&\"\",\"\"))","v":""},{"$f":"IF('生徒(データ入力①)'!$F$3=\"\",\"\",IFERROR(HLOOKUP(AG$2,'生徒(データ入力①)'!$F$3:$AS$24,15,FALSE)&\"\",\"\"))","v":""},{"$f":"IF('生徒(データ入力①)'!$F$3=\"\",\"\",IFERROR(HLOOKUP(AH$2,'生徒(データ入力①)'!$F$3:$AS$24,15,FALSE)&\"\",\"\"))","v":""},{"$f":"IF('生徒(データ入力①)'!$F$3=\"\",\"\",IFERROR(HLOOKUP(AI$2,'生徒(データ入力①)'!$F$3:$AS$24,15,FALSE)&\"\",\"\"))","v":""},{"$f":"IF('生徒(データ入力①)'!$F$3=\"\",\"\",IFERROR(HLOOKUP(AJ$2,'生徒(データ入力①)'!$F$3:$AS$24,15,FALSE)&\"\",\"\"))","v":""},{"$f":"IF('生徒(データ入力①)'!$F$3=\"\",\"\",IFERROR(HLOOKUP(AK$2,'生徒(データ入力①)'!$F$3:$AS$24,15,FALSE)&\"\",\"\"))","v":""},{"$f":"IF('生徒(データ入力①)'!$F$3=\"\",\"\",IFERROR(HLOOKUP(AL$2,'生徒(データ入力①)'!$F$3:$AS$24,15,FALSE)&\"\",\"\"))","v":""},{"$f":"IF('生徒(データ入力①)'!$F$3=\"\",\"\",IFERROR(HLOOKUP(AM$2,'生徒(データ入力①)'!$F$3:$AS$24,15,FALSE)&\"\",\"\"))","v":""},{"$f":"IF('生徒(データ入力①)'!$F$3=\"\",\"\",IFERROR(HLOOKUP(AN$2,'生徒(データ入力①)'!$F$3:$AS$24,15,FALSE)&\"\",\"\"))","v":""},{"$f":"IF('生徒(データ入力①)'!$F$3=\"\",\"\",IFERROR(HLOOKUP(AO$2,'生徒(データ入力①)'!$F$3:$AS$24,15,FALSE)&\"\",\"\"))","v":""},{"$f":"IF('生徒(データ入力①)'!$F$3=\"\",\"\",IFERROR(HLOOKUP(AP$2,'生徒(データ入力①)'!$F$3:$AS$24,15,FALSE)&\"\",\"\"))","v":""},{"$f":"IF('生徒(データ入力①)'!$F$3=\"\",\"\",IFERROR(HLOOKUP(AQ$2,'生徒(データ入力①)'!$F$3:$AS$24,15,FALSE)&\"\",\"\"))","v":""},{"$f":"IF('生徒(データ入力①)'!$F$3=\"\",\"\",IFERROR(HLOOKUP(AR$2,'生徒(データ入力①)'!$F$3:$AS$24,15,FALSE)&\"\",\"\"))","v":""},{"$f":"IF('生徒(データ入力①)'!$F$3=\"\",\"\",IFERROR(HLOOKUP(AS$2,'生徒(データ入力①)'!$F$3:$AS$24,15,FALSE)&\"\",\"\"))","v":""},{"$f":"IF('生徒(データ入力①)'!$F$3=\"\",\"\",IFERROR(HLOOKUP(AT$2,'生徒(データ入力①)'!$F$3:$AS$24,15,FALSE)&\"\",\"\"))","v":""},{"$f":"IF('生徒(データ入力①)'!$F$3=\"\",\"\",IFERROR(HLOOKUP(AU$2,'生徒(データ入力①)'!$F$3:$AS$24,15,FALSE)&\"\",\"\"))","v":""},{"$f":"IF('生徒(データ入力①)'!$F$3=\"\",\"\",IFERROR(HLOOKUP(AV$2,'生徒(データ入力①)'!$F$3:$AS$24,15,FALSE)&\"\",\"\"))","v":""},{"$f":"IF('生徒(データ入力①)'!$F$3=\"\",\"\",IFERROR(HLOOKUP(AW$2,'生徒(データ入力①)'!$F$3:$BC$24,15,FALSE)&\"\",\"\"))","v":""},{"$f":"IF('生徒(データ入力①)'!$F$3=\"\",\"\",IFERROR(HLOOKUP(AX$2,'生徒(データ入力①)'!$F$3:$BC$24,15,FALSE)&\"\",\"\"))","v":""},{"$f":"IF('生徒(データ入力①)'!$F$3=\"\",\"\",IFERROR(HLOOKUP(AY$2,'生徒(データ入力①)'!$F$3:$BC$24,15,FALSE)&\"\",\"\"))","v":""},{"$f":"IF('生徒(データ入力①)'!$F$3=\"\",\"\",IFERROR(HLOOKUP(AZ$2,'生徒(データ入力①)'!$F$3:$BC$24,15,FALSE)&\"\",\"\"))","v":""},{"$f":"IF('生徒(データ入力①)'!$F$3=\"\",\"\",IFERROR(HLOOKUP(BA$2,'生徒(データ入力①)'!$F$3:$BC$24,15,FALSE)&\"\",\"\"))","v":""},{"$f":"IF('生徒(データ入力①)'!$F$3=\"\",\"\",IFERROR(HLOOKUP(BB$2,'生徒(データ入力①)'!$F$3:$BC$24,15,FALSE)&\"\",\"\"))","v":""},{"$f":"IF('生徒(データ入力①)'!$F$3=\"\",\"\",IFERROR(HLOOKUP(BC$2,'生徒(データ入力①)'!$F$3:$BC$24,15,FALSE)&\"\",\"\"))","v":""},{"$f":"IF('生徒(データ入力①)'!$F$3=\"\",\"\",IFERROR(HLOOKUP(BD$2,'生徒(データ入力①)'!$F$3:$BC$24,15,FALSE)&\"\",\"\"))","v":""},{"$f":"IF('生徒(データ入力①)'!$F$3=\"\",\"\",IFERROR(HLOOKUP(BE$2,'生徒(データ入力①)'!$F$3:$BC$24,15,FALSE)&\"\",\"\"))","v":""},{"$f":"IF('生徒(データ入力①)'!$F$3=\"\",\"\",IFERROR(HLOOKUP(BF$2,'生徒(データ入力①)'!$F$3:$BC$24,15,FALSE)&\"\",\"\"))","v":""},0,{"$error":"#DIV/0!"},null,0,{"$error":"#DIV/0!"},null,0,{"$error":"#DIV/0!"},null,0,{"$error":"#DIV/0!"},null,null,0,{"$error":"#DIV/0!"},0,{"$error":"#DIV/0!"},"共感的な人間関係平均",{"$f":"BG9+BG10+BG11+BG12+BG13","v":0},{"$f":"BJ9+BJ10+BJ11+BJ12+BJ13","v":0},{"$f":"BM9+BM10+BM11+BM12+BM13","v":0},{"$f":"BP9+BP10+BP11+BP12+BP13","v":0},{"$f":"SUM(BY7:CB7)","v":0},{"$f":"ROUND((BY7/$CC$7)*100,1)","v":{"$error":"#DIV/0!"}},{"$f":"ROUND((BZ7/$CC$7)*100,1)","v":{"$error":"#DIV/0!"}},{"$error":"#DIV/0!"},{"$error":"#DIV/0!"},null,{"$f":"BY7+BZ7","v":0},{"$f":"CA7+CB7","v":0},{"$f":"ROUND(CD7+CE7,1)","v":{"$error":"#DIV/0!"}},{"$f":"ROUND(CF7+CG7,1)","v":{"$error":"#DIV/0!"}}]
[null,null,{"$f":"'生徒(個人)'!B10","v":"私の学級では，私の考えや発言が取り上げられたり紹介されたりすることがある。"},{"$error":"#DIV/0!"},{"$error":"#DIV/0!"},{"$error":"#DIV/0!"},{"$error":"#DIV/0!"},null,{"$f":"IF('生徒(データ入力①)'!$F$3=\"\",\"\",IFERROR(HLOOKUP(I$2,'生徒(データ入力①)'!$F$3:$AS$24,8,FALSE)&\"\",\"\"))","v":""},{"$f":"IF('生徒(データ入力①)'!$F$3=\"\",\"\",IFERROR(HLOOKUP(J$2,'生徒(データ入力①)'!$F$3:$AS$24,8,FALSE)&\"\",\"\"))","v":""},{"$f":"IF('生徒(データ入力①)'!$F$3=\"\",\"\",IFERROR(HLOOKUP(K$2,'生徒(データ入力①)'!$F$3:$AS$24,8,FALSE)&\"\",\"\"))","v":""},{"$f":"IF('生徒(データ入力①)'!$F$3=\"\",\"\",IFERROR(HLOOKUP(L$2,'生徒(データ入力①)'!$F$3:$AS$24,8,FALSE)&\"\",\"\"))","v":""},{"$f":"IF('生徒(データ入力①)'!$F$3=\"\",\"\",IFERROR(HLOOKUP(M$2,'生徒(データ入力①)'!$F$3:$AS$24,8,FALSE)&\"\",\"\"))","v":""},{"$f":"IF('生徒(データ入力①)'!$F$3=\"\",\"\",IFERROR(HLOOKUP(N$2,'生徒(データ入力①)'!$F$3:$AS$24,8,FALSE)&\"\",\"\"))","v":""},{"$f":"IF('生徒(データ入力①)'!$F$3=\"\",\"\",IFERROR(HLOOKUP(O$2,'生徒(データ入力①)'!$F$3:$AS$24,8,FALSE)&\"\",\"\"))","v":""},{"$f":"IF('生徒(データ入力①)'!$F$3=\"\",\"\",IFERROR(HLOOKUP(P$2,'生徒(データ入力①)'!$F$3:$AS$24,8,FALSE)&\"\",\"\"))","v":""},{"$f":"IF('生徒(データ入力①)'!$F$3=\"\",\"\",IFERROR(HLOOKUP(Q$2,'生徒(データ入力①)'!$F$3:$AS$24,8,FALSE)&\"\",\"\"))","v":""},{"$f":"IF('生徒(データ入力①)'!$F$3=\"\",\"\",IFERROR(HLOOKUP(R$2,'生徒(データ入力①)'!$F$3:$AS$24,8,FALSE)&\"\",\"\"))","v":""},{"$f":"IF('生徒(データ入力①)'!$F$3=\"\",\"\",IFERROR(HLOOKUP(S$2,'生徒(データ入力①)'!$F$3:$AS$24,8,FALSE)&\"\",\"\"))","v":""},{"$f":"IF('生徒(データ入力①)'!$F$3=\"\",\"\",IFERROR(HLOOKUP(T$2,'生徒(データ入力①)'!$F$3:$AS$24,8,FALSE)&\"\",\"\"))","v":""},{"$f":"IF('生徒(データ入力①)'!$F$3=\"\",\"\",IFERROR(HLOOKUP(U$2,'生徒(データ入力①)'!$F$3:$AS$24,8,FALSE)&\"\",\"\"))","v":""},{"$f":"IF('生徒(データ入力①)'!$F$3=\"\",\"\",IFERROR(HLOOKUP(V$2,'生徒(データ入力①)'!$F$3:$AS$24,8,FALSE)&\"\",\"\"))","v":""},{"$f":"IF('生徒(データ入力①)'!$F$3=\"\",\"\",IFERROR(HLOOKUP(W$2,'生徒(データ入力①)'!$F$3:$AS$24,8,FALSE)&\"\",\"\"))","v":""},{"$f":"IF('生徒(データ入力①)'!$F$3=\"\",\"\",IFERROR(HLOOKUP(X$2,'生徒(データ入力①)'!$F$3:$AS$24,8,FALSE)&\"\",\"\"))","v":""},{"$f":"IF('生徒(データ入力①)'!$F$3=\"\",\"\",IFERROR(HLOOKUP(Y$2,'生徒(データ入力①)'!$F$3:$AS$24,8,FALSE)&\"\",\"\"))","v":""},{"$f":"IF('生徒(データ入力①)'!$F$3=\"\",\"\",IFERROR(HLOOKUP(Z$2,'生徒(データ入力①)'!$F$3:$AS$24,8,FALSE)&\"\",\"\"))","v":""},{"$f":"IF('生徒(データ入力①)'!$F$3=\"\",\"\",IFERROR(HLOOKUP(AA$2,'生徒(データ入力①)'!$F$3:$AS$24,8,FALSE)&\"\",\"\"))","v":""},{"$f":"IF('生徒(データ入力①)'!$F$3=\"\",\"\",IFERROR(HLOOKUP(AB$2,'生徒(データ入力①)'!$F$3:$AS$24,8,FALSE)&\"\",\"\"))","v":""},{"$f":"IF('生徒(データ入力①)'!$F$3=\"\",\"\",IFERROR(HLOOKUP(AC$2,'生徒(データ入力①)'!$F$3:$AS$24,8,FALSE)&\"\",\"\"))","v":""},{"$f":"IF('生徒(データ入力①)'!$F$3=\"\",\"\",IFERROR(HLOOKUP(AD$2,'生徒(データ入力①)'!$F$3:$AS$24,8,FALSE)&\"\",\"\"))","v":""},{"$f":"IF('生徒(データ入力①)'!$F$3=\"\",\"\",IFERROR(HLOOKUP(AE$2,'生徒(データ入力①)'!$F$3:$AS$24,8,FALSE)&\"\",\"\"))","v":""},{"$f":"IF('生徒(データ入力①)'!$F$3=\"\",\"\",IFERROR(HLOOKUP(AF$2,'生徒(データ入力①)'!$F$3:$AS$24,8,FALSE)&\"\",\"\"))","v":""},{"$f":"IF('生徒(データ入力①)'!$F$3=\"\",\"\",IFERROR(HLOOKUP(AG$2,'生徒(データ入力①)'!$F$3:$AS$24,8,FALSE)&\"\",\"\"))","v":""},{"$f":"IF('生徒(データ入力①)'!$F$3=\"\",\"\",IFERROR(HLOOKUP(AH$2,'生徒(データ入力①)'!$F$3:$AS$24,8,FALSE)&\"\",\"\"))","v":""},{"$f":"IF('生徒(データ入力①)'!$F$3=\"\",\"\",IFERROR(HLOOKUP(AI$2,'生徒(データ入力①)'!$F$3:$AS$24,8,FALSE)&\"\",\"\"))","v":""},{"$f":"IF('生徒(データ入力①)'!$F$3=\"\",\"\",IFERROR(HLOOKUP(AJ$2,'生徒(データ入力①)'!$F$3:$AS$24,8,FALSE)&\"\",\"\"))","v":""},{"$f":"IF('生徒(データ入力①)'!$F$3=\"\",\"\",IFERROR(HLOOKUP(AK$2,'生徒(データ入力①)'!$F$3:$AS$24,8,FALSE)&\"\",\"\"))","v":""},{"$f":"IF('生徒(データ入力①)'!$F$3=\"\",\"\",IFERROR(HLOOKUP(AL$2,'生徒(データ入力①)'!$F$3:$AS$24,8,FALSE)&\"\",\"\"))","v":""},{"$f":"IF('生徒(データ入力①)'!$F$3=\"\",\"\",IFERROR(HLOOKUP(AM$2,'生徒(データ入力①)'!$F$3:$AS$24,8,FALSE)&\"\",\"\"))","v":""},{"$f":"IF('生徒(データ入力①)'!$F$3=\"\",\"\",IFERROR(HLOOKUP(AN$2,'生徒(データ入力①)'!$F$3:$AS$24,8,FALSE)&\"\",\"\"))","v":""},{"$f":"IF('生徒(データ入力①)'!$F$3=\"\",\"\",IFERROR(HLOOKUP(AO$2,'生徒(データ入力①)'!$F$3:$AS$24,8,FALSE)&\"\",\"\"))","v":""},{"$f":"IF('生徒(データ入力①)'!$F$3=\"\",\"\",IFERROR(HLOOKUP(AP$2,'生徒(データ入力①)'!$F$3:$AS$24,8,FALSE)&\"\",\"\"))","v":""},{"$f":"IF('生徒(データ入力①)'!$F$3=\"\",\"\",IFERROR(HLOOKUP(AQ$2,'生徒(データ入力①)'!$F$3:$AS$24,8,FALSE)&\"\",\"\"))","v":""},{"$f":"IF('生徒(データ入力①)'!$F$3=\"\",\"\",IFERROR(HLOOKUP(AR$2,'生徒(データ入力①)'!$F$3:$AS$24,8,FALSE)&\"\",\"\"))","v":""},{"$f":"IF('生徒(データ入力①)'!$F$3=\"\",\"\",IFERROR(HLOOKUP(AS$2,'生徒(データ入力①)'!$F$3:$AS$24,8,FALSE)&\"\",\"\"))","v":""},{"$f":"IF('生徒(データ入力①)'!$F$3=\"\",\"\",IFERROR(HLOOKUP(AT$2,'生徒(データ入力①)'!$F$3:$AS$24,8,FALSE)&\"\",\"\"))","v":""},{"$f":"IF('生徒(データ入力①)'!$F$3=\"\",\"\",IFERROR(HLOOKUP(AU$2,'生徒(データ入力①)'!$F$3:$AS$24,8,FALSE)&\"\",\"\"))","v":""},{"$f":"IF('生徒(データ入力①)'!$F$3=\"\",\"\",IFERROR(HLOOKUP(AV$2,'生徒(データ入力①)'!$F$3:$AS$24,8,FALSE)&\"\",\"\"))","v":""},{"$f":"IF('生徒(データ入力①)'!$F$3=\"\",\"\",IFERROR(HLOOKUP(AW$2,'生徒(データ入力①)'!$F$3:$BC$24,8,FALSE)&\"\",\"\"))","v":""},{"$f":"IF('生徒(データ入力①)'!$F$3=\"\",\"\",IFERROR(HLOOKUP(AX$2,'生徒(データ入力①)'!$F$3:$BC$24,8,FALSE)&\"\",\"\"))","v":""},{"$f":"IF('生徒(データ入力①)'!$F$3=\"\",\"\",IFERROR(HLOOKUP(AY$2,'生徒(データ入力①)'!$F$3:$BC$24,8,FALSE)&\"\",\"\"))","v":""},{"$f":"IF('生徒(データ入力①)'!$F$3=\"\",\"\",IFERROR(HLOOKUP(AZ$2,'生徒(データ入力①)'!$F$3:$BC$24,8,FALSE)&\"\",\"\"))","v":""},{"$f":"IF('生徒(データ入力①)'!$F$3=\"\",\"\",IFERROR(HLOOKUP(BA$2,'生徒(データ入力①)'!$F$3:$BC$24,8,FALSE)&\"\",\"\"))","v":""},{"$f":"IF('生徒(データ入力①)'!$F$3=\"\",\"\",IFERROR(HLOOKUP(BB$2,'生徒(データ入力①)'!$F$3:$BC$24,8,FALSE)&\"\",\"\"))","v":""},{"$f":"IF('生徒(データ入力①)'!$F$3=\"\",\"\",IFERROR(HLOOKUP(BC$2,'生徒(データ入力①)'!$F$3:$BC$24,8,FALSE)&\"\",\"\"))","v":""},{"$f":"IF('生徒(データ入力①)'!$F$3=\"\",\"\",IFERROR(HLOOKUP(BD$2,'生徒(データ入力①)'!$F$3:$BC$24,8,FALSE)&\"\",\"\"))","v":""},{"$f":"IF('生徒(データ入力①)'!$F$3=\"\",\"\",IFERROR(HLOOKUP(BE$2,'生徒(データ入力①)'!$F$3:$BC$24,8,FALSE)&\"\",\"\"))","v":""},{"$f":"IF('生徒(データ入力①)'!$F$3=\"\",\"\",IFERROR(HLOOKUP(BF$2,'生徒(データ入力①)'!$F$3:$BC$24,8,FALSE)&\"\",\"\"))","v":""},0,{"$error":"#DIV/0!"},null,0,{"$error":"#DIV/0!"},null,0,{"$error":"#DIV/0!"},null,0,{"$error":"#DIV/0!"},null,null,0,{"$error":"#DIV/0!"},0,{"$error":"#DIV/0!"},"自己決定の場の提供平均",{"$f":"BG14+BG15+BG16+BG17+BG18","v":0},{"$f":"BJ14+BJ15+BJ16+BJ17+BJ18","v":0},{"$f":"BM14+BM15+BM16+BM17+BM18","v":0},{"$f":"BP14+BP15+BP16+BP17+BP18","v":0},0,{"$f":"ROUND((BY8/$CC$8)*100,1)","v":{"$error":"#DIV/0!"}},{"$f":"ROUND((BZ8/$CC$8)*100,1)","v":{"$error":"#DIV/0!"}},{"$error":"#DIV/0!"},{"$error":"#DIV/0!"},null,{"$f":"BY8+BZ8","v":0},{"$f":"CA8+CB8","v":0},{"$f":"ROUND(CD8+CE8,1)","v":{"$error":"#DIV/0!"}},{"$f":"ROUND(CF8+CG8,1)","v":{"$error":"#DIV/0!"}}]
[null,"教師や仲間から理解され受け入れられているという安心感",{"$f":"'生徒(個人)'!B11","v":"私の学級では，先生や友達は私の話を最後まで聞いてくれる。"},{"$error":"#DIV/0!"},{"$error":"#DIV/0!"},{"$error":"#DIV/0!"},{"$error":"#DIV/0!"},null,{"$f":"IF('生徒(データ入力①)'!$F$3=\"\",\"\",IFERROR(HLOOKUP(I$2,'生徒(データ入力①)'!$F$3:$AS$24,10,FALSE)&\"\",\"\"))","v":""},{"$f":"IF('生徒(データ入力①)'!$F$3=\"\",\"\",IFERROR(HLOOKUP(J$2,'生徒(データ入力①)'!$F$3:$AS$24,10,FALSE)&\"\",\"\"))","v":""},{"$f":"IF('生徒(データ入力①)'!$F$3=\"\",\"\",IFERROR(HLOOKUP(K$2,'生徒(データ入力①)'!$F$3:$AS$24,10,FALSE)&\"\",\"\"))","v":""},{"$f":"IF('生徒(データ入力①)'!$F$3=\"\",\"\",IFERROR(HLOOKUP(L$2,'生徒(データ入力①)'!$F$3:$AS$24,10,FALSE)&\"\",\"\"))","v":""},{"$f":"IF('生徒(データ入力①)'!$F$3=\"\",\"\",IFERROR(HLOOKUP(M$2,'生徒(データ入力①)'!$F$3:$AS$24,10,FALSE)&\"\",\"\"))","v":""},{"$f":"IF('生徒(データ入力①)'!$F$3=\"\",\"\",IFERROR(HLOOKUP(N$2,'生徒(データ入力①)'!$F$3:$AS$24,10,FALSE)&\"\",\"\"))","v":""},{"$f":"IF('生徒(データ入力①)'!$F$3=\"\",\"\",IFERROR(HLOOKUP(O$2,'生徒(データ入力①)'!$F$3:$AS$24,10,FALSE)&\"\",\"\"))","v":""},{"$f":"IF('生徒(データ入力①)'!$F$3=\"\",\"\",IFERROR(HLOOKUP(P$2,'生徒(データ入力①)'!$F$3:$AS$24,10,FALSE)&\"\",\"\"))","v":""},{"$f":"IF('生徒(データ入力①)'!$F$3=\"\",\"\",IFERROR(HLOOKUP(Q$2,'生徒(データ入力①)'!$F$3:$AS$24,10,FALSE)&\"\",\"\"))","v":""},{"$f":"IF('生徒(データ入力①)'!$F$3=\"\",\"\",IFERROR(HLOOKUP(R$2,'生徒(データ入力①)'!$F$3:$AS$24,10,FALSE)&\"\",\"\"))","v":""},{"$f":"IF('生徒(データ入力①)'!$F$3=\"\",\"\",IFERROR(HLOOKUP(S$2,'生徒(データ入力①)'!$F$3:$AS$24,10,FALSE)&\"\",\"\"))","v":""},{"$f":"IF('生徒(データ入力①)'!$F$3=\"\",\"\",IFERROR(HLOOKUP(T$2,'生徒(データ入力①)'!$F$3:$AS$24,10,FALSE)&\"\",\"\"))","v":""},{"$f":"IF('生徒(データ入力①)'!$F$3=\"\",\"\",IFERROR(HLOOKUP(U$2,'生徒(データ入力①)'!$F$3:$AS$24,10,FALSE)&\"\",\"\"))","v":""},{"$f":"IF('生徒(データ入力①)'!$F$3=\"\",\"\",IFERROR(HLOOKUP(V$2,'生徒(データ入力①)'!$F$3:$AS$24,10,FALSE)&\"\",\"\"))","v":""},{"$f":"IF('生徒(データ入力①)'!$F$3=\"\",\"\",IFERROR(HLOOKUP(W$2,'生徒(データ入力①)'!$F$3:$AS$24,10,FALSE)&\"\",\"\"))","v":""},{"$f":"IF('生徒(データ入力①)'!$F$3=\"\",\"\",IFERROR(HLOOKUP(X$2,'生徒(データ入力①)'!$F$3:$AS$24,10,FALSE)&\"\",\"\"))","v":""},{"$f":"IF('生徒(データ入力①)'!$F$3=\"\",\"\",IFERROR(HLOOKUP(Y$2,'生徒(データ入力①)'!$F$3:$AS$24,10,FALSE)&\"\",\"\"))","v":""},{"$f":"IF('生徒(データ入力①)'!$F$3=\"\",\"\",IFERROR(HLOOKUP(Z$2,'生徒(データ入力①)'!$F$3:$AS$24,10,FALSE)&\"\",\"\"))","v":""},{"$f":"IF('生徒(データ入力①)'!$F$3=\"\",\"\",IFERROR(HLOOKUP(AA$2,'生徒(データ入力①)'!$F$3:$AS$24,10,FALSE)&\"\",\"\"))","v":""},{"$f":"IF('生徒(データ入力①)'!$F$3=\"\",\"\",IFERROR(HLOOKUP(AB$2,'生徒(データ入力①)'!$F$3:$AS$24,10,FALSE)&\"\",\"\"))","v":""},{"$f":"IF('生徒(データ入力①)'!$F$3=\"\",\"\",IFERROR(HLOOKUP(AC$2,'生徒(データ入力①)'!$F$3:$AS$24,10,FALSE)&\"\",\"\"))","v":""},{"$f":"IF('生徒(データ入力①)'!$F$3=\"\",\"\",IFERROR(HLOOKUP(AD$2,'生徒(データ入力①)'!$F$3:$AS$24,10,FALSE)&\"\",\"\"))","v":""},{"$f":"IF('生徒(データ入力①)'!$F$3=\"\",\"\",IFERROR(HLOOKUP(AE$2,'生徒(データ入力①)'!$F$3:$AS$24,10,FALSE)&\"\",\"\"))","v":""},{"$f":"IF('生徒(データ入力①)'!$F$3=\"\",\"\",IFERROR(HLOOKUP(AF$2,'生徒(データ入力①)'!$F$3:$AS$24,10,FALSE)&\"\",\"\"))","v":""},{"$f":"IF('生徒(データ入力①)'!$F$3=\"\",\"\",IFERROR(HLOOKUP(AG$2,'生徒(データ入力①)'!$F$3:$AS$24,10,FALSE)&\"\",\"\"))","v":""},{"$f":"IF('生徒(データ入力①)'!$F$3=\"\",\"\",IFERROR(HLOOKUP(AH$2,'生徒(データ入力①)'!$F$3:$AS$24,10,FALSE)&\"\",\"\"))","v":""},{"$f":"IF('生徒(データ入力①)'!$F$3=\"\",\"\",IFERROR(HLOOKUP(AI$2,'生徒(データ入力①)'!$F$3:$AS$24,10,FALSE)&\"\",\"\"))","v":""},{"$f":"IF('生徒(データ入力①)'!$F$3=\"\",\"\",IFERROR(HLOOKUP(AJ$2,'生徒(データ入力①)'!$F$3:$AS$24,10,FALSE)&\"\",\"\"))","v":""},{"$f":"IF('生徒(データ入力①)'!$F$3=\"\",\"\",IFERROR(HLOOKUP(AK$2,'生徒(データ入力①)'!$F$3:$AS$24,10,FALSE)&\"\",\"\"))","v":""},{"$f":"IF('生徒(データ入力①)'!$F$3=\"\",\"\",IFERROR(HLOOKUP(AL$2,'生徒(データ入力①)'!$F$3:$AS$24,10,FALSE)&\"\",\"\"))","v":""},{"$f":"IF('生徒(データ入力①)'!$F$3=\"\",\"\",IFERROR(HLOOKUP(AM$2,'生徒(データ入力①)'!$F$3:$AS$24,10,FALSE)&\"\",\"\"))","v":""},{"$f":"IF('生徒(データ入力①)'!$F$3=\"\",\"\",IFERROR(HLOOKUP(AN$2,'生徒(データ入力①)'!$F$3:$AS$24,10,FALSE)&\"\",\"\"))","v":""},{"$f":"IF('生徒(データ入力①)'!$F$3=\"\",\"\",IFERROR(HLOOKUP(AO$2,'生徒(データ入力①)'!$F$3:$AS$24,10,FALSE)&\"\",\"\"))","v":""},{"$f":"IF('生徒(データ入力①)'!$F$3=\"\",\"\",IFERROR(HLOOKUP(AP$2,'生徒(データ入力①)'!$F$3:$AS$24,10,FALSE)&\"\",\"\"))","v":""},{"$f":"IF('生徒(データ入力①)'!$F$3=\"\",\"\",IFERROR(HLOOKUP(AQ$2,'生徒(データ入力①)'!$F$3:$AS$24,10,FALSE)&\"\",\"\"))","v":""},{"$f":"IF('生徒(データ入力①)'!$F$3=\"\",\"\",IFERROR(HLOOKUP(AR$2,'生徒(データ入力①)'!$F$3:$AS$24,10,FALSE)&\"\",\"\"))","v":""},{"$f":"IF('生徒(データ入力①)'!$F$3=\"\",\"\",IFERROR(HLOOKUP(AS$2,'生徒(データ入力①)'!$F$3:$AS$24,10,FALSE)&\"\",\"\"))","v":""},{"$f":"IF('生徒(データ入力①)'!$F$3=\"\",\"\",IFERROR(HLOOKUP(AT$2,'生徒(データ入力①)'!$F$3:$AS$24,10,FALSE)&\"\",\"\"))","v":""},{"$f":"IF('生徒(データ入力①)'!$F$3=\"\",\"\",IFERROR(HLOOKUP(AU$2,'生徒(データ入力①)'!$F$3:$AS$24,10,FALSE)&\"\",\"\"))","v":""},{"$f":"IF('生徒(データ入力①)'!$F$3=\"\",\"\",IFERROR(HLOOKUP(AV$2,'生徒(データ入力①)'!$F$3:$AS$24,10,FALSE)&\"\",\"\"))","v":""},{"$f":"IF('生徒(データ入力①)'!$F$3=\"\",\"\",IFERROR(HLOOKUP(AW$2,'生徒(データ入力①)'!$F$3:$BC$24,10,FALSE)&\"\",\"\"))","v":""},{"$f":"IF('生徒(データ入力①)'!$F$3=\"\",\"\",IFERROR(HLOOKUP(AX$2,'生徒(データ入力①)'!$F$3:$BC$24,10,FALSE)&\"\",\"\"))","v":""},{"$f":"IF('生徒(データ入力①)'!$F$3=\"\",\"\",IFERROR(HLOOKUP(AY$2,'生徒(データ入力①)'!$F$3:$BC$24,10,FALSE)&\"\",\"\"))","v":""},{"$f":"IF('生徒(データ入力①)'!$F$3=\"\",\"\",IFERROR(HLOOKUP(AZ$2,'生徒(データ入力①)'!$F$3:$BC$24,10,FALSE)&\"\",\"\"))","v":""},{"$f":"IF('生徒(データ入力①)'!$F$3=\"\",\"\",IFERROR(HLOOKUP(BA$2,'生徒(データ入力①)'!$F$3:$BC$24,10,FALSE)&\"\",\"\"))","v":""},{"$f":"IF('生徒(データ入力①)'!$F$3=\"\",\"\",IFERROR(HLOOKUP(BB$2,'生徒(データ入力①)'!$F$3:$BC$24,10,FALSE)&\"\",\"\"))","v":""},{"$f":"IF('生徒(データ入力①)'!$F$3=\"\",\"\",IFERROR(HLOOKUP(BC$2,'生徒(データ入力①)'!$F$3:$BC$24,10,FALSE)&\"\",\"\"))","v":""},{"$f":"IF('生徒(データ入力①)'!$F$3=\"\",\"\",IFERROR(HLOOKUP(BD$2,'生徒(データ入力①)'!$F$3:$BC$24,10,FALSE)&\"\",\"\"))","v":""},{"$f":"IF('生徒(データ入力①)'!$F$3=\"\",\"\",IFERROR(HLOOKUP(BE$2,'生徒(データ入力①)'!$F$3:$BC$24,10,FALSE)&\"\",\"\"))","v":""},{"$f":"IF('生徒(データ入力①)'!$F$3=\"\",\"\",IFERROR(HLOOKUP(BF$2,'生徒(データ入力①)'!$F$3:$BC$24,10,FALSE)&\"\",\"\"))","v":""},0,{"$error":"#DIV/0!"},null,0,{"$error":"#DIV/0!"},null,0,{"$error":"#DIV/0!"},null,0,{"$error":"#DIV/0!"},null,null,0,{"$error":"#DIV/0!"},0,{"$error":"#DIV/0!"},"安全・安心な風土の醸成平均",{"$f":"BG19+BG20+BG21+BG22+BG23","v":0},{"$f":"BJ19+BJ20+BJ21+BJ22+BJ23","v":0},{"$f":"BM19+BM20+BM21+BM22+BM23","v":0},{"$f":"BP19+BP20+BP21+BP22+BP23","v":0},0,{"$f":"ROUND((BY9/$CC$9)*100,1)","v":{"$error":"#DIV/0!"}},{"$f":"ROUND((BZ9/$CC$9)*100,1)","v":{"$error":"#DIV/0!"}},{"$error":"#DIV/0!"},{"$error":"#DIV/0!"},null,{"$f":"BY9+BZ9","v":0},{"$f":"CA9+CB9","v":0},{"$f":"ROUND(CD9+CE9,1)","v":{"$error":"#DIV/0!"}},{"$f":"ROUND(CF9+CG9,1)","v":{"$error":"#DIV/0!"}}]
[null,null,{"$f":"'生徒(個人)'!B12","v":"私の学級には，悩みや困りごとを相談できる先生や友達がいる。"},{"$error":"#DIV/0!"},{"$error":"#DIV/0!"},{"$error":"#DIV/0!"},{"$error":"#DIV/0!"},null,{"$f":"IF('生徒(データ入力①)'!$F$3=\"\",\"\",IFERROR(HLOOKUP(I$2,'生徒(データ入力①)'!$F$3:$AS$24,16,FALSE)&\"\",\"\"))","v":""},{"$f":"IF('生徒(データ入力①)'!$F$3=\"\",\"\",IFERROR(HLOOKUP(J$2,'生徒(データ入力①)'!$F$3:$AS$24,16,FALSE)&\"\",\"\"))","v":""},{"$f":"IF('生徒(データ入力①)'!$F$3=\"\",\"\",IFERROR(HLOOKUP(K$2,'生徒(データ入力①)'!$F$3:$AS$24,16,FALSE)&\"\",\"\"))","v":""},{"$f":"IF('生徒(データ入力①)'!$F$3=\"\",\"\",IFERROR(HLOOKUP(L$2,'生徒(データ入力①)'!$F$3:$AS$24,16,FALSE)&\"\",\"\"))","v":""},{"$f":"IF('生徒(データ入力①)'!$F$3=\"\",\"\",IFERROR(HLOOKUP(M$2,'生徒(データ入力①)'!$F$3:$AS$24,16,FALSE)&\"\",\"\"))","v":""},{"$f":"IF('生徒(データ入力①)'!$F$3=\"\",\"\",IFERROR(HLOOKUP(N$2,'生徒(データ入力①)'!$F$3:$AS$24,16,FALSE)&\"\",\"\"))","v":""},{"$f":"IF('生徒(データ入力①)'!$F$3=\"\",\"\",IFERROR(HLOOKUP(O$2,'生徒(データ入力①)'!$F$3:$AS$24,16,FALSE)&\"\",\"\"))","v":""},{"$f":"IF('生徒(データ入力①)'!$F$3=\"\",\"\",IFERROR(HLOOKUP(P$2,'生徒(データ入力①)'!$F$3:$AS$24,16,FALSE)&\"\",\"\"))","v":""},{"$f":"IF('生徒(データ入力①)'!$F$3=\"\",\"\",IFERROR(HLOOKUP(Q$2,'生徒(データ入力①)'!$F$3:$AS$24,16,FALSE)&\"\",\"\"))","v":""},{"$f":"IF('生徒(データ入力①)'!$F$3=\"\",\"\",IFERROR(HLOOKUP(R$2,'生徒(データ入力①)'!$F$3:$AS$24,16,FALSE)&\"\",\"\"))","v":""},{"$f":"IF('生徒(データ入力①)'!$F$3=\"\",\"\",IFERROR(HLOOKUP(S$2,'生徒(データ入力①)'!$F$3:$AS$24,16,FALSE)&\"\",\"\"))","v":""},{"$f":"IF('生徒(データ入力①)'!$F$3=\"\",\"\",IFERROR(HLOOKUP(T$2,'生徒(データ入力①)'!$F$3:$AS$24,16,FALSE)&\"\",\"\"))","v":""},{"$f":"IF('生徒(データ入力①)'!$F$3=\"\",\"\",IFERROR(HLOOKUP(U$2,'生徒(データ入力①)'!$F$3:$AS$24,16,FALSE)&\"\",\"\"))","v":""},{"$f":"IF('生徒(データ入力①)'!$F$3=\"\",\"\",IFERROR(HLOOKUP(V$2,'生徒(データ入力①)'!$F$3:$AS$24,16,FALSE)&\"\",\"\"))","v":""},{"$f":"IF('生徒(データ入力①)'!$F$3=\"\",\"\",IFERROR(HLOOKUP(W$2,'生徒(データ入力①)'!$F$3:$AS$24,16,FALSE)&\"\",\"\"))","v":""},{"$f":"IF('生徒(データ入力①)'!$F$3=\"\",\"\",IFERROR(HLOOKUP(X$2,'生徒(データ入力①)'!$F$3:$AS$24,16,FALSE)&\"\",\"\"))","v":""},{"$f":"IF('生徒(データ入力①)'!$F$3=\"\",\"\",IFERROR(HLOOKUP(Y$2,'生徒(データ入力①)'!$F$3:$AS$24,16,FALSE)&\"\",\"\"))","v":""},{"$f":"IF('生徒(データ入力①)'!$F$3=\"\",\"\",IFERROR(HLOOKUP(Z$2,'生徒(データ入力①)'!$F$3:$AS$24,16,FALSE)&\"\",\"\"))","v":""},{"$f":"IF('生徒(データ入力①)'!$F$3=\"\",\"\",IFERROR(HLOOKUP(AA$2,'生徒(データ入力①)'!$F$3:$AS$24,16,FALSE)&\"\",\"\"))","v":""},{"$f":"IF('生徒(データ入力①)'!$F$3=\"\",\"\",IFERROR(HLOOKUP(AB$2,'生徒(データ入力①)'!$F$3:$AS$24,16,FALSE)&\"\",\"\"))","v":""},{"$f":"IF('生徒(データ入力①)'!$F$3=\"\",\"\",IFERROR(HLOOKUP(AC$2,'生徒(データ入力①)'!$F$3:$AS$24,16,FALSE)&\"\",\"\"))","v":""},{"$f":"IF('生徒(データ入力①)'!$F$3=\"\",\"\",IFERROR(HLOOKUP(AD$2,'生徒(データ入力①)'!$F$3:$AS$24,16,FALSE)&\"\",\"\"))","v":""},{"$f":"IF('生徒(データ入力①)'!$F$3=\"\",\"\",IFERROR(HLOOKUP(AE$2,'生徒(データ入力①)'!$F$3:$AS$24,16,FALSE)&\"\",\"\"))","v":""},{"$f":"IF('生徒(データ入力①)'!$F$3=\"\",\"\",IFERROR(HLOOKUP(AF$2,'生徒(データ入力①)'!$F$3:$AS$24,16,FALSE)&\"\",\"\"))","v":""},{"$f":"IF('生徒(データ入力①)'!$F$3=\"\",\"\",IFERROR(HLOOKUP(AG$2,'生徒(データ入力①)'!$F$3:$AS$24,16,FALSE)&\"\",\"\"))","v":""},{"$f":"IF('生徒(データ入力①)'!$F$3=\"\",\"\",IFERROR(HLOOKUP(AH$2,'生徒(データ入力①)'!$F$3:$AS$24,16,FALSE)&\"\",\"\"))","v":""},{"$f":"IF('生徒(データ入力①)'!$F$3=\"\",\"\",IFERROR(HLOOKUP(AI$2,'生徒(データ入力①)'!$F$3:$AS$24,16,FALSE)&\"\",\"\"))","v":""},{"$f":"IF('生徒(データ入力①)'!$F$3=\"\",\"\",IFERROR(HLOOKUP(AJ$2,'生徒(データ入力①)'!$F$3:$AS$24,16,FALSE)&\"\",\"\"))","v":""},{"$f":"IF('生徒(データ入力①)'!$F$3=\"\",\"\",IFERROR(HLOOKUP(AK$2,'生徒(データ入力①)'!$F$3:$AS$24,16,FALSE)&\"\",\"\"))","v":""},{"$f":"IF('生徒(データ入力①)'!$F$3=\"\",\"\",IFERROR(HLOOKUP(AL$2,'生徒(データ入力①)'!$F$3:$AS$24,16,FALSE)&\"\",\"\"))","v":""},{"$f":"IF('生徒(データ入力①)'!$F$3=\"\",\"\",IFERROR(HLOOKUP(AM$2,'生徒(データ入力①)'!$F$3:$AS$24,16,FALSE)&\"\",\"\"))","v":""},{"$f":"IF('生徒(データ入力①)'!$F$3=\"\",\"\",IFERROR(HLOOKUP(AN$2,'生徒(データ入力①)'!$F$3:$AS$24,16,FALSE)&\"\",\"\"))","v":""},{"$f":"IF('生徒(データ入力①)'!$F$3=\"\",\"\",IFERROR(HLOOKUP(AO$2,'生徒(データ入力①)'!$F$3:$AS$24,16,FALSE)&\"\",\"\"))","v":""},{"$f":"IF('生徒(データ入力①)'!$F$3=\"\",\"\",IFERROR(HLOOKUP(AP$2,'生徒(データ入力①)'!$F$3:$AS$24,16,FALSE)&\"\",\"\"))","v":""},{"$f":"IF('生徒(データ入力①)'!$F$3=\"\",\"\",IFERROR(HLOOKUP(AQ$2,'生徒(データ入力①)'!$F$3:$AS$24,16,FALSE)&\"\",\"\"))","v":""},{"$f":"IF('生徒(データ入力①)'!$F$3=\"\",\"\",IFERROR(HLOOKUP(AR$2,'生徒(データ入力①)'!$F$3:$AS$24,16,FALSE)&\"\",\"\"))","v":""},{"$f":"IF('生徒(データ入力①)'!$F$3=\"\",\"\",IFERROR(HLOOKUP(AS$2,'生徒(データ入力①)'!$F$3:$AS$24,16,FALSE)&\"\",\"\"))","v":""},{"$f":"IF('生徒(データ入力①)'!$F$3=\"\",\"\",IFERROR(HLOOKUP(AT$2,'生徒(データ入力①)'!$F$3:$AS$24,16,FALSE)&\"\",\"\"))","v":""},{"$f":"IF('生徒(データ入力①)'!$F$3=\"\",\"\",IFERROR(HLOOKUP(AU$2,'生徒(データ入力①)'!$F$3:$AS$24,16,FALSE)&\"\",\"\"))","v":""},{"$f":"IF('生徒(データ入力①)'!$F$3=\"\",\"\",IFERROR(HLOOKUP(AV$2,'生徒(データ入力①)'!$F$3:$AS$24,16,FALSE)&\"\",\"\"))","v":""},{"$f":"IF('生徒(データ入力①)'!$F$3=\"\",\"\",IFERROR(HLOOKUP(AW$2,'生徒(データ入力①)'!$F$3:$BC$24,16,FALSE)&\"\",\"\"))","v":""},{"$f":"IF('生徒(データ入力①)'!$F$3=\"\",\"\",IFERROR(HLOOKUP(AX$2,'生徒(データ入力①)'!$F$3:$BC$24,16,FALSE)&\"\",\"\"))","v":""},{"$f":"IF('生徒(データ入力①)'!$F$3=\"\",\"\",IFERROR(HLOOKUP(AY$2,'生徒(データ入力①)'!$F$3:$BC$24,16,FALSE)&\"\",\"\"))","v":""},{"$f":"IF('生徒(データ入力①)'!$F$3=\"\",\"\",IFERROR(HLOOKUP(AZ$2,'生徒(データ入力①)'!$F$3:$BC$24,16,FALSE)&\"\",\"\"))","v":""},{"$f":"IF('生徒(データ入力①)'!$F$3=\"\",\"\",IFERROR(HLOOKUP(BA$2,'生徒(データ入力①)'!$F$3:$BC$24,16,FALSE)&\"\",\"\"))","v":""},{"$f":"IF('生徒(データ入力①)'!$F$3=\"\",\"\",IFERROR(HLOOKUP(BB$2,'生徒(データ入力①)'!$F$3:$BC$24,16,FALSE)&\"\",\"\"))","v":""},{"$f":"IF('生徒(データ入力①)'!$F$3=\"\",\"\",IFERROR(HLOOKUP(BC$2,'生徒(データ入力①)'!$F$3:$BC$24,16,FALSE)&\"\",\"\"))","v":""},{"$f":"IF('生徒(データ入力①)'!$F$3=\"\",\"\",IFERROR(HLOOKUP(BD$2,'生徒(データ入力①)'!$F$3:$BC$24,16,FALSE)&\"\",\"\"))","v":""},{"$f":"IF('生徒(データ入力①)'!$F$3=\"\",\"\",IFERROR(HLOOKUP(BE$2,'生徒(データ入力①)'!$F$3:$BC$24,16,FALSE)&\"\",\"\"))","v":""},{"$f":"IF('生徒(データ入力①)'!$F$3=\"\",\"\",IFERROR(HLOOKUP(BF$2,'生徒(データ入力①)'!$F$3:$BC$24,16,FALSE)&\"\",\"\"))","v":""},0,{"$error":"#DIV/0!"},null,0,{"$error":"#DIV/0!"},null,0,{"$error":"#DIV/0!"},null,0,{"$error":"#DIV/0!"},null,null,0,{"$error":"#DIV/0!"},0,{"$error":"#DIV/0!"},"そう思う",null,null,null,null,null,null,null,null,null,null,"肯定"]
[null,null,{"$f":"'生徒(個人)'!B13","v":"私の学級では，誰かの発言や行動を否定したり批判したりせずに尊重している。"},{"$error":"#DIV/0!"},{"$error":"#DIV/0!"},{"$error":"#DIV/0!"},{"$error":"#DIV/0!"},null,{"$f":"IF('生徒(データ入力①)'!$F$3=\"\",\"\",IFERROR(HLOOKUP(I$2,'生徒(データ入力①)'!$F$3:$AS$24,19,FALSE)&\"\",\"\"))","v":""},{"$f":"IF('生徒(データ入力①)'!$F$3=\"\",\"\",IFERROR(HLOOKUP(J$2,'生徒(データ入力①)'!$F$3:$AS$24,19,FALSE)&\"\",\"\"))","v":""},{"$f":"IF('生徒(データ入力①)'!$F$3=\"\",\"\",IFERROR(HLOOKUP(K$2,'生徒(データ入力①)'!$F$3:$AS$24,19,FALSE)&\"\",\"\"))","v":""},{"$f":"IF('生徒(データ入力①)'!$F$3=\"\",\"\",IFERROR(HLOOKUP(L$2,'生徒(データ入力①)'!$F$3:$AS$24,19,FALSE)&\"\",\"\"))","v":""},{"$f":"IF('生徒(データ入力①)'!$F$3=\"\",\"\",IFERROR(HLOOKUP(M$2,'生徒(データ入力①)'!$F$3:$AS$24,19,FALSE)&\"\",\"\"))","v":""},{"$f":"IF('生徒(データ入力①)'!$F$3=\"\",\"\",IFERROR(HLOOKUP(N$2,'生徒(データ入力①)'!$F$3:$AS$24,19,FALSE)&\"\",\"\"))","v":""},{"$f":"IF('生徒(データ入力①)'!$F$3=\"\",\"\",IFERROR(HLOOKUP(O$2,'生徒(データ入力①)'!$F$3:$AS$24,19,FALSE)&\"\",\"\"))","v":""},{"$f":"IF('生徒(データ入力①)'!$F$3=\"\",\"\",IFERROR(HLOOKUP(P$2,'生徒(データ入力①)'!$F$3:$AS$24,19,FALSE)&\"\",\"\"))","v":""},{"$f":"IF('生徒(データ入力①)'!$F$3=\"\",\"\",IFERROR(HLOOKUP(Q$2,'生徒(データ入力①)'!$F$3:$AS$24,19,FALSE)&\"\",\"\"))","v":""},{"$f":"IF('生徒(データ入力①)'!$F$3=\"\",\"\",IFERROR(HLOOKUP(R$2,'生徒(データ入力①)'!$F$3:$AS$24,19,FALSE)&\"\",\"\"))","v":""},{"$f":"IF('生徒(データ入力①)'!$F$3=\"\",\"\",IFERROR(HLOOKUP(S$2,'生徒(データ入力①)'!$F$3:$AS$24,19,FALSE)&\"\",\"\"))","v":""},{"$f":"IF('生徒(データ入力①)'!$F$3=\"\",\"\",IFERROR(HLOOKUP(T$2,'生徒(データ入力①)'!$F$3:$AS$24,19,FALSE)&\"\",\"\"))","v":""},{"$f":"IF('生徒(データ入力①)'!$F$3=\"\",\"\",IFERROR(HLOOKUP(U$2,'生徒(データ入力①)'!$F$3:$AS$24,19,FALSE)&\"\",\"\"))","v":""},{"$f":"IF('生徒(データ入力①)'!$F$3=\"\",\"\",IFERROR(HLOOKUP(V$2,'生徒(データ入力①)'!$F$3:$AS$24,19,FALSE)&\"\",\"\"))","v":""},{"$f":"IF('生徒(データ入力①)'!$F$3=\"\",\"\",IFERROR(HLOOKUP(W$2,'生徒(データ入力①)'!$F$3:$AS$24,19,FALSE)&\"\",\"\"))","v":""},{"$f":"IF('生徒(データ入力①)'!$F$3=\"\",\"\",IFERROR(HLOOKUP(X$2,'生徒(データ入力①)'!$F$3:$AS$24,19,FALSE)&\"\",\"\"))","v":""},{"$f":"IF('生徒(データ入力①)'!$F$3=\"\",\"\",IFERROR(HLOOKUP(Y$2,'生徒(データ入力①)'!$F$3:$AS$24,19,FALSE)&\"\",\"\"))","v":""},{"$f":"IF('生徒(データ入力①)'!$F$3=\"\",\"\",IFERROR(HLOOKUP(Z$2,'生徒(データ入力①)'!$F$3:$AS$24,19,FALSE)&\"\",\"\"))","v":""},{"$f":"IF('生徒(データ入力①)'!$F$3=\"\",\"\",IFERROR(HLOOKUP(AA$2,'生徒(データ入力①)'!$F$3:$AS$24,19,FALSE)&\"\",\"\"))","v":""},{"$f":"IF('生徒(データ入力①)'!$F$3=\"\",\"\",IFERROR(HLOOKUP(AB$2,'生徒(データ入力①)'!$F$3:$AS$24,19,FALSE)&\"\",\"\"))","v":""},{"$f":"IF('生徒(データ入力①)'!$F$3=\"\",\"\",IFERROR(HLOOKUP(AC$2,'生徒(データ入力①)'!$F$3:$AS$24,19,FALSE)&\"\",\"\"))","v":""},{"$f":"IF('生徒(データ入力①)'!$F$3=\"\",\"\",IFERROR(HLOOKUP(AD$2,'生徒(データ入力①)'!$F$3:$AS$24,19,FALSE)&\"\",\"\"))","v":""},{"$f":"IF('生徒(データ入力①)'!$F$3=\"\",\"\",IFERROR(HLOOKUP(AE$2,'生徒(データ入力①)'!$F$3:$AS$24,19,FALSE)&\"\",\"\"))","v":""},{"$f":"IF('生徒(データ入力①)'!$F$3=\"\",\"\",IFERROR(HLOOKUP(AF$2,'生徒(データ入力①)'!$F$3:$AS$24,19,FALSE)&\"\",\"\"))","v":""},{"$f":"IF('生徒(データ入力①)'!$F$3=\"\",\"\",IFERROR(HLOOKUP(AG$2,'生徒(データ入力①)'!$F$3:$AS$24,19,FALSE)&\"\",\"\"))","v":""},{"$f":"IF('生徒(データ入力①)'!$F$3=\"\",\"\",IFERROR(HLOOKUP(AH$2,'生徒(データ入力①)'!$F$3:$AS$24,19,FALSE)&\"\",\"\"))","v":""},{"$f":"IF('生徒(データ入力①)'!$F$3=\"\",\"\",IFERROR(HLOOKUP(AI$2,'生徒(データ入力①)'!$F$3:$AS$24,19,FALSE)&\"\",\"\"))","v":""},{"$f":"IF('生徒(データ入力①)'!$F$3=\"\",\"\",IFERROR(HLOOKUP(AJ$2,'生徒(データ入力①)'!$F$3:$AS$24,19,FALSE)&\"\",\"\"))","v":""},{"$f":"IF('生徒(データ入力①)'!$F$3=\"\",\"\",IFERROR(HLOOKUP(AK$2,'生徒(データ入力①)'!$F$3:$AS$24,19,FALSE)&\"\",\"\"))","v":""},{"$f":"IF('生徒(データ入力①)'!$F$3=\"\",\"\",IFERROR(HLOOKUP(AL$2,'生徒(データ入力①)'!$F$3:$AS$24,19,FALSE)&\"\",\"\"))","v":""},{"$f":"IF('生徒(データ入力①)'!$F$3=\"\",\"\",IFERROR(HLOOKUP(AM$2,'生徒(データ入力①)'!$F$3:$AS$24,19,FALSE)&\"\",\"\"))","v":""},{"$f":"IF('生徒(データ入力①)'!$F$3=\"\",\"\",IFERROR(HLOOKUP(AN$2,'生徒(データ入力①)'!$F$3:$AS$24,19,FALSE)&\"\",\"\"))","v":""},{"$f":"IF('生徒(データ入力①)'!$F$3=\"\",\"\",IFERROR(HLOOKUP(AO$2,'生徒(データ入力①)'!$F$3:$AS$24,19,FALSE)&\"\",\"\"))","v":""},{"$f":"IF('生徒(データ入力①)'!$F$3=\"\",\"\",IFERROR(HLOOKUP(AP$2,'生徒(データ入力①)'!$F$3:$AS$24,19,FALSE)&\"\",\"\"))","v":""},{"$f":"IF('生徒(データ入力①)'!$F$3=\"\",\"\",IFERROR(HLOOKUP(AQ$2,'生徒(データ入力①)'!$F$3:$AS$24,19,FALSE)&\"\",\"\"))","v":""},{"$f":"IF('生徒(データ入力①)'!$F$3=\"\",\"\",IFERROR(HLOOKUP(AR$2,'生徒(データ入力①)'!$F$3:$AS$24,19,FALSE)&\"\",\"\"))","v":""},{"$f":"IF('生徒(データ入力①)'!$F$3=\"\",\"\",IFERROR(HLOOKUP(AS$2,'生徒(データ入力①)'!$F$3:$AS$24,19,FALSE)&\"\",\"\"))","v":""},{"$f":"IF('生徒(データ入力①)'!$F$3=\"\",\"\",IFERROR(HLOOKUP(AT$2,'生徒(データ入力①)'!$F$3:$AS$24,19,FALSE)&\"\",\"\"))","v":""},{"$f":"IF('生徒(データ入力①)'!$F$3=\"\",\"\",IFERROR(HLOOKUP(AU$2,'生徒(データ入力①)'!$F$3:$AS$24,19,FALSE)&\"\",\"\"))","v":""},{"$f":"IF('生徒(データ入力①)'!$F$3=\"\",\"\",IFERROR(HLOOKUP(AV$2,'生徒(データ入力①)'!$F$3:$AS$24,19,FALSE)&\"\",\"\"))","v":""},{"$f":"IF('生徒(データ入力①)'!$F$3=\"\",\"\",IFERROR(HLOOKUP(AW$2,'生徒(データ入力①)'!$F$3:$BC$24,19,FALSE)&\"\",\"\"))","v":""},{"$f":"IF('生徒(データ入力①)'!$F$3=\"\",\"\",IFERROR(HLOOKUP(AX$2,'生徒(データ入力①)'!$F$3:$BC$24,19,FALSE)&\"\",\"\"))","v":""},{"$f":"IF('生徒(データ入力①)'!$F$3=\"\",\"\",IFERROR(HLOOKUP(AY$2,'生徒(データ入力①)'!$F$3:$BC$24,19,FALSE)&\"\",\"\"))","v":""},{"$f":"IF('生徒(データ入力①)'!$F$3=\"\",\"\",IFERROR(HLOOKUP(AZ$2,'生徒(データ入力①)'!$F$3:$BC$24,19,FALSE)&\"\",\"\"))","v":""},{"$f":"IF('生徒(データ入力①)'!$F$3=\"\",\"\",IFERROR(HLOOKUP(BA$2,'生徒(データ入力①)'!$F$3:$BC$24,19,FALSE)&\"\",\"\"))","v":""},{"$f":"IF('生徒(データ入力①)'!$F$3=\"\",\"\",IFERROR(HLOOKUP(BB$2,'生徒(データ入力①)'!$F$3:$BC$24,19,FALSE)&\"\",\"\"))","v":""},{"$f":"IF('生徒(データ入力①)'!$F$3=\"\",\"\",IFERROR(HLOOKUP(BC$2,'生徒(データ入力①)'!$F$3:$BC$24,19,FALSE)&\"\",\"\"))","v":""},{"$f":"IF('生徒(データ入力①)'!$F$3=\"\",\"\",IFERROR(HLOOKUP(BD$2,'生徒(データ入力①)'!$F$3:$BC$24,19,FALSE)&\"\",\"\"))","v":""},{"$f":"IF('生徒(データ入力①)'!$F$3=\"\",\"\",IFERROR(HLOOKUP(BE$2,'生徒(データ入力①)'!$F$3:$BC$24,19,FALSE)&\"\",\"\"))","v":""},{"$f":"IF('生徒(データ入力①)'!$F$3=\"\",\"\",IFERROR(HLOOKUP(BF$2,'生徒(データ入力①)'!$F$3:$BC$24,19,FALSE)&\"\",\"\"))","v":""},0,{"$error":"#DIV/0!"},null,0,{"$error":"#DIV/0!"},null,0,{"$error":"#DIV/0!"},null,0,{"$error":"#DIV/0!"},null,null,0,{"$error":"#DIV/0!"},0,{"$error":"#DIV/0!"},"少しそう思う",null,null,null,null,null,null,null,null,null,null,"否定"]
[null,null,{"$f":"'生徒(個人)'!B14","v":"私の学級では，みんなで協力して一つのことに取り組むことができる。"},{"$error":"#DIV/0!"},{"$error":"#DIV/0!"},{"$error":"#DIV/0!"},{"$error":"#DIV/0!"},null,{"$f":"IF('生徒(データ入力①)'!$F$3=\"\",\"\",IFERROR(HLOOKUP(I$2,'生徒(データ入力①)'!$F$3:$AS$24,4,FALSE)&\"\",\"\"))","v":""},{"$f":"IF('生徒(データ入力①)'!$F$3=\"\",\"\",IFERROR(HLOOKUP(J$2,'生徒(データ入力①)'!$F$3:$AS$24,4,FALSE)&\"\",\"\"))","v":""},{"$f":"IF('生徒(データ入力①)'!$F$3=\"\",\"\",IFERROR(HLOOKUP(K$2,'生徒(データ入力①)'!$F$3:$AS$24,4,FALSE)&\"\",\"\"))","v":""},{"$f":"IF('生徒(データ入力①)'!$F$3=\"\",\"\",IFERROR(HLOOKUP(L$2,'生徒(データ入力①)'!$F$3:$AS$24,4,FALSE)&\"\",\"\"))","v":""},{"$f":"IF('生徒(データ入力①)'!$F$3=\"\",\"\",IFERROR(HLOOKUP(M$2,'生徒(データ入力①)'!$F$3:$AS$24,4,FALSE)&\"\",\"\"))","v":""},{"$f":"IF('生徒(データ入力①)'!$F$3=\"\",\"\",IFERROR(HLOOKUP(N$2,'生徒(データ入力①)'!$F$3:$AS$24,4,FALSE)&\"\",\"\"))","v":""},{"$f":"IF('生徒(データ入力①)'!$F$3=\"\",\"\",IFERROR(HLOOKUP(O$2,'生徒(データ入力①)'!$F$3:$AS$24,4,FALSE)&\"\",\"\"))","v":""},{"$f":"IF('生徒(データ入力①)'!$F$3=\"\",\"\",IFERROR(HLOOKUP(P$2,'生徒(データ入力①)'!$F$3:$AS$24,4,FALSE)&\"\",\"\"))","v":""},{"$f":"IF('生徒(データ入力①)'!$F$3=\"\",\"\",IFERROR(HLOOKUP(Q$2,'生徒(データ入力①)'!$F$3:$AS$24,4,FALSE)&\"\",\"\"))","v":""},{"$f":"IF('生徒(データ入力①)'!$F$3=\"\",\"\",IFERROR(HLOOKUP(R$2,'生徒(データ入力①)'!$F$3:$AS$24,4,FALSE)&\"\",\"\"))","v":""},{"$f":"IF('生徒(データ入力①)'!$F$3=\"\",\"\",IFERROR(HLOOKUP(S$2,'生徒(データ入力①)'!$F$3:$AS$24,4,FALSE)&\"\",\"\"))","v":""},{"$f":"IF('生徒(データ入力①)'!$F$3=\"\",\"\",IFERROR(HLOOKUP(T$2,'生徒(データ入力①)'!$F$3:$AS$24,4,FALSE)&\"\",\"\"))","v":""},{"$f":"IF('生徒(データ入力①)'!$F$3=\"\",\"\",IFERROR(HLOOKUP(U$2,'生徒(データ入力①)'!$F$3:$AS$24,4,FALSE)&\"\",\"\"))","v":""},{"$f":"IF('生徒(データ入力①)'!$F$3=\"\",\"\",IFERROR(HLOOKUP(V$2,'生徒(データ入力①)'!$F$3:$AS$24,4,FALSE)&\"\",\"\"))","v":""},{"$f":"IF('生徒(データ入力①)'!$F$3=\"\",\"\",IFERROR(HLOOKUP(W$2,'生徒(データ入力①)'!$F$3:$AS$24,4,FALSE)&\"\",\"\"))","v":""},{"$f":"IF('生徒(データ入力①)'!$F$3=\"\",\"\",IFERROR(HLOOKUP(X$2,'生徒(データ入力①)'!$F$3:$AS$24,4,FALSE)&\"\",\"\"))","v":""},{"$f":"IF('生徒(データ入力①)'!$F$3=\"\",\"\",IFERROR(HLOOKUP(Y$2,'生徒(データ入力①)'!$F$3:$AS$24,4,FALSE)&\"\",\"\"))","v":""},{"$f":"IF('生徒(データ入力①)'!$F$3=\"\",\"\",IFERROR(HLOOKUP(Z$2,'生徒(データ入力①)'!$F$3:$AS$24,4,FALSE)&\"\",\"\"))","v":""},{"$f":"IF('生徒(データ入力①)'!$F$3=\"\",\"\",IFERROR(HLOOKUP(AA$2,'生徒(データ入力①)'!$F$3:$AS$24,4,FALSE)&\"\",\"\"))","v":""},{"$f":"IF('生徒(データ入力①)'!$F$3=\"\",\"\",IFERROR(HLOOKUP(AB$2,'生徒(データ入力①)'!$F$3:$AS$24,4,FALSE)&\"\",\"\"))","v":""},{"$f":"IF('生徒(データ入力①)'!$F$3=\"\",\"\",IFERROR(HLOOKUP(AC$2,'生徒(データ入力①)'!$F$3:$AS$24,4,FALSE)&\"\",\"\"))","v":""},{"$f":"IF('生徒(データ入力①)'!$F$3=\"\",\"\",IFERROR(HLOOKUP(AD$2,'生徒(データ入力①)'!$F$3:$AS$24,4,FALSE)&\"\",\"\"))","v":""},{"$f":"IF('生徒(データ入力①)'!$F$3=\"\",\"\",IFERROR(HLOOKUP(AE$2,'生徒(データ入力①)'!$F$3:$AS$24,4,FALSE)&\"\",\"\"))","v":""},{"$f":"IF('生徒(データ入力①)'!$F$3=\"\",\"\",IFERROR(HLOOKUP(AF$2,'生徒(データ入力①)'!$F$3:$AS$24,4,FALSE)&\"\",\"\"))","v":""},{"$f":"IF('生徒(データ入力①)'!$F$3=\"\",\"\",IFERROR(HLOOKUP(AG$2,'生徒(データ入力①)'!$F$3:$AS$24,4,FALSE)&\"\",\"\"))","v":""},{"$f":"IF('生徒(データ入力①)'!$F$3=\"\",\"\",IFERROR(HLOOKUP(AH$2,'生徒(データ入力①)'!$F$3:$AS$24,4,FALSE)&\"\",\"\"))","v":""},{"$f":"IF('生徒(データ入力①)'!$F$3=\"\",\"\",IFERROR(HLOOKUP(AI$2,'生徒(データ入力①)'!$F$3:$AS$24,4,FALSE)&\"\",\"\"))","v":""},{"$f":"IF('生徒(データ入力①)'!$F$3=\"\",\"\",IFERROR(HLOOKUP(AJ$2,'生徒(データ入力①)'!$F$3:$AS$24,4,FALSE)&\"\",\"\"))","v":""},{"$f":"IF('生徒(データ入力①)'!$F$3=\"\",\"\",IFERROR(HLOOKUP(AK$2,'生徒(データ入力①)'!$F$3:$AS$24,4,FALSE)&\"\",\"\"))","v":""},{"$f":"IF('生徒(データ入力①)'!$F$3=\"\",\"\",IFERROR(HLOOKUP(AL$2,'生徒(データ入力①)'!$F$3:$AS$24,4,FALSE)&\"\",\"\"))","v":""},{"$f":"IF('生徒(データ入力①)'!$F$3=\"\",\"\",IFERROR(HLOOKUP(AM$2,'生徒(データ入力①)'!$F$3:$AS$24,4,FALSE)&\"\",\"\"))","v":""},{"$f":"IF('生徒(データ入力①)'!$F$3=\"\",\"\",IFERROR(HLOOKUP(AN$2,'生徒(データ入力①)'!$F$3:$AS$24,4,FALSE)&\"\",\"\"))","v":""},{"$f":"IF('生徒(データ入力①)'!$F$3=\"\",\"\",IFERROR(HLOOKUP(AO$2,'生徒(データ入力①)'!$F$3:$AS$24,4,FALSE)&\"\",\"\"))","v":""},{"$f":"IF('生徒(データ入力①)'!$F$3=\"\",\"\",IFERROR(HLOOKUP(AP$2,'生徒(データ入力①)'!$F$3:$AS$24,4,FALSE)&\"\",\"\"))","v":""},{"$f":"IF('生徒(データ入力①)'!$F$3=\"\",\"\",IFERROR(HLOOKUP(AQ$2,'生徒(データ入力①)'!$F$3:$AS$24,4,FALSE)&\"\",\"\"))","v":""},{"$f":"IF('生徒(データ入力①)'!$F$3=\"\",\"\",IFERROR(HLOOKUP(AR$2,'生徒(データ入力①)'!$F$3:$AS$24,4,FALSE)&\"\",\"\"))","v":""},{"$f":"IF('生徒(データ入力①)'!$F$3=\"\",\"\",IFERROR(HLOOKUP(AS$2,'生徒(データ入力①)'!$F$3:$AS$24,4,FALSE)&\"\",\"\"))","v":""},{"$f":"IF('生徒(データ入力①)'!$F$3=\"\",\"\",IFERROR(HLOOKUP(AT$2,'生徒(データ入力①)'!$F$3:$AS$24,4,FALSE)&\"\",\"\"))","v":""},{"$f":"IF('生徒(データ入力①)'!$F$3=\"\",\"\",IFERROR(HLOOKUP(AU$2,'生徒(データ入力①)'!$F$3:$AS$24,4,FALSE)&\"\",\"\"))","v":""},{"$f":"IF('生徒(データ入力①)'!$F$3=\"\",\"\",IFERROR(HLOOKUP(AV$2,'生徒(データ入力①)'!$F$3:$AS$24,4,FALSE)&\"\",\"\"))","v":""},{"$f":"IF('生徒(データ入力①)'!$F$3=\"\",\"\",IFERROR(HLOOKUP(AW$2,'生徒(データ入力①)'!$F$3:$BC$24,4,FALSE)&\"\",\"\"))","v":""},{"$f":"IF('生徒(データ入力①)'!$F$3=\"\",\"\",IFERROR(HLOOKUP(AX$2,'生徒(データ入力①)'!$F$3:$BC$24,4,FALSE)&\"\",\"\"))","v":""},{"$f":"IF('生徒(データ入力①)'!$F$3=\"\",\"\",IFERROR(HLOOKUP(AY$2,'生徒(データ入力①)'!$F$3:$BC$24,4,FALSE)&\"\",\"\"))","v":""},{"$f":"IF('生徒(データ入力①)'!$F$3=\"\",\"\",IFERROR(HLOOKUP(AZ$2,'生徒(データ入力①)'!$F$3:$BC$24,4,FALSE)&\"\",\"\"))","v":""},{"$f":"IF('生徒(データ入力①)'!$F$3=\"\",\"\",IFERROR(HLOOKUP(BA$2,'生徒(データ入力①)'!$F$3:$BC$24,4,FALSE)&\"\",\"\"))","v":""},{"$f":"IF('生徒(データ入力①)'!$F$3=\"\",\"\",IFERROR(HLOOKUP(BB$2,'生徒(データ入力①)'!$F$3:$BC$24,4,FALSE)&\"\",\"\"))","v":""},{"$f":"IF('生徒(データ入力①)'!$F$3=\"\",\"\",IFERROR(HLOOKUP(BC$2,'生徒(データ入力①)'!$F$3:$BC$24,4,FALSE)&\"\",\"\"))","v":""},{"$f":"IF('生徒(データ入力①)'!$F$3=\"\",\"\",IFERROR(HLOOKUP(BD$2,'生徒(データ入力①)'!$F$3:$BC$24,4,FALSE)&\"\",\"\"))","v":""},{"$f":"IF('生徒(データ入力①)'!$F$3=\"\",\"\",IFERROR(HLOOKUP(BE$2,'生徒(データ入力①)'!$F$3:$BC$24,4,FALSE)&\"\",\"\"))","v":""},{"$f":"IF('生徒(データ入力①)'!$F$3=\"\",\"\",IFERROR(HLOOKUP(BF$2,'生徒(データ入力①)'!$F$3:$BC$24,4,FALSE)&\"\",\"\"))","v":""},0,{"$error":"#DIV/0!"},null,0,{"$error":"#DIV/0!"},null,0,{"$error":"#DIV/0!"},null,0,{"$error":"#DIV/0!"},null,null,0,{"$error":"#DIV/0!"},0,{"$error":"#DIV/0!"},"あまりそう思わない"]
[null,null,{"$f":"'生徒(個人)'!B15","v":"私の学級では，誰かのユーモアある発言に対し，学級が温かい笑いで包まれる雰囲気がある。"},{"$error":"#DIV/0!"},{"$error":"#DIV/0!"},{"$error":"#DIV/0!"},{"$error":"#DIV/0!"},null,{"$f":"IF('生徒(データ入力①)'!$F$3=\"\",\"\",IFERROR(HLOOKUP(I$2,'生徒(データ入力①)'!$F$3:$AS$24,7,FALSE)&\"\",\"\"))","v":""},{"$f":"IF('生徒(データ入力①)'!$F$3=\"\",\"\",IFERROR(HLOOKUP(J$2,'生徒(データ入力①)'!$F$3:$AS$24,7,FALSE)&\"\",\"\"))","v":""},{"$f":"IF('生徒(データ入力①)'!$F$3=\"\",\"\",IFERROR(HLOOKUP(K$2,'生徒(データ入力①)'!$F$3:$AS$24,7,FALSE)&\"\",\"\"))","v":""},{"$f":"IF('生徒(データ入力①)'!$F$3=\"\",\"\",IFERROR(HLOOKUP(L$2,'生徒(データ入力①)'!$F$3:$AS$24,7,FALSE)&\"\",\"\"))","v":""},{"$f":"IF('生徒(データ入力①)'!$F$3=\"\",\"\",IFERROR(HLOOKUP(M$2,'生徒(データ入力①)'!$F$3:$AS$24,7,FALSE)&\"\",\"\"))","v":""},{"$f":"IF('生徒(データ入力①)'!$F$3=\"\",\"\",IFERROR(HLOOKUP(N$2,'生徒(データ入力①)'!$F$3:$AS$24,7,FALSE)&\"\",\"\"))","v":""},{"$f":"IF('生徒(データ入力①)'!$F$3=\"\",\"\",IFERROR(HLOOKUP(O$2,'生徒(データ入力①)'!$F$3:$AS$24,7,FALSE)&\"\",\"\"))","v":""},{"$f":"IF('生徒(データ入力①)'!$F$3=\"\",\"\",IFERROR(HLOOKUP(P$2,'生徒(データ入力①)'!$F$3:$AS$24,7,FALSE)&\"\",\"\"))","v":""},{"$f":"IF('生徒(データ入力①)'!$F$3=\"\",\"\",IFERROR(HLOOKUP(Q$2,'生徒(データ入力①)'!$F$3:$AS$24,7,FALSE)&\"\",\"\"))","v":""},{"$f":"IF('生徒(データ入力①)'!$F$3=\"\",\"\",IFERROR(HLOOKUP(R$2,'生徒(データ入力①)'!$F$3:$AS$24,7,FALSE)&\"\",\"\"))","v":""},{"$f":"IF('生徒(データ入力①)'!$F$3=\"\",\"\",IFERROR(HLOOKUP(S$2,'生徒(データ入力①)'!$F$3:$AS$24,7,FALSE)&\"\",\"\"))","v":""},{"$f":"IF('生徒(データ入力①)'!$F$3=\"\",\"\",IFERROR(HLOOKUP(T$2,'生徒(データ入力①)'!$F$3:$AS$24,7,FALSE)&\"\",\"\"))","v":""},{"$f":"IF('生徒(データ入力①)'!$F$3=\"\",\"\",IFERROR(HLOOKUP(U$2,'生徒(データ入力①)'!$F$3:$AS$24,7,FALSE)&\"\",\"\"))","v":""},{"$f":"IF('生徒(データ入力①)'!$F$3=\"\",\"\",IFERROR(HLOOKUP(V$2,'生徒(データ入力①)'!$F$3:$AS$24,7,FALSE)&\"\",\"\"))","v":""},{"$f":"IF('生徒(データ入力①)'!$F$3=\"\",\"\",IFERROR(HLOOKUP(W$2,'生徒(データ入力①)'!$F$3:$AS$24,7,FALSE)&\"\",\"\"))","v":""},{"$f":"IF('生徒(データ入力①)'!$F$3=\"\",\"\",IFERROR(HLOOKUP(X$2,'生徒(データ入力①)'!$F$3:$AS$24,7,FALSE)&\"\",\"\"))","v":""},{"$f":"IF('生徒(データ入力①)'!$F$3=\"\",\"\",IFERROR(HLOOKUP(Y$2,'生徒(データ入力①)'!$F$3:$AS$24,7,FALSE)&\"\",\"\"))","v":""},{"$f":"IF('生徒(データ入力①)'!$F$3=\"\",\"\",IFERROR(HLOOKUP(Z$2,'生徒(データ入力①)'!$F$3:$AS$24,7,FALSE)&\"\",\"\"))","v":""},{"$f":"IF('生徒(データ入力①)'!$F$3=\"\",\"\",IFERROR(HLOOKUP(AA$2,'生徒(データ入力①)'!$F$3:$AS$24,7,FALSE)&\"\",\"\"))","v":""},{"$f":"IF('生徒(データ入力①)'!$F$3=\"\",\"\",IFERROR(HLOOKUP(AB$2,'生徒(データ入力①)'!$F$3:$AS$24,7,FALSE)&\"\",\"\"))","v":""},{"$f":"IF('生徒(データ入力①)'!$F$3=\"\",\"\",IFERROR(HLOOKUP(AC$2,'生徒(データ入力①)'!$F$3:$AS$24,7,FALSE)&\"\",\"\"))","v":""},{"$f":"IF('生徒(データ入力①)'!$F$3=\"\",\"\",IFERROR(HLOOKUP(AD$2,'生徒(データ入力①)'!$F$3:$AS$24,7,FALSE)&\"\",\"\"))","v":""},{"$f":"IF('生徒(データ入力①)'!$F$3=\"\",\"\",IFERROR(HLOOKUP(AE$2,'生徒(データ入力①)'!$F$3:$AS$24,7,FALSE)&\"\",\"\"))","v":""},{"$f":"IF('生徒(データ入力①)'!$F$3=\"\",\"\",IFERROR(HLOOKUP(AF$2,'生徒(データ入力①)'!$F$3:$AS$24,7,FALSE)&\"\",\"\"))","v":""},{"$f":"IF('生徒(データ入力①)'!$F$3=\"\",\"\",IFERROR(HLOOKUP(AG$2,'生徒(データ入力①)'!$F$3:$AS$24,7,FALSE)&\"\",\"\"))","v":""},{"$f":"IF('生徒(データ入力①)'!$F$3=\"\",\"\",IFERROR(HLOOKUP(AH$2,'生徒(データ入力①)'!$F$3:$AS$24,7,FALSE)&\"\",\"\"))","v":""},{"$f":"IF('生徒(データ入力①)'!$F$3=\"\",\"\",IFERROR(HLOOKUP(AI$2,'生徒(データ入力①)'!$F$3:$AS$24,7,FALSE)&\"\",\"\"))","v":""},{"$f":"IF('生徒(データ入力①)'!$F$3=\"\",\"\",IFERROR(HLOOKUP(AJ$2,'生徒(データ入力①)'!$F$3:$AS$24,7,FALSE)&\"\",\"\"))","v":""},{"$f":"IF('生徒(データ入力①)'!$F$3=\"\",\"\",IFERROR(HLOOKUP(AK$2,'生徒(データ入力①)'!$F$3:$AS$24,7,FALSE)&\"\",\"\"))","v":""},{"$f":"IF('生徒(データ入力①)'!$F$3=\"\",\"\",IFERROR(HLOOKUP(AL$2,'生徒(データ入力①)'!$F$3:$AS$24,7,FALSE)&\"\",\"\"))","v":""},{"$f":"IF('生徒(データ入力①)'!$F$3=\"\",\"\",IFERROR(HLOOKUP(AM$2,'生徒(データ入力①)'!$F$3:$AS$24,7,FALSE)&\"\",\"\"))","v":""},{"$f":"IF('生徒(データ入力①)'!$F$3=\"\",\"\",IFERROR(HLOOKUP(AN$2,'生徒(データ入力①)'!$F$3:$AS$24,7,FALSE)&\"\",\"\"))","v":""},{"$f":"IF('生徒(データ入力①)'!$F$3=\"\",\"\",IFERROR(HLOOKUP(AO$2,'生徒(データ入力①)'!$F$3:$AS$24,7,FALSE)&\"\",\"\"))","v":""},{"$f":"IF('生徒(データ入力①)'!$F$3=\"\",\"\",IFERROR(HLOOKUP(AP$2,'生徒(データ入力①)'!$F$3:$AS$24,7,FALSE)&\"\",\"\"))","v":""},{"$f":"IF('生徒(データ入力①)'!$F$3=\"\",\"\",IFERROR(HLOOKUP(AQ$2,'生徒(データ入力①)'!$F$3:$AS$24,7,FALSE)&\"\",\"\"))","v":""},{"$f":"IF('生徒(データ入力①)'!$F$3=\"\",\"\",IFERROR(HLOOKUP(AR$2,'生徒(データ入力①)'!$F$3:$AS$24,7,FALSE)&\"\",\"\"))","v":""},{"$f":"IF('生徒(データ入力①)'!$F$3=\"\",\"\",IFERROR(HLOOKUP(AS$2,'生徒(データ入力①)'!$F$3:$AS$24,7,FALSE)&\"\",\"\"))","v":""},{"$f":"IF('生徒(データ入力①)'!$F$3=\"\",\"\",IFERROR(HLOOKUP(AT$2,'生徒(データ入力①)'!$F$3:$AS$24,7,FALSE)&\"\",\"\"))","v":""},{"$f":"IF('生徒(データ入力①)'!$F$3=\"\",\"\",IFERROR(HLOOKUP(AU$2,'生徒(データ入力①)'!$F$3:$AS$24,7,FALSE)&\"\",\"\"))","v":""},{"$f":"IF('生徒(データ入力①)'!$F$3=\"\",\"\",IFERROR(HLOOKUP(AV$2,'生徒(データ入力①)'!$F$3:$AS$24,7,FALSE)&\"\",\"\"))","v":""},{"$f":"IF('生徒(データ入力①)'!$F$3=\"\",\"\",IFERROR(HLOOKUP(AW$2,'生徒(データ入力①)'!$F$3:$BC$24,7,FALSE)&\"\",\"\"))","v":""},{"$f":"IF('生徒(データ入力①)'!$F$3=\"\",\"\",IFERROR(HLOOKUP(AX$2,'生徒(データ入力①)'!$F$3:$BC$24,7,FALSE)&\"\",\"\"))","v":""},{"$f":"IF('生徒(データ入力①)'!$F$3=\"\",\"\",IFERROR(HLOOKUP(AY$2,'生徒(データ入力①)'!$F$3:$BC$24,7,FALSE)&\"\",\"\"))","v":""},{"$f":"IF('生徒(データ入力①)'!$F$3=\"\",\"\",IFERROR(HLOOKUP(AZ$2,'生徒(データ入力①)'!$F$3:$BC$24,7,FALSE)&\"\",\"\"))","v":""},{"$f":"IF('生徒(データ入力①)'!$F$3=\"\",\"\",IFERROR(HLOOKUP(BA$2,'生徒(データ入力①)'!$F$3:$BC$24,7,FALSE)&\"\",\"\"))","v":""},{"$f":"IF('生徒(データ入力①)'!$F$3=\"\",\"\",IFERROR(HLOOKUP(BB$2,'生徒(データ入力①)'!$F$3:$BC$24,7,FALSE)&\"\",\"\"))","v":""},{"$f":"IF('生徒(データ入力①)'!$F$3=\"\",\"\",IFERROR(HLOOKUP(BC$2,'生徒(データ入力①)'!$F$3:$BC$24,7,FALSE)&\"\",\"\"))","v":""},{"$f":"IF('生徒(データ入力①)'!$F$3=\"\",\"\",IFERROR(HLOOKUP(BD$2,'生徒(データ入力①)'!$F$3:$BC$24,7,FALSE)&\"\",\"\"))","v":""},{"$f":"IF('生徒(データ入力①)'!$F$3=\"\",\"\",IFERROR(HLOOKUP(BE$2,'生徒(データ入力①)'!$F$3:$BC$24,7,FALSE)&\"\",\"\"))","v":""},{"$f":"IF('生徒(データ入力①)'!$F$3=\"\",\"\",IFERROR(HLOOKUP(BF$2,'生徒(データ入力①)'!$F$3:$BC$24,7,FALSE)&\"\",\"\"))","v":""},0,{"$error":"#DIV/0!"},null,0,{"$error":"#DIV/0!"},null,0,{"$error":"#DIV/0!"},null,0,{"$error":"#DIV/0!"},null,null,0,{"$error":"#DIV/0!"},0,{"$error":"#DIV/0!"},"そう思わない"]
[null,"自分の考え、選択、決定が尊重されているという安心感",{"$f":"'生徒(個人)'!B16","v":"私の学級では，自分（たち）で学習や生活の目標を決め，振り返りをしている。"},{"$error":"#DIV/0!"},{"$error":"#DIV/0!"},{"$error":"#DIV/0!"},{"$error":"#DIV/0!"},null,{"$f":"IF('生徒(データ入力①)'!$F$3=\"\",\"\",IFERROR(HLOOKUP(I$2,'生徒(データ入力①)'!$F$3:$AS$24,3,FALSE)&\"\",\"\"))","v":""},{"$f":"IF('生徒(データ入力①)'!$F$3=\"\",\"\",IFERROR(HLOOKUP(J$2,'生徒(データ入力①)'!$F$3:$AS$24,3,FALSE)&\"\",\"\"))","v":""},{"$f":"IF('生徒(データ入力①)'!$F$3=\"\",\"\",IFERROR(HLOOKUP(K$2,'生徒(データ入力①)'!$F$3:$AS$24,3,FALSE)&\"\",\"\"))","v":""},{"$f":"IF('生徒(データ入力①)'!$F$3=\"\",\"\",IFERROR(HLOOKUP(L$2,'生徒(データ入力①)'!$F$3:$AS$24,3,FALSE)&\"\",\"\"))","v":""},{"$f":"IF('生徒(データ入力①)'!$F$3=\"\",\"\",IFERROR(HLOOKUP(M$2,'生徒(データ入力①)'!$F$3:$AS$24,3,FALSE)&\"\",\"\"))","v":""},{"$f":"IF('生徒(データ入力①)'!$F$3=\"\",\"\",IFERROR(HLOOKUP(N$2,'生徒(データ入力①)'!$F$3:$AS$24,3,FALSE)&\"\",\"\"))","v":""},{"$f":"IF('生徒(データ入力①)'!$F$3=\"\",\"\",IFERROR(HLOOKUP(O$2,'生徒(データ入力①)'!$F$3:$AS$24,3,FALSE)&\"\",\"\"))","v":""},{"$f":"IF('生徒(データ入力①)'!$F$3=\"\",\"\",IFERROR(HLOOKUP(P$2,'生徒(データ入力①)'!$F$3:$AS$24,3,FALSE)&\"\",\"\"))","v":""},{"$f":"IF('生徒(データ入力①)'!$F$3=\"\",\"\",IFERROR(HLOOKUP(Q$2,'生徒(データ入力①)'!$F$3:$AS$24,3,FALSE)&\"\",\"\"))","v":""},{"$f":"IF('生徒(データ入力①)'!$F$3=\"\",\"\",IFERROR(HLOOKUP(R$2,'生徒(データ入力①)'!$F$3:$AS$24,3,FALSE)&\"\",\"\"))","v":""},{"$f":"IF('生徒(データ入力①)'!$F$3=\"\",\"\",IFERROR(HLOOKUP(S$2,'生徒(データ入力①)'!$F$3:$AS$24,3,FALSE)&\"\",\"\"))","v":""},{"$f":"IF('生徒(データ入力①)'!$F$3=\"\",\"\",IFERROR(HLOOKUP(T$2,'生徒(データ入力①)'!$F$3:$AS$24,3,FALSE)&\"\",\"\"))","v":""},{"$f":"IF('生徒(データ入力①)'!$F$3=\"\",\"\",IFERROR(HLOOKUP(U$2,'生徒(データ入力①)'!$F$3:$AS$24,3,FALSE)&\"\",\"\"))","v":""},{"$f":"IF('生徒(データ入力①)'!$F$3=\"\",\"\",IFERROR(HLOOKUP(V$2,'生徒(データ入力①)'!$F$3:$AS$24,3,FALSE)&\"\",\"\"))","v":""},{"$f":"IF('生徒(データ入力①)'!$F$3=\"\",\"\",IFERROR(HLOOKUP(W$2,'生徒(データ入力①)'!$F$3:$AS$24,3,FALSE)&\"\",\"\"))","v":""},{"$f":"IF('生徒(データ入力①)'!$F$3=\"\",\"\",IFERROR(HLOOKUP(X$2,'生徒(データ入力①)'!$F$3:$AS$24,3,FALSE)&\"\",\"\"))","v":""},{"$f":"IF('生徒(データ入力①)'!$F$3=\"\",\"\",IFERROR(HLOOKUP(Y$2,'生徒(データ入力①)'!$F$3:$AS$24,3,FALSE)&\"\",\"\"))","v":""},{"$f":"IF('生徒(データ入力①)'!$F$3=\"\",\"\",IFERROR(HLOOKUP(Z$2,'生徒(データ入力①)'!$F$3:$AS$24,3,FALSE)&\"\",\"\"))","v":""},{"$f":"IF('生徒(データ入力①)'!$F$3=\"\",\"\",IFERROR(HLOOKUP(AA$2,'生徒(データ入力①)'!$F$3:$AS$24,3,FALSE)&\"\",\"\"))","v":""},{"$f":"IF('生徒(データ入力①)'!$F$3=\"\",\"\",IFERROR(HLOOKUP(AB$2,'生徒(データ入力①)'!$F$3:$AS$24,3,FALSE)&\"\",\"\"))","v":""},{"$f":"IF('生徒(データ入力①)'!$F$3=\"\",\"\",IFERROR(HLOOKUP(AC$2,'生徒(データ入力①)'!$F$3:$AS$24,3,FALSE)&\"\",\"\"))","v":""},{"$f":"IF('生徒(データ入力①)'!$F$3=\"\",\"\",IFERROR(HLOOKUP(AD$2,'生徒(データ入力①)'!$F$3:$AS$24,3,FALSE)&\"\",\"\"))","v":""},{"$f":"IF('生徒(データ入力①)'!$F$3=\"\",\"\",IFERROR(HLOOKUP(AE$2,'生徒(データ入力①)'!$F$3:$AS$24,3,FALSE)&\"\",\"\"))","v":""},{"$f":"IF('生徒(データ入力①)'!$F$3=\"\",\"\",IFERROR(HLOOKUP(AF$2,'生徒(データ入力①)'!$F$3:$AS$24,3,FALSE)&\"\",\"\"))","v":""},{"$f":"IF('生徒(データ入力①)'!$F$3=\"\",\"\",IFERROR(HLOOKUP(AG$2,'生徒(データ入力①)'!$F$3:$AS$24,3,FALSE)&\"\",\"\"))","v":""},{"$f":"IF('生徒(データ入力①)'!$F$3=\"\",\"\",IFERROR(HLOOKUP(AH$2,'生徒(データ入力①)'!$F$3:$AS$24,3,FALSE)&\"\",\"\"))","v":""},{"$f":"IF('生徒(データ入力①)'!$F$3=\"\",\"\",IFERROR(HLOOKUP(AI$2,'生徒(データ入力①)'!$F$3:$AS$24,3,FALSE)&\"\",\"\"))","v":""},{"$f":"IF('生徒(データ入力①)'!$F$3=\"\",\"\",IFERROR(HLOOKUP(AJ$2,'生徒(データ入力①)'!$F$3:$AS$24,3,FALSE)&\"\",\"\"))","v":""},{"$f":"IF('生徒(データ入力①)'!$F$3=\"\",\"\",IFERROR(HLOOKUP(AK$2,'生徒(データ入力①)'!$F$3:$AS$24,3,FALSE)&\"\",\"\"))","v":""},{"$f":"IF('生徒(データ入力①)'!$F$3=\"\",\"\",IFERROR(HLOOKUP(AL$2,'生徒(データ入力①)'!$F$3:$AS$24,3,FALSE)&\"\",\"\"))","v":""},{"$f":"IF('生徒(データ入力①)'!$F$3=\"\",\"\",IFERROR(HLOOKUP(AM$2,'生徒(データ入力①)'!$F$3:$AS$24,3,FALSE)&\"\",\"\"))","v":""},{"$f":"IF('生徒(データ入力①)'!$F$3=\"\",\"\",IFERROR(HLOOKUP(AN$2,'生徒(データ入力①)'!$F$3:$AS$24,3,FALSE)&\"\",\"\"))","v":""},{"$f":"IF('生徒(データ入力①)'!$F$3=\"\",\"\",IFERROR(HLOOKUP(AO$2,'生徒(データ入力①)'!$F$3:$AS$24,3,FALSE)&\"\",\"\"))","v":""},{"$f":"IF('生徒(データ入力①)'!$F$3=\"\",\"\",IFERROR(HLOOKUP(AP$2,'生徒(データ入力①)'!$F$3:$AS$24,3,FALSE)&\"\",\"\"))","v":""},{"$f":"IF('生徒(データ入力①)'!$F$3=\"\",\"\",IFERROR(HLOOKUP(AQ$2,'生徒(データ入力①)'!$F$3:$AS$24,3,FALSE)&\"\",\"\"))","v":""},{"$f":"IF('生徒(データ入力①)'!$F$3=\"\",\"\",IFERROR(HLOOKUP(AR$2,'生徒(データ入力①)'!$F$3:$AS$24,3,FALSE)&\"\",\"\"))","v":""},{"$f":"IF('生徒(データ入力①)'!$F$3=\"\",\"\",IFERROR(HLOOKUP(AS$2,'生徒(データ入力①)'!$F$3:$AS$24,3,FALSE)&\"\",\"\"))","v":""},{"$f":"IF('生徒(データ入力①)'!$F$3=\"\",\"\",IFERROR(HLOOKUP(AT$2,'生徒(データ入力①)'!$F$3:$AS$24,3,FALSE)&\"\",\"\"))","v":""},{"$f":"IF('生徒(データ入力①)'!$F$3=\"\",\"\",IFERROR(HLOOKUP(AU$2,'生徒(データ入力①)'!$F$3:$AS$24,3,FALSE)&\"\",\"\"))","v":""},{"$f":"IF('生徒(データ入力①)'!$F$3=\"\",\"\",IFERROR(HLOOKUP(AV$2,'生徒(データ入力①)'!$F$3:$AS$24,3,FALSE)&\"\",\"\"))","v":""},{"$f":"IF('生徒(データ入力①)'!$F$3=\"\",\"\",IFERROR(HLOOKUP(AW$2,'生徒(データ入力①)'!$F$3:$BC$24,3,FALSE)&\"\",\"\"))","v":""},{"$f":"IF('生徒(データ入力①)'!$F$3=\"\",\"\",IFERROR(HLOOKUP(AX$2,'生徒(データ入力①)'!$F$3:$BC$24,3,FALSE)&\"\",\"\"))","v":""},{"$f":"IF('生徒(データ入力①)'!$F$3=\"\",\"\",IFERROR(HLOOKUP(AY$2,'生徒(データ入力①)'!$F$3:$BC$24,3,FALSE)&\"\",\"\"))","v":""},{"$f":"IF('生徒(データ入力①)'!$F$3=\"\",\"\",IFERROR(HLOOKUP(AZ$2,'生徒(データ入力①)'!$F$3:$BC$24,3,FALSE)&\"\",\"\"))","v":""},{"$f":"IF('生徒(データ入力①)'!$F$3=\"\",\"\",IFERROR(HLOOKUP(BA$2,'生徒(データ入力①)'!$F$3:$BC$24,3,FALSE)&\"\",\"\"))","v":""},{"$f":"IF('生徒(データ入力①)'!$F$3=\"\",\"\",IFERROR(HLOOKUP(BB$2,'生徒(データ入力①)'!$F$3:$BC$24,3,FALSE)&\"\",\"\"))","v":""},{"$f":"IF('生徒(データ入力①)'!$F$3=\"\",\"\",IFERROR(HLOOKUP(BC$2,'生徒(データ入力①)'!$F$3:$BC$24,3,FALSE)&\"\",\"\"))","v":""},{"$f":"IF('生徒(データ入力①)'!$F$3=\"\",\"\",IFERROR(HLOOKUP(BD$2,'生徒(データ入力①)'!$F$3:$BC$24,3,FALSE)&\"\",\"\"))","v":""},{"$f":"IF('生徒(データ入力①)'!$F$3=\"\",\"\",IFERROR(HLOOKUP(BE$2,'生徒(データ入力①)'!$F$3:$BC$24,3,FALSE)&\"\",\"\"))","v":""},{"$f":"IF('生徒(データ入力①)'!$F$3=\"\",\"\",IFERROR(HLOOKUP(BF$2,'生徒(データ入力①)'!$F$3:$BC$24,3,FALSE)&\"\",\"\"))","v":""},0,{"$error":"#DIV/0!"},null,0,{"$error":"#DIV/0!"},null,0,{"$error":"#DIV/0!"},null,0,{"$error":"#DIV/0!"},null,null,0,{"$error":"#DIV/0!"},0,{"$error":"#DIV/0!"}]
[null,null,{"$f":"'生徒(個人)'!B17","v":"私の学級では，話合いなど自分たちが中心となって活動する場面が多くある。"},{"$error":"#DIV/0!"},{"$error":"#DIV/0!"},{"$error":"#DIV/0!"},{"$error":"#DIV/0!"},null,{"$f":"IF('生徒(データ入力①)'!$F$3=\"\",\"\",IFERROR(HLOOKUP(I$2,'生徒(データ入力①)'!$F$3:$AS$24,22,FALSE)&\"\",\"\"))","v":""},{"$f":"IF('生徒(データ入力①)'!$F$3=\"\",\"\",IFERROR(HLOOKUP(J$2,'生徒(データ入力①)'!$F$3:$AS$24,22,FALSE)&\"\",\"\"))","v":""},{"$f":"IF('生徒(データ入力①)'!$F$3=\"\",\"\",IFERROR(HLOOKUP(K$2,'生徒(データ入力①)'!$F$3:$AS$24,22,FALSE)&\"\",\"\"))","v":""},{"$f":"IF('生徒(データ入力①)'!$F$3=\"\",\"\",IFERROR(HLOOKUP(L$2,'生徒(データ入力①)'!$F$3:$AS$24,22,FALSE)&\"\",\"\"))","v":""},{"$f":"IF('生徒(データ入力①)'!$F$3=\"\",\"\",IFERROR(HLOOKUP(M$2,'生徒(データ入力①)'!$F$3:$AS$24,22,FALSE)&\"\",\"\"))","v":""},{"$f":"IF('生徒(データ入力①)'!$F$3=\"\",\"\",IFERROR(HLOOKUP(N$2,'生徒(データ入力①)'!$F$3:$AS$24,22,FALSE)&\"\",\"\"))","v":""},{"$f":"IF('生徒(データ入力①)'!$F$3=\"\",\"\",IFERROR(HLOOKUP(O$2,'生徒(データ入力①)'!$F$3:$AS$24,22,FALSE)&\"\",\"\"))","v":""},{"$f":"IF('生徒(データ入力①)'!$F$3=\"\",\"\",IFERROR(HLOOKUP(P$2,'生徒(データ入力①)'!$F$3:$AS$24,22,FALSE)&\"\",\"\"))","v":""},{"$f":"IF('生徒(データ入力①)'!$F$3=\"\",\"\",IFERROR(HLOOKUP(Q$2,'生徒(データ入力①)'!$F$3:$AS$24,22,FALSE)&\"\",\"\"))","v":""},{"$f":"IF('生徒(データ入力①)'!$F$3=\"\",\"\",IFERROR(HLOOKUP(R$2,'生徒(データ入力①)'!$F$3:$AS$24,22,FALSE)&\"\",\"\"))","v":""},{"$f":"IF('生徒(データ入力①)'!$F$3=\"\",\"\",IFERROR(HLOOKUP(S$2,'生徒(データ入力①)'!$F$3:$AS$24,22,FALSE)&\"\",\"\"))","v":""},{"$f":"IF('生徒(データ入力①)'!$F$3=\"\",\"\",IFERROR(HLOOKUP(T$2,'生徒(データ入力①)'!$F$3:$AS$24,22,FALSE)&\"\",\"\"))","v":""},{"$f":"IF('生徒(データ入力①)'!$F$3=\"\",\"\",IFERROR(HLOOKUP(U$2,'生徒(データ入力①)'!$F$3:$AS$24,22,FALSE)&\"\",\"\"))","v":""},{"$f":"IF('生徒(データ入力①)'!$F$3=\"\",\"\",IFERROR(HLOOKUP(V$2,'生徒(データ入力①)'!$F$3:$AS$24,22,FALSE)&\"\",\"\"))","v":""},{"$f":"IF('生徒(データ入力①)'!$F$3=\"\",\"\",IFERROR(HLOOKUP(W$2,'生徒(データ入力①)'!$F$3:$AS$24,22,FALSE)&\"\",\"\"))","v":""},{"$f":"IF('生徒(データ入力①)'!$F$3=\"\",\"\",IFERROR(HLOOKUP(X$2,'生徒(データ入力①)'!$F$3:$AS$24,22,FALSE)&\"\",\"\"))","v":""},{"$f":"IF('生徒(データ入力①)'!$F$3=\"\",\"\",IFERROR(HLOOKUP(Y$2,'生徒(データ入力①)'!$F$3:$AS$24,22,FALSE)&\"\",\"\"))","v":""},{"$f":"IF('生徒(データ入力①)'!$F$3=\"\",\"\",IFERROR(HLOOKUP(Z$2,'生徒(データ入力①)'!$F$3:$AS$24,22,FALSE)&\"\",\"\"))","v":""},{"$f":"IF('生徒(データ入力①)'!$F$3=\"\",\"\",IFERROR(HLOOKUP(AA$2,'生徒(データ入力①)'!$F$3:$AS$24,22,FALSE)&\"\",\"\"))","v":""},{"$f":"IF('生徒(データ入力①)'!$F$3=\"\",\"\",IFERROR(HLOOKUP(AB$2,'生徒(データ入力①)'!$F$3:$AS$24,22,FALSE)&\"\",\"\"))","v":""},{"$f":"IF('生徒(データ入力①)'!$F$3=\"\",\"\",IFERROR(HLOOKUP(AC$2,'生徒(データ入力①)'!$F$3:$AS$24,22,FALSE)&\"\",\"\"))","v":""},{"$f":"IF('生徒(データ入力①)'!$F$3=\"\",\"\",IFERROR(HLOOKUP(AD$2,'生徒(データ入力①)'!$F$3:$AS$24,22,FALSE)&\"\",\"\"))","v":""},{"$f":"IF('生徒(データ入力①)'!$F$3=\"\",\"\",IFERROR(HLOOKUP(AE$2,'生徒(データ入力①)'!$F$3:$AS$24,22,FALSE)&\"\",\"\"))","v":""},{"$f":"IF('生徒(データ入力①)'!$F$3=\"\",\"\",IFERROR(HLOOKUP(AF$2,'生徒(データ入力①)'!$F$3:$AS$24,22,FALSE)&\"\",\"\"))","v":""},{"$f":"IF('生徒(データ入力①)'!$F$3=\"\",\"\",IFERROR(HLOOKUP(AG$2,'生徒(データ入力①)'!$F$3:$AS$24,22,FALSE)&\"\",\"\"))","v":""},{"$f":"IF('生徒(データ入力①)'!$F$3=\"\",\"\",IFERROR(HLOOKUP(AH$2,'生徒(データ入力①)'!$F$3:$AS$24,22,FALSE)&\"\",\"\"))","v":""},{"$f":"IF('生徒(データ入力①)'!$F$3=\"\",\"\",IFERROR(HLOOKUP(AI$2,'生徒(データ入力①)'!$F$3:$AS$24,22,FALSE)&\"\",\"\"))","v":""},{"$f":"IF('生徒(データ入力①)'!$F$3=\"\",\"\",IFERROR(HLOOKUP(AJ$2,'生徒(データ入力①)'!$F$3:$AS$24,22,FALSE)&\"\",\"\"))","v":""},{"$f":"IF('生徒(データ入力①)'!$F$3=\"\",\"\",IFERROR(HLOOKUP(AK$2,'生徒(データ入力①)'!$F$3:$AS$24,22,FALSE)&\"\",\"\"))","v":""},{"$f":"IF('生徒(データ入力①)'!$F$3=\"\",\"\",IFERROR(HLOOKUP(AL$2,'生徒(データ入力①)'!$F$3:$AS$24,22,FALSE)&\"\",\"\"))","v":""},{"$f":"IF('生徒(データ入力①)'!$F$3=\"\",\"\",IFERROR(HLOOKUP(AM$2,'生徒(データ入力①)'!$F$3:$AS$24,22,FALSE)&\"\",\"\"))","v":""},{"$f":"IF('生徒(データ入力①)'!$F$3=\"\",\"\",IFERROR(HLOOKUP(AN$2,'生徒(データ入力①)'!$F$3:$AS$24,22,FALSE)&\"\",\"\"))","v":""},{"$f":"IF('生徒(データ入力①)'!$F$3=\"\",\"\",IFERROR(HLOOKUP(AO$2,'生徒(データ入力①)'!$F$3:$AS$24,22,FALSE)&\"\",\"\"))","v":""},{"$f":"IF('生徒(データ入力①)'!$F$3=\"\",\"\",IFERROR(HLOOKUP(AP$2,'生徒(データ入力①)'!$F$3:$AS$24,22,FALSE)&\"\",\"\"))","v":""},{"$f":"IF('生徒(データ入力①)'!$F$3=\"\",\"\",IFERROR(HLOOKUP(AQ$2,'生徒(データ入力①)'!$F$3:$AS$24,22,FALSE)&\"\",\"\"))","v":""},{"$f":"IF('生徒(データ入力①)'!$F$3=\"\",\"\",IFERROR(HLOOKUP(AR$2,'生徒(データ入力①)'!$F$3:$AS$24,22,FALSE)&\"\",\"\"))","v":""},{"$f":"IF('生徒(データ入力①)'!$F$3=\"\",\"\",IFERROR(HLOOKUP(AS$2,'生徒(データ入力①)'!$F$3:$AS$24,22,FALSE)&\"\",\"\"))","v":""},{"$f":"IF('生徒(データ入力①)'!$F$3=\"\",\"\",IFERROR(HLOOKUP(AT$2,'生徒(データ入力①)'!$F$3:$AS$24,22,FALSE)&\"\",\"\"))","v":""},{"$f":"IF('生徒(データ入力①)'!$F$3=\"\",\"\",IFERROR(HLOOKUP(AU$2,'生徒(データ入力①)'!$F$3:$AS$24,22,FALSE)&\"\",\"\"))","v":""},{"$f":"IF('生徒(データ入力①)'!$F$3=\"\",\"\",IFERROR(HLOOKUP(AV$2,'生徒(データ入力①)'!$F$3:$AS$24,22,FALSE)&\"\",\"\"))","v":""},{"$f":"IF('生徒(データ入力①)'!$F$3=\"\",\"\",IFERROR(HLOOKUP(AW$2,'生徒(データ入力①)'!$F$3:$BC$24,22,FALSE)&\"\",\"\"))","v":""},{"$f":"IF('生徒(データ入力①)'!$F$3=\"\",\"\",IFERROR(HLOOKUP(AX$2,'生徒(データ入力①)'!$F$3:$BC$24,22,FALSE)&\"\",\"\"))","v":""},{"$f":"IF('生徒(データ入力①)'!$F$3=\"\",\"\",IFERROR(HLOOKUP(AY$2,'生徒(データ入力①)'!$F$3:$BC$24,22,FALSE)&\"\",\"\"))","v":""},{"$f":"IF('生徒(データ入力①)'!$F$3=\"\",\"\",IFERROR(HLOOKUP(AZ$2,'生徒(データ入力①)'!$F$3:$BC$24,22,FALSE)&\"\",\"\"))","v":""},{"$f":"IF('生徒(データ入力①)'!$F$3=\"\",\"\",IFERROR(HLOOKUP(BA$2,'生徒(データ入力①)'!$F$3:$BC$24,22,FALSE)&\"\",\"\"))","v":""},{"$f":"IF('生徒(データ入力①)'!$F$3=\"\",\"\",IFERROR(HLOOKUP(BB$2,'生徒(データ入力①)'!$F$3:$BC$24,22,FALSE)&\"\",\"\"))","v":""},{"$f":"IF('生徒(データ入力①)'!$F$3=\"\",\"\",IFERROR(HLOOKUP(BC$2,'生徒(データ入力①)'!$F$3:$BC$24,22,FALSE)&\"\",\"\"))","v":""},{"$f":"IF('生徒(データ入力①)'!$F$3=\"\",\"\",IFERROR(HLOOKUP(BD$2,'生徒(データ入力①)'!$F$3:$BC$24,22,FALSE)&\"\",\"\"))","v":""},{"$f":"IF('生徒(データ入力①)'!$F$3=\"\",\"\",IFERROR(HLOOKUP(BE$2,'生徒(データ入力①)'!$F$3:$BC$24,22,FALSE)&\"\",\"\"))","v":""},{"$f":"IF('生徒(データ入力①)'!$F$3=\"\",\"\",IFERROR(HLOOKUP(BF$2,'生徒(データ入力①)'!$F$3:$BC$24,22,FALSE)&\"\",\"\"))","v":""},0,{"$error":"#DIV/0!"},null,0,{"$error":"#DIV/0!"},null,0,{"$error":"#DIV/0!"},null,0,{"$error":"#DIV/0!"},null,null,0,{"$error":"#DIV/0!"},0,{"$error":"#DIV/0!"}]
[null,null,{"$f":"'生徒(個人)'!B18","v":"私の学級では，自分で調べたり制作したりするときに，先生や友達からアドバイスをもらえる。"},{"$error":"#DIV/0!"},{"$error":"#DIV/0!"},{"$error":"#DIV/0!"},{"$error":"#DIV/0!"},null,{"$f":"IF('生徒(データ入力①)'!$F$3=\"\",\"\",IFERROR(HLOOKUP(I$2,'生徒(データ入力①)'!$F$3:$AS$24,11,FALSE)&\"\",\"\"))","v":""},{"$f":"IF('生徒(データ入力①)'!$F$3=\"\",\"\",IFERROR(HLOOKUP(J$2,'生徒(データ入力①)'!$F$3:$AS$24,11,FALSE)&\"\",\"\"))","v":""},{"$f":"IF('生徒(データ入力①)'!$F$3=\"\",\"\",IFERROR(HLOOKUP(K$2,'生徒(データ入力①)'!$F$3:$AS$24,11,FALSE)&\"\",\"\"))","v":""},{"$f":"IF('生徒(データ入力①)'!$F$3=\"\",\"\",IFERROR(HLOOKUP(L$2,'生徒(データ入力①)'!$F$3:$AS$24,11,FALSE)&\"\",\"\"))","v":""},{"$f":"IF('生徒(データ入力①)'!$F$3=\"\",\"\",IFERROR(HLOOKUP(M$2,'生徒(データ入力①)'!$F$3:$AS$24,11,FALSE)&\"\",\"\"))","v":""},{"$f":"IF('生徒(データ入力①)'!$F$3=\"\",\"\",IFERROR(HLOOKUP(N$2,'生徒(データ入力①)'!$F$3:$AS$24,11,FALSE)&\"\",\"\"))","v":""},{"$f":"IF('生徒(データ入力①)'!$F$3=\"\",\"\",IFERROR(HLOOKUP(O$2,'生徒(データ入力①)'!$F$3:$AS$24,11,FALSE)&\"\",\"\"))","v":""},{"$f":"IF('生徒(データ入力①)'!$F$3=\"\",\"\",IFERROR(HLOOKUP(P$2,'生徒(データ入力①)'!$F$3:$AS$24,11,FALSE)&\"\",\"\"))","v":""},{"$f":"IF('生徒(データ入力①)'!$F$3=\"\",\"\",IFERROR(HLOOKUP(Q$2,'生徒(データ入力①)'!$F$3:$AS$24,11,FALSE)&\"\",\"\"))","v":""},{"$f":"IF('生徒(データ入力①)'!$F$3=\"\",\"\",IFERROR(HLOOKUP(R$2,'生徒(データ入力①)'!$F$3:$AS$24,11,FALSE)&\"\",\"\"))","v":""},{"$f":"IF('生徒(データ入力①)'!$F$3=\"\",\"\",IFERROR(HLOOKUP(S$2,'生徒(データ入力①)'!$F$3:$AS$24,11,FALSE)&\"\",\"\"))","v":""},{"$f":"IF('生徒(データ入力①)'!$F$3=\"\",\"\",IFERROR(HLOOKUP(T$2,'生徒(データ入力①)'!$F$3:$AS$24,11,FALSE)&\"\",\"\"))","v":""},{"$f":"IF('生徒(データ入力①)'!$F$3=\"\",\"\",IFERROR(HLOOKUP(U$2,'生徒(データ入力①)'!$F$3:$AS$24,11,FALSE)&\"\",\"\"))","v":""},{"$f":"IF('生徒(データ入力①)'!$F$3=\"\",\"\",IFERROR(HLOOKUP(V$2,'生徒(データ入力①)'!$F$3:$AS$24,11,FALSE)&\"\",\"\"))","v":""},{"$f":"IF('生徒(データ入力①)'!$F$3=\"\",\"\",IFERROR(HLOOKUP(W$2,'生徒(データ入力①)'!$F$3:$AS$24,11,FALSE)&\"\",\"\"))","v":""},{"$f":"IF('生徒(データ入力①)'!$F$3=\"\",\"\",IFERROR(HLOOKUP(X$2,'生徒(データ入力①)'!$F$3:$AS$24,11,FALSE)&\"\",\"\"))","v":""},{"$f":"IF('生徒(データ入力①)'!$F$3=\"\",\"\",IFERROR(HLOOKUP(Y$2,'生徒(データ入力①)'!$F$3:$AS$24,11,FALSE)&\"\",\"\"))","v":""},{"$f":"IF('生徒(データ入力①)'!$F$3=\"\",\"\",IFERROR(HLOOKUP(Z$2,'生徒(データ入力①)'!$F$3:$AS$24,11,FALSE)&\"\",\"\"))","v":""},{"$f":"IF('生徒(データ入力①)'!$F$3=\"\",\"\",IFERROR(HLOOKUP(AA$2,'生徒(データ入力①)'!$F$3:$AS$24,11,FALSE)&\"\",\"\"))","v":""},{"$f":"IF('生徒(データ入力①)'!$F$3=\"\",\"\",IFERROR(HLOOKUP(AB$2,'生徒(データ入力①)'!$F$3:$AS$24,11,FALSE)&\"\",\"\"))","v":""},{"$f":"IF('生徒(データ入力①)'!$F$3=\"\",\"\",IFERROR(HLOOKUP(AC$2,'生徒(データ入力①)'!$F$3:$AS$24,11,FALSE)&\"\",\"\"))","v":""},{"$f":"IF('生徒(データ入力①)'!$F$3=\"\",\"\",IFERROR(HLOOKUP(AD$2,'生徒(データ入力①)'!$F$3:$AS$24,11,FALSE)&\"\",\"\"))","v":""},{"$f":"IF('生徒(データ入力①)'!$F$3=\"\",\"\",IFERROR(HLOOKUP(AE$2,'生徒(データ入力①)'!$F$3:$AS$24,11,FALSE)&\"\",\"\"))","v":""},{"$f":"IF('生徒(データ入力①)'!$F$3=\"\",\"\",IFERROR(HLOOKUP(AF$2,'生徒(データ入力①)'!$F$3:$AS$24,11,FALSE)&\"\",\"\"))","v":""},{"$f":"IF('生徒(データ入力①)'!$F$3=\"\",\"\",IFERROR(HLOOKUP(AG$2,'生徒(データ入力①)'!$F$3:$AS$24,11,FALSE)&\"\",\"\"))","v":""},{"$f":"IF('生徒(データ入力①)'!$F$3=\"\",\"\",IFERROR(HLOOKUP(AH$2,'生徒(データ入力①)'!$F$3:$AS$24,11,FALSE)&\"\",\"\"))","v":""},{"$f":"IF('生徒(データ入力①)'!$F$3=\"\",\"\",IFERROR(HLOOKUP(AI$2,'生徒(データ入力①)'!$F$3:$AS$24,11,FALSE)&\"\",\"\"))","v":""},{"$f":"IF('生徒(データ入力①)'!$F$3=\"\",\"\",IFERROR(HLOOKUP(AJ$2,'生徒(データ入力①)'!$F$3:$AS$24,11,FALSE)&\"\",\"\"))","v":""},{"$f":"IF('生徒(データ入力①)'!$F$3=\"\",\"\",IFERROR(HLOOKUP(AK$2,'生徒(データ入力①)'!$F$3:$AS$24,11,FALSE)&\"\",\"\"))","v":""},{"$f":"IF('生徒(データ入力①)'!$F$3=\"\",\"\",IFERROR(HLOOKUP(AL$2,'生徒(データ入力①)'!$F$3:$AS$24,11,FALSE)&\"\",\"\"))","v":""},{"$f":"IF('生徒(データ入力①)'!$F$3=\"\",\"\",IFERROR(HLOOKUP(AM$2,'生徒(データ入力①)'!$F$3:$AS$24,11,FALSE)&\"\",\"\"))","v":""},{"$f":"IF('生徒(データ入力①)'!$F$3=\"\",\"\",IFERROR(HLOOKUP(AN$2,'生徒(データ入力①)'!$F$3:$AS$24,11,FALSE)&\"\",\"\"))","v":""},{"$f":"IF('生徒(データ入力①)'!$F$3=\"\",\"\",IFERROR(HLOOKUP(AO$2,'生徒(データ入力①)'!$F$3:$AS$24,11,FALSE)&\"\",\"\"))","v":""},{"$f":"IF('生徒(データ入力①)'!$F$3=\"\",\"\",IFERROR(HLOOKUP(AP$2,'生徒(データ入力①)'!$F$3:$AS$24,11,FALSE)&\"\",\"\"))","v":""},{"$f":"IF('生徒(データ入力①)'!$F$3=\"\",\"\",IFERROR(HLOOKUP(AQ$2,'生徒(データ入力①)'!$F$3:$AS$24,11,FALSE)&\"\",\"\"))","v":""},{"$f":"IF('生徒(データ入力①)'!$F$3=\"\",\"\",IFERROR(HLOOKUP(AR$2,'生徒(データ入力①)'!$F$3:$AS$24,11,FALSE)&\"\",\"\"))","v":""},{"$f":"IF('生徒(データ入力①)'!$F$3=\"\",\"\",IFERROR(HLOOKUP(AS$2,'生徒(データ入力①)'!$F$3:$AS$24,11,FALSE)&\"\",\"\"))","v":""},{"$f":"IF('生徒(データ入力①)'!$F$3=\"\",\"\",IFERROR(HLOOKUP(AT$2,'生徒(データ入力①)'!$F$3:$AS$24,11,FALSE)&\"\",\"\"))","v":""},{"$f":"IF('生徒(データ入力①)'!$F$3=\"\",\"\",IFERROR(HLOOKUP(AU$2,'生徒(データ入力①)'!$F$3:$AS$24,11,FALSE)&\"\",\"\"))","v":""},{"$f":"IF('生徒(データ入力①)'!$F$3=\"\",\"\",IFERROR(HLOOKUP(AV$2,'生徒(データ入力①)'!$F$3:$AS$24,11,FALSE)&\"\",\"\"))","v":""},{"$f":"IF('生徒(データ入力①)'!$F$3=\"\",\"\",IFERROR(HLOOKUP(AW$2,'生徒(データ入力①)'!$F$3:$BC$24,11,FALSE)&\"\",\"\"))","v":""},{"$f":"IF('生徒(データ入力①)'!$F$3=\"\",\"\",IFERROR(HLOOKUP(AX$2,'生徒(データ入力①)'!$F$3:$BC$24,11,FALSE)&\"\",\"\"))","v":""},{"$f":"IF('生徒(データ入力①)'!$F$3=\"\",\"\",IFERROR(HLOOKUP(AY$2,'生徒(データ入力①)'!$F$3:$BC$24,11,FALSE)&\"\",\"\"))","v":""},{"$f":"IF('生徒(データ入力①)'!$F$3=\"\",\"\",IFERROR(HLOOKUP(AZ$2,'生徒(データ入力①)'!$F$3:$BC$24,11,FALSE)&\"\",\"\"))","v":""},{"$f":"IF('生徒(データ入力①)'!$F$3=\"\",\"\",IFERROR(HLOOKUP(BA$2,'生徒(データ入力①)'!$F$3:$BC$24,11,FALSE)&\"\",\"\"))","v":""},{"$f":"IF('生徒(データ入力①)'!$F$3=\"\",\"\",IFERROR(HLOOKUP(BB$2,'生徒(データ入力①)'!$F$3:$BC$24,11,FALSE)&\"\",\"\"))","v":""},{"$f":"IF('生徒(データ入力①)'!$F$3=\"\",\"\",IFERROR(HLOOKUP(BC$2,'生徒(データ入力①)'!$F$3:$BC$24,11,FALSE)&\"\",\"\"))","v":""},{"$f":"IF('生徒(データ入力①)'!$F$3=\"\",\"\",IFERROR(HLOOKUP(BD$2,'生徒(データ入力①)'!$F$3:$BC$24,11,FALSE)&\"\",\"\"))","v":""},{"$f":"IF('生徒(データ入力①)'!$F$3=\"\",\"\",IFERROR(HLOOKUP(BE$2,'生徒(データ入力①)'!$F$3:$BC$24,11,FALSE)&\"\",\"\"))","v":""},{"$f":"IF('生徒(データ入力①)'!$F$3=\"\",\"\",IFERROR(HLOOKUP(BF$2,'生徒(データ入力①)'!$F$3:$BC$24,11,FALSE)&\"\",\"\"))","v":""},0,{"$error":"#DIV/0!"},null,0,{"$error":"#DIV/0!"},null,0,{"$error":"#DIV/0!"},null,0,{"$error":"#DIV/0!"},null,null,0,{"$error":"#DIV/0!"},0,{"$error":"#DIV/0!"}]
[null,null,{"$f":"'生徒(個人)'!B19","v":"私の学級では，私の考えを伝えたいと思える場面や機会がある。"},{"$error":"#DIV/0!"},{"$error":"#DIV/0!"},{"$error":"#DIV/0!"},{"$error":"#DIV/0!"},null,{"$f":"IF('生徒(データ入力①)'!$F$3=\"\",\"\",IFERROR(HLOOKUP(I$2,'生徒(データ入力①)'!$F$3:$AS$24,5,FALSE)&\"\",\"\"))","v":""},{"$f":"IF('生徒(データ入力①)'!$F$3=\"\",\"\",IFERROR(HLOOKUP(J$2,'生徒(データ入力①)'!$F$3:$AS$24,5,FALSE)&\"\",\"\"))","v":""},{"$f":"IF('生徒(データ入力①)'!$F$3=\"\",\"\",IFERROR(HLOOKUP(K$2,'生徒(データ入力①)'!$F$3:$AS$24,5,FALSE)&\"\",\"\"))","v":""},{"$f":"IF('生徒(データ入力①)'!$F$3=\"\",\"\",IFERROR(HLOOKUP(L$2,'生徒(データ入力①)'!$F$3:$AS$24,5,FALSE)&\"\",\"\"))","v":""},{"$f":"IF('生徒(データ入力①)'!$F$3=\"\",\"\",IFERROR(HLOOKUP(M$2,'生徒(データ入力①)'!$F$3:$AS$24,5,FALSE)&\"\",\"\"))","v":""},{"$f":"IF('生徒(データ入力①)'!$F$3=\"\",\"\",IFERROR(HLOOKUP(N$2,'生徒(データ入力①)'!$F$3:$AS$24,5,FALSE)&\"\",\"\"))","v":""},{"$f":"IF('生徒(データ入力①)'!$F$3=\"\",\"\",IFERROR(HLOOKUP(O$2,'生徒(データ入力①)'!$F$3:$AS$24,5,FALSE)&\"\",\"\"))","v":""},{"$f":"IF('生徒(データ入力①)'!$F$3=\"\",\"\",IFERROR(HLOOKUP(P$2,'生徒(データ入力①)'!$F$3:$AS$24,5,FALSE)&\"\",\"\"))","v":""},{"$f":"IF('生徒(データ入力①)'!$F$3=\"\",\"\",IFERROR(HLOOKUP(Q$2,'生徒(データ入力①)'!$F$3:$AS$24,5,FALSE)&\"\",\"\"))","v":""},{"$f":"IF('生徒(データ入力①)'!$F$3=\"\",\"\",IFERROR(HLOOKUP(R$2,'生徒(データ入力①)'!$F$3:$AS$24,5,FALSE)&\"\",\"\"))","v":""},{"$f":"IF('生徒(データ入力①)'!$F$3=\"\",\"\",IFERROR(HLOOKUP(S$2,'生徒(データ入力①)'!$F$3:$AS$24,5,FALSE)&\"\",\"\"))","v":""},{"$f":"IF('生徒(データ入力①)'!$F$3=\"\",\"\",IFERROR(HLOOKUP(T$2,'生徒(データ入力①)'!$F$3:$AS$24,5,FALSE)&\"\",\"\"))","v":""},{"$f":"IF('生徒(データ入力①)'!$F$3=\"\",\"\",IFERROR(HLOOKUP(U$2,'生徒(データ入力①)'!$F$3:$AS$24,5,FALSE)&\"\",\"\"))","v":""},{"$f":"IF('生徒(データ入力①)'!$F$3=\"\",\"\",IFERROR(HLOOKUP(V$2,'生徒(データ入力①)'!$F$3:$AS$24,5,FALSE)&\"\",\"\"))","v":""},{"$f":"IF('生徒(データ入力①)'!$F$3=\"\",\"\",IFERROR(HLOOKUP(W$2,'生徒(データ入力①)'!$F$3:$AS$24,5,FALSE)&\"\",\"\"))","v":""},{"$f":"IF('生徒(データ入力①)'!$F$3=\"\",\"\",IFERROR(HLOOKUP(X$2,'生徒(データ入力①)'!$F$3:$AS$24,5,FALSE)&\"\",\"\"))","v":""},{"$f":"IF('生徒(データ入力①)'!$F$3=\"\",\"\",IFERROR(HLOOKUP(Y$2,'生徒(データ入力①)'!$F$3:$AS$24,5,FALSE)&\"\",\"\"))","v":""},{"$f":"IF('生徒(データ入力①)'!$F$3=\"\",\"\",IFERROR(HLOOKUP(Z$2,'生徒(データ入力①)'!$F$3:$AS$24,5,FALSE)&\"\",\"\"))","v":""},{"$f":"IF('生徒(データ入力①)'!$F$3=\"\",\"\",IFERROR(HLOOKUP(AA$2,'生徒(データ入力①)'!$F$3:$AS$24,5,FALSE)&\"\",\"\"))","v":""},{"$f":"IF('生徒(データ入力①)'!$F$3=\"\",\"\",IFERROR(HLOOKUP(AB$2,'生徒(データ入力①)'!$F$3:$AS$24,5,FALSE)&\"\",\"\"))","v":""},{"$f":"IF('生徒(データ入力①)'!$F$3=\"\",\"\",IFERROR(HLOOKUP(AC$2,'生徒(データ入力①)'!$F$3:$AS$24,5,FALSE)&\"\",\"\"))","v":""},{"$f":"IF('生徒(データ入力①)'!$F$3=\"\",\"\",IFERROR(HLOOKUP(AD$2,'生徒(データ入力①)'!$F$3:$AS$24,5,FALSE)&\"\",\"\"))","v":""},{"$f":"IF('生徒(データ入力①)'!$F$3=\"\",\"\",IFERROR(HLOOKUP(AE$2,'生徒(データ入力①)'!$F$3:$AS$24,5,FALSE)&\"\",\"\"))","v":""},{"$f":"IF('生徒(データ入力①)'!$F$3=\"\",\"\",IFERROR(HLOOKUP(AF$2,'生徒(データ入力①)'!$F$3:$AS$24,5,FALSE)&\"\",\"\"))","v":""},{"$f":"IF('生徒(データ入力①)'!$F$3=\"\",\"\",IFERROR(HLOOKUP(AG$2,'生徒(データ入力①)'!$F$3:$AS$24,5,FALSE)&\"\",\"\"))","v":""},{"$f":"IF('生徒(データ入力①)'!$F$3=\"\",\"\",IFERROR(HLOOKUP(AH$2,'生徒(データ入力①)'!$F$3:$AS$24,5,FALSE)&\"\",\"\"))","v":""},{"$f":"IF('生徒(データ入力①)'!$F$3=\"\",\"\",IFERROR(HLOOKUP(AI$2,'生徒(データ入力①)'!$F$3:$AS$24,5,FALSE)&\"\",\"\"))","v":""},{"$f":"IF('生徒(データ入力①)'!$F$3=\"\",\"\",IFERROR(HLOOKUP(AJ$2,'生徒(データ入力①)'!$F$3:$AS$24,5,FALSE)&\"\",\"\"))","v":""},{"$f":"IF('生徒(データ入力①)'!$F$3=\"\",\"\",IFERROR(HLOOKUP(AK$2,'生徒(データ入力①)'!$F$3:$AS$24,5,FALSE)&\"\",\"\"))","v":""},{"$f":"IF('生徒(データ入力①)'!$F$3=\"\",\"\",IFERROR(HLOOKUP(AL$2,'生徒(データ入力①)'!$F$3:$AS$24,5,FALSE)&\"\",\"\"))","v":""},{"$f":"IF('生徒(データ入力①)'!$F$3=\"\",\"\",IFERROR(HLOOKUP(AM$2,'生徒(データ入力①)'!$F$3:$AS$24,5,FALSE)&\"\",\"\"))","v":""},{"$f":"IF('生徒(データ入力①)'!$F$3=\"\",\"\",IFERROR(HLOOKUP(AN$2,'生徒(データ入力①)'!$F$3:$AS$24,5,FALSE)&\"\",\"\"))","v":""},{"$f":"IF('生徒(データ入力①)'!$F$3=\"\",\"\",IFERROR(HLOOKUP(AO$2,'生徒(データ入力①)'!$F$3:$AS$24,5,FALSE)&\"\",\"\"))","v":""},{"$f":"IF('生徒(データ入力①)'!$F$3=\"\",\"\",IFERROR(HLOOKUP(AP$2,'生徒(データ入力①)'!$F$3:$AS$24,5,FALSE)&\"\",\"\"))","v":""},{"$f":"IF('生徒(データ入力①)'!$F$3=\"\",\"\",IFERROR(HLOOKUP(AQ$2,'生徒(データ入力①)'!$F$3:$AS$24,5,FALSE)&\"\",\"\"))","v":""},{"$f":"IF('生徒(データ入力①)'!$F$3=\"\",\"\",IFERROR(HLOOKUP(AR$2,'生徒(データ入力①)'!$F$3:$AS$24,5,FALSE)&\"\",\"\"))","v":""},{"$f":"IF('生徒(データ入力①)'!$F$3=\"\",\"\",IFERROR(HLOOKUP(AS$2,'生徒(データ入力①)'!$F$3:$AS$24,5,FALSE)&\"\",\"\"))","v":""},{"$f":"IF('生徒(データ入力①)'!$F$3=\"\",\"\",IFERROR(HLOOKUP(AT$2,'生徒(データ入力①)'!$F$3:$AS$24,5,FALSE)&\"\",\"\"))","v":""},{"$f":"IF('生徒(データ入力①)'!$F$3=\"\",\"\",IFERROR(HLOOKUP(AU$2,'生徒(データ入力①)'!$F$3:$AS$24,5,FALSE)&\"\",\"\"))","v":""},{"$f":"IF('生徒(データ入力①)'!$F$3=\"\",\"\",IFERROR(HLOOKUP(AV$2,'生徒(データ入力①)'!$F$3:$AS$24,5,FALSE)&\"\",\"\"))","v":""},{"$f":"IF('生徒(データ入力①)'!$F$3=\"\",\"\",IFERROR(HLOOKUP(AW$2,'生徒(データ入力①)'!$F$3:$BC$24,5,FALSE)&\"\",\"\"))","v":""},{"$f":"IF('生徒(データ入力①)'!$F$3=\"\",\"\",IFERROR(HLOOKUP(AX$2,'生徒(データ入力①)'!$F$3:$BC$24,5,FALSE)&\"\",\"\"))","v":""},{"$f":"IF('生徒(データ入力①)'!$F$3=\"\",\"\",IFERROR(HLOOKUP(AY$2,'生徒(データ入力①)'!$F$3:$BC$24,5,FALSE)&\"\",\"\"))","v":""},{"$f":"IF('生徒(データ入力①)'!$F$3=\"\",\"\",IFERROR(HLOOKUP(AZ$2,'生徒(データ入力①)'!$F$3:$BC$24,5,FALSE)&\"\",\"\"))","v":""},{"$f":"IF('生徒(データ入力①)'!$F$3=\"\",\"\",IFERROR(HLOOKUP(BA$2,'生徒(データ入力①)'!$F$3:$BC$24,5,FALSE)&\"\",\"\"))","v":""},{"$f":"IF('生徒(データ入力①)'!$F$3=\"\",\"\",IFERROR(HLOOKUP(BB$2,'生徒(データ入力①)'!$F$3:$BC$24,5,FALSE)&\"\",\"\"))","v":""},{"$f":"IF('生徒(データ入力①)'!$F$3=\"\",\"\",IFERROR(HLOOKUP(BC$2,'生徒(データ入力①)'!$F$3:$BC$24,5,FALSE)&\"\",\"\"))","v":""},{"$f":"IF('生徒(データ入力①)'!$F$3=\"\",\"\",IFERROR(HLOOKUP(BD$2,'生徒(データ入力①)'!$F$3:$BC$24,5,FALSE)&\"\",\"\"))","v":""},{"$f":"IF('生徒(データ入力①)'!$F$3=\"\",\"\",IFERROR(HLOOKUP(BE$2,'生徒(データ入力①)'!$F$3:$BC$24,5,FALSE)&\"\",\"\"))","v":""},{"$f":"IF('生徒(データ入力①)'!$F$3=\"\",\"\",IFERROR(HLOOKUP(BF$2,'生徒(データ入力①)'!$F$3:$BC$24,5,FALSE)&\"\",\"\"))","v":""},0,{"$error":"#DIV/0!"},null,0,{"$error":"#DIV/0!"},null,0,{"$error":"#DIV/0!"},null,0,{"$error":"#DIV/0!"},null,null,0,{"$error":"#DIV/0!"},0,{"$error":"#DIV/0!"}]
[null,null,{"$f":"'生徒(個人)'!B20","v":"私の学級では，自分一人で考える場面で，必要な情報が示されている。"},{"$error":"#DIV/0!"},{"$error":"#DIV/0!"},{"$error":"#DIV/0!"},{"$error":"#DIV/0!"},null,{"$f":"IF('生徒(データ入力①)'!$F$3=\"\",\"\",IFERROR(HLOOKUP(I$2,'生徒(データ入力①)'!$F$3:$AS$24,14,FALSE)&\"\",\"\"))","v":""},{"$f":"IF('生徒(データ入力①)'!$F$3=\"\",\"\",IFERROR(HLOOKUP(J$2,'生徒(データ入力①)'!$F$3:$AS$24,14,FALSE)&\"\",\"\"))","v":""},{"$f":"IF('生徒(データ入力①)'!$F$3=\"\",\"\",IFERROR(HLOOKUP(K$2,'生徒(データ入力①)'!$F$3:$AS$24,14,FALSE)&\"\",\"\"))","v":""},{"$f":"IF('生徒(データ入力①)'!$F$3=\"\",\"\",IFERROR(HLOOKUP(L$2,'生徒(データ入力①)'!$F$3:$AS$24,14,FALSE)&\"\",\"\"))","v":""},{"$f":"IF('生徒(データ入力①)'!$F$3=\"\",\"\",IFERROR(HLOOKUP(M$2,'生徒(データ入力①)'!$F$3:$AS$24,14,FALSE)&\"\",\"\"))","v":""},{"$f":"IF('生徒(データ入力①)'!$F$3=\"\",\"\",IFERROR(HLOOKUP(N$2,'生徒(データ入力①)'!$F$3:$AS$24,14,FALSE)&\"\",\"\"))","v":""},{"$f":"IF('生徒(データ入力①)'!$F$3=\"\",\"\",IFERROR(HLOOKUP(O$2,'生徒(データ入力①)'!$F$3:$AS$24,14,FALSE)&\"\",\"\"))","v":""},{"$f":"IF('生徒(データ入力①)'!$F$3=\"\",\"\",IFERROR(HLOOKUP(P$2,'生徒(データ入力①)'!$F$3:$AS$24,14,FALSE)&\"\",\"\"))","v":""},{"$f":"IF('生徒(データ入力①)'!$F$3=\"\",\"\",IFERROR(HLOOKUP(Q$2,'生徒(データ入力①)'!$F$3:$AS$24,14,FALSE)&\"\",\"\"))","v":""},{"$f":"IF('生徒(データ入力①)'!$F$3=\"\",\"\",IFERROR(HLOOKUP(R$2,'生徒(データ入力①)'!$F$3:$AS$24,14,FALSE)&\"\",\"\"))","v":""},{"$f":"IF('生徒(データ入力①)'!$F$3=\"\",\"\",IFERROR(HLOOKUP(S$2,'生徒(データ入力①)'!$F$3:$AS$24,14,FALSE)&\"\",\"\"))","v":""},{"$f":"IF('生徒(データ入力①)'!$F$3=\"\",\"\",IFERROR(HLOOKUP(T$2,'生徒(データ入力①)'!$F$3:$AS$24,14,FALSE)&\"\",\"\"))","v":""},{"$f":"IF('生徒(データ入力①)'!$F$3=\"\",\"\",IFERROR(HLOOKUP(U$2,'生徒(データ入力①)'!$F$3:$AS$24,14,FALSE)&\"\",\"\"))","v":""},{"$f":"IF('生徒(データ入力①)'!$F$3=\"\",\"\",IFERROR(HLOOKUP(V$2,'生徒(データ入力①)'!$F$3:$AS$24,14,FALSE)&\"\",\"\"))","v":""},{"$f":"IF('生徒(データ入力①)'!$F$3=\"\",\"\",IFERROR(HLOOKUP(W$2,'生徒(データ入力①)'!$F$3:$AS$24,14,FALSE)&\"\",\"\"))","v":""},{"$f":"IF('生徒(データ入力①)'!$F$3=\"\",\"\",IFERROR(HLOOKUP(X$2,'生徒(データ入力①)'!$F$3:$AS$24,14,FALSE)&\"\",\"\"))","v":""},{"$f":"IF('生徒(データ入力①)'!$F$3=\"\",\"\",IFERROR(HLOOKUP(Y$2,'生徒(データ入力①)'!$F$3:$AS$24,14,FALSE)&\"\",\"\"))","v":""},{"$f":"IF('生徒(データ入力①)'!$F$3=\"\",\"\",IFERROR(HLOOKUP(Z$2,'生徒(データ入力①)'!$F$3:$AS$24,14,FALSE)&\"\",\"\"))","v":""},{"$f":"IF('生徒(データ入力①)'!$F$3=\"\",\"\",IFERROR(HLOOKUP(AA$2,'生徒(データ入力①)'!$F$3:$AS$24,14,FALSE)&\"\",\"\"))","v":""},{"$f":"IF('生徒(データ入力①)'!$F$3=\"\",\"\",IFERROR(HLOOKUP(AB$2,'生徒(データ入力①)'!$F$3:$AS$24,14,FALSE)&\"\",\"\"))","v":""},{"$f":"IF('生徒(データ入力①)'!$F$3=\"\",\"\",IFERROR(HLOOKUP(AC$2,'生徒(データ入力①)'!$F$3:$AS$24,14,FALSE)&\"\",\"\"))","v":""},{"$f":"IF('生徒(データ入力①)'!$F$3=\"\",\"\",IFERROR(HLOOKUP(AD$2,'生徒(データ入力①)'!$F$3:$AS$24,14,FALSE)&\"\",\"\"))","v":""},{"$f":"IF('生徒(データ入力①)'!$F$3=\"\",\"\",IFERROR(HLOOKUP(AE$2,'生徒(データ入力①)'!$F$3:$AS$24,14,FALSE)&\"\",\"\"))","v":""},{"$f":"IF('生徒(データ入力①)'!$F$3=\"\",\"\",IFERROR(HLOOKUP(AF$2,'生徒(データ入力①)'!$F$3:$AS$24,14,FALSE)&\"\",\"\"))","v":""},{"$f":"IF('生徒(データ入力①)'!$F$3=\"\",\"\",IFERROR(HLOOKUP(AG$2,'生徒(データ入力①)'!$F$3:$AS$24,14,FALSE)&\"\",\"\"))","v":""},{"$f":"IF('生徒(データ入力①)'!$F$3=\"\",\"\",IFERROR(HLOOKUP(AH$2,'生徒(データ入力①)'!$F$3:$AS$24,14,FALSE)&\"\",\"\"))","v":""},{"$f":"IF('生徒(データ入力①)'!$F$3=\"\",\"\",IFERROR(HLOOKUP(AI$2,'生徒(データ入力①)'!$F$3:$AS$24,14,FALSE)&\"\",\"\"))","v":""},{"$f":"IF('生徒(データ入力①)'!$F$3=\"\",\"\",IFERROR(HLOOKUP(AJ$2,'生徒(データ入力①)'!$F$3:$AS$24,14,FALSE)&\"\",\"\"))","v":""},{"$f":"IF('生徒(データ入力①)'!$F$3=\"\",\"\",IFERROR(HLOOKUP(AK$2,'生徒(データ入力①)'!$F$3:$AS$24,14,FALSE)&\"\",\"\"))","v":""},{"$f":"IF('生徒(データ入力①)'!$F$3=\"\",\"\",IFERROR(HLOOKUP(AL$2,'生徒(データ入力①)'!$F$3:$AS$24,14,FALSE)&\"\",\"\"))","v":""},{"$f":"IF('生徒(データ入力①)'!$F$3=\"\",\"\",IFERROR(HLOOKUP(AM$2,'生徒(データ入力①)'!$F$3:$AS$24,14,FALSE)&\"\",\"\"))","v":""},{"$f":"IF('生徒(データ入力①)'!$F$3=\"\",\"\",IFERROR(HLOOKUP(AN$2,'生徒(データ入力①)'!$F$3:$AS$24,14,FALSE)&\"\",\"\"))","v":""},{"$f":"IF('生徒(データ入力①)'!$F$3=\"\",\"\",IFERROR(HLOOKUP(AO$2,'生徒(データ入力①)'!$F$3:$AS$24,14,FALSE)&\"\",\"\"))","v":""},{"$f":"IF('生徒(データ入力①)'!$F$3=\"\",\"\",IFERROR(HLOOKUP(AP$2,'生徒(データ入力①)'!$F$3:$AS$24,14,FALSE)&\"\",\"\"))","v":""},{"$f":"IF('生徒(データ入力①)'!$F$3=\"\",\"\",IFERROR(HLOOKUP(AQ$2,'生徒(データ入力①)'!$F$3:$AS$24,14,FALSE)&\"\",\"\"))","v":""},{"$f":"IF('生徒(データ入力①)'!$F$3=\"\",\"\",IFERROR(HLOOKUP(AR$2,'生徒(データ入力①)'!$F$3:$AS$24,14,FALSE)&\"\",\"\"))","v":""},{"$f":"IF('生徒(データ入力①)'!$F$3=\"\",\"\",IFERROR(HLOOKUP(AS$2,'生徒(データ入力①)'!$F$3:$AS$24,14,FALSE)&\"\",\"\"))","v":""},{"$f":"IF('生徒(データ入力①)'!$F$3=\"\",\"\",IFERROR(HLOOKUP(AT$2,'生徒(データ入力①)'!$F$3:$AS$24,14,FALSE)&\"\",\"\"))","v":""},{"$f":"IF('生徒(データ入力①)'!$F$3=\"\",\"\",IFERROR(HLOOKUP(AU$2,'生徒(データ入力①)'!$F$3:$AS$24,14,FALSE)&\"\",\"\"))","v":""},{"$f":"IF('生徒(データ入力①)'!$F$3=\"\",\"\",IFERROR(HLOOKUP(AV$2,'生徒(データ入力①)'!$F$3:$AS$24,14,FALSE)&\"\",\"\"))","v":""},{"$f":"IF('生徒(データ入力①)'!$F$3=\"\",\"\",IFERROR(HLOOKUP(AW$2,'生徒(データ入力①)'!$F$3:$BC$24,14,FALSE)&\"\",\"\"))","v":""},{"$f":"IF('生徒(データ入力①)'!$F$3=\"\",\"\",IFERROR(HLOOKUP(AX$2,'生徒(データ入力①)'!$F$3:$BC$24,14,FALSE)&\"\",\"\"))","v":""},{"$f":"IF('生徒(データ入力①)'!$F$3=\"\",\"\",IFERROR(HLOOKUP(AY$2,'生徒(データ入力①)'!$F$3:$BC$24,14,FALSE)&\"\",\"\"))","v":""},{"$f":"IF('生徒(データ入力①)'!$F$3=\"\",\"\",IFERROR(HLOOKUP(AZ$2,'生徒(データ入力①)'!$F$3:$BC$24,14,FALSE)&\"\",\"\"))","v":""},{"$f":"IF('生徒(データ入力①)'!$F$3=\"\",\"\",IFERROR(HLOOKUP(BA$2,'生徒(データ入力①)'!$F$3:$BC$24,14,FALSE)&\"\",\"\"))","v":""},{"$f":"IF('生徒(データ入力①)'!$F$3=\"\",\"\",IFERROR(HLOOKUP(BB$2,'生徒(データ入力①)'!$F$3:$BC$24,14,FALSE)&\"\",\"\"))","v":""},{"$f":"IF('生徒(データ入力①)'!$F$3=\"\",\"\",IFERROR(HLOOKUP(BC$2,'生徒(データ入力①)'!$F$3:$BC$24,14,FALSE)&\"\",\"\"))","v":""},{"$f":"IF('生徒(データ入力①)'!$F$3=\"\",\"\",IFERROR(HLOOKUP(BD$2,'生徒(データ入力①)'!$F$3:$BC$24,14,FALSE)&\"\",\"\"))","v":""},{"$f":"IF('生徒(データ入力①)'!$F$3=\"\",\"\",IFERROR(HLOOKUP(BE$2,'生徒(データ入力①)'!$F$3:$BC$24,14,FALSE)&\"\",\"\"))","v":""},{"$f":"IF('生徒(データ入力①)'!$F$3=\"\",\"\",IFERROR(HLOOKUP(BF$2,'生徒(データ入力①)'!$F$3:$BC$24,14,FALSE)&\"\",\"\"))","v":""},0,{"$error":"#DIV/0!"},null,0,{"$error":"#DIV/0!"},null,0,{"$error":"#DIV/0!"},null,0,{"$error":"#DIV/0!"},null,null,0,{"$error":"#DIV/0!"},0,{"$error":"#DIV/0!"}]
[null,"ルールが守られ他者から傷つけられないという安心感",{"$f":"'生徒(個人)'!B21","v":"私の学級では，係活動や清掃など，みんなが自分の役割に責任を持って取り組んでいる。"},{"$error":"#DIV/0!"},{"$error":"#DIV/0!"},{"$error":"#DIV/0!"},{"$error":"#DIV/0!"},null,{"$f":"IF('生徒(データ入力①)'!$F$3=\"\",\"\",IFERROR(HLOOKUP(I$2,'生徒(データ入力①)'!$F$3:$AS$24,12,FALSE)&\"\",\"\"))","v":""},{"$f":"IF('生徒(データ入力①)'!$F$3=\"\",\"\",IFERROR(HLOOKUP(J$2,'生徒(データ入力①)'!$F$3:$AS$24,12,FALSE)&\"\",\"\"))","v":""},{"$f":"IF('生徒(データ入力①)'!$F$3=\"\",\"\",IFERROR(HLOOKUP(K$2,'生徒(データ入力①)'!$F$3:$AS$24,12,FALSE)&\"\",\"\"))","v":""},{"$f":"IF('生徒(データ入力①)'!$F$3=\"\",\"\",IFERROR(HLOOKUP(L$2,'生徒(データ入力①)'!$F$3:$AS$24,12,FALSE)&\"\",\"\"))","v":""},{"$f":"IF('生徒(データ入力①)'!$F$3=\"\",\"\",IFERROR(HLOOKUP(M$2,'生徒(データ入力①)'!$F$3:$AS$24,12,FALSE)&\"\",\"\"))","v":""},{"$f":"IF('生徒(データ入力①)'!$F$3=\"\",\"\",IFERROR(HLOOKUP(N$2,'生徒(データ入力①)'!$F$3:$AS$24,12,FALSE)&\"\",\"\"))","v":""},{"$f":"IF('生徒(データ入力①)'!$F$3=\"\",\"\",IFERROR(HLOOKUP(O$2,'生徒(データ入力①)'!$F$3:$AS$24,12,FALSE)&\"\",\"\"))","v":""},{"$f":"IF('生徒(データ入力①)'!$F$3=\"\",\"\",IFERROR(HLOOKUP(P$2,'生徒(データ入力①)'!$F$3:$AS$24,12,FALSE)&\"\",\"\"))","v":""},{"$f":"IF('生徒(データ入力①)'!$F$3=\"\",\"\",IFERROR(HLOOKUP(Q$2,'生徒(データ入力①)'!$F$3:$AS$24,12,FALSE)&\"\",\"\"))","v":""},{"$f":"IF('生徒(データ入力①)'!$F$3=\"\",\"\",IFERROR(HLOOKUP(R$2,'生徒(データ入力①)'!$F$3:$AS$24,12,FALSE)&\"\",\"\"))","v":""},{"$f":"IF('生徒(データ入力①)'!$F$3=\"\",\"\",IFERROR(HLOOKUP(S$2,'生徒(データ入力①)'!$F$3:$AS$24,12,FALSE)&\"\",\"\"))","v":""},{"$f":"IF('生徒(データ入力①)'!$F$3=\"\",\"\",IFERROR(HLOOKUP(T$2,'生徒(データ入力①)'!$F$3:$AS$24,12,FALSE)&\"\",\"\"))","v":""},{"$f":"IF('生徒(データ入力①)'!$F$3=\"\",\"\",IFERROR(HLOOKUP(U$2,'生徒(データ入力①)'!$F$3:$AS$24,12,FALSE)&\"\",\"\"))","v":""},{"$f":"IF('生徒(データ入力①)'!$F$3=\"\",\"\",IFERROR(HLOOKUP(V$2,'生徒(データ入力①)'!$F$3:$AS$24,12,FALSE)&\"\",\"\"))","v":""},{"$f":"IF('生徒(データ入力①)'!$F$3=\"\",\"\",IFERROR(HLOOKUP(W$2,'生徒(データ入力①)'!$F$3:$AS$24,12,FALSE)&\"\",\"\"))","v":""},{"$f":"IF('生徒(データ入力①)'!$F$3=\"\",\"\",IFERROR(HLOOKUP(X$2,'生徒(データ入力①)'!$F$3:$AS$24,12,FALSE)&\"\",\"\"))","v":""},{"$f":"IF('生徒(データ入力①)'!$F$3=\"\",\"\",IFERROR(HLOOKUP(Y$2,'生徒(データ入力①)'!$F$3:$AS$24,12,FALSE)&\"\",\"\"))","v":""},{"$f":"IF('生徒(データ入力①)'!$F$3=\"\",\"\",IFERROR(HLOOKUP(Z$2,'生徒(データ入力①)'!$F$3:$AS$24,12,FALSE)&\"\",\"\"))","v":""},{"$f":"IF('生徒(データ入力①)'!$F$3=\"\",\"\",IFERROR(HLOOKUP(AA$2,'生徒(データ入力①)'!$F$3:$AS$24,12,FALSE)&\"\",\"\"))","v":""},{"$f":"IF('生徒(データ入力①)'!$F$3=\"\",\"\",IFERROR(HLOOKUP(AB$2,'生徒(データ入力①)'!$F$3:$AS$24,12,FALSE)&\"\",\"\"))","v":""},{"$f":"IF('生徒(データ入力①)'!$F$3=\"\",\"\",IFERROR(HLOOKUP(AC$2,'生徒(データ入力①)'!$F$3:$AS$24,12,FALSE)&\"\",\"\"))","v":""},{"$f":"IF('生徒(データ入力①)'!$F$3=\"\",\"\",IFERROR(HLOOKUP(AD$2,'生徒(データ入力①)'!$F$3:$AS$24,12,FALSE)&\"\",\"\"))","v":""},{"$f":"IF('生徒(データ入力①)'!$F$3=\"\",\"\",IFERROR(HLOOKUP(AE$2,'生徒(データ入力①)'!$F$3:$AS$24,12,FALSE)&\"\",\"\"))","v":""},{"$f":"IF('生徒(データ入力①)'!$F$3=\"\",\"\",IFERROR(HLOOKUP(AF$2,'生徒(データ入力①)'!$F$3:$AS$24,12,FALSE)&\"\",\"\"))","v":""},{"$f":"IF('生徒(データ入力①)'!$F$3=\"\",\"\",IFERROR(HLOOKUP(AG$2,'生徒(データ入力①)'!$F$3:$AS$24,12,FALSE)&\"\",\"\"))","v":""},{"$f":"IF('生徒(データ入力①)'!$F$3=\"\",\"\",IFERROR(HLOOKUP(AH$2,'生徒(データ入力①)'!$F$3:$AS$24,12,FALSE)&\"\",\"\"))","v":""},{"$f":"IF('生徒(データ入力①)'!$F$3=\"\",\"\",IFERROR(HLOOKUP(AI$2,'生徒(データ入力①)'!$F$3:$AS$24,12,FALSE)&\"\",\"\"))","v":""},{"$f":"IF('生徒(データ入力①)'!$F$3=\"\",\"\",IFERROR(HLOOKUP(AJ$2,'生徒(データ入力①)'!$F$3:$AS$24,12,FALSE)&\"\",\"\"))","v":""},{"$f":"IF('生徒(データ入力①)'!$F$3=\"\",\"\",IFERROR(HLOOKUP(AK$2,'生徒(データ入力①)'!$F$3:$AS$24,12,FALSE)&\"\",\"\"))","v":""},{"$f":"IF('生徒(データ入力①)'!$F$3=\"\",\"\",IFERROR(HLOOKUP(AL$2,'生徒(データ入力①)'!$F$3:$AS$24,12,FALSE)&\"\",\"\"))","v":""},{"$f":"IF('生徒(データ入力①)'!$F$3=\"\",\"\",IFERROR(HLOOKUP(AM$2,'生徒(データ入力①)'!$F$3:$AS$24,12,FALSE)&\"\",\"\"))","v":""},{"$f":"IF('生徒(データ入力①)'!$F$3=\"\",\"\",IFERROR(HLOOKUP(AN$2,'生徒(データ入力①)'!$F$3:$AS$24,12,FALSE)&\"\",\"\"))","v":""},{"$f":"IF('生徒(データ入力①)'!$F$3=\"\",\"\",IFERROR(HLOOKUP(AO$2,'生徒(データ入力①)'!$F$3:$AS$24,12,FALSE)&\"\",\"\"))","v":""},{"$f":"IF('生徒(データ入力①)'!$F$3=\"\",\"\",IFERROR(HLOOKUP(AP$2,'生徒(データ入力①)'!$F$3:$AS$24,12,FALSE)&\"\",\"\"))","v":""},{"$f":"IF('生徒(データ入力①)'!$F$3=\"\",\"\",IFERROR(HLOOKUP(AQ$2,'生徒(データ入力①)'!$F$3:$AS$24,12,FALSE)&\"\",\"\"))","v":""},{"$f":"IF('生徒(データ入力①)'!$F$3=\"\",\"\",IFERROR(HLOOKUP(AR$2,'生徒(データ入力①)'!$F$3:$AS$24,12,FALSE)&\"\",\"\"))","v":""},{"$f":"IF('生徒(データ入力①)'!$F$3=\"\",\"\",IFERROR(HLOOKUP(AS$2,'生徒(データ入力①)'!$F$3:$AS$24,12,FALSE)&\"\",\"\"))","v":""},{"$f":"IF('生徒(データ入力①)'!$F$3=\"\",\"\",IFERROR(HLOOKUP(AT$2,'生徒(データ入力①)'!$F$3:$AS$24,12,FALSE)&\"\",\"\"))","v":""},{"$f":"IF('生徒(データ入力①)'!$F$3=\"\",\"\",IFERROR(HLOOKUP(AU$2,'生徒(データ入力①)'!$F$3:$AS$24,12,FALSE)&\"\",\"\"))","v":""},{"$f":"IF('生徒(データ入力①)'!$F$3=\"\",\"\",IFERROR(HLOOKUP(AV$2,'生徒(データ入力①)'!$F$3:$AS$24,12,FALSE)&\"\",\"\"))","v":""},{"$f":"IF('生徒(データ入力①)'!$F$3=\"\",\"\",IFERROR(HLOOKUP(AW$2,'生徒(データ入力①)'!$F$3:$BC$24,12,FALSE)&\"\",\"\"))","v":""},{"$f":"IF('生徒(データ入力①)'!$F$3=\"\",\"\",IFERROR(HLOOKUP(AX$2,'生徒(データ入力①)'!$F$3:$BC$24,12,FALSE)&\"\",\"\"))","v":""},{"$f":"IF('生徒(データ入力①)'!$F$3=\"\",\"\",IFERROR(HLOOKUP(AY$2,'生徒(データ入力①)'!$F$3:$BC$24,12,FALSE)&\"\",\"\"))","v":""},{"$f":"IF('生徒(データ入力①)'!$F$3=\"\",\"\",IFERROR(HLOOKUP(AZ$2,'生徒(データ入力①)'!$F$3:$BC$24,12,FALSE)&\"\",\"\"))","v":""},{"$f":"IF('生徒(データ入力①)'!$F$3=\"\",\"\",IFERROR(HLOOKUP(BA$2,'生徒(データ入力①)'!$F$3:$BC$24,12,FALSE)&\"\",\"\"))","v":""},{"$f":"IF('生徒(データ入力①)'!$F$3=\"\",\"\",IFERROR(HLOOKUP(BB$2,'生徒(データ入力①)'!$F$3:$BC$24,12,FALSE)&\"\",\"\"))","v":""},{"$f":"IF('生徒(データ入力①)'!$F$3=\"\",\"\",IFERROR(HLOOKUP(BC$2,'生徒(データ入力①)'!$F$3:$BC$24,12,FALSE)&\"\",\"\"))","v":""},{"$f":"IF('生徒(データ入力①)'!$F$3=\"\",\"\",IFERROR(HLOOKUP(BD$2,'生徒(データ入力①)'!$F$3:$BC$24,12,FALSE)&\"\",\"\"))","v":""},{"$f":"IF('生徒(データ入力①)'!$F$3=\"\",\"\",IFERROR(HLOOKUP(BE$2,'生徒(データ入力①)'!$F$3:$BC$24,12,FALSE)&\"\",\"\"))","v":""},{"$f":"IF('生徒(データ入力①)'!$F$3=\"\",\"\",IFERROR(HLOOKUP(BF$2,'生徒(データ入力①)'!$F$3:$BC$24,12,FALSE)&\"\",\"\"))","v":""},0,{"$error":"#DIV/0!"},null,0,{"$error":"#DIV/0!"},null,0,{"$error":"#DIV/0!"},null,0,{"$error":"#DIV/0!"},null,null,0,{"$error":"#DIV/0!"},0,{"$error":"#DIV/0!"}]
[null,null,{"$f":"'生徒(個人)'!B22","v":"私の学級には，友達の間違いや失敗を冷やかしたり，からかったりしない雰囲気がある。"},{"$error":"#DIV/0!"},{"$error":"#DIV/0!"},{"$error":"#DIV/0!"},{"$error":"#DIV/0!"},null,{"$f":"IF('生徒(データ入力①)'!$F$3=\"\",\"\",IFERROR(HLOOKUP(I$2,'生徒(データ入力①)'!$F$3:$AS$24,6,FALSE)&\"\",\"\"))","v":""},{"$f":"IF('生徒(データ入力①)'!$F$3=\"\",\"\",IFERROR(HLOOKUP(J$2,'生徒(データ入力①)'!$F$3:$AS$24,6,FALSE)&\"\",\"\"))","v":""},{"$f":"IF('生徒(データ入力①)'!$F$3=\"\",\"\",IFERROR(HLOOKUP(K$2,'生徒(データ入力①)'!$F$3:$AS$24,6,FALSE)&\"\",\"\"))","v":""},{"$f":"IF('生徒(データ入力①)'!$F$3=\"\",\"\",IFERROR(HLOOKUP(L$2,'生徒(データ入力①)'!$F$3:$AS$24,6,FALSE)&\"\",\"\"))","v":""},{"$f":"IF('生徒(データ入力①)'!$F$3=\"\",\"\",IFERROR(HLOOKUP(M$2,'生徒(データ入力①)'!$F$3:$AS$24,6,FALSE)&\"\",\"\"))","v":""},{"$f":"IF('生徒(データ入力①)'!$F$3=\"\",\"\",IFERROR(HLOOKUP(N$2,'生徒(データ入力①)'!$F$3:$AS$24,6,FALSE)&\"\",\"\"))","v":""},{"$f":"IF('生徒(データ入力①)'!$F$3=\"\",\"\",IFERROR(HLOOKUP(O$2,'生徒(データ入力①)'!$F$3:$AS$24,6,FALSE)&\"\",\"\"))","v":""},{"$f":"IF('生徒(データ入力①)'!$F$3=\"\",\"\",IFERROR(HLOOKUP(P$2,'生徒(データ入力①)'!$F$3:$AS$24,6,FALSE)&\"\",\"\"))","v":""},{"$f":"IF('生徒(データ入力①)'!$F$3=\"\",\"\",IFERROR(HLOOKUP(Q$2,'生徒(データ入力①)'!$F$3:$AS$24,6,FALSE)&\"\",\"\"))","v":""},{"$f":"IF('生徒(データ入力①)'!$F$3=\"\",\"\",IFERROR(HLOOKUP(R$2,'生徒(データ入力①)'!$F$3:$AS$24,6,FALSE)&\"\",\"\"))","v":""},{"$f":"IF('生徒(データ入力①)'!$F$3=\"\",\"\",IFERROR(HLOOKUP(S$2,'生徒(データ入力①)'!$F$3:$AS$24,6,FALSE)&\"\",\"\"))","v":""},{"$f":"IF('生徒(データ入力①)'!$F$3=\"\",\"\",IFERROR(HLOOKUP(T$2,'生徒(データ入力①)'!$F$3:$AS$24,6,FALSE)&\"\",\"\"))","v":""},{"$f":"IF('生徒(データ入力①)'!$F$3=\"\",\"\",IFERROR(HLOOKUP(U$2,'生徒(データ入力①)'!$F$3:$AS$24,6,FALSE)&\"\",\"\"))","v":""},{"$f":"IF('生徒(データ入力①)'!$F$3=\"\",\"\",IFERROR(HLOOKUP(V$2,'生徒(データ入力①)'!$F$3:$AS$24,6,FALSE)&\"\",\"\"))","v":""},{"$f":"IF('生徒(データ入力①)'!$F$3=\"\",\"\",IFERROR(HLOOKUP(W$2,'生徒(データ入力①)'!$F$3:$AS$24,6,FALSE)&\"\",\"\"))","v":""},{"$f":"IF('生徒(データ入力①)'!$F$3=\"\",\"\",IFERROR(HLOOKUP(X$2,'生徒(データ入力①)'!$F$3:$AS$24,6,FALSE)&\"\",\"\"))","v":""},{"$f":"IF('生徒(データ入力①)'!$F$3=\"\",\"\",IFERROR(HLOOKUP(Y$2,'生徒(データ入力①)'!$F$3:$AS$24,6,FALSE)&\"\",\"\"))","v":""},{"$f":"IF('生徒(データ入力①)'!$F$3=\"\",\"\",IFERROR(HLOOKUP(Z$2,'生徒(データ入力①)'!$F$3:$AS$24,6,FALSE)&\"\",\"\"))","v":""},{"$f":"IF('生徒(データ入力①)'!$F$3=\"\",\"\",IFERROR(HLOOKUP(AA$2,'生徒(データ入力①)'!$F$3:$AS$24,6,FALSE)&\"\",\"\"))","v":""},{"$f":"IF('生徒(データ入力①)'!$F$3=\"\",\"\",IFERROR(HLOOKUP(AB$2,'生徒(データ入力①)'!$F$3:$AS$24,6,FALSE)&\"\",\"\"))","v":""},{"$f":"IF('生徒(データ入力①)'!$F$3=\"\",\"\",IFERROR(HLOOKUP(AC$2,'生徒(データ入力①)'!$F$3:$AS$24,6,FALSE)&\"\",\"\"))","v":""},{"$f":"IF('生徒(データ入力①)'!$F$3=\"\",\"\",IFERROR(HLOOKUP(AD$2,'生徒(データ入力①)'!$F$3:$AS$24,6,FALSE)&\"\",\"\"))","v":""},{"$f":"IF('生徒(データ入力①)'!$F$3=\"\",\"\",IFERROR(HLOOKUP(AE$2,'生徒(データ入力①)'!$F$3:$AS$24,6,FALSE)&\"\",\"\"))","v":""},{"$f":"IF('生徒(データ入力①)'!$F$3=\"\",\"\",IFERROR(HLOOKUP(AF$2,'生徒(データ入力①)'!$F$3:$AS$24,6,FALSE)&\"\",\"\"))","v":""},{"$f":"IF('生徒(データ入力①)'!$F$3=\"\",\"\",IFERROR(HLOOKUP(AG$2,'生徒(データ入力①)'!$F$3:$AS$24,6,FALSE)&\"\",\"\"))","v":""},{"$f":"IF('生徒(データ入力①)'!$F$3=\"\",\"\",IFERROR(HLOOKUP(AH$2,'生徒(データ入力①)'!$F$3:$AS$24,6,FALSE)&\"\",\"\"))","v":""},{"$f":"IF('生徒(データ入力①)'!$F$3=\"\",\"\",IFERROR(HLOOKUP(AI$2,'生徒(データ入力①)'!$F$3:$AS$24,6,FALSE)&\"\",\"\"))","v":""},{"$f":"IF('生徒(データ入力①)'!$F$3=\"\",\"\",IFERROR(HLOOKUP(AJ$2,'生徒(データ入力①)'!$F$3:$AS$24,6,FALSE)&\"\",\"\"))","v":""},{"$f":"IF('生徒(データ入力①)'!$F$3=\"\",\"\",IFERROR(HLOOKUP(AK$2,'生徒(データ入力①)'!$F$3:$AS$24,6,FALSE)&\"\",\"\"))","v":""},{"$f":"IF('生徒(データ入力①)'!$F$3=\"\",\"\",IFERROR(HLOOKUP(AL$2,'生徒(データ入力①)'!$F$3:$AS$24,6,FALSE)&\"\",\"\"))","v":""},{"$f":"IF('生徒(データ入力①)'!$F$3=\"\",\"\",IFERROR(HLOOKUP(AM$2,'生徒(データ入力①)'!$F$3:$AS$24,6,FALSE)&\"\",\"\"))","v":""},{"$f":"IF('生徒(データ入力①)'!$F$3=\"\",\"\",IFERROR(HLOOKUP(AN$2,'生徒(データ入力①)'!$F$3:$AS$24,6,FALSE)&\"\",\"\"))","v":""},{"$f":"IF('生徒(データ入力①)'!$F$3=\"\",\"\",IFERROR(HLOOKUP(AO$2,'生徒(データ入力①)'!$F$3:$AS$24,6,FALSE)&\"\",\"\"))","v":""},{"$f":"IF('生徒(データ入力①)'!$F$3=\"\",\"\",IFERROR(HLOOKUP(AP$2,'生徒(データ入力①)'!$F$3:$AS$24,6,FALSE)&\"\",\"\"))","v":""},{"$f":"IF('生徒(データ入力①)'!$F$3=\"\",\"\",IFERROR(HLOOKUP(AQ$2,'生徒(データ入力①)'!$F$3:$AS$24,6,FALSE)&\"\",\"\"))","v":""},{"$f":"IF('生徒(データ入力①)'!$F$3=\"\",\"\",IFERROR(HLOOKUP(AR$2,'生徒(データ入力①)'!$F$3:$AS$24,6,FALSE)&\"\",\"\"))","v":""},{"$f":"IF('生徒(データ入力①)'!$F$3=\"\",\"\",IFERROR(HLOOKUP(AS$2,'生徒(データ入力①)'!$F$3:$AS$24,6,FALSE)&\"\",\"\"))","v":""},{"$f":"IF('生徒(データ入力①)'!$F$3=\"\",\"\",IFERROR(HLOOKUP(AT$2,'生徒(データ入力①)'!$F$3:$AS$24,6,FALSE)&\"\",\"\"))","v":""},{"$f":"IF('生徒(データ入力①)'!$F$3=\"\",\"\",IFERROR(HLOOKUP(AU$2,'生徒(データ入力①)'!$F$3:$AS$24,6,FALSE)&\"\",\"\"))","v":""},{"$f":"IF('生徒(データ入力①)'!$F$3=\"\",\"\",IFERROR(HLOOKUP(AV$2,'生徒(データ入力①)'!$F$3:$AS$24,6,FALSE)&\"\",\"\"))","v":""},{"$f":"IF('生徒(データ入力①)'!$F$3=\"\",\"\",IFERROR(HLOOKUP(AW$2,'生徒(データ入力①)'!$F$3:$BC$24,6,FALSE)&\"\",\"\"))","v":""},{"$f":"IF('生徒(データ入力①)'!$F$3=\"\",\"\",IFERROR(HLOOKUP(AX$2,'生徒(データ入力①)'!$F$3:$BC$24,6,FALSE)&\"\",\"\"))","v":""},{"$f":"IF('生徒(データ入力①)'!$F$3=\"\",\"\",IFERROR(HLOOKUP(AY$2,'生徒(データ入力①)'!$F$3:$BC$24,6,FALSE)&\"\",\"\"))","v":""},{"$f":"IF('生徒(データ入力①)'!$F$3=\"\",\"\",IFERROR(HLOOKUP(AZ$2,'生徒(データ入力①)'!$F$3:$BC$24,6,FALSE)&\"\",\"\"))","v":""},{"$f":"IF('生徒(データ入力①)'!$F$3=\"\",\"\",IFERROR(HLOOKUP(BA$2,'生徒(データ入力①)'!$F$3:$BC$24,6,FALSE)&\"\",\"\"))","v":""},{"$f":"IF('生徒(データ入力①)'!$F$3=\"\",\"\",IFERROR(HLOOKUP(BB$2,'生徒(データ入力①)'!$F$3:$BC$24,6,FALSE)&\"\",\"\"))","v":""},{"$f":"IF('生徒(データ入力①)'!$F$3=\"\",\"\",IFERROR(HLOOKUP(BC$2,'生徒(データ入力①)'!$F$3:$BC$24,6,FALSE)&\"\",\"\"))","v":""},{"$f":"IF('生徒(データ入力①)'!$F$3=\"\",\"\",IFERROR(HLOOKUP(BD$2,'生徒(データ入力①)'!$F$3:$BC$24,6,FALSE)&\"\",\"\"))","v":""},{"$f":"IF('生徒(データ入力①)'!$F$3=\"\",\"\",IFERROR(HLOOKUP(BE$2,'生徒(データ入力①)'!$F$3:$BC$24,6,FALSE)&\"\",\"\"))","v":""},{"$f":"IF('生徒(データ入力①)'!$F$3=\"\",\"\",IFERROR(HLOOKUP(BF$2,'生徒(データ入力①)'!$F$3:$BC$24,6,FALSE)&\"\",\"\"))","v":""},0,{"$error":"#DIV/0!"},null,0,{"$error":"#DIV/0!"},null,0,{"$error":"#DIV/0!"},null,0,{"$error":"#DIV/0!"},null,null,0,{"$error":"#DIV/0!"},0,{"$error":"#DIV/0!"}]
[null,null,{"$f":"'生徒(個人)'!B23","v":"私の学級には，周りの迷惑になる言動をしてはいけない雰囲気がある。"},{"$error":"#DIV/0!"},{"$error":"#DIV/0!"},{"$error":"#DIV/0!"},{"$error":"#DIV/0!"},null,{"$f":"IF('生徒(データ入力①)'!$F$3=\"\",\"\",IFERROR(HLOOKUP(I$2,'生徒(データ入力①)'!$F$3:$AS$24,13,FALSE)&\"\",\"\"))","v":""},{"$f":"IF('生徒(データ入力①)'!$F$3=\"\",\"\",IFERROR(HLOOKUP(J$2,'生徒(データ入力①)'!$F$3:$AS$24,13,FALSE)&\"\",\"\"))","v":""},{"$f":"IF('生徒(データ入力①)'!$F$3=\"\",\"\",IFERROR(HLOOKUP(K$2,'生徒(データ入力①)'!$F$3:$AS$24,13,FALSE)&\"\",\"\"))","v":""},{"$f":"IF('生徒(データ入力①)'!$F$3=\"\",\"\",IFERROR(HLOOKUP(L$2,'生徒(データ入力①)'!$F$3:$AS$24,13,FALSE)&\"\",\"\"))","v":""},{"$f":"IF('生徒(データ入力①)'!$F$3=\"\",\"\",IFERROR(HLOOKUP(M$2,'生徒(データ入力①)'!$F$3:$AS$24,13,FALSE)&\"\",\"\"))","v":""},{"$f":"IF('生徒(データ入力①)'!$F$3=\"\",\"\",IFERROR(HLOOKUP(N$2,'生徒(データ入力①)'!$F$3:$AS$24,13,FALSE)&\"\",\"\"))","v":""},{"$f":"IF('生徒(データ入力①)'!$F$3=\"\",\"\",IFERROR(HLOOKUP(O$2,'生徒(データ入力①)'!$F$3:$AS$24,13,FALSE)&\"\",\"\"))","v":""},{"$f":"IF('生徒(データ入力①)'!$F$3=\"\",\"\",IFERROR(HLOOKUP(P$2,'生徒(データ入力①)'!$F$3:$AS$24,13,FALSE)&\"\",\"\"))","v":""},{"$f":"IF('生徒(データ入力①)'!$F$3=\"\",\"\",IFERROR(HLOOKUP(Q$2,'生徒(データ入力①)'!$F$3:$AS$24,13,FALSE)&\"\",\"\"))","v":""},{"$f":"IF('生徒(データ入力①)'!$F$3=\"\",\"\",IFERROR(HLOOKUP(R$2,'生徒(データ入力①)'!$F$3:$AS$24,13,FALSE)&\"\",\"\"))","v":""},{"$f":"IF('生徒(データ入力①)'!$F$3=\"\",\"\",IFERROR(HLOOKUP(S$2,'生徒(データ入力①)'!$F$3:$AS$24,13,FALSE)&\"\",\"\"))","v":""},{"$f":"IF('生徒(データ入力①)'!$F$3=\"\",\"\",IFERROR(HLOOKUP(T$2,'生徒(データ入力①)'!$F$3:$AS$24,13,FALSE)&\"\",\"\"))","v":""},{"$f":"IF('生徒(データ入力①)'!$F$3=\"\",\"\",IFERROR(HLOOKUP(U$2,'生徒(データ入力①)'!$F$3:$AS$24,13,FALSE)&\"\",\"\"))","v":""},{"$f":"IF('生徒(データ入力①)'!$F$3=\"\",\"\",IFERROR(HLOOKUP(V$2,'生徒(データ入力①)'!$F$3:$AS$24,13,FALSE)&\"\",\"\"))","v":""},{"$f":"IF('生徒(データ入力①)'!$F$3=\"\",\"\",IFERROR(HLOOKUP(W$2,'生徒(データ入力①)'!$F$3:$AS$24,13,FALSE)&\"\",\"\"))","v":""},{"$f":"IF('生徒(データ入力①)'!$F$3=\"\",\"\",IFERROR(HLOOKUP(X$2,'生徒(データ入力①)'!$F$3:$AS$24,13,FALSE)&\"\",\"\"))","v":""},{"$f":"IF('生徒(データ入力①)'!$F$3=\"\",\"\",IFERROR(HLOOKUP(Y$2,'生徒(データ入力①)'!$F$3:$AS$24,13,FALSE)&\"\",\"\"))","v":""},{"$f":"IF('生徒(データ入力①)'!$F$3=\"\",\"\",IFERROR(HLOOKUP(Z$2,'生徒(データ入力①)'!$F$3:$AS$24,13,FALSE)&\"\",\"\"))","v":""},{"$f":"IF('生徒(データ入力①)'!$F$3=\"\",\"\",IFERROR(HLOOKUP(AA$2,'生徒(データ入力①)'!$F$3:$AS$24,13,FALSE)&\"\",\"\"))","v":""},{"$f":"IF('生徒(データ入力①)'!$F$3=\"\",\"\",IFERROR(HLOOKUP(AB$2,'生徒(データ入力①)'!$F$3:$AS$24,13,FALSE)&\"\",\"\"))","v":""},{"$f":"IF('生徒(データ入力①)'!$F$3=\"\",\"\",IFERROR(HLOOKUP(AC$2,'生徒(データ入力①)'!$F$3:$AS$24,13,FALSE)&\"\",\"\"))","v":""},{"$f":"IF('生徒(データ入力①)'!$F$3=\"\",\"\",IFERROR(HLOOKUP(AD$2,'生徒(データ入力①)'!$F$3:$AS$24,13,FALSE)&\"\",\"\"))","v":""},{"$f":"IF('生徒(データ入力①)'!$F$3=\"\",\"\",IFERROR(HLOOKUP(AE$2,'生徒(データ入力①)'!$F$3:$AS$24,13,FALSE)&\"\",\"\"))","v":""},{"$f":"IF('生徒(データ入力①)'!$F$3=\"\",\"\",IFERROR(HLOOKUP(AF$2,'生徒(データ入力①)'!$F$3:$AS$24,13,FALSE)&\"\",\"\"))","v":""},{"$f":"IF('生徒(データ入力①)'!$F$3=\"\",\"\",IFERROR(HLOOKUP(AG$2,'生徒(データ入力①)'!$F$3:$AS$24,13,FALSE)&\"\",\"\"))","v":""},{"$f":"IF('生徒(データ入力①)'!$F$3=\"\",\"\",IFERROR(HLOOKUP(AH$2,'生徒(データ入力①)'!$F$3:$AS$24,13,FALSE)&\"\",\"\"))","v":""},{"$f":"IF('生徒(データ入力①)'!$F$3=\"\",\"\",IFERROR(HLOOKUP(AI$2,'生徒(データ入力①)'!$F$3:$AS$24,13,FALSE)&\"\",\"\"))","v":""},{"$f":"IF('生徒(データ入力①)'!$F$3=\"\",\"\",IFERROR(HLOOKUP(AJ$2,'生徒(データ入力①)'!$F$3:$AS$24,13,FALSE)&\"\",\"\"))","v":""},{"$f":"IF('生徒(データ入力①)'!$F$3=\"\",\"\",IFERROR(HLOOKUP(AK$2,'生徒(データ入力①)'!$F$3:$AS$24,13,FALSE)&\"\",\"\"))","v":""},{"$f":"IF('生徒(データ入力①)'!$F$3=\"\",\"\",IFERROR(HLOOKUP(AL$2,'生徒(データ入力①)'!$F$3:$AS$24,13,FALSE)&\"\",\"\"))","v":""},{"$f":"IF('生徒(データ入力①)'!$F$3=\"\",\"\",IFERROR(HLOOKUP(AM$2,'生徒(データ入力①)'!$F$3:$AS$24,13,FALSE)&\"\",\"\"))","v":""},{"$f":"IF('生徒(データ入力①)'!$F$3=\"\",\"\",IFERROR(HLOOKUP(AN$2,'生徒(データ入力①)'!$F$3:$AS$24,13,FALSE)&\"\",\"\"))","v":""},{"$f":"IF('生徒(データ入力①)'!$F$3=\"\",\"\",IFERROR(HLOOKUP(AO$2,'生徒(データ入力①)'!$F$3:$AS$24,13,FALSE)&\"\",\"\"))","v":""},{"$f":"IF('生徒(データ入力①)'!$F$3=\"\",\"\",IFERROR(HLOOKUP(AP$2,'生徒(データ入力①)'!$F$3:$AS$24,13,FALSE)&\"\",\"\"))","v":""},{"$f":"IF('生徒(データ入力①)'!$F$3=\"\",\"\",IFERROR(HLOOKUP(AQ$2,'生徒(データ入力①)'!$F$3:$AS$24,13,FALSE)&\"\",\"\"))","v":""},{"$f":"IF('生徒(データ入力①)'!$F$3=\"\",\"\",IFERROR(HLOOKUP(AR$2,'生徒(データ入力①)'!$F$3:$AS$24,13,FALSE)&\"\",\"\"))","v":""},{"$f":"IF('生徒(データ入力①)'!$F$3=\"\",\"\",IFERROR(HLOOKUP(AS$2,'生徒(データ入力①)'!$F$3:$AS$24,13,FALSE)&\"\",\"\"))","v":""},{"$f":"IF('生徒(データ入力①)'!$F$3=\"\",\"\",IFERROR(HLOOKUP(AT$2,'生徒(データ入力①)'!$F$3:$AS$24,13,FALSE)&\"\",\"\"))","v":""},{"$f":"IF('生徒(データ入力①)'!$F$3=\"\",\"\",IFERROR(HLOOKUP(AU$2,'生徒(データ入力①)'!$F$3:$AS$24,13,FALSE)&\"\",\"\"))","v":""},{"$f":"IF('生徒(データ入力①)'!$F$3=\"\",\"\",IFERROR(HLOOKUP(AV$2,'生徒(データ入力①)'!$F$3:$AS$24,13,FALSE)&\"\",\"\"))","v":""},{"$f":"IF('生徒(データ入力①)'!$F$3=\"\",\"\",IFERROR(HLOOKUP(AW$2,'生徒(データ入力①)'!$F$3:$BC$24,13,FALSE)&\"\",\"\"))","v":""},{"$f":"IF('生徒(データ入力①)'!$F$3=\"\",\"\",IFERROR(HLOOKUP(AX$2,'生徒(データ入力①)'!$F$3:$BC$24,13,FALSE)&\"\",\"\"))","v":""},{"$f":"IF('生徒(データ入力①)'!$F$3=\"\",\"\",IFERROR(HLOOKUP(AY$2,'生徒(データ入力①)'!$F$3:$BC$24,13,FALSE)&\"\",\"\"))","v":""},{"$f":"IF('生徒(データ入力①)'!$F$3=\"\",\"\",IFERROR(HLOOKUP(AZ$2,'生徒(データ入力①)'!$F$3:$BC$24,13,FALSE)&\"\",\"\"))","v":""},{"$f":"IF('生徒(データ入力①)'!$F$3=\"\",\"\",IFERROR(HLOOKUP(BA$2,'生徒(データ入力①)'!$F$3:$BC$24,13,FALSE)&\"\",\"\"))","v":""},{"$f":"IF('生徒(データ入力①)'!$F$3=\"\",\"\",IFERROR(HLOOKUP(BB$2,'生徒(データ入力①)'!$F$3:$BC$24,13,FALSE)&\"\",\"\"))","v":""},{"$f":"IF('生徒(データ入力①)'!$F$3=\"\",\"\",IFERROR(HLOOKUP(BC$2,'生徒(データ入力①)'!$F$3:$BC$24,13,FALSE)&\"\",\"\"))","v":""},{"$f":"IF('生徒(データ入力①)'!$F$3=\"\",\"\",IFERROR(HLOOKUP(BD$2,'生徒(データ入力①)'!$F$3:$BC$24,13,FALSE)&\"\",\"\"))","v":""},{"$f":"IF('生徒(データ入力①)'!$F$3=\"\",\"\",IFERROR(HLOOKUP(BE$2,'生徒(データ入力①)'!$F$3:$BC$24,13,FALSE)&\"\",\"\"))","v":""},{"$f":"IF('生徒(データ入力①)'!$F$3=\"\",\"\",IFERROR(HLOOKUP(BF$2,'生徒(データ入力①)'!$F$3:$BC$24,13,FALSE)&\"\",\"\"))","v":""},0,{"$error":"#DIV/0!"},null,0,{"$error":"#DIV/0!"},null,0,{"$error":"#DIV/0!"},null,0,{"$error":"#DIV/0!"},null,null,0,{"$error":"#DIV/0!"},0,{"$error":"#DIV/0!"}]
[null,null,{"$f":"'生徒(個人)'!B24","v":"私の学級では，みんなが活動の始まりと終わりの時間を守っている。"},{"$error":"#DIV/0!"},{"$error":"#DIV/0!"},{"$error":"#DIV/0!"},{"$error":"#DIV/0!"},null,{"$f":"IF('生徒(データ入力①)'!$F$3=\"\",\"\",IFERROR(HLOOKUP(I$2,'生徒(データ入力①)'!$F$3:$AS$24,21,FALSE)&\"\",\"\"))","v":""},{"$f":"IF('生徒(データ入力①)'!$F$3=\"\",\"\",IFERROR(HLOOKUP(J$2,'生徒(データ入力①)'!$F$3:$AS$24,21,FALSE)&\"\",\"\"))","v":""},{"$f":"IF('生徒(データ入力①)'!$F$3=\"\",\"\",IFERROR(HLOOKUP(K$2,'生徒(データ入力①)'!$F$3:$AS$24,21,FALSE)&\"\",\"\"))","v":""},{"$f":"IF('生徒(データ入力①)'!$F$3=\"\",\"\",IFERROR(HLOOKUP(L$2,'生徒(データ入力①)'!$F$3:$AS$24,21,FALSE)&\"\",\"\"))","v":""},{"$f":"IF('生徒(データ入力①)'!$F$3=\"\",\"\",IFERROR(HLOOKUP(M$2,'生徒(データ入力①)'!$F$3:$AS$24,21,FALSE)&\"\",\"\"))","v":""},{"$f":"IF('生徒(データ入力①)'!$F$3=\"\",\"\",IFERROR(HLOOKUP(N$2,'生徒(データ入力①)'!$F$3:$AS$24,21,FALSE)&\"\",\"\"))","v":""},{"$f":"IF('生徒(データ入力①)'!$F$3=\"\",\"\",IFERROR(HLOOKUP(O$2,'生徒(データ入力①)'!$F$3:$AS$24,21,FALSE)&\"\",\"\"))","v":""},{"$f":"IF('生徒(データ入力①)'!$F$3=\"\",\"\",IFERROR(HLOOKUP(P$2,'生徒(データ入力①)'!$F$3:$AS$24,21,FALSE)&\"\",\"\"))","v":""},{"$f":"IF('生徒(データ入力①)'!$F$3=\"\",\"\",IFERROR(HLOOKUP(Q$2,'生徒(データ入力①)'!$F$3:$AS$24,21,FALSE)&\"\",\"\"))","v":""},{"$f":"IF('生徒(データ入力①)'!$F$3=\"\",\"\",IFERROR(HLOOKUP(R$2,'生徒(データ入力①)'!$F$3:$AS$24,21,FALSE)&\"\",\"\"))","v":""},{"$f":"IF('生徒(データ入力①)'!$F$3=\"\",\"\",IFERROR(HLOOKUP(S$2,'生徒(データ入力①)'!$F$3:$AS$24,21,FALSE)&\"\",\"\"))","v":""},{"$f":"IF('生徒(データ入力①)'!$F$3=\"\",\"\",IFERROR(HLOOKUP(T$2,'生徒(データ入力①)'!$F$3:$AS$24,21,FALSE)&\"\",\"\"))","v":""},{"$f":"IF('生徒(データ入力①)'!$F$3=\"\",\"\",IFERROR(HLOOKUP(U$2,'生徒(データ入力①)'!$F$3:$AS$24,21,FALSE)&\"\",\"\"))","v":""},{"$f":"IF('生徒(データ入力①)'!$F$3=\"\",\"\",IFERROR(HLOOKUP(V$2,'生徒(データ入力①)'!$F$3:$AS$24,21,FALSE)&\"\",\"\"))","v":""},{"$f":"IF('生徒(データ入力①)'!$F$3=\"\",\"\",IFERROR(HLOOKUP(W$2,'生徒(データ入力①)'!$F$3:$AS$24,21,FALSE)&\"\",\"\"))","v":""},{"$f":"IF('生徒(データ入力①)'!$F$3=\"\",\"\",IFERROR(HLOOKUP(X$2,'生徒(データ入力①)'!$F$3:$AS$24,21,FALSE)&\"\",\"\"))","v":""},{"$f":"IF('生徒(データ入力①)'!$F$3=\"\",\"\",IFERROR(HLOOKUP(Y$2,'生徒(データ入力①)'!$F$3:$AS$24,21,FALSE)&\"\",\"\"))","v":""},{"$f":"IF('生徒(データ入力①)'!$F$3=\"\",\"\",IFERROR(HLOOKUP(Z$2,'生徒(データ入力①)'!$F$3:$AS$24,21,FALSE)&\"\",\"\"))","v":""},{"$f":"IF('生徒(データ入力①)'!$F$3=\"\",\"\",IFERROR(HLOOKUP(AA$2,'生徒(データ入力①)'!$F$3:$AS$24,21,FALSE)&\"\",\"\"))","v":""},{"$f":"IF('生徒(データ入力①)'!$F$3=\"\",\"\",IFERROR(HLOOKUP(AB$2,'生徒(データ入力①)'!$F$3:$AS$24,21,FALSE)&\"\",\"\"))","v":""},{"$f":"IF('生徒(データ入力①)'!$F$3=\"\",\"\",IFERROR(HLOOKUP(AC$2,'生徒(データ入力①)'!$F$3:$AS$24,21,FALSE)&\"\",\"\"))","v":""},{"$f":"IF('生徒(データ入力①)'!$F$3=\"\",\"\",IFERROR(HLOOKUP(AD$2,'生徒(データ入力①)'!$F$3:$AS$24,21,FALSE)&\"\",\"\"))","v":""},{"$f":"IF('生徒(データ入力①)'!$F$3=\"\",\"\",IFERROR(HLOOKUP(AE$2,'生徒(データ入力①)'!$F$3:$AS$24,21,FALSE)&\"\",\"\"))","v":""},{"$f":"IF('生徒(データ入力①)'!$F$3=\"\",\"\",IFERROR(HLOOKUP(AF$2,'生徒(データ入力①)'!$F$3:$AS$24,21,FALSE)&\"\",\"\"))","v":""},{"$f":"IF('生徒(データ入力①)'!$F$3=\"\",\"\",IFERROR(HLOOKUP(AG$2,'生徒(データ入力①)'!$F$3:$AS$24,21,FALSE)&\"\",\"\"))","v":""},{"$f":"IF('生徒(データ入力①)'!$F$3=\"\",\"\",IFERROR(HLOOKUP(AH$2,'生徒(データ入力①)'!$F$3:$AS$24,21,FALSE)&\"\",\"\"))","v":""},{"$f":"IF('生徒(データ入力①)'!$F$3=\"\",\"\",IFERROR(HLOOKUP(AI$2,'生徒(データ入力①)'!$F$3:$AS$24,21,FALSE)&\"\",\"\"))","v":""},{"$f":"IF('生徒(データ入力①)'!$F$3=\"\",\"\",IFERROR(HLOOKUP(AJ$2,'生徒(データ入力①)'!$F$3:$AS$24,21,FALSE)&\"\",\"\"))","v":""},{"$f":"IF('生徒(データ入力①)'!$F$3=\"\",\"\",IFERROR(HLOOKUP(AK$2,'生徒(データ入力①)'!$F$3:$AS$24,21,FALSE)&\"\",\"\"))","v":""},{"$f":"IF('生徒(データ入力①)'!$F$3=\"\",\"\",IFERROR(HLOOKUP(AL$2,'生徒(データ入力①)'!$F$3:$AS$24,21,FALSE)&\"\",\"\"))","v":""},{"$f":"IF('生徒(データ入力①)'!$F$3=\"\",\"\",IFERROR(HLOOKUP(AM$2,'生徒(データ入力①)'!$F$3:$AS$24,21,FALSE)&\"\",\"\"))","v":""},{"$f":"IF('生徒(データ入力①)'!$F$3=\"\",\"\",IFERROR(HLOOKUP(AN$2,'生徒(データ入力①)'!$F$3:$AS$24,21,FALSE)&\"\",\"\"))","v":""},{"$f":"IF('生徒(データ入力①)'!$F$3=\"\",\"\",IFERROR(HLOOKUP(AO$2,'生徒(データ入力①)'!$F$3:$AS$24,21,FALSE)&\"\",\"\"))","v":""},{"$f":"IF('生徒(データ入力①)'!$F$3=\"\",\"\",IFERROR(HLOOKUP(AP$2,'生徒(データ入力①)'!$F$3:$AS$24,21,FALSE)&\"\",\"\"))","v":""},{"$f":"IF('生徒(データ入力①)'!$F$3=\"\",\"\",IFERROR(HLOOKUP(AQ$2,'生徒(データ入力①)'!$F$3:$AS$24,21,FALSE)&\"\",\"\"))","v":""},{"$f":"IF('生徒(データ入力①)'!$F$3=\"\",\"\",IFERROR(HLOOKUP(AR$2,'生徒(データ入力①)'!$F$3:$AS$24,21,FALSE)&\"\",\"\"))","v":""},{"$f":"IF('生徒(データ入力①)'!$F$3=\"\",\"\",IFERROR(HLOOKUP(AS$2,'生徒(データ入力①)'!$F$3:$AS$24,21,FALSE)&\"\",\"\"))","v":""},{"$f":"IF('生徒(データ入力①)'!$F$3=\"\",\"\",IFERROR(HLOOKUP(AT$2,'生徒(データ入力①)'!$F$3:$AS$24,21,FALSE)&\"\",\"\"))","v":""},{"$f":"IF('生徒(データ入力①)'!$F$3=\"\",\"\",IFERROR(HLOOKUP(AU$2,'生徒(データ入力①)'!$F$3:$AS$24,21,FALSE)&\"\",\"\"))","v":""},{"$f":"IF('生徒(データ入力①)'!$F$3=\"\",\"\",IFERROR(HLOOKUP(AV$2,'生徒(データ入力①)'!$F$3:$AS$24,21,FALSE)&\"\",\"\"))","v":""},{"$f":"IF('生徒(データ入力①)'!$F$3=\"\",\"\",IFERROR(HLOOKUP(AW$2,'生徒(データ入力①)'!$F$3:$BC$24,21,FALSE)&\"\",\"\"))","v":""},{"$f":"IF('生徒(データ入力①)'!$F$3=\"\",\"\",IFERROR(HLOOKUP(AX$2,'生徒(データ入力①)'!$F$3:$BC$24,21,FALSE)&\"\",\"\"))","v":""},{"$f":"IF('生徒(データ入力①)'!$F$3=\"\",\"\",IFERROR(HLOOKUP(AY$2,'生徒(データ入力①)'!$F$3:$BC$24,21,FALSE)&\"\",\"\"))","v":""},{"$f":"IF('生徒(データ入力①)'!$F$3=\"\",\"\",IFERROR(HLOOKUP(AZ$2,'生徒(データ入力①)'!$F$3:$BC$24,21,FALSE)&\"\",\"\"))","v":""},{"$f":"IF('生徒(データ入力①)'!$F$3=\"\",\"\",IFERROR(HLOOKUP(BA$2,'生徒(データ入力①)'!$F$3:$BC$24,21,FALSE)&\"\",\"\"))","v":""},{"$f":"IF('生徒(データ入力①)'!$F$3=\"\",\"\",IFERROR(HLOOKUP(BB$2,'生徒(データ入力①)'!$F$3:$BC$24,21,FALSE)&\"\",\"\"))","v":""},{"$f":"IF('生徒(データ入力①)'!$F$3=\"\",\"\",IFERROR(HLOOKUP(BC$2,'生徒(データ入力①)'!$F$3:$BC$24,21,FALSE)&\"\",\"\"))","v":""},{"$f":"IF('生徒(データ入力①)'!$F$3=\"\",\"\",IFERROR(HLOOKUP(BD$2,'生徒(データ入力①)'!$F$3:$BC$24,21,FALSE)&\"\",\"\"))","v":""},{"$f":"IF('生徒(データ入力①)'!$F$3=\"\",\"\",IFERROR(HLOOKUP(BE$2,'生徒(データ入力①)'!$F$3:$BC$24,21,FALSE)&\"\",\"\"))","v":""},{"$f":"IF('生徒(データ入力①)'!$F$3=\"\",\"\",IFERROR(HLOOKUP(BF$2,'生徒(データ入力①)'!$F$3:$BC$24,21,FALSE)&\"\",\"\"))","v":""},0,{"$error":"#DIV/0!"},null,0,{"$error":"#DIV/0!"},null,0,{"$error":"#DIV/0!"},null,0,{"$error":"#DIV/0!"},null,null,0,{"$error":"#DIV/0!"},0,{"$error":"#DIV/0!"}]
[null,null,{"$f":"'生徒(個人)'!B25","v":"私の学級では，人の心や体を傷つける言葉や行為を許さない雰囲気がある。"},{"$error":"#DIV/0!"},{"$error":"#DIV/0!"},{"$error":"#DIV/0!"},{"$error":"#DIV/0!"},null,{"$f":"IF('生徒(データ入力①)'!$F$3=\"\",\"\",IFERROR(HLOOKUP(I$2,'生徒(データ入力①)'!$F$3:$AS$24,9,FALSE)&\"\",\"\"))","v":""},{"$f":"IF('生徒(データ入力①)'!$F$3=\"\",\"\",IFERROR(HLOOKUP(J$2,'生徒(データ入力①)'!$F$3:$AS$24,9,FALSE)&\"\",\"\"))","v":""},{"$f":"IF('生徒(データ入力①)'!$F$3=\"\",\"\",IFERROR(HLOOKUP(K$2,'生徒(データ入力①)'!$F$3:$AS$24,9,FALSE)&\"\",\"\"))","v":""},{"$f":"IF('生徒(データ入力①)'!$F$3=\"\",\"\",IFERROR(HLOOKUP(L$2,'生徒(データ入力①)'!$F$3:$AS$24,9,FALSE)&\"\",\"\"))","v":""},{"$f":"IF('生徒(データ入力①)'!$F$3=\"\",\"\",IFERROR(HLOOKUP(M$2,'生徒(データ入力①)'!$F$3:$AS$24,9,FALSE)&\"\",\"\"))","v":""},{"$f":"IF('生徒(データ入力①)'!$F$3=\"\",\"\",IFERROR(HLOOKUP(N$2,'生徒(データ入力①)'!$F$3:$AS$24,9,FALSE)&\"\",\"\"))","v":""},{"$f":"IF('生徒(データ入力①)'!$F$3=\"\",\"\",IFERROR(HLOOKUP(O$2,'生徒(データ入力①)'!$F$3:$AS$24,9,FALSE)&\"\",\"\"))","v":""},{"$f":"IF('生徒(データ入力①)'!$F$3=\"\",\"\",IFERROR(HLOOKUP(P$2,'生徒(データ入力①)'!$F$3:$AS$24,9,FALSE)&\"\",\"\"))","v":""},{"$f":"IF('生徒(データ入力①)'!$F$3=\"\",\"\",IFERROR(HLOOKUP(Q$2,'生徒(データ入力①)'!$F$3:$AS$24,9,FALSE)&\"\",\"\"))","v":""},{"$f":"IF('生徒(データ入力①)'!$F$3=\"\",\"\",IFERROR(HLOOKUP(R$2,'生徒(データ入力①)'!$F$3:$AS$24,9,FALSE)&\"\",\"\"))","v":""},{"$f":"IF('生徒(データ入力①)'!$F$3=\"\",\"\",IFERROR(HLOOKUP(S$2,'生徒(データ入力①)'!$F$3:$AS$24,9,FALSE)&\"\",\"\"))","v":""},{"$f":"IF('生徒(データ入力①)'!$F$3=\"\",\"\",IFERROR(HLOOKUP(T$2,'生徒(データ入力①)'!$F$3:$AS$24,9,FALSE)&\"\",\"\"))","v":""},{"$f":"IF('生徒(データ入力①)'!$F$3=\"\",\"\",IFERROR(HLOOKUP(U$2,'生徒(データ入力①)'!$F$3:$AS$24,9,FALSE)&\"\",\"\"))","v":""},{"$f":"IF('生徒(データ入力①)'!$F$3=\"\",\"\",IFERROR(HLOOKUP(V$2,'生徒(データ入力①)'!$F$3:$AS$24,9,FALSE)&\"\",\"\"))","v":""},{"$f":"IF('生徒(データ入力①)'!$F$3=\"\",\"\",IFERROR(HLOOKUP(W$2,'生徒(データ入力①)'!$F$3:$AS$24,9,FALSE)&\"\",\"\"))","v":""},{"$f":"IF('生徒(データ入力①)'!$F$3=\"\",\"\",IFERROR(HLOOKUP(X$2,'生徒(データ入力①)'!$F$3:$AS$24,9,FALSE)&\"\",\"\"))","v":""},{"$f":"IF('生徒(データ入力①)'!$F$3=\"\",\"\",IFERROR(HLOOKUP(Y$2,'生徒(データ入力①)'!$F$3:$AS$24,9,FALSE)&\"\",\"\"))","v":""},{"$f":"IF('生徒(データ入力①)'!$F$3=\"\",\"\",IFERROR(HLOOKUP(Z$2,'生徒(データ入力①)'!$F$3:$AS$24,9,FALSE)&\"\",\"\"))","v":""},{"$f":"IF('生徒(データ入力①)'!$F$3=\"\",\"\",IFERROR(HLOOKUP(AA$2,'生徒(データ入力①)'!$F$3:$AS$24,9,FALSE)&\"\",\"\"))","v":""},{"$f":"IF('生徒(データ入力①)'!$F$3=\"\",\"\",IFERROR(HLOOKUP(AB$2,'生徒(データ入力①)'!$F$3:$AS$24,9,FALSE)&\"\",\"\"))","v":""},{"$f":"IF('生徒(データ入力①)'!$F$3=\"\",\"\",IFERROR(HLOOKUP(AC$2,'生徒(データ入力①)'!$F$3:$AS$24,9,FALSE)&\"\",\"\"))","v":""},{"$f":"IF('生徒(データ入力①)'!$F$3=\"\",\"\",IFERROR(HLOOKUP(AD$2,'生徒(データ入力①)'!$F$3:$AS$24,9,FALSE)&\"\",\"\"))","v":""},{"$f":"IF('生徒(データ入力①)'!$F$3=\"\",\"\",IFERROR(HLOOKUP(AE$2,'生徒(データ入力①)'!$F$3:$AS$24,9,FALSE)&\"\",\"\"))","v":""},{"$f":"IF('生徒(データ入力①)'!$F$3=\"\",\"\",IFERROR(HLOOKUP(AF$2,'生徒(データ入力①)'!$F$3:$AS$24,9,FALSE)&\"\",\"\"))","v":""},{"$f":"IF('生徒(データ入力①)'!$F$3=\"\",\"\",IFERROR(HLOOKUP(AG$2,'生徒(データ入力①)'!$F$3:$AS$24,9,FALSE)&\"\",\"\"))","v":""},{"$f":"IF('生徒(データ入力①)'!$F$3=\"\",\"\",IFERROR(HLOOKUP(AH$2,'生徒(データ入力①)'!$F$3:$AS$24,9,FALSE)&\"\",\"\"))","v":""},{"$f":"IF('生徒(データ入力①)'!$F$3=\"\",\"\",IFERROR(HLOOKUP(AI$2,'生徒(データ入力①)'!$F$3:$AS$24,9,FALSE)&\"\",\"\"))","v":""},{"$f":"IF('生徒(データ入力①)'!$F$3=\"\",\"\",IFERROR(HLOOKUP(AJ$2,'生徒(データ入力①)'!$F$3:$AS$24,9,FALSE)&\"\",\"\"))","v":""},{"$f":"IF('生徒(データ入力①)'!$F$3=\"\",\"\",IFERROR(HLOOKUP(AK$2,'生徒(データ入力①)'!$F$3:$AS$24,9,FALSE)&\"\",\"\"))","v":""},{"$f":"IF('生徒(データ入力①)'!$F$3=\"\",\"\",IFERROR(HLOOKUP(AL$2,'生徒(データ入力①)'!$F$3:$AS$24,9,FALSE)&\"\",\"\"))","v":""},{"$f":"IF('生徒(データ入力①)'!$F$3=\"\",\"\",IFERROR(HLOOKUP(AM$2,'生徒(データ入力①)'!$F$3:$AS$24,9,FALSE)&\"\",\"\"))","v":""},{"$f":"IF('生徒(データ入力①)'!$F$3=\"\",\"\",IFERROR(HLOOKUP(AN$2,'生徒(データ入力①)'!$F$3:$AS$24,9,FALSE)&\"\",\"\"))","v":""},{"$f":"IF('生徒(データ入力①)'!$F$3=\"\",\"\",IFERROR(HLOOKUP(AO$2,'生徒(データ入力①)'!$F$3:$AS$24,9,FALSE)&\"\",\"\"))","v":""},{"$f":"IF('生徒(データ入力①)'!$F$3=\"\",\"\",IFERROR(HLOOKUP(AP$2,'生徒(データ入力①)'!$F$3:$AS$24,9,FALSE)&\"\",\"\"))","v":""},{"$f":"IF('生徒(データ入力①)'!$F$3=\"\",\"\",IFERROR(HLOOKUP(AQ$2,'生徒(データ入力①)'!$F$3:$AS$24,9,FALSE)&\"\",\"\"))","v":""},{"$f":"IF('生徒(データ入力①)'!$F$3=\"\",\"\",IFERROR(HLOOKUP(AR$2,'生徒(データ入力①)'!$F$3:$AS$24,9,FALSE)&\"\",\"\"))","v":""},{"$f":"IF('生徒(データ入力①)'!$F$3=\"\",\"\",IFERROR(HLOOKUP(AS$2,'生徒(データ入力①)'!$F$3:$AS$24,9,FALSE)&\"\",\"\"))","v":""},{"$f":"IF('生徒(データ入力①)'!$F$3=\"\",\"\",IFERROR(HLOOKUP(AT$2,'生徒(データ入力①)'!$F$3:$AS$24,9,FALSE)&\"\",\"\"))","v":""},{"$f":"IF('生徒(データ入力①)'!$F$3=\"\",\"\",IFERROR(HLOOKUP(AU$2,'生徒(データ入力①)'!$F$3:$AS$24,9,FALSE)&\"\",\"\"))","v":""},{"$f":"IF('生徒(データ入力①)'!$F$3=\"\",\"\",IFERROR(HLOOKUP(AV$2,'生徒(データ入力①)'!$F$3:$AS$24,9,FALSE)&\"\",\"\"))","v":""},{"$f":"IF('生徒(データ入力①)'!$F$3=\"\",\"\",IFERROR(HLOOKUP(AW$2,'生徒(データ入力①)'!$F$3:$BC$24,9,FALSE)&\"\",\"\"))","v":""},{"$f":"IF('生徒(データ入力①)'!$F$3=\"\",\"\",IFERROR(HLOOKUP(AX$2,'生徒(データ入力①)'!$F$3:$BC$24,9,FALSE)&\"\",\"\"))","v":""},{"$f":"IF('生徒(データ入力①)'!$F$3=\"\",\"\",IFERROR(HLOOKUP(AY$2,'生徒(データ入力①)'!$F$3:$BC$24,9,FALSE)&\"\",\"\"))","v":""},{"$f":"IF('生徒(データ入力①)'!$F$3=\"\",\"\",IFERROR(HLOOKUP(AZ$2,'生徒(データ入力①)'!$F$3:$BC$24,9,FALSE)&\"\",\"\"))","v":""},{"$f":"IF('生徒(データ入力①)'!$F$3=\"\",\"\",IFERROR(HLOOKUP(BA$2,'生徒(データ入力①)'!$F$3:$BC$24,9,FALSE)&\"\",\"\"))","v":""},{"$f":"IF('生徒(データ入力①)'!$F$3=\"\",\"\",IFERROR(HLOOKUP(BB$2,'生徒(データ入力①)'!$F$3:$BC$24,9,FALSE)&\"\",\"\"))","v":""},{"$f":"IF('生徒(データ入力①)'!$F$3=\"\",\"\",IFERROR(HLOOKUP(BC$2,'生徒(データ入力①)'!$F$3:$BC$24,9,FALSE)&\"\",\"\"))","v":""},{"$f":"IF('生徒(データ入力①)'!$F$3=\"\",\"\",IFERROR(HLOOKUP(BD$2,'生徒(データ入力①)'!$F$3:$BC$24,9,FALSE)&\"\",\"\"))","v":""},{"$f":"IF('生徒(データ入力①)'!$F$3=\"\",\"\",IFERROR(HLOOKUP(BE$2,'生徒(データ入力①)'!$F$3:$BC$24,9,FALSE)&\"\",\"\"))","v":""},{"$f":"IF('生徒(データ入力①)'!$F$3=\"\",\"\",IFERROR(HLOOKUP(BF$2,'生徒(データ入力①)'!$F$3:$BC$24,9,FALSE)&\"\",\"\"))","v":""},0,{"$error":"#DIV/0!"},null,0,{"$error":"#DIV/0!"},null,0,{"$error":"#DIV/0!"},null,0,{"$error":"#DIV/0!"},null,null,0,{"$error":"#DIV/0!"},0,{"$error":"#DIV/0!"}]

{"sheet":"学級(一覧表②)","index":14,"n_rows":23,"n_cols":102,"rows_kept":23,"cut":false,"hidden":false,"merged":[[18,1,22,1],[1,58,2,58],[1,59,2,59],[1,61,2,61],[1,62,2,62],[13,1,17,1],[3,1,7,1],[8,1,12,1],[1,64,2,64],[1,65,2,65],[1,60,2,60],[1,63,2,63],[1,69,2,69],[1,67,2,67],[1,68,2,68],[1,66,2,66]]}
[null,null,null,null,null,null,null,null,1,2,3,4,5,6,7,8,9,10,11,12,13,14,15,16,17,18,19,20,21,22,23,24,25,26,27,28,29,30,31,32,33,34,35,36,37,38,39,40,41,42,43,44,45,46,47,48,49,50]
[null,null,null,4,3,2,1,"NO",1,2,3,4,5,6,7,8,9,10,11,12,13,14,15,16,17,18,19,20,21,22,23,24,25,26,27,28,29,30,31,32,33,34,35,36,37,38,39,40,41,42,43,44,45,46,47,48,49,50,"４と答えた人数","割合","比較増減","３と答えた人数","割合","比較増減","２と答えた人数","割合","比較増減","１と答えた人数","割合","比較増減"]
[null,"第2回目","学級","%\n（人数）","%\n（人数）","%\n（人数）","%\n（人数）",null,{"$f":"IF('生徒(データ入力②)'!$F$3=\"\",\"\",IFERROR(HLOOKUP(I$2,'生徒(データ入力②)'!$F$3:$AS$24,2,FALSE)&\"\",\"\"))","v":""},{"$f":"IF('生徒(データ入力②)'!$F$3=\"\",\"\",IFERROR(HLOOKUP(J$2,'生徒(データ入力②)'!$F$3:$AS$24,2,FALSE)&\"\",\"\"))","v":""},{"$f":"IF('生徒(データ入力②)'!$F$3=\"\",\"\",IFERROR(HLOOKUP(K$2,'生徒(データ入力②)'!$F$3:$AS$24,2,FALSE)&\"\",\"\"))","v":""},{"$f":"IF('生徒(データ入力②)'!$F$3=\"\",\"\",IFERROR(HLOOKUP(L$2,'生徒(データ入力②)'!$F$3:$AS$24,2,FALSE)&\"\",\"\"))","v":""},{"$f":"IF('生徒(データ入力②)'!$F$3=\"\",\"\",IFERROR(HLOOKUP(M$2,'生徒(データ入力②)'!$F$3:$AS$24,2,FALSE)&\"\",\"\"))","v":""},{"$f":"IF('生徒(データ入力②)'!$F$3=\"\",\"\",IFERROR(HLOOKUP(N$2,'生徒(データ入力②)'!$F$3:$AS$24,2,FALSE)&\"\",\"\"))","v":""},{"$f":"IF('生徒(データ入力②)'!$F$3=\"\",\"\",IFERROR(HLOOKUP(O$2,'生徒(データ入力②)'!$F$3:$AS$24,2,FALSE)&\"\",\"\"))","v":""},{"$f":"IF('生徒(データ入力②)'!$F$3=\"\",\"\",IFERROR(HLOOKUP(P$2,'生徒(データ入力②)'!$F$3:$AS$24,2,FALSE)&\"\",\"\"))","v":""},{"$f":"IF('生徒(データ入力②)'!$F$3=\"\",\"\",IFERROR(HLOOKUP(Q$2,'生徒(データ入力②)'!$F$3:$AS$24,2,FALSE)&\"\",\"\"))","v":""},{"$f":"IF('生徒(データ入力②)'!$F$3=\"\",\"\",IFERROR(HLOOKUP(R$2,'生徒(データ入力②)'!$F$3:$AS$24,2,FALSE)&\"\",\"\"))","v":""},{"$f":"IF('生徒(データ入力②)'!$F$3=\"\",\"\",IFERROR(HLOOKUP(S$2,'生徒(データ入力②)'!$F$3:$AS$24,2,FALSE)&\"\",\"\"))","v":""},{"$f":"IF('生徒(データ入力②)'!$F$3=\"\",\"\",IFERROR(HLOOKUP(T$2,'生徒(データ入力②)'!$F$3:$AS$24,2,FALSE)&\"\",\"\"))","v":""},{"$f":"IF('生徒(データ入力②)'!$F$3=\"\",\"\",IFERROR(HLOOKUP(U$2,'生徒(データ入力②)'!$F$3:$AS$24,2,FALSE)&\"\",\"\"))","v":""},{"$f":"IF('生徒(データ入力②)'!$F$3=\"\",\"\",IFERROR(HLOOKUP(V$2,'生徒(データ入力②)'!$F$3:$AS$24,2,FALSE)&\"\",\"\"))","v":""},{"$f":"IF('生徒(データ入力②)'!$F$3=\"\",\"\",IFERROR(HLOOKUP(W$2,'生徒(データ入力②)'!$F$3:$AS$24,2,FALSE)&\"\",\"\"))","v":""},{"$f":"IF('生徒(データ入力②)'!$F$3=\"\",\"\",IFERROR(HLOOKUP(X$2,'生徒(データ入力②)'!$F$3:$AS$24,2,FALSE)&\"\",\"\"))","v":""},{"$f":"IF('生徒(データ入力②)'!$F$3=\"\",\"\",IFERROR(HLOOKUP(Y$2,'生徒(データ入力②)'!$F$3:$AS$24,2,FALSE)&\"\",\"\"))","v":""},{"$f":"IF('生徒(データ入力②)'!$F$3=\"\",\"\",IFERROR(HLOOKUP(Z$2,'生徒(データ入力②)'!$F$3:$AS$24,2,FALSE)&\"\",\"\"))","v":""},{"$f":"IF('生徒(データ入力②)'!$F$3=\"\",\"\",IFERROR(HLOOKUP(AA$2,'生徒(データ入力②)'!$F$3:$AS$24,2,FALSE)&\"\",\"\"))","v":""},{"$f":"IF('生徒(データ入力②)'!$F$3=\"\",\"\",IFERROR(HLOOKUP(AB$2,'生徒(データ入力②)'!$F$3:$AS$24,2,FALSE)&\"\",\"\"))","v":""},{"$f":"IF('生徒(データ入力②)'!$F$3=\"\",\"\",IFERROR(HLOOKUP(AC$2,'生徒(データ入力②)'!$F$3:$AS$24,2,FALSE)&\"\",\"\"))","v":""},{"$f":"IF('生徒(データ入力②)'!$F$3=\"\",\"\",IFERROR(HLOOKUP(AD$2,'生徒(データ入力②)'!$F$3:$AS$24,2,FALSE)&\"\",\"\"))","v":""},{"$f":"IF('生徒(データ入力②)'!$F$3=\"\",\"\",IFERROR(HLOOKUP(AE$2,'生徒(データ入力②)'!$F$3:$AS$24,2,FALSE)&\"\",\"\"))","v":""},{"$f":"IF('生徒(データ入力②)'!$F$3=\"\",\"\",IFERROR(HLOOKUP(AF$2,'生徒(データ入力②)'!$F$3:$AS$24,2,FALSE)&\"\",\"\"))","v":""},{"$f":"IF('生徒(データ入力②)'!$F$3=\"\",\"\",IFERROR(HLOOKUP(AG$2,'生徒(データ入力②)'!$F$3:$AS$24,2,FALSE)&\"\",\"\"))","v":""},{"$f":"IF('生徒(データ入力②)'!$F$3=\"\",\"\",IFERROR(HLOOKUP(AH$2,'生徒(データ入力②)'!$F$3:$AS$24,2,FALSE)&\"\",\"\"))","v":""},{"$f":"IF('生徒(データ入力②)'!$F$3=\"\",\"\",IFERROR(HLOOKUP(AI$2,'生徒(データ入力②)'!$F$3:$AS$24,2,FALSE)&\"\",\"\"))","v":""},{"$f":"IF('生徒(データ入力②)'!$F$3=\"\",\"\",IFERROR(HLOOKUP(AJ$2,'生徒(データ入力②)'!$F$3:$AS$24,2,FALSE)&\"\",\"\"))","v":""},{"$f":"IF('生徒(データ入力②)'!$F$3=\"\",\"\",IFERROR(HLOOKUP(AK$2,'生徒(データ入力②)'!$F$3:$AS$24,2,FALSE)&\"\",\"\"))","v":""},{"$f":"IF('生徒(データ入力②)'!$F$3=\"\",\"\",IFERROR(HLOOKUP(AL$2,'生徒(データ入力②)'!$F$3:$AS$24,2,FALSE)&\"\",\"\"))","v":""},{"$f":"IF('生徒(データ入力②)'!$F$3=\"\",\"\",IFERROR(HLOOKUP(AM$2,'生徒(データ入力②)'!$F$3:$AS$24,2,FALSE)&\"\",\"\"))","v":""},{"$f":"IF('生徒(データ入力②)'!$F$3=\"\",\"\",IFERROR(HLOOKUP(AN$2,'生徒(データ入力②)'!$F$3:$AS$24,2,FALSE)&\"\",\"\"))","v":""},{"$f":"IF('生徒(データ入力②)'!$F$3=\"\",\"\",IFERROR(HLOOKUP(AO$2,'生徒(データ入力②)'!$F$3:$AS$24,2,FALSE)&\"\",\"\"))","v":""},{"$f":"IF('生徒(データ入力②)'!$F$3=\"\",\"\",IFERROR(HLOOKUP(AP$2,'生徒(データ入力②)'!$F$3:$AS$24,2,FALSE)&\"\",\"\"))","v":""},{"$f":"IF('生徒(データ入力②)'!$F$3=\"\",\"\",IFERROR(HLOOKUP(AQ$2,'生徒(データ入力②)'!$F$3:$AS$24,2,FALSE)&\"\",\"\"))","v":""},{"$f":"IF('生徒(データ入力②)'!$F$3=\"\",\"\",IFERROR(HLOOKUP(AR$2,'生徒(データ入力②)'!$F$3:$AS$24,2,FALSE)&\"\",\"\"))","v":""},{"$f":"IF('生徒(データ入力②)'!$F$3=\"\",\"\",IFERROR(HLOOKUP(AS$2,'生徒(データ入力②)'!$F$3:$AS$24,2,FALSE)&\"\",\"\"))","v":""},{"$f":"IF('生徒(データ入力②)'!$F$3=\"\",\"\",IFERROR(HLOOKUP(AT$2,'生徒(データ入力②)'!$F$3:$AS$24,2,FALSE)&\"\",\"\"))","v":""},{"$f":"IF('生徒(データ入力②)'!$F$3=\"\",\"\",IFERROR(HLOOKUP(AU$2,'生徒(データ入力②)'!$F$3:$AS$24,2,FALSE)&\"\",\"\"))","v":""},{"$f":"IF('生徒(データ入力②)'!$F$3=\"\",\"\",IFERROR(HLOOKUP(AV$2,'生徒(データ入力②)'!$F$3:$AS$24,2,FALSE)&\"\",\"\"))","v":""},{"$f":"IF('生徒(データ入力②)'!$F$3=\"\",\"\",IFERROR(HLOOKUP(AW$2,'生徒(データ入力②)'!$F$3:$BC$24,2,FALSE)&\"\",\"\"))","v":""},{"$f":"IF('生徒(データ入力②)'!$F$3=\"\",\"\",IFERROR(HLOOKUP(AX$2,'生徒(データ入力②)'!$F$3:$BC$24,2,FALSE)&\"\",\"\"))","v":""},{"$f":"IF('生徒(データ入力②)'!$F$3=\"\",\"\",IFERROR(HLOOKUP(AY$2,'生徒(データ入力②)'!$F$3:$BC$24,2,FALSE)&\"\",\"\"))","v":""},{"$f":"IF('生徒(データ入力②)'!$F$3=\"\",\"\",IFERROR(HLOOKUP(AZ$2,'生徒(データ入力②)'!$F$3:$BC$24,2,FALSE)&\"\",\"\"))","v":""},{"$f":"IF('生徒(データ入力②)'!$F$3=\"\",\"\",IFERROR(HLOOKUP(BA$2,'生徒(データ入力②)'!$F$3:$BC$24,2,FALSE)&\"\",\"\"))","v":""},{"$f":"IF('生徒(データ入力②)'!$F$3=\"\",\"\",IFERROR(HLOOKUP(BB$2,'生徒(データ入力②)'!$F$3:$BC$24,2,FALSE)&\"\",\"\"))","v":""},{"$f":"IF('生徒(データ入力②)'!$F$3=\"\",\"\",IFERROR(HLOOKUP(BC$2,'生徒(データ入力②)'!$F$3:$BC$24,2,FALSE)&\"\",\"\"))","v":""},{"$f":"IF('生徒(データ入力②)'!$F$3=\"\",\"\",IFERROR(HLOOKUP(BD$2,'生徒(データ入力②)'!$F$3:$BC$24,2,FALSE)&\"\",\"\"))","v":""},{"$f":"IF('生徒(データ入力②)'!$F$3=\"\",\"\",IFERROR(HLOOKUP(BE$2,'生徒(データ入力②)'!$F$3:$BC$24,2,FALSE)&\"\",\"\"))","v":""},{"$f":"IF('生徒(データ入力②)'!$F$3=\"\",\"\",IFERROR(HLOOKUP(BF$2,'生徒(データ入力②)'!$F$3:$BC$24,2,FALSE)&\"\",\"\"))","v":""},null,null,null,null,null,null,null,null,null,null,null,null,null,null,"肯定人数","割合","比較増減","否定人数","割合","比較増減"]
[null,"教師や仲間から学級の一員として認められているという安心感",{"$f":"'生徒(個人)'!B6","v":"私の学級では，私は先生と話（日記や日誌なども含む）をする機会が多くある。"},{"$f":"BH4&\"%\"&\"（\"&BG4&\"人）\"","v":{"$error":"#DIV/0!"}},{"$f":"BK4&\"%\"&\"（\"&BJ4&\"人\"&\"）\"","v":{"$error":"#DIV/0!"}},{"$f":"BN4&\"%\"&\"（\"&BM4&\"人\"&\"）\"","v":{"$error":"#DIV/0!"}},{"$f":"BQ4&\"%\"&\"（\"&BP4&\"人\"&\"）\"","v":{"$error":"#DIV/0!"}},null,{"$f":"IF('生徒(データ入力②)'!$F$3=\"\",\"\",IFERROR(HLOOKUP(I$2,'生徒(データ入力②)'!$F$3:$AS$24,17,FALSE)&\"\",\"\"))","v":""},{"$f":"IF('生徒(データ入力②)'!$F$3=\"\",\"\",IFERROR(HLOOKUP(J$2,'生徒(データ入力②)'!$F$3:$AS$24,17,FALSE)&\"\",\"\"))","v":""},{"$f":"IF('生徒(データ入力②)'!$F$3=\"\",\"\",IFERROR(HLOOKUP(K$2,'生徒(データ入力②)'!$F$3:$AS$24,17,FALSE)&\"\",\"\"))","v":""},{"$f":"IF('生徒(データ入力②)'!$F$3=\"\",\"\",IFERROR(HLOOKUP(L$2,'生徒(データ入力②)'!$F$3:$AS$24,17,FALSE)&\"\",\"\"))","v":""},{"$f":"IF('生徒(データ入力②)'!$F$3=\"\",\"\",IFERROR(HLOOKUP(M$2,'生徒(データ入力②)'!$F$3:$AS$24,17,FALSE)&\"\",\"\"))","v":""},{"$f":"IF('生徒(データ入力②)'!$F$3=\"\",\"\",IFERROR(HLOOKUP(N$2,'生徒(データ入力②)'!$F$3:$AS$24,17,FALSE)&\"\",\"\"))","v":""},{"$f":"IF('生徒(データ入力②)'!$F$3=\"\",\"\",IFERROR(HLOOKUP(O$2,'生徒(データ入力②)'!$F$3:$AS$24,17,FALSE)&\"\",\"\"))","v":""},{"$f":"IF('生徒(データ入力②)'!$F$3=\"\",\"\",IFERROR(HLOOKUP(P$2,'生徒(データ入力②)'!$F$3:$AS$24,17,FALSE)&\"\",\"\"))","v":""},{"$f":"IF('生徒(データ入力②)'!$F$3=\"\",\"\",IFERROR(HLOOKUP(Q$2,'生徒(データ入力②)'!$F$3:$AS$24,17,FALSE)&\"\",\"\"))","v":""},{"$f":"IF('生徒(データ入力②)'!$F$3=\"\",\"\",IFERROR(HLOOKUP(R$2,'生徒(データ入力②)'!$F$3:$AS$24,17,FALSE)&\"\",\"\"))","v":""},{"$f":"IF('生徒(データ入力②)'!$F$3=\"\",\"\",IFERROR(HLOOKUP(S$2,'生徒(データ入力②)'!$F$3:$AS$24,17,FALSE)&\"\",\"\"))","v":""},{"$f":"IF('生徒(データ入力②)'!$F$3=\"\",\"\",IFERROR(HLOOKUP(T$2,'生徒(データ入力②)'!$F$3:$AS$24,17,FALSE)&\"\",\"\"))","v":""},{"$f":"IF('生徒(データ入力②)'!$F$3=\"\",\"\",IFERROR(HLOOKUP(U$2,'生徒(データ入力②)'!$F$3:$AS$24,17,FALSE)&\"\",\"\"))","v":""},{"$f":"IF('生徒(データ入力②)'!$F$3=\"\",\"\",IFERROR(HLOOKUP(V$2,'生徒(データ入力②)'!$F$3:$AS$24,17,FALSE)&\"\",\"\"))","v":""},{"$f":"IF('生徒(データ入力②)'!$F$3=\"\",\"\",IFERROR(HLOOKUP(W$2,'生徒(データ入力②)'!$F$3:$AS$24,17,FALSE)&\"\",\"\"))","v":""},{"$f":"IF('生徒(データ入力②)'!$F$3=\"\",\"\",IFERROR(HLOOKUP(X$2,'生徒(データ入力②)'!$F$3:$AS$24,17,FALSE)&\"\",\"\"))","v":""},{"$f":"IF('生徒(データ入力②)'!$F$3=\"\",\"\",IFERROR(HLOOKUP(Y$2,'生徒(データ入力②)'!$F$3:$AS$24,17,FALSE)&\"\",\"\"))","v":""},{"$f":"IF('生徒(データ入力②)'!$F$3=\"\",\"\",IFERROR(HLOOKUP(Z$2,'生徒(データ入力②)'!$F$3:$AS$24,17,FALSE)&\"\",\"\"))","v":""},{"$f":"IF('生徒(データ入力②)'!$F$3=\"\",\"\",IFERROR(HLOOKUP(AA$2,'生徒(データ入力②)'!$F$3:$AS$24,17,FALSE)&\"\",\"\"))","v":""},{"$f":"IF('生徒(データ入力②)'!$F$3=\"\",\"\",IFERROR(HLOOKUP(AB$2,'生徒(データ入力②)'!$F$3:$AS$24,17,FALSE)&\"\",\"\"))","v":""},{"$f":"IF('生徒(データ入力②)'!$F$3=\"\",\"\",IFERROR(HLOOKUP(AC$2,'生徒(データ入力②)'!$F$3:$AS$24,17,FALSE)&\"\",\"\"))","v":""},{"$f":"IF('生徒(データ入力②)'!$F$3=\"\",\"\",IFERROR(HLOOKUP(AD$2,'生徒(データ入力②)'!$F$3:$AS$24,17,FALSE)&\"\",\"\"))","v":""},{"$f":"IF('生徒(データ入力②)'!$F$3=\"\",\"\",IFERROR(HLOOKUP(AE$2,'生徒(データ入力②)'!$F$3:$AS$24,17,FALSE)&\"\",\"\"))","v":""},{"$f":"IF('生徒(データ入力②)'!$F$3=\"\",\"\",IFERROR(HLOOKUP(AF$2,'生徒(データ入力②)'!$F$3:$AS$24,17,FALSE)&\"\",\"\"))","v":""},{"$f":"IF('生徒(データ入力②)'!$F$3=\"\",\"\",IFERROR(HLOOKUP(AG$2,'生徒(データ入力②)'!$F$3:$AS$24,17,FALSE)&\"\",\"\"))","v":""},{"$f":"IF('生徒(データ入力②)'!$F$3=\"\",\"\",IFERROR(HLOOKUP(AH$2,'生徒(データ入力②)'!$F$3:$AS$24,17,FALSE)&\"\",\"\"))","v":""},{"$f":"IF('生徒(データ入力②)'!$F$3=\"\",\"\",IFERROR(HLOOKUP(AI$2,'生徒(データ入力②)'!$F$3:$AS$24,17,FALSE)&\"\",\"\"))","v":""},{"$f":"IF('生徒(データ入力②)'!$F$3=\"\",\"\",IFERROR(HLOOKUP(AJ$2,'生徒(データ入力②)'!$F$3:$AS$24,17,FALSE)&\"\",\"\"))","v":""},{"$f":"IF('生徒(データ入力②)'!$F$3=\"\",\"\",IFERROR(HLOOKUP(AK$2,'生徒(データ入力②)'!$F$3:$AS$24,17,FALSE)&\"\",\"\"))","v":""},{"$f":"IF('生徒(データ入力②)'!$F$3=\"\",\"\",IFERROR(HLOOKUP(AL$2,'生徒(データ入力②)'!$F$3:$AS$24,17,FALSE)&\"\",\"\"))","v":""},{"$f":"IF('生徒(データ入力②)'!$F$3=\"\",\"\",IFERROR(HLOOKUP(AM$2,'生徒(データ入力②)'!$F$3:$AS$24,17,FALSE)&\"\",\"\"))","v":""},{"$f":"IF('生徒(データ入力②)'!$F$3=\"\",\"\",IFERROR(HLOOKUP(AN$2,'生徒(データ入力②)'!$F$3:$AS$24,17,FALSE)&\"\",\"\"))","v":""},{"$f":"IF('生徒(データ入力②)'!$F$3=\"\",\"\",IFERROR(HLOOKUP(AO$2,'生徒(データ入力②)'!$F$3:$AS$24,17,FALSE)&\"\",\"\"))","v":""},{"$f":"IF('生徒(データ入力②)'!$F$3=\"\",\"\",IFERROR(HLOOKUP(AP$2,'生徒(データ入力②)'!$F$3:$AS$24,17,FALSE)&\"\",\"\"))","v":""},{"$f":"IF('生徒(データ入力②)'!$F$3=\"\",\"\",IFERROR(HLOOKUP(AQ$2,'生徒(データ入力②)'!$F$3:$AS$24,17,FALSE)&\"\",\"\"))","v":""},{"$f":"IF('生徒(データ入力②)'!$F$3=\"\",\"\",IFERROR(HLOOKUP(AR$2,'生徒(データ入力②)'!$F$3:$AS$24,17,FALSE)&\"\",\"\"))","v":""},{"$f":"IF('生徒(データ入力②)'!$F$3=\"\",\"\",IFERROR(HLOOKUP(AS$2,'生徒(データ入力②)'!$F$3:$AS$24,17,FALSE)&\"\",\"\"))","v":""},{"$f":"IF('生徒(データ入力②)'!$F$3=\"\",\"\",IFERROR(HLOOKUP(AT$2,'生徒(データ入力②)'!$F$3:$AS$24,17,FALSE)&\"\",\"\"))","v":""},{"$f":"IF('生徒(データ入力②)'!$F$3=\"\",\"\",IFERROR(HLOOKUP(AU$2,'生徒(データ入力②)'!$F$3:$AS$24,17,FALSE)&\"\",\"\"))","v":""},{"$f":"IF('生徒(データ入力②)'!$F$3=\"\",\"\",IFERROR(HLOOKUP(AV$2,'生徒(データ入力②)'!$F$3:$AS$24,17,FALSE)&\"\",\"\"))","v":""},{"$f":"IF('生徒(データ入力②)'!$F$3=\"\",\"\",IFERROR(HLOOKUP(AW$2,'生徒(データ入力②)'!$F$3:$BC$24,17,FALSE)&\"\",\"\"))","v":""},{"$f":"IF('生徒(データ入力②)'!$F$3=\"\",\"\",IFERROR(HLOOKUP(AX$2,'生徒(データ入力②)'!$F$3:$BC$24,17,FALSE)&\"\",\"\"))","v":""},{"$f":"IF('生徒(データ入力②)'!$F$3=\"\",\"\",IFERROR(HLOOKUP(AY$2,'生徒(データ入力②)'!$F$3:$BC$24,17,FALSE)&\"\",\"\"))","v":""},{"$f":"IF('生徒(データ入力②)'!$F$3=\"\",\"\",IFERROR(HLOOKUP(AZ$2,'生徒(データ入力②)'!$F$3:$BC$24,17,FALSE)&\"\",\"\"))","v":""},{"$f":"IF('生徒(データ入力②)'!$F$3=\"\",\"\",IFERROR(HLOOKUP(BA$2,'生徒(データ入力②)'!$F$3:$BC$24,17,FALSE)&\"\",\"\"))","v":""},{"$f":"IF('生徒(データ入力②)'!$F$3=\"\",\"\",IFERROR(HLOOKUP(BB$2,'生徒(データ入力②)'!$F$3:$BC$24,17,FALSE)&\"\",\"\"))","v":""},{"$f":"IF('生徒(データ入力②)'!$F$3=\"\",\"\",IFERROR(HLOOKUP(BC$2,'生徒(データ入力②)'!$F$3:$BC$24,17,FALSE)&\"\",\"\"))","v":""},{"$f":"IF('生徒(データ入力②)'!$F$3=\"\",\"\",IFERROR(HLOOKUP(BD$2,'生徒(データ入力②)'!$F$3:$BC$24,17,FALSE)&\"\",\"\"))","v":""},{"$f":"IF('生徒(データ入力②)'!$F$3=\"\",\"\",IFERROR(HLOOKUP(BE$2,'生徒(データ入力②)'!$F$3:$BC$24,17,FALSE)&\"\",\"\"))","v":""},{"$f":"IF('生徒(データ入力②)'!$F$3=\"\",\"\",IFERROR(HLOOKUP(BF$2,'生徒(データ入力②)'!$F$3:$BC$24,17,FALSE)&\"\",\"\"))","v":""},{"$f":"COUNTIF(I4:BF4,\"4\")","v":0},{"$f":"ROUND((BG4/(50-COUNTBLANK(I4:BF4)))*100,1)","v":{"$error":"#DIV/0!"}},{"$f":"ROUND(BH4-'学級(一覧表①)'!BH4,1)","v":{"$error":"#DIV/0!"}},{"$f":"COUNTIF(I4:BF4,\"3\")","v":0},{"$f":"ROUND(BJ4/(50-COUNTBLANK(I4:BF4))*100,1)","v":{"$error":"#DIV/0!"}},{"$f":"ROUND(BK4-'学級(一覧表①)'!BK4,1)","v":{"$error":"#DIV/0!"}},{"$f":"COUNTIF(I4:BF4,\"2\")","v":0},{"$f":"ROUND(BM4/(50-COUNTBLANK(I4:BF4))*100,1)","v":{"$error":"#DIV/0!"}},{"$f":"ROUND(BN4-'学級(一覧表①)'!BN4,1)","v":{"$error":"#DIV/0!"}},{"$f":"COUNTIF(I4:BF4,\"1\")","v":0},{"$f":"ROUND(BP4/(50-COUNTBLANK(I4:BF4))*100,1)","v":{"$error":"#DIV/0!"}},{"$f":"ROUND(BQ4-'学級(一覧表①)'!BQ4,1)","v":{"$error":"#DIV/0!"}},null,null,{"$f":"BH4+BK4","v":{"$error":"#DIV/0!"}},{"$f":"ROUND(BH4+BK4,1)","v":{"$error":"#DIV/0!"}},{"$f":"BN4+BQ4","v":{"$error":"#DIV/0!"}},{"$f":"BM4+BP4","v":0},{"$f":"ROUND(BN4+BQ4,1)","v":{"$error":"#DIV/0!"}},{"$f":"ROUND(BO4+BR4,1)","v":{"$error":"#DIV/0!"}},null,"人数",null,null,null,null,"割合",null,null,null,null,"比較増減",null,null,null,null,"肯定値と否定値"]
[null,null,{"$f":"'生徒(個人)'!B7","v":"私の学級では，私に役割があり，その働きが認められていると感じる。"},{"$f":"BH5&\"%\"&\"（\"&BG5&\"人）\"","v":{"$error":"#DIV/0!"}},{"$f":"BK5&\"%\"&\"（\"&BJ5&\"人\"&\"）\"","v":{"$error":"#DIV/0!"}},{"$f":"BN5&\"%\"&\"（\"&BM5&\"人\"&\"）\"","v":{"$error":"#DIV/0!"}},{"$f":"BQ5&\"%\"&\"（\"&BP5&\"人\"&\"）\"","v":{"$error":"#DIV/0!"}},null,{"$f":"IF('生徒(データ入力②)'!$F$3=\"\",\"\",IFERROR(HLOOKUP(I$2,'生徒(データ入力②)'!$F$3:$AS$24,20,FALSE)&\"\",\"\"))","v":""},{"$f":"IF('生徒(データ入力②)'!$F$3=\"\",\"\",IFERROR(HLOOKUP(J$2,'生徒(データ入力②)'!$F$3:$AS$24,20,FALSE)&\"\",\"\"))","v":""},{"$f":"IF('生徒(データ入力②)'!$F$3=\"\",\"\",IFERROR(HLOOKUP(K$2,'生徒(データ入力②)'!$F$3:$AS$24,20,FALSE)&\"\",\"\"))","v":""},{"$f":"IF('生徒(データ入力②)'!$F$3=\"\",\"\",IFERROR(HLOOKUP(L$2,'生徒(データ入力②)'!$F$3:$AS$24,20,FALSE)&\"\",\"\"))","v":""},{"$f":"IF('生徒(データ入力②)'!$F$3=\"\",\"\",IFERROR(HLOOKUP(M$2,'生徒(データ入力②)'!$F$3:$AS$24,20,FALSE)&\"\",\"\"))","v":""},{"$f":"IF('生徒(データ入力②)'!$F$3=\"\",\"\",IFERROR(HLOOKUP(N$2,'生徒(データ入力②)'!$F$3:$AS$24,20,FALSE)&\"\",\"\"))","v":""},{"$f":"IF('生徒(データ入力②)'!$F$3=\"\",\"\",IFERROR(HLOOKUP(O$2,'生徒(データ入力②)'!$F$3:$AS$24,20,FALSE)&\"\",\"\"))","v":""},{"$f":"IF('生徒(データ入力②)'!$F$3=\"\",\"\",IFERROR(HLOOKUP(P$2,'生徒(データ入力②)'!$F$3:$AS$24,20,FALSE)&\"\",\"\"))","v":""},{"$f":"IF('生徒(データ入力②)'!$F$3=\"\",\"\",IFERROR(HLOOKUP(Q$2,'生徒(データ入力②)'!$F$3:$AS$24,20,FALSE)&\"\",\"\"))","v":""},{"$f":"IF('生徒(データ入力②)'!$F$3=\"\",\"\",IFERROR(HLOOKUP(R$2,'生徒(データ入力②)'!$F$3:$AS$24,20,FALSE)&\"\",\"\"))","v":""},{"$f":"IF('生徒(データ入力②)'!$F$3=\"\",\"\",IFERROR(HLOOKUP(S$2,'生徒(データ入力②)'!$F$3:$AS$24,20,FALSE)&\"\",\"\"))","v":""},{"$f":"IF('生徒(データ入力②)'!$F$3=\"\",\"\",IFERROR(HLOOKUP(T$2,'生徒(データ入力②)'!$F$3:$AS$24,20,FALSE)&\"\",\"\"))","v":""},{"$f":"IF('生徒(データ入力②)'!$F$3=\"\",\"\",IFERROR(HLOOKUP(U$2,'生徒(データ入力②)'!$F$3:$AS$24,20,FALSE)&\"\",\"\"))","v":""},{"$f":"IF('生徒(データ入力②)'!$F$3=\"\",\"\",IFERROR(HLOOKUP(V$2,'生徒(データ入力②)'!$F$3:$AS$24,20,FALSE)&\"\",\"\"))","v":""},{"$f":"IF('生徒(データ入力②)'!$F$3=\"\",\"\",IFERROR(HLOOKUP(W$2,'生徒(データ入力②)'!$F$3:$AS$24,20,FALSE)&\"\",\"\"))","v":""},{"$f":"IF('生徒(データ入力②)'!$F$3=\"\",\"\",IFERROR(HLOOKUP(X$2,'生徒(データ入力②)'!$F$3:$AS$24,20,FALSE)&\"\",\"\"))","v":""},{"$f":"IF('生徒(データ入力②)'!$F$3=\"\",\"\",IFERROR(HLOOKUP(Y$2,'生徒(データ入力②)'!$F$3:$AS$24,20,FALSE)&\"\",\"\"))","v":""},{"$f":"IF('生徒(データ入力②)'!$F$3=\"\",\"\",IFERROR(HLOOKUP(Z$2,'生徒(データ入力②)'!$F$3:$AS$24,20,FALSE)&\"\",\"\"))","v":""},{"$f":"IF('生徒(データ入力②)'!$F$3=\"\",\"\",IFERROR(HLOOKUP(AA$2,'生徒(データ入力②)'!$F$3:$AS$24,20,FALSE)&\"\",\"\"))","v":""},{"$f":"IF('生徒(データ入力②)'!$F$3=\"\",\"\",IFERROR(HLOOKUP(AB$2,'生徒(データ入力②)'!$F$3:$AS$24,20,FALSE)&\"\",\"\"))","v":""},{"$f":"IF('生徒(データ入力②)'!$F$3=\"\",\"\",IFERROR(HLOOKUP(AC$2,'生徒(データ入力②)'!$F$3:$AS$24,20,FALSE)&\"\",\"\"))","v":""},{"$f":"IF('生徒(データ入力②)'!$F$3=\"\",\"\",IFERROR(HLOOKUP(AD$2,'生徒(データ入力②)'!$F$3:$AS$24,20,FALSE)&\"\",\"\"))","v":""},{"$f":"IF('生徒(データ入力②)'!$F$3=\"\",\"\",IFERROR(HLOOKUP(AE$2,'生徒(データ入力②)'!$F$3:$AS$24,20,FALSE)&\"\",\"\"))","v":""},{"$f":"IF('生徒(データ入力②)'!$F$3=\"\",\"\",IFERROR(HLOOKUP(AF$2,'生徒(データ入力②)'!$F$3:$AS$24,20,FALSE)&\"\",\"\"))","v":""},{"$f":"IF('生徒(データ入力②)'!$F$3=\"\",\"\",IFERROR(HLOOKUP(AG$2,'生徒(データ入力②)'!$F$3:$AS$24,20,FALSE)&\"\",\"\"))","v":""},{"$f":"IF('生徒(データ入力②)'!$F$3=\"\",\"\",IFERROR(HLOOKUP(AH$2,'生徒(データ入力②)'!$F$3:$AS$24,20,FALSE)&\"\",\"\"))","v":""},{"$f":"IF('生徒(データ入力②)'!$F$3=\"\",\"\",IFERROR(HLOOKUP(AI$2,'生徒(データ入力②)'!$F$3:$AS$24,20,FALSE)&\"\",\"\"))","v":""},{"$f":"IF('生徒(データ入力②)'!$F$3=\"\",\"\",IFERROR(HLOOKUP(AJ$2,'生徒(データ入力②)'!$F$3:$AS$24,20,FALSE)&\"\",\"\"))","v":""},{"$f":"IF('生徒(データ入力②)'!$F$3=\"\",\"\",IFERROR(HLOOKUP(AK$2,'生徒(データ入力②)'!$F$3:$AS$24,20,FALSE)&\"\",\"\"))","v":""},{"$f":"IF('生徒(データ入力②)'!$F$3=\"\",\"\",IFERROR(HLOOKUP(AL$2,'生徒(データ入力②)'!$F$3:$AS$24,20,FALSE)&\"\",\"\"))","v":""},{"$f":"IF('生徒(データ入力②)'!$F$3=\"\",\"\",IFERROR(HLOOKUP(AM$2,'生徒(データ入力②)'!$F$3:$AS$24,20,FALSE)&\"\",\"\"))","v":""},{"$f":"IF('生徒(データ入力②)'!$F$3=\"\",\"\",IFERROR(HLOOKUP(AN$2,'生徒(データ入力②)'!$F$3:$AS$24,20,FALSE)&\"\",\"\"))","v":""},{"$f":"IF('生徒(データ入力②)'!$F$3=\"\",\"\",IFERROR(HLOOKUP(AO$2,'生徒(データ入力②)'!$F$3:$AS$24,20,FALSE)&\"\",\"\"))","v":""},{"$f":"IF('生徒(データ入力②)'!$F$3=\"\",\"\",IFERROR(HLOOKUP(AP$2,'生徒(データ入力②)'!$F$3:$AS$24,20,FALSE)&\"\",\"\"))","v":""},{"$f":"IF('生徒(データ入力②)'!$F$3=\"\",\"\",IFERROR(HLOOKUP(AQ$2,'生徒(データ入力②)'!$F$3:$AS$24,20,FALSE)&\"\",\"\"))","v":""},{"$f":"IF('生徒(データ入力②)'!$F$3=\"\",\"\",IFERROR(HLOOKUP(AR$2,'生徒(データ入力②)'!$F$3:$AS$24,20,FALSE)&\"\",\"\"))","v":""},{"$f":"IF('生徒(データ入力②)'!$F$3=\"\",\"\",IFERROR(HLOOKUP(AS$2,'生徒(データ入力②)'!$F$3:$AS$24,20,FALSE)&\"\",\"\"))","v":""},{"$f":"IF('生徒(データ入力②)'!$F$3=\"\",\"\",IFERROR(HLOOKUP(AT$2,'生徒(データ入力②)'!$F$3:$AS$24,20,FALSE)&\"\",\"\"))","v":""},{"$f":"IF('生徒(データ入力②)'!$F$3=\"\",\"\",IFERROR(HLOOKUP(AU$2,'生徒(データ入力②)'!$F$3:$AS$24,20,FALSE)&\"\",\"\"))","v":""},{"$f":"IF('生徒(データ入力②)'!$F$3=\"\",\"\",IFERROR(HLOOKUP(AV$2,'生徒(データ入力②)'!$F$3:$AS$24,20,FALSE)&\"\",\"\"))","v":""},{"$f":"IF('生徒(データ入力②)'!$F$3=\"\",\"\",IFERROR(HLOOKUP(AW$2,'生徒(データ入力②)'!$F$3:$BC$24,20,FALSE)&\"\",\"\"))","v":""},{"$f":"IF('生徒(データ入力②)'!$F$3=\"\",\"\",IFERROR(HLOOKUP(AX$2,'生徒(データ入力②)'!$F$3:$BC$24,20,FALSE)&\"\",\"\"))","v":""},{"$f":"IF('生徒(データ入力②)'!$F$3=\"\",\"\",IFERROR(HLOOKUP(AY$2,'生徒(データ入力②)'!$F$3:$BC$24,20,FALSE)&\"\",\"\"))","v":""},{"$f":"IF('生徒(データ入力②)'!$F$3=\"\",\"\",IFERROR(HLOOKUP(AZ$2,'生徒(データ入力②)'!$F$3:$BC$24,20,FALSE)&\"\",\"\"))","v":""},{"$f":"IF('生徒(データ入力②)'!$F$3=\"\",\"\",IFERROR(HLOOKUP(BA$2,'生徒(データ入力②)'!$F$3:$BC$24,20,FALSE)&\"\",\"\"))","v":""},{"$f":"IF('生徒(データ入力②)'!$F$3=\"\",\"\",IFERROR(HLOOKUP(BB$2,'生徒(データ入力②)'!$F$3:$BC$24,20,FALSE)&\"\",\"\"))","v":""},{"$f":"IF('生徒(データ入力②)'!$F$3=\"\",\"\",IFERROR(HLOOKUP(BC$2,'生徒(データ入力②)'!$F$3:$BC$24,20,FALSE)&\"\",\"\"))","v":""},{"$f":"IF('生徒(データ入力②)'!$F$3=\"\",\"\",IFERROR(HLOOKUP(BD$2,'生徒(データ入力②)'!$F$3:$BC$24,20,FALSE)&\"\",\"\"))","v":""},{"$f":"IF('生徒(データ入力②)'!$F$3=\"\",\"\",IFERROR(HLOOKUP(BE$2,'生徒(データ入力②)'!$F$3:$BC$24,20,FALSE)&\"\",\"\"))","v":""},{"$f":"IF('生徒(データ入力②)'!$F$3=\"\",\"\",IFERROR(HLOOKUP(BF$2,'生徒(データ入力②)'!$F$3:$BC$24,20,FALSE)&\"\",\"\"))","v":""},0,{"$f":"ROUND((BG5/(50-COUNTBLANK(I5:BF5)))*100,1)","v":{"$error":"#DIV/0!"}},{"$f":"ROUND(BH5-'学級(一覧表①)'!BH5,1)","v":{"$error":"#DIV/0!"}},0,{"$f":"ROUND(BJ5/(50-COUNTBLANK(I5:BF5))*100,1)","v":{"$error":"#DIV/0!"}},{"$f":"ROUND(BK5-'学級(一覧表①)'!BK5,1)","v":{"$error":"#DIV/0!"}},0,{"$f":"ROUND(BM5/(50-COUNTBLANK(I5:BF5))*100,1)","v":{"$error":"#DIV/0!"}},{"$f":"ROUND(BN5-'学級(一覧表①)'!BN5,1)","v":{"$error":"#DIV/0!"}},0,{"$f":"ROUND(BP5/(50-COUNTBLANK(I5:BF5))*100,1)","v":{"$error":"#DIV/0!"}},{"$f":"ROUND(BQ5-'学級(一覧表①)'!BQ5,1)","v":{"$error":"#DIV/0!"}},null,null,{"$f":"BG5+BJ5","v":0},{"$f":"ROUND(BH5+BK5,1)","v":{"$error":"#DIV/0!"}},{"$f":"ROUND(BI5+BL5,1)","v":{"$error":"#DIV/0!"}},{"$f":"BM5+BP5","v":0},{"$f":"ROUND(BN5+BQ5,1)","v":{"$error":"#DIV/0!"}},{"$f":"ROUND(BO5+BR5,1)","v":{"$error":"#DIV/0!"}},null,4,3,2,1,"合計",4,3,2,1,null,4,3,2,1,null,"肯定人数","肯定割合","肯定比較増減","否定人数","否定割合","肯定比較増減"]
[null,null,{"$f":"'生徒(個人)'!B8","v":"私の学級では，先生や友達は私の頑張りや良いところを認めてくれている。"},{"$error":"#DIV/0!"},{"$error":"#DIV/0!"},{"$error":"#DIV/0!"},{"$error":"#DIV/0!"},null,{"$f":"IF('生徒(データ入力②)'!$F$3=\"\",\"\",IFERROR(HLOOKUP(I$2,'生徒(データ入力②)'!$F$3:$AS$24,18,FALSE)&\"\",\"\"))","v":""},{"$f":"IF('生徒(データ入力②)'!$F$3=\"\",\"\",IFERROR(HLOOKUP(J$2,'生徒(データ入力②)'!$F$3:$AS$24,18,FALSE)&\"\",\"\"))","v":""},{"$f":"IF('生徒(データ入力②)'!$F$3=\"\",\"\",IFERROR(HLOOKUP(K$2,'生徒(データ入力②)'!$F$3:$AS$24,18,FALSE)&\"\",\"\"))","v":""},{"$f":"IF('生徒(データ入力②)'!$F$3=\"\",\"\",IFERROR(HLOOKUP(L$2,'生徒(データ入力②)'!$F$3:$AS$24,18,FALSE)&\"\",\"\"))","v":""},{"$f":"IF('生徒(データ入力②)'!$F$3=\"\",\"\",IFERROR(HLOOKUP(M$2,'生徒(データ入力②)'!$F$3:$AS$24,18,FALSE)&\"\",\"\"))","v":""},{"$f":"IF('生徒(データ入力②)'!$F$3=\"\",\"\",IFERROR(HLOOKUP(N$2,'生徒(データ入力②)'!$F$3:$AS$24,18,FALSE)&\"\",\"\"))","v":""},{"$f":"IF('生徒(データ入力②)'!$F$3=\"\",\"\",IFERROR(HLOOKUP(O$2,'生徒(データ入力②)'!$F$3:$AS$24,18,FALSE)&\"\",\"\"))","v":""},{"$f":"IF('生徒(データ入力②)'!$F$3=\"\",\"\",IFERROR(HLOOKUP(P$2,'生徒(データ入力②)'!$F$3:$AS$24,18,FALSE)&\"\",\"\"))","v":""},{"$f":"IF('生徒(データ入力②)'!$F$3=\"\",\"\",IFERROR(HLOOKUP(Q$2,'生徒(データ入力②)'!$F$3:$AS$24,18,FALSE)&\"\",\"\"))","v":""},{"$f":"IF('生徒(データ入力②)'!$F$3=\"\",\"\",IFERROR(HLOOKUP(R$2,'生徒(データ入力②)'!$F$3:$AS$24,18,FALSE)&\"\",\"\"))","v":""},{"$f":"IF('生徒(データ入力②)'!$F$3=\"\",\"\",IFERROR(HLOOKUP(S$2,'生徒(データ入力②)'!$F$3:$AS$24,18,FALSE)&\"\",\"\"))","v":""},{"$f":"IF('生徒(データ入力②)'!$F$3=\"\",\"\",IFERROR(HLOOKUP(T$2,'生徒(データ入力②)'!$F$3:$AS$24,18,FALSE)&\"\",\"\"))","v":""},{"$f":"IF('生徒(データ入力②)'!$F$3=\"\",\"\",IFERROR(HLOOKUP(U$2,'生徒(データ入力②)'!$F$3:$AS$24,18,FALSE)&\"\",\"\"))","v":""},{"$f":"IF('生徒(データ入力②)'!$F$3=\"\",\"\",IFERROR(HLOOKUP(V$2,'生徒(データ入力②)'!$F$3:$AS$24,18,FALSE)&\"\",\"\"))","v":""},{"$f":"IF('生徒(データ入力②)'!$F$3=\"\",\"\",IFERROR(HLOOKUP(W$2,'生徒(データ入力②)'!$F$3:$AS$24,18,FALSE)&\"\",\"\"))","v":""},{"$f":"IF('生徒(データ入力②)'!$F$3=\"\",\"\",IFERROR(HLOOKUP(X$2,'生徒(データ入力②)'!$F$3:$AS$24,18,FALSE)&\"\",\"\"))","v":""},{"$f":"IF('生徒(データ入力②)'!$F$3=\"\",\"\",IFERROR(HLOOKUP(Y$2,'生徒(データ入力②)'!$F$3:$AS$24,18,FALSE)&\"\",\"\"))","v":""},{"$f":"IF('生徒(データ入力②)'!$F$3=\"\",\"\",IFERROR(HLOOKUP(Z$2,'生徒(データ入力②)'!$F$3:$AS$24,18,FALSE)&\"\",\"\"))","v":""},{"$f":"IF('生徒(データ入力②)'!$F$3=\"\",\"\",IFERROR(HLOOKUP(AA$2,'生徒(データ入力②)'!$F$3:$AS$24,18,FALSE)&\"\",\"\"))","v":""},{"$f":"IF('生徒(データ入力②)'!$F$3=\"\",\"\",IFERROR(HLOOKUP(AB$2,'生徒(データ入力②)'!$F$3:$AS$24,18,FALSE)&\"\",\"\"))","v":""},{"$f":"IF('生徒(データ入力②)'!$F$3=\"\",\"\",IFERROR(HLOOKUP(AC$2,'生徒(データ入力②)'!$F$3:$AS$24,18,FALSE)&\"\",\"\"))","v":""},{"$f":"IF('生徒(データ入力②)'!$F$3=\"\",\"\",IFERROR(HLOOKUP(AD$2,'生徒(データ入力②)'!$F$3:$AS$24,18,FALSE)&\"\",\"\"))","v":""},{"$f":"IF('生徒(データ入力②)'!$F$3=\"\",\"\",IFERROR(HLOOKUP(AE$2,'生徒(データ入力②)'!$F$3:$AS$24,18,FALSE)&\"\",\"\"))","v":""},{"$f":"IF('生徒(データ入力②)'!$F$3=\"\",\"\",IFERROR(HLOOKUP(AF$2,'生徒(データ入力②)'!$F$3:$AS$24,18,FALSE)&\"\",\"\"))","v":""},{"$f":"IF('生徒(データ入力②)'!$F$3=\"\",\"\",IFERROR(HLOOKUP(AG$2,'生徒(データ入力②)'!$F$3:$AS$24,18,FALSE)&\"\",\"\"))","v":""},{"$f":"IF('生徒(データ入力②)'!$F$3=\"\",\"\",IFERROR(HLOOKUP(AH$2,'生徒(データ入力②)'!$F$3:$AS$24,18,FALSE)&\"\",\"\"))","v":""},{"$f":"IF('生徒(データ入力②)'!$F$3=\"\",\"\",IFERROR(HLOOKUP(AI$2,'生徒(データ入力②)'!$F$3:$AS$24,18,FALSE)&\"\",\"\"))","v":""},{"$f":"IF('生徒(データ入力②)'!$F$3=\"\",\"\",IFERROR(HLOOKUP(AJ$2,'生徒(データ入力②)'!$F$3:$AS$24,18,FALSE)&\"\",\"\"))","v":""},{"$f":"IF('生徒(データ入力②)'!$F$3=\"\",\"\",IFERROR(HLOOKUP(AK$2,'生徒(データ入力②)'!$F$3:$AS$24,18,FALSE)&\"\",\"\"))","v":""},{"$f":"IF('生徒(データ入力②)'!$F$3=\"\",\"\",IFERROR(HLOOKUP(AL$2,'生徒(データ入力②)'!$F$3:$AS$24,18,FALSE)&\"\",\"\"))","v":""},{"$f":"IF('生徒(データ入力②)'!$F$3=\"\",\"\",IFERROR(HLOOKUP(AM$2,'生徒(データ入力②)'!$F$3:$AS$24,18,FALSE)&\"\",\"\"))","v":""},{"$f":"IF('生徒(データ入力②)'!$F$3=\"\",\"\",IFERROR(HLOOKUP(AN$2,'生徒(データ入力②)'!$F$3:$AS$24,18,FALSE)&\"\",\"\"))","v":""},{"$f":"IF('生徒(データ入力②)'!$F$3=\"\",\"\",IFERROR(HLOOKUP(AO$2,'生徒(データ入力②)'!$F$3:$AS$24,18,FALSE)&\"\",\"\"))","v":""},{"$f":"IF('生徒(データ入力②)'!$F$3=\"\",\"\",IFERROR(HLOOKUP(AP$2,'生徒(データ入力②)'!$F$3:$AS$24,18,FALSE)&\"\",\"\"))","v":""},{"$f":"IF('生徒(データ入力②)'!$F$3=\"\",\"\",IFERROR(HLOOKUP(AQ$2,'生徒(データ入力②)'!$F$3:$AS$24,18,FALSE)&\"\",\"\"))","v":""},{"$f":"IF('生徒(データ入力②)'!$F$3=\"\",\"\",IFERROR(HLOOKUP(AR$2,'生徒(データ入力②)'!$F$3:$AS$24,18,FALSE)&\"\",\"\"))","v":""},{"$f":"IF('生徒(データ入力②)'!$F$3=\"\",\"\",IFERROR(HLOOKUP(AS$2,'生徒(データ入力②)'!$F$3:$AS$24,18,FALSE)&\"\",\"\"))","v":""},{"$f":"IF('生徒(データ入力②)'!$F$3=\"\",\"\",IFERROR(HLOOKUP(AT$2,'生徒(データ入力②)'!$F$3:$AS$24,18,FALSE)&\"\",\"\"))","v":""},{"$f":"IF('生徒(データ入力②)'!$F$3=\"\",\"\",IFERROR(HLOOKUP(AU$2,'生徒(データ入力②)'!$F$3:$AS$24,18,FALSE)&\"\",\"\"))","v":""},{"$f":"IF('生徒(データ入力②)'!$F$3=\"\",\"\",IFERROR(HLOOKUP(AV$2,'生徒(データ入力②)'!$F$3:$AS$24,18,FALSE)&\"\",\"\"))","v":""},{"$f":"IF('生徒(データ入力②)'!$F$3=\"\",\"\",IFERROR(HLOOKUP(AW$2,'生徒(データ入力②)'!$F$3:$BC$24,18,FALSE)&\"\",\"\"))","v":""},{"$f":"IF('生徒(データ入力②)'!$F$3=\"\",\"\",IFERROR(HLOOKUP(AX$2,'生徒(データ入力②)'!$F$3:$BC$24,18,FALSE)&\"\",\"\"))","v":""},{"$f":"IF('生徒(データ入力②)'!$F$3=\"\",\"\",IFERROR(HLOOKUP(AY$2,'生徒(データ入力②)'!$F$3:$BC$24,18,FALSE)&\"\",\"\"))","v":""},{"$f":"IF('生徒(データ入力②)'!$F$3=\"\",\"\",IFERROR(HLOOKUP(AZ$2,'生徒(データ入力②)'!$F$3:$BC$24,18,FALSE)&\"\",\"\"))","v":""},{"$f":"IF('生徒(データ入力②)'!$F$3=\"\",\"\",IFERROR(HLOOKUP(BA$2,'生徒(データ入力②)'!$F$3:$BC$24,18,FALSE)&\"\",\"\"))","v":""},{"$f":"IF('生徒(データ入力②)'!$F$3=\"\",\"\",IFERROR(HLOOKUP(BB$2,'生徒(データ入力②)'!$F$3:$BC$24,18,FALSE)&\"\",\"\"))","v":""},{"$f":"IF('生徒(データ入力②)'!$F$3=\"\",\"\",IFERROR(HLOOKUP(BC$2,'生徒(データ入力②)'!$F$3:$BC$24,18,FALSE)&\"\",\"\"))","v":""},{"$f":"IF('生徒(データ入力②)'!$F$3=\"\",\"\",IFERROR(HLOOKUP(BD$2,'生徒(データ入力②)'!$F$3:$BC$24,18,FALSE)&\"\",\"\"))","v":""},{"$f":"IF('生徒(データ入力②)'!$F$3=\"\",\"\",IFERROR(HLOOKUP(BE$2,'生徒(データ入力②)'!$F$3:$BC$24,18,FALSE)&\"\",\"\"))","v":""},{"$f":"IF('生徒(データ入力②)'!$F$3=\"\",\"\",IFERROR(HLOOKUP(BF$2,'生徒(データ入力②)'!$F$3:$BC$24,18,FALSE)&\"\",\"\"))","v":""},0,{"$error":"#DIV/0!"},{"$f":"ROUND(BH6-'学級(一覧表①)'!BH6,1)","v":{"$error":"#DIV/0!"}},0,{"$error":"#DIV/0!"},{"$f":"ROUND(BK6-'学級(一覧表①)'!BK6,1)","v":{"$error":"#DIV/0!"}},0,{"$error":"#DIV/0!"},{"$f":"ROUND(BN6-'学級(一覧表①)'!BN6,1)","v":{"$error":"#DIV/0!"}},0,{"$error":"#DIV/0!"},{"$f":"ROUND(BQ6-'学級(一覧表①)'!BQ6,1)","v":{"$error":"#DIV/0!"}},null,null,{"$f":"BG6+BJ6","v":0},{"$f":"ROUND(BH6+BK6,1)","v":{"$error":"#DIV/0!"}},{"$error":"#DIV/0!"},{"$f":"BM6+BP6","v":0},{"$f":"ROUND(BN6+BQ6,1)","v":{"$error":"#DIV/0!"}},{"$error":"#DIV/0!"},"自己存在感の感受平均",{"$f":"BG4+BG5+BG6+BG7+BG8","v":0},{"$f":"BJ4+BJ5+BJ6+BJ7+BJ8","v":0},{"$f":"BM4+BM5+BM6+BM7+BM8","v":0},{"$f":"BP4+BP5+BP6+BP7+BP8","v":0},{"$f":"SUM(CB6:CE6)","v":0},{"$f":"ROUND((CB6/$CF$6)*100,1)","v":{"$error":"#DIV/0!"}},{"$f":"ROUND((CC6/$CF$6)*100,1)","v":{"$error":"#DIV/0!"}},{"$f":"ROUND((CD6/$CF$6)*100,1)","v":{"$error":"#DIV/0!"}},{"$f":"ROUND((CE6/$CF$6)*100,1)","v":{"$error":"#DIV/0!"}},null,{"$f":"ROUND(CG6-'学級(一覧表①)'!CD6,1)","v":{"$error":"#DIV/0!"}},{"$f":"ROUND(CH6-'学級(一覧表①)'!CE6,1)","v":{"$error":"#DIV/0!"}},{"$f":"ROUND(CI6-'学級(一覧表①)'!CF6,1)","v":{"$error":"#DIV/0!"}},{"$f":"ROUND(CJ6-'学級(一覧表①)'!CG6,1)","v":{"$error":"#DIV/0!"}},null,{"$f":"CB6+CC6","v":0},{"$f":"CG6+CH6","v":{"$error":"#DIV/0!"}},{"$f":"ROUND(CL6+CM6,1)","v":{"$error":"#DIV/0!"}},{"$f":"CD6+CE6","v":0},{"$f":"CI6+CJ6","v":{"$error":"#DIV/0!"}},{"$f":"ROUND(CN6+CO6,1)","v":{"$error":"#DIV/0!"}},{"$f":"\"(\"&CS6&\"%)\"","v":{"$error":"#DIV/0!"}},{"$f":"\"(\"&CV6&\"%)\"","v":{"$error":"#DIV/0!"}}]
[null,null,{"$f":"'生徒(個人)'!B9","v":"私の学級では，私のことを理解してくれる先生や友達がいる。"},{"$error":"#DIV/0!"},{"$error":"#DIV/0!"},{"$error":"#DIV/0!"},{"$error":"#DIV/0!"},null,{"$f":"IF('生徒(データ入力②)'!$F$3=\"\",\"\",IFERROR(HLOOKUP(I$2,'生徒(データ入力②)'!$F$3:$AS$24,15,FALSE)&\"\",\"\"))","v":""},{"$f":"IF('生徒(データ入力②)'!$F$3=\"\",\"\",IFERROR(HLOOKUP(J$2,'生徒(データ入力②)'!$F$3:$AS$24,15,FALSE)&\"\",\"\"))","v":""},{"$f":"IF('生徒(データ入力②)'!$F$3=\"\",\"\",IFERROR(HLOOKUP(K$2,'生徒(データ入力②)'!$F$3:$AS$24,15,FALSE)&\"\",\"\"))","v":""},{"$f":"IF('生徒(データ入力②)'!$F$3=\"\",\"\",IFERROR(HLOOKUP(L$2,'生徒(データ入力②)'!$F$3:$AS$24,15,FALSE)&\"\",\"\"))","v":""},{"$f":"IF('生徒(データ入力②)'!$F$3=\"\",\"\",IFERROR(HLOOKUP(M$2,'生徒(データ入力②)'!$F$3:$AS$24,15,FALSE)&\"\",\"\"))","v":""},{"$f":"IF('生徒(データ入力②)'!$F$3=\"\",\"\",IFERROR(HLOOKUP(N$2,'生徒(データ入力②)'!$F$3:$AS$24,15,FALSE)&\"\",\"\"))","v":""},{"$f":"IF('生徒(データ入力②)'!$F$3=\"\",\"\",IFERROR(HLOOKUP(O$2,'生徒(データ入力②)'!$F$3:$AS$24,15,FALSE)&\"\",\"\"))","v":""},{"$f":"IF('生徒(データ入力②)'!$F$3=\"\",\"\",IFERROR(HLOOKUP(P$2,'生徒(データ入力②)'!$F$3:$AS$24,15,FALSE)&\"\",\"\"))","v":""},{"$f":"IF('生徒(データ入力②)'!$F$3=\"\",\"\",IFERROR(HLOOKUP(Q$2,'生徒(データ入力②)'!$F$3:$AS$24,15,FALSE)&\"\",\"\"))","v":""},{"$f":"IF('生徒(データ入力②)'!$F$3=\"\",\"\",IFERROR(HLOOKUP(R$2,'生徒(データ入力②)'!$F$3:$AS$24,15,FALSE)&\"\",\"\"))","v":""},{"$f":"IF('生徒(データ入力②)'!$F$3=\"\",\"\",IFERROR(HLOOKUP(S$2,'生徒(データ入力②)'!$F$3:$AS$24,15,FALSE)&\"\",\"\"))","v":""},{"$f":"IF('生徒(データ入力②)'!$F$3=\"\",\"\",IFERROR(HLOOKUP(T$2,'生徒(データ入力②)'!$F$3:$AS$24,15,FALSE)&\"\",\"\"))","v":""},{"$f":"IF('生徒(データ入力②)'!$F$3=\"\",\"\",IFERROR(HLOOKUP(U$2,'生徒(データ入力②)'!$F$3:$AS$24,15,FALSE)&\"\",\"\"))","v":""},{"$f":"IF('生徒(データ入力②)'!$F$3=\"\",\"\",IFERROR(HLOOKUP(V$2,'生徒(データ入力②)'!$F$3:$AS$24,15,FALSE)&\"\",\"\"))","v":""},{"$f":"IF('生徒(データ入力②)'!$F$3=\"\",\"\",IFERROR(HLOOKUP(W$2,'生徒(データ入力②)'!$F$3:$AS$24,15,FALSE)&\"\",\"\"))","v":""},{"$f":"IF('生徒(データ入力②)'!$F$3=\"\",\"\",IFERROR(HLOOKUP(X$2,'生徒(データ入力②)'!$F$3:$AS$24,15,FALSE)&\"\",\"\"))","v":""},{"$f":"IF('生徒(データ入力②)'!$F$3=\"\",\"\",IFERROR(HLOOKUP(Y$2,'生徒(データ入力②)'!$F$3:$AS$24,15,FALSE)&\"\",\"\"))","v":""},{"$f":"IF('生徒(データ入力②)'!$F$3=\"\",\"\",IFERROR(HLOOKUP(Z$2,'生徒(データ入力②)'!$F$3:$AS$24,15,FALSE)&\"\",\"\"))","v":""},{"$f":"IF('生徒(データ入力②)'!$F$3=\"\",\"\",IFERROR(HLOOKUP(AA$2,'生徒(データ入力②)'!$F$3:$AS$24,15,FALSE)&\"\",\"\"))","v":""},{"$f":"IF('生徒(データ入力②)'!$F$3=\"\",\"\",IFERROR(HLOOKUP(AB$2,'生徒(データ入力②)'!$F$3:$AS$24,15,FALSE)&\"\",\"\"))","v":""},{"$f":"IF('生徒(データ入力②)'!$F$3=\"\",\"\",IFERROR(HLOOKUP(AC$2,'生徒(データ入力②)'!$F$3:$AS$24,15,FALSE)&\"\",\"\"))","v":""},{"$f":"IF('生徒(データ入力②)'!$F$3=\"\",\"\",IFERROR(HLOOKUP(AD$2,'生徒(データ入力②)'!$F$3:$AS$24,15,FALSE)&\"\",\"\"))","v":""},{"$f":"IF('生徒(データ入力②)'!$F$3=\"\",\"\",IFERROR(HLOOKUP(AE$2,'生徒(データ入力②)'!$F$3:$AS$24,15,FALSE)&\"\",\"\"))","v":""},{"$f":"IF('生徒(データ入力②)'!$F$3=\"\",\"\",IFERROR(HLOOKUP(AF$2,'生徒(データ入力②)'!$F$3:$AS$24,15,FALSE)&\"\",\"\"))","v":""},{"$f":"IF('生徒(データ入力②)'!$F$3=\"\",\"\",IFERROR(HLOOKUP(AG$2,'生徒(データ入力②)'!$F$3:$AS$24,15,FALSE)&\"\",\"\"))","v":""},{"$f":"IF('生徒(データ入力②)'!$F$3=\"\",\"\",IFERROR(HLOOKUP(AH$2,'生徒(データ入力②)'!$F$3:$AS$24,15,FALSE)&\"\",\"\"))","v":""},{"$f":"IF('生徒(データ入力②)'!$F$3=\"\",\"\",IFERROR(HLOOKUP(AI$2,'生徒(データ入力②)'!$F$3:$AS$24,15,FALSE)&\"\",\"\"))","v":""},{"$f":"IF('生徒(データ入力②)'!$F$3=\"\",\"\",IFERROR(HLOOKUP(AJ$2,'生徒(データ入力②)'!$F$3:$AS$24,15,FALSE)&\"\",\"\"))","v":""},{"$f":"IF('生徒(データ入力②)'!$F$3=\"\",\"\",IFERROR(HLOOKUP(AK$2,'生徒(データ入力②)'!$F$3:$AS$24,15,FALSE)&\"\",\"\"))","v":""},{"$f":"IF('生徒(データ入力②)'!$F$3=\"\",\"\",IFERROR(HLOOKUP(AL$2,'生徒(データ入力②)'!$F$3:$AS$24,15,FALSE)&\"\",\"\"))","v":""},{"$f":"IF('生徒(データ入力②)'!$F$3=\"\",\"\",IFERROR(HLOOKUP(AM$2,'生徒(データ入力②)'!$F$3:$AS$24,15,FALSE)&\"\",\"\"))","v":""},{"$f":"IF('生徒(データ入力②)'!$F$3=\"\",\"\",IFERROR(HLOOKUP(AN$2,'生徒(データ入力②)'!$F$3:$AS$24,15,FALSE)&\"\",\"\"))","v":""},{"$f":"IF('生徒(データ入力②)'!$F$3=\"\",\"\",IFERROR(HLOOKUP(AO$2,'生徒(データ入力②)'!$F$3:$AS$24,15,FALSE)&\"\",\"\"))","v":""},{"$f":"IF('生徒(データ入力②)'!$F$3=\"\",\"\",IFERROR(HLOOKUP(AP$2,'生徒(データ入力②)'!$F$3:$AS$24,15,FALSE)&\"\",\"\"))","v":""},{"$f":"IF('生徒(データ入力②)'!$F$3=\"\",\"\",IFERROR(HLOOKUP(AQ$2,'生徒(データ入力②)'!$F$3:$AS$24,15,FALSE)&\"\",\"\"))","v":""},{"$f":"IF('生徒(データ入力②)'!$F$3=\"\",\"\",IFERROR(HLOOKUP(AR$2,'生徒(データ入力②)'!$F$3:$AS$24,15,FALSE)&\"\",\"\"))","v":""},{"$f":"IF('生徒(データ入力②)'!$F$3=\"\",\"\",IFERROR(HLOOKUP(AS$2,'生徒(データ入力②)'!$F$3:$AS$24,15,FALSE)&\"\",\"\"))","v":""},{"$f":"IF('生徒(データ入力②)'!$F$3=\"\",\"\",IFERROR(HLOOKUP(AT$2,'生徒(データ入力②)'!$F$3:$AS$24,15,FALSE)&\"\",\"\"))","v":""},{"$f":"IF('生徒(データ入力②)'!$F$3=\"\",\"\",IFERROR(HLOOKUP(AU$2,'生徒(データ入力②)'!$F$3:$AS$24,15,FALSE)&\"\",\"\"))","v":""},{"$f":"IF('生徒(データ入力②)'!$F$3=\"\",\"\",IFERROR(HLOOKUP(AV$2,'生徒(データ入力②)'!$F$3:$AS$24,15,FALSE)&\"\",\"\"))","v":""},{"$f":"IF('生徒(データ入力②)'!$F$3=\"\",\"\",IFERROR(HLOOKUP(AW$2,'生徒(データ入力②)'!$F$3:$BC$24,15,FALSE)&\"\",\"\"))","v":""},{"$f":"IF('生徒(データ入力②)'!$F$3=\"\",\"\",IFERROR(HLOOKUP(AX$2,'生徒(データ入力②)'!$F$3:$BC$24,15,FALSE)&\"\",\"\"))","v":""},{"$f":"IF('生徒(データ入力②)'!$F$3=\"\",\"\",IFERROR(HLOOKUP(AY$2,'生徒(データ入力②)'!$F$3:$BC$24,15,FALSE)&\"\",\"\"))","v":""},{"$f":"IF('生徒(データ入力②)'!$F$3=\"\",\"\",IFERROR(HLOOKUP(AZ$2,'生徒(データ入力②)'!$F$3:$BC$24,15,FALSE)&\"\",\"\"))","v":""},{"$f":"IF('生徒(データ入力②)'!$F$3=\"\",\"\",IFERROR(HLOOKUP(BA$2,'生徒(データ入力②)'!$F$3:$BC$24,15,FALSE)&\"\",\"\"))","v":""},{"$f":"IF('生徒(データ入力②)'!$F$3=\"\",\"\",IFERROR(HLOOKUP(BB$2,'生徒(データ入力②)'!$F$3:$BC$24,15,FALSE)&\"\",\"\"))","v":""},{"$f":"IF('生徒(データ入力②)'!$F$3=\"\",\"\",IFERROR(HLOOKUP(BC$2,'生徒(データ入力②)'!$F$3:$BC$24,15,FALSE)&\"\",\"\"))","v":""},{"$f":"IF('生徒(データ入力②)'!$F$3=\"\",\"\",IFERROR(HLOOKUP(BD$2,'生徒(データ入力②)'!$F$3:$BC$24,15,FALSE)&\"\",\"\"))","v":""},{"$f":"IF('生徒(データ入力②)'!$F$3=\"\",\"\",IFERROR(HLOOKUP(BE$2,'生徒(データ入力②)'!$F$3:$BC$24,15,FALSE)&\"\",\"\"))","v":""},{"$f":"IF('生徒(データ入力②)'!$F$3=\"\",\"\",IFERROR(HLOOKUP(BF$2,'生徒(データ入力②)'!$F$3:$BC$24,15,FALSE)&\"\",\"\"))","v":""},0,{"$error":"#DIV/0!"},{"$f":"ROUND(BH7-'学級(一覧表①)'!BH7,1)","v":{"$error":"#DIV/0!"}},0,{"$error":"#DIV/0!"},{"$f":"ROUND(BK7-'学級(一覧表①)'!BK7,1)","v":{"$error":"#DIV/0!"}},0,{"$error":"#DIV/0!"},{"$f":"ROUND(BN7-'学級(一覧表①)'!BN7,1)","v":{"$error":"#DIV/0!"}},0,{"$error":"#DIV/0!"},{"$f":"ROUND(BQ7-'学級(一覧表①)'!BQ7,1)","v":{"$error":"#DIV/0!"}},null,null,0,{"$error":"#DIV/0!"},{"$error":"#DIV/0!"},0,{"$error":"#DIV/0!"},{"$error":"#DIV/0!"},"共感的な人間関係平均",{"$f":"BG9+BG10+BG11+BG12+BG13","v":0},{"$f":"BJ9+BJ10+BJ11+BJ12+BJ13","v":0},{"$f":"BM9+BM10+BM11+BM12+BM13","v":0},{"$f":"BP9+BP10+BP11+BP12+BP13","v":0},{"$f":"SUM(CB7:CE7)","v":0},{"$f":"ROUND((CB7/$CF$7)*100,1)","v":{"$error":"#DIV/0!"}},{"$f":"ROUND((CC7/$CF$7)*100,1)","v":{"$error":"#DIV/0!"}},{"$f":"ROUND((CD7/$CF$7)*100,1)","v":{"$error":"#DIV/0!"}},{"$f":"ROUND((CE7/$CF$7)*100,1)","v":{"$error":"#DIV/0!"}},null,{"$f":"ROUND(CG7-'学級(一覧表①)'!CD7,1)","v":{"$error":"#DIV/0!"}},{"$f":"ROUND(CH7-'学級(一覧表①)'!CE7,1)","v":{"$error":"#DIV/0!"}},{"$f":"ROUND(CI7-'学級(一覧表①)'!CF7,1)","v":{"$error":"#DIV/0!"}},{"$f":"ROUND(CJ7-'学級(一覧表①)'!CG7,1)","v":{"$error":"#DIV/0!"}},null,{"$f":"CB7+CC7","v":0},{"$f":"CG7+CH7","v":{"$error":"#DIV/0!"}},{"$f":"ROUND(CL7+CM7,1)","v":{"$error":"#DIV/0!"}},{"$f":"CD7+CE7","v":0},{"$f":"CI7+CJ7","v":{"$error":"#DIV/0!"}},{"$f":"ROUND(CN7+CO7,1)","v":{"$error":"#DIV/0!"}},{"$f":"\"(\"&CS7&\"%)\"","v":{"$error":"#DIV/0!"}},{"$f":"\"(\"&CV7&\"%)\"","v":{"$error":"#DIV/0!"}}]
[null,null,{"$f":"'生徒(個人)'!B10","v":"私の学級では，私の考えや発言が取り上げられたり紹介されたりすることがある。"},{"$error":"#DIV/0!"},{"$error":"#DIV/0!"},{"$error":"#DIV/0!"},{"$error":"#DIV/0!"},null,{"$f":"IF('生徒(データ入力②)'!$F$3=\"\",\"\",IFERROR(HLOOKUP(I$2,'生徒(データ入力②)'!$F$3:$AS$24,8,FALSE)&\"\",\"\"))","v":""},{"$f":"IF('生徒(データ入力②)'!$F$3=\"\",\"\",IFERROR(HLOOKUP(J$2,'生徒(データ入力②)'!$F$3:$AS$24,8,FALSE)&\"\",\"\"))","v":""},{"$f":"IF('生徒(データ入力②)'!$F$3=\"\",\"\",IFERROR(HLOOKUP(K$2,'生徒(データ入力②)'!$F$3:$AS$24,8,FALSE)&\"\",\"\"))","v":""},{"$f":"IF('生徒(データ入力②)'!$F$3=\"\",\"\",IFERROR(HLOOKUP(L$2,'生徒(データ入力②)'!$F$3:$AS$24,8,FALSE)&\"\",\"\"))","v":""},{"$f":"IF('生徒(データ入力②)'!$F$3=\"\",\"\",IFERROR(HLOOKUP(M$2,'生徒(データ入力②)'!$F$3:$AS$24,8,FALSE)&\"\",\"\"))","v":""},{"$f":"IF('生徒(データ入力②)'!$F$3=\"\",\"\",IFERROR(HLOOKUP(N$2,'生徒(データ入力②)'!$F$3:$AS$24,8,FALSE)&\"\",\"\"))","v":""},{"$f":"IF('生徒(データ入力②)'!$F$3=\"\",\"\",IFERROR(HLOOKUP(O$2,'生徒(データ入力②)'!$F$3:$AS$24,8,FALSE)&\"\",\"\"))","v":""},{"$f":"IF('生徒(データ入力②)'!$F$3=\"\",\"\",IFERROR(HLOOKUP(P$2,'生徒(データ入力②)'!$F$3:$AS$24,8,FALSE)&\"\",\"\"))","v":""},{"$f":"IF('生徒(データ入力②)'!$F$3=\"\",\"\",IFERROR(HLOOKUP(Q$2,'生徒(データ入力②)'!$F$3:$AS$24,8,FALSE)&\"\",\"\"))","v":""},{"$f":"IF('生徒(データ入力②)'!$F$3=\"\",\"\",IFERROR(HLOOKUP(R$2,'生徒(データ入力②)'!$F$3:$AS$24,8,FALSE)&\"\",\"\"))","v":""},{"$f":"IF('生徒(データ入力②)'!$F$3=\"\",\"\",IFERROR(HLOOKUP(S$2,'生徒(データ入力②)'!$F$3:$AS$24,8,FALSE)&\"\",\"\"))","v":""},{"$f":"IF('生徒(データ入力②)'!$F$3=\"\",\"\",IFERROR(HLOOKUP(T$2,'生徒(データ入力②)'!$F$3:$AS$24,8,FALSE)&\"\",\"\"))","v":""},{"$f":"IF('生徒(データ入力②)'!$F$3=\"\",\"\",IFERROR(HLOOKUP(U$2,'生徒(データ入力②)'!$F$3:$AS$24,8,FALSE)&\"\",\"\"))","v":""},{"$f":"IF('生徒(データ入力②)'!$F$3=\"\",\"\",IFERROR(HLOOKUP(V$2,'生徒(データ入力②)'!$F$3:$AS$24,8,FALSE)&\"\",\"\"))","v":""},{"$f":"IF('生徒(データ入力②)'!$F$3=\"\",\"\",IFERROR(HLOOKUP(W$2,'生徒(データ入力②)'!$F$3:$AS$24,8,FALSE)&\"\",\"\"))","v":""},{"$f":"IF('生徒(データ入力②)'!$F$3=\"\",\"\",IFERROR(HLOOKUP(X$2,'生徒(データ入力②)'!$F$3:$AS$24,8,FALSE)&\"\",\"\"))","v":""},{"$f":"IF('生徒(データ入力②)'!$F$3=\"\",\"\",IFERROR(HLOOKUP(Y$2,'生徒(データ入力②)'!$F$3:$AS$24,8,FALSE)&\"\",\"\"))","v":""},{"$f":"IF('生徒(データ入力②)'!$F$3=\"\",\"\",IFERROR(HLOOKUP(Z$2,'生徒(データ入力②)'!$F$3:$AS$24,8,FALSE)&\"\",\"\"))","v":""},{"$f":"IF('生徒(データ入力②)'!$F$3=\"\",\"\",IFERROR(HLOOKUP(AA$2,'生徒(データ入力②)'!$F$3:$AS$24,8,FALSE)&\"\",\"\"))","v":""},{"$f":"IF('生徒(データ入力②)'!$F$3=\"\",\"\",IFERROR(HLOOKUP(AB$2,'生徒(データ入力②)'!$F$3:$AS$24,8,FALSE)&\"\",\"\"))","v":""},{"$f":"IF('生徒(データ入力②)'!$F$3=\"\",\"\",IFERROR(HLOOKUP(AC$2,'生徒(データ入力②)'!$F$3:$AS$24,8,FALSE)&\"\",\"\"))","v":""},{"$f":"IF('生徒(データ入力②)'!$F$3=\"\",\"\",IFERROR(HLOOKUP(AD$2,'生徒(データ入力②)'!$F$3:$AS$24,8,FALSE)&\"\",\"\"))","v":""},{"$f":"IF('生徒(データ入力②)'!$F$3=\"\",\"\",IFERROR(HLOOKUP(AE$2,'生徒(データ入力②)'!$F$3:$AS$24,8,FALSE)&\"\",\"\"))","v":""},{"$f":"IF('生徒(データ入力②)'!$F$3=\"\",\"\",IFERROR(HLOOKUP(AF$2,'生徒(データ入力②)'!$F$3:$AS$24,8,FALSE)&\"\",\"\"))","v":""},{"$f":"IF('生徒(データ入力②)'!$F$3=\"\",\"\",IFERROR(HLOOKUP(AG$2,'生徒(データ入力②)'!$F$3:$AS$24,8,FALSE)&\"\",\"\"))","v":""},{"$f":"IF('生徒(データ入力②)'!$F$3=\"\",\"\",IFERROR(HLOOKUP(AH$2,'生徒(データ入力②)'!$F$3:$AS$24,8,FALSE)&\"\",\"\"))","v":""},{"$f":"IF('生徒(データ入力②)'!$F$3=\"\",\"\",IFERROR(HLOOKUP(AI$2,'生徒(データ入力②)'!$F$3:$AS$24,8,FALSE)&\"\",\"\"))","v":""},{"$f":"IF('生徒(データ入力②)'!$F$3=\"\",\"\",IFERROR(HLOOKUP(AJ$2,'生徒(データ入力②)'!$F$3:$AS$24,8,FALSE)&\"\",\"\"))","v":""},{"$f":"IF('生徒(データ入力②)'!$F$3=\"\",\"\",IFERROR(HLOOKUP(AK$2,'生徒(データ入力②)'!$F$3:$AS$24,8,FALSE)&\"\",\"\"))","v":""},{"$f":"IF('生徒(データ入力②)'!$F$3=\"\",\"\",IFERROR(HLOOKUP(AL$2,'生徒(データ入力②)'!$F$3:$AS$24,8,FALSE)&\"\",\"\"))","v":""},{"$f":"IF('生徒(データ入力②)'!$F$3=\"\",\"\",IFERROR(HLOOKUP(AM$2,'生徒(データ入力②)'!$F$3:$AS$24,8,FALSE)&\"\",\"\"))","v":""},{"$f":"IF('生徒(データ入力②)'!$F$3=\"\",\"\",IFERROR(HLOOKUP(AN$2,'生徒(データ入力②)'!$F$3:$AS$24,8,FALSE)&\"\",\"\"))","v":""},{"$f":"IF('生徒(データ入力②)'!$F$3=\"\",\"\",IFERROR(HLOOKUP(AO$2,'生徒(データ入力②)'!$F$3:$AS$24,8,FALSE)&\"\",\"\"))","v":""},{"$f":"IF('生徒(データ入力②)'!$F$3=\"\",\"\",IFERROR(HLOOKUP(AP$2,'生徒(データ入力②)'!$F$3:$AS$24,8,FALSE)&\"\",\"\"))","v":""},{"$f":"IF('生徒(データ入力②)'!$F$3=\"\",\"\",IFERROR(HLOOKUP(AQ$2,'生徒(データ入力②)'!$F$3:$AS$24,8,FALSE)&\"\",\"\"))","v":""},{"$f":"IF('生徒(データ入力②)'!$F$3=\"\",\"\",IFERROR(HLOOKUP(AR$2,'生徒(データ入力②)'!$F$3:$AS$24,8,FALSE)&\"\",\"\"))","v":""},{"$f":"IF('生徒(データ入力②)'!$F$3=\"\",\"\",IFERROR(HLOOKUP(AS$2,'生徒(データ入力②)'!$F$3:$AS$24,8,FALSE)&\"\",\"\"))","v":""},{"$f":"IF('生徒(データ入力②)'!$F$3=\"\",\"\",IFERROR(HLOOKUP(AT$2,'生徒(データ入力②)'!$F$3:$AS$24,8,FALSE)&\"\",\"\"))","v":""},{"$f":"IF('生徒(データ入力②)'!$F$3=\"\",\"\",IFERROR(HLOOKUP(AU$2,'生徒(データ入力②)'!$F$3:$AS$24,8,FALSE)&\"\",\"\"))","v":""},{"$f":"IF('生徒(データ入力②)'!$F$3=\"\",\"\",IFERROR(HLOOKUP(AV$2,'生徒(データ入力②)'!$F$3:$AS$24,8,FALSE)&\"\",\"\"))","v":""},{"$f":"IF('生徒(データ入力②)'!$F$3=\"\",\"\",IFERROR(HLOOKUP(AW$2,'生徒(データ入力②)'!$F$3:$BC$24,8,FALSE)&\"\",\"\"))","v":""},{"$f":"IF('生徒(データ入力②)'!$F$3=\"\",\"\",IFERROR(HLOOKUP(AX$2,'生徒(データ入力②)'!$F$3:$BC$24,8,FALSE)&\"\",\"\"))","v":""},{"$f":"IF('生徒(データ入力②)'!$F$3=\"\",\"\",IFERROR(HLOOKUP(AY$2,'生徒(データ入力②)'!$F$3:$BC$24,8,FALSE)&\"\",\"\"))","v":""},{"$f":"IF('生徒(データ入力②)'!$F$3=\"\",\"\",IFERROR(HLOOKUP(AZ$2,'生徒(データ入力②)'!$F$3:$BC$24,8,FALSE)&\"\",\"\"))","v":""},{"$f":"IF('生徒(データ入力②)'!$F$3=\"\",\"\",IFERROR(HLOOKUP(BA$2,'生徒(データ入力②)'!$F$3:$BC$24,8,FALSE)&\"\",\"\"))","v":""},{"$f":"IF('生徒(データ入力②)'!$F$3=\"\",\"\",IFERROR(HLOOKUP(BB$2,'生徒(データ入力②)'!$F$3:$BC$24,8,FALSE)&\"\",\"\"))","v":""},{"$f":"IF('生徒(データ入力②)'!$F$3=\"\",\"\",IFERROR(HLOOKUP(BC$2,'生徒(データ入力②)'!$F$3:$BC$24,8,FALSE)&\"\",\"\"))","v":""},{"$f":"IF('生徒(データ入力②)'!$F$3=\"\",\"\",IFERROR(HLOOKUP(BD$2,'生徒(データ入力②)'!$F$3:$BC$24,8,FALSE)&\"\",\"\"))","v":""},{"$f":"IF('生徒(データ入力②)'!$F$3=\"\",\"\",IFERROR(HLOOKUP(BE$2,'生徒(データ入力②)'!$F$3:$BC$24,8,FALSE)&\"\",\"\"))","v":""},{"$f":"IF('生徒(データ入力②)'!$F$3=\"\",\"\",IFERROR(HLOOKUP(BF$2,'生徒(データ入力②)'!$F$3:$BC$24,8,FALSE)&\"\",\"\"))","v":""},0,{"$error":"#DIV/0!"},{"$f":"ROUND(BH8-'学級(一覧表①)'!BH8,1)","v":{"$error":"#DIV/0!"}},0,{"$error":"#DIV/0!"},{"$f":"ROUND(BK8-'学級(一覧表①)'!BK8,1)","v":{"$error":"#DIV/0!"}},0,{"$error":"#DIV/0!"},{"$f":"ROUND(BN8-'学級(一覧表①)'!BN8,1)","v":{"$error":"#DIV/0!"}},0,{"$error":"#DIV/0!"},{"$f":"ROUND(BQ8-'学級(一覧表①)'!BQ8,1)","v":{"$error":"#DIV/0!"}},null,null,0,{"$error":"#DIV/0!"},{"$error":"#DIV/0!"},0,{"$error":"#DIV/0!"},{"$error":"#DIV/0!"},"自己決定の場の提供平均",{"$f":"BG14+BG15+BG16+BG17+BG18","v":0},{"$f":"BJ14+BJ15+BJ16+BJ17+BJ18","v":0},{"$f":"BM14+BM15+BM16+BM17+BM18","v":0},{"$f":"BP14+BP15+BP16+BP17+BP18","v":0},0,{"$f":"ROUND((CB8/$CF$8)*100,1)","v":{"$error":"#DIV/0!"}},{"$f":"ROUND((CC8/$CF$8)*100,1)","v":{"$error":"#DIV/0!"}},{"$f":"ROUND((CD8/$CF$8)*100,1)","v":{"$error":"#DIV/0!"}},{"$f":"ROUND((CE8/$CF$8)*100,1)","v":{"$error":"#DIV/0!"}},null,{"$f":"ROUND(CG8-'学級(一覧表①)'!CD8,1)","v":{"$error":"#DIV/0!"}},{"$f":"ROUND(CH8-'学級(一覧表①)'!CE8,1)","v":{"$error":"#DIV/0!"}},{"$f":"ROUND(CI8-'学級(一覧表①)'!CF8,1)","v":{"$error":"#DIV/0!"}},{"$f":"ROUND(CJ8-'学級(一覧表①)'!CG8,1)","v":{"$error":"#DIV/0!"}},null,{"$f":"CB8+CC8","v":0},{"$f":"CG8+CH8","v":{"$error":"#DIV/0!"}},{"$f":"ROUND(CL8+CM8,1)","v":{"$error":"#DIV/0!"}},{"$f":"CD8+CE8","v":0},{"$f":"CI8+CJ8","v":{"$error":"#DIV/0!"}},{"$f":"ROUND(CN8+CO8,1)","v":{"$error":"#DIV/0!"}},{"$error":"#DIV/0!"},{"$error":"#DIV/0!"}]
[null,"教師や仲間から理解され受け入れられているという安心感",{"$f":"'生徒(個人)'!B11","v":"私の学級では，先生や友達は私の話を最後まで聞いてくれる。"},{"$error":"#DIV/0!"},{"$error":"#DIV/0!"},{"$error":"#DIV/0!"},{"$error":"#DIV/0!"},null,{"$f":"IF('生徒(データ入力②)'!$F$3=\"\",\"\",IFERROR(HLOOKUP(I$2,'生徒(データ入力②)'!$F$3:$AS$24,10,FALSE)&\"\",\"\"))","v":""},{"$f":"IF('生徒(データ入力②)'!$F$3=\"\",\"\",IFERROR(HLOOKUP(J$2,'生徒(データ入力②)'!$F$3:$AS$24,10,FALSE)&\"\",\"\"))","v":""},{"$f":"IF('生徒(データ入力②)'!$F$3=\"\",\"\",IFERROR(HLOOKUP(K$2,'生徒(データ入力②)'!$F$3:$AS$24,10,FALSE)&\"\",\"\"))","v":""},{"$f":"IF('生徒(データ入力②)'!$F$3=\"\",\"\",IFERROR(HLOOKUP(L$2,'生徒(データ入力②)'!$F$3:$AS$24,10,FALSE)&\"\",\"\"))","v":""},{"$f":"IF('生徒(データ入力②)'!$F$3=\"\",\"\",IFERROR(HLOOKUP(M$2,'生徒(データ入力②)'!$F$3:$AS$24,10,FALSE)&\"\",\"\"))","v":""},{"$f":"IF('生徒(データ入力②)'!$F$3=\"\",\"\",IFERROR(HLOOKUP(N$2,'生徒(データ入力②)'!$F$3:$AS$24,10,FALSE)&\"\",\"\"))","v":""},{"$f":"IF('生徒(データ入力②)'!$F$3=\"\",\"\",IFERROR(HLOOKUP(O$2,'生徒(データ入力②)'!$F$3:$AS$24,10,FALSE)&\"\",\"\"))","v":""},{"$f":"IF('生徒(データ入力②)'!$F$3=\"\",\"\",IFERROR(HLOOKUP(P$2,'生徒(データ入力②)'!$F$3:$AS$24,10,FALSE)&\"\",\"\"))","v":""},{"$f":"IF('生徒(データ入力②)'!$F$3=\"\",\"\",IFERROR(HLOOKUP(Q$2,'生徒(データ入力②)'!$F$3:$AS$24,10,FALSE)&\"\",\"\"))","v":""},{"$f":"IF('生徒(データ入力②)'!$F$3=\"\",\"\",IFERROR(HLOOKUP(R$2,'生徒(データ入力②)'!$F$3:$AS$24,10,FALSE)&\"\",\"\"))","v":""},{"$f":"IF('生徒(データ入力②)'!$F$3=\"\",\"\",IFERROR(HLOOKUP(S$2,'生徒(データ入力②)'!$F$3:$AS$24,10,FALSE)&\"\",\"\"))","v":""},{"$f":"IF('生徒(データ入力②)'!$F$3=\"\",\"\",IFERROR(HLOOKUP(T$2,'生徒(データ入力②)'!$F$3:$AS$24,10,FALSE)&\"\",\"\"))","v":""},{"$f":"IF('生徒(データ入力②)'!$F$3=\"\",\"\",IFERROR(HLOOKUP(U$2,'生徒(データ入力②)'!$F$3:$AS$24,10,FALSE)&\"\",\"\"))","v":""},{"$f":"IF('生徒(データ入力②)'!$F$3=\"\",\"\",IFERROR(HLOOKUP(V$2,'生徒(データ入力②)'!$F$3:$AS$24,10,FALSE)&\"\",\"\"))","v":""},{"$f":"IF('生徒(データ入力②)'!$F$3=\"\",\"\",IFERROR(HLOOKUP(W$2,'生徒(データ入力②)'!$F$3:$AS$24,10,FALSE)&\"\",\"\"))","v":""},{"$f":"IF('生徒(データ入力②)'!$F$3=\"\",\"\",IFERROR(HLOOKUP(X$2,'生徒(データ入力②)'!$F$3:$AS$24,10,FALSE)&\"\",\"\"))","v":""},{"$f":"IF('生徒(データ入力②)'!$F$3=\"\",\"\",IFERROR(HLOOKUP(Y$2,'生徒(データ入力②)'!$F$3:$AS$24,10,FALSE)&\"\",\"\"))","v":""},{"$f":"IF('生徒(データ入力②)'!$F$3=\"\",\"\",IFERROR(HLOOKUP(Z$2,'生徒(データ入力②)'!$F$3:$AS$24,10,FALSE)&\"\",\"\"))","v":""},{"$f":"IF('生徒(データ入力②)'!$F$3=\"\",\"\",IFERROR(HLOOKUP(AA$2,'生徒(データ入力②)'!$F$3:$AS$24,10,FALSE)&\"\",\"\"))","v":""},{"$f":"IF('生徒(データ入力②)'!$F$3=\"\",\"\",IFERROR(HLOOKUP(AB$2,'生徒(データ入力②)'!$F$3:$AS$24,10,FALSE)&\"\",\"\"))","v":""},{"$f":"IF('生徒(データ入力②)'!$F$3=\"\",\"\",IFERROR(HLOOKUP(AC$2,'生徒(データ入力②)'!$F$3:$AS$24,10,FALSE)&\"\",\"\"))","v":""},{"$f":"IF('生徒(データ入力②)'!$F$3=\"\",\"\",IFERROR(HLOOKUP(AD$2,'生徒(データ入力②)'!$F$3:$AS$24,10,FALSE)&\"\",\"\"))","v":""},{"$f":"IF('生徒(データ入力②)'!$F$3=\"\",\"\",IFERROR(HLOOKUP(AE$2,'生徒(データ入力②)'!$F$3:$AS$24,10,FALSE)&\"\",\"\"))","v":""},{"$f":"IF('生徒(データ入力②)'!$F$3=\"\",\"\",IFERROR(HLOOKUP(AF$2,'生徒(データ入力②)'!$F$3:$AS$24,10,FALSE)&\"\",\"\"))","v":""},{"$f":"IF('生徒(データ入力②)'!$F$3=\"\",\"\",IFERROR(HLOOKUP(AG$2,'生徒(データ入力②)'!$F$3:$AS$24,10,FALSE)&\"\",\"\"))","v":""},{"$f":"IF('生徒(データ入力②)'!$F$3=\"\",\"\",IFERROR(HLOOKUP(AH$2,'生徒(データ入力②)'!$F$3:$AS$24,10,FALSE)&\"\",\"\"))","v":""},{"$f":"IF('生徒(データ入力②)'!$F$3=\"\",\"\",IFERROR(HLOOKUP(AI$2,'生徒(データ入力②)'!$F$3:$AS$24,10,FALSE)&\"\",\"\"))","v":""},{"$f":"IF('生徒(データ入力②)'!$F$3=\"\",\"\",IFERROR(HLOOKUP(AJ$2,'生徒(データ入力②)'!$F$3:$AS$24,10,FALSE)&\"\",\"\"))","v":""},{"$f":"IF('生徒(データ入力②)'!$F$3=\"\",\"\",IFERROR(HLOOKUP(AK$2,'生徒(データ入力②)'!$F$3:$AS$24,10,FALSE)&\"\",\"\"))","v":""},{"$f":"IF('生徒(データ入力②)'!$F$3=\"\",\"\",IFERROR(HLOOKUP(AL$2,'生徒(データ入力②)'!$F$3:$AS$24,10,FALSE)&\"\",\"\"))","v":""},{"$f":"IF('生徒(データ入力②)'!$F$3=\"\",\"\",IFERROR(HLOOKUP(AM$2,'生徒(データ入力②)'!$F$3:$AS$24,10,FALSE)&\"\",\"\"))","v":""},{"$f":"IF('生徒(データ入力②)'!$F$3=\"\",\"\",IFERROR(HLOOKUP(AN$2,'生徒(データ入力②)'!$F$3:$AS$24,10,FALSE)&\"\",\"\"))","v":""},{"$f":"IF('生徒(データ入力②)'!$F$3=\"\",\"\",IFERROR(HLOOKUP(AO$2,'生徒(データ入力②)'!$F$3:$AS$24,10,FALSE)&\"\",\"\"))","v":""},{"$f":"IF('生徒(データ入力②)'!$F$3=\"\",\"\",IFERROR(HLOOKUP(AP$2,'生徒(データ入力②)'!$F$3:$AS$24,10,FALSE)&\"\",\"\"))","v":""},{"$f":"IF('生徒(データ入力②)'!$F$3=\"\",\"\",IFERROR(HLOOKUP(AQ$2,'生徒(データ入力②)'!$F$3:$AS$24,10,FALSE)&\"\",\"\"))","v":""},{"$f":"IF('生徒(データ入力②)'!$F$3=\"\",\"\",IFERROR(HLOOKUP(AR$2,'生徒(データ入力②)'!$F$3:$AS$24,10,FALSE)&\"\",\"\"))","v":""},{"$f":"IF('生徒(データ入力②)'!$F$3=\"\",\"\",IFERROR(HLOOKUP(AS$2,'生徒(データ入力②)'!$F$3:$AS$24,10,FALSE)&\"\",\"\"))","v":""},{"$f":"IF('生徒(データ入力②)'!$F$3=\"\",\"\",IFERROR(HLOOKUP(AT$2,'生徒(データ入力②)'!$F$3:$AS$24,10,FALSE)&\"\",\"\"))","v":""},{"$f":"IF('生徒(データ入力②)'!$F$3=\"\",\"\",IFERROR(HLOOKUP(AU$2,'生徒(データ入力②)'!$F$3:$AS$24,10,FALSE)&\"\",\"\"))","v":""},{"$f":"IF('生徒(データ入力②)'!$F$3=\"\",\"\",IFERROR(HLOOKUP(AV$2,'生徒(データ入力②)'!$F$3:$AS$24,10,FALSE)&\"\",\"\"))","v":""},{"$f":"IF('生徒(データ入力②)'!$F$3=\"\",\"\",IFERROR(HLOOKUP(AW$2,'生徒(データ入力②)'!$F$3:$BC$24,10,FALSE)&\"\",\"\"))","v":""},{"$f":"IF('生徒(データ入力②)'!$F$3=\"\",\"\",IFERROR(HLOOKUP(AX$2,'生徒(データ入力②)'!$F$3:$BC$24,10,FALSE)&\"\",\"\"))","v":""},{"$f":"IF('生徒(データ入力②)'!$F$3=\"\",\"\",IFERROR(HLOOKUP(AY$2,'生徒(データ入力②)'!$F$3:$BC$24,10,FALSE)&\"\",\"\"))","v":""},{"$f":"IF('生徒(データ入力②)'!$F$3=\"\",\"\",IFERROR(HLOOKUP(AZ$2,'生徒(データ入力②)'!$F$3:$BC$24,10,FALSE)&\"\",\"\"))","v":""},{"$f":"IF('生徒(データ入力②)'!$F$3=\"\",\"\",IFERROR(HLOOKUP(BA$2,'生徒(データ入力②)'!$F$3:$BC$24,10,FALSE)&\"\",\"\"))","v":""},{"$f":"IF('生徒(データ入力②)'!$F$3=\"\",\"\",IFERROR(HLOOKUP(BB$2,'生徒(データ入力②)'!$F$3:$BC$24,10,FALSE)&\"\",\"\"))","v":""},{"$f":"IF('生徒(データ入力②)'!$F$3=\"\",\"\",IFERROR(HLOOKUP(BC$2,'生徒(データ入力②)'!$F$3:$BC$24,10,FALSE)&\"\",\"\"))","v":""},{"$f":"IF('生徒(データ入力②)'!$F$3=\"\",\"\",IFERROR(HLOOKUP(BD$2,'生徒(データ入力②)'!$F$3:$BC$24,10,FALSE)&\"\",\"\"))","v":""},{"$f":"IF('生徒(データ入力②)'!$F$3=\"\",\"\",IFERROR(HLOOKUP(BE$2,'生徒(データ入力②)'!$F$3:$BC$24,10,FALSE)&\"\",\"\"))","v":""},{"$f":"IF('生徒(データ入力②)'!$F$3=\"\",\"\",IFERROR(HLOOKUP(BF$2,'生徒(データ入力②)'!$F$3:$BC$24,10,FALSE)&\"\",\"\"))","v":""},0,{"$error":"#DIV/0!"},{"$f":"ROUND(BH9-'学級(一覧表①)'!BH9,1)","v":{"$error":"#DIV/0!"}},0,{"$error":"#DIV/0!"},{"$f":"ROUND(BK9-'学級(一覧表①)'!BK9,1)","v":{"$error":"#DIV/0!"}},0,{"$error":"#DIV/0!"},{"$f":"ROUND(BN9-'学級(一覧表①)'!BN9,1)","v":{"$error":"#DIV/0!"}},0,{"$error":"#DIV/0!"},{"$f":"ROUND(BQ9-'学級(一覧表①)'!BQ9,1)","v":{"$error":"#DIV/0!"}},null,null,0,{"$error":"#DIV/0!"},{"$error":"#DIV/0!"},0,{"$error":"#DIV/0!"},{"$error":"#DIV/0!"},"安全・安心な風土の醸成平均",{"$f":"BG19+BG20+BG21+BG22+BG23","v":0},{"$f":"BJ19+BJ20+BJ21+BJ22+BJ23","v":0},{"$f":"BM19+BM20+BM21+BM22+BM23","v":0},{"$f":"BP19+BP20+BP21+BP22+BP23","v":0},0,{"$f":"ROUND((CB9/$CF$9)*100,1)","v":{"$error":"#DIV/0!"}},{"$f":"ROUND((CC9/$CF$9)*100,1)","v":{"$error":"#DIV/0!"}},{"$error":"#DIV/0!"},{"$error":"#DIV/0!"},null,{"$f":"ROUND(CG9-'学級(一覧表①)'!CD9,1)","v":{"$error":"#DIV/0!"}},{"$f":"ROUND(CH9-'学級(一覧表①)'!CE9,1)","v":{"$error":"#DIV/0!"}},{"$f":"ROUND(CI9-'学級(一覧表①)'!CF9,1)","v":{"$error":"#DIV/0!"}},{"$f":"ROUND(CJ9-'学級(一覧表①)'!CG9,1)","v":{"$error":"#DIV/0!"}},null,{"$f":"CB9+CC9","v":0},{"$f":"CG9+CH9","v":{"$error":"#DIV/0!"}},{"$f":"ROUND(CL9+CM9,1)","v":{"$error":"#DIV/0!"}},{"$f":"CD9+CE9","v":0},{"$f":"CI9+CJ9","v":{"$error":"#DIV/0!"}},{"$f":"ROUND(CN9+CO9,1)","v":{"$error":"#DIV/0!"}},{"$error":"#DIV/0!"},{"$error":"#DIV/0!"}]
[null,null,{"$f":"'生徒(個人)'!B12","v":"私の学級には，悩みや困りごとを相談できる先生や友達がいる。"},{"$error":"#DIV/0!"},{"$error":"#DIV/0!"},{"$error":"#DIV/0!"},{"$error":"#DIV/0!"},null,{"$f":"IF('生徒(データ入力②)'!$F$3=\"\",\"\",IFERROR(HLOOKUP(I$2,'生徒(データ入力②)'!$F$3:$AS$24,16,FALSE)&\"\",\"\"))","v":""},{"$f":"IF('生徒(データ入力②)'!$F$3=\"\",\"\",IFERROR(HLOOKUP(J$2,'生徒(データ入力②)'!$F$3:$AS$24,16,FALSE)&\"\",\"\"))","v":""},{"$f":"IF('生徒(データ入力②)'!$F$3=\"\",\"\",IFERROR(HLOOKUP(K$2,'生徒(データ入力②)'!$F$3:$AS$24,16,FALSE)&\"\",\"\"))","v":""},{"$f":"IF('生徒(データ入力②)'!$F$3=\"\",\"\",IFERROR(HLOOKUP(L$2,'生徒(データ入力②)'!$F$3:$AS$24,16,FALSE)&\"\",\"\"))","v":""},{"$f":"IF('生徒(データ入力②)'!$F$3=\"\",\"\",IFERROR(HLOOKUP(M$2,'生徒(データ入力②)'!$F$3:$AS$24,16,FALSE)&\"\",\"\"))","v":""},{"$f":"IF('生徒(データ入力②)'!$F$3=\"\",\"\",IFERROR(HLOOKUP(N$2,'生徒(データ入力②)'!$F$3:$AS$24,16,FALSE)&\"\",\"\"))","v":""},{"$f":"IF('生徒(データ入力②)'!$F$3=\"\",\"\",IFERROR(HLOOKUP(O$2,'生徒(データ入力②)'!$F$3:$AS$24,16,FALSE)&\"\",\"\"))","v":""},{"$f":"IF('生徒(データ入力②)'!$F$3=\"\",\"\",IFERROR(HLOOKUP(P$2,'生徒(データ入力②)'!$F$3:$AS$24,16,FALSE)&\"\",\"\"))","v":""},{"$f":"IF('生徒(データ入力②)'!$F$3=\"\",\"\",IFERROR(HLOOKUP(Q$2,'生徒(データ入力②)'!$F$3:$AS$24,16,FALSE)&\"\",\"\"))","v":""},{"$f":"IF('生徒(データ入力②)'!$F$3=\"\",\"\",IFERROR(HLOOKUP(R$2,'生徒(データ入力②)'!$F$3:$AS$24,16,FALSE)&\"\",\"\"))","v":""},{"$f":"IF('生徒(データ入力②)'!$F$3=\"\",\"\",IFERROR(HLOOKUP(S$2,'生徒(データ入力②)'!$F$3:$AS$24,16,FALSE)&\"\",\"\"))","v":""},{"$f":"IF('生徒(データ入力②)'!$F$3=\"\",\"\",IFERROR(HLOOKUP(T$2,'生徒(データ入力②)'!$F$3:$AS$24,16,FALSE)&\"\",\"\"))","v":""},{"$f":"IF('生徒(データ入力②)'!$F$3=\"\",\"\",IFERROR(HLOOKUP(U$2,'生徒(データ入力②)'!$F$3:$AS$24,16,FALSE)&\"\",\"\"))","v":""},{"$f":"IF('生徒(データ入力②)'!$F$3=\"\",\"\",IFERROR(HLOOKUP(V$2,'生徒(データ入力②)'!$F$3:$AS$24,16,FALSE)&\"\",\"\"))","v":""},{"$f":"IF('生徒(データ入力②)'!$F$3=\"\",\"\",IFERROR(HLOOKUP(W$2,'生徒(データ入力②)'!$F$3:$AS$24,16,FALSE)&\"\",\"\"))","v":""},{"$f":"IF('生徒(データ入力②)'!$F$3=\"\",\"\",IFERROR(HLOOKUP(X$2,'生徒(データ入力②)'!$F$3:$AS$24,16,FALSE)&\"\",\"\"))","v":""},{"$f":"IF('生徒(データ入力②)'!$F$3=\"\",\"\",IFERROR(HLOOKUP(Y$2,'生徒(データ入力②)'!$F$3:$AS$24,16,FALSE)&\"\",\"\"))","v":""},{"$f":"IF('生徒(データ入力②)'!$F$3=\"\",\"\",IFERROR(HLOOKUP(Z$2,'生徒(データ入力②)'!$F$3:$AS$24,16,FALSE)&\"\",\"\"))","v":""},{"$f":"IF('生徒(データ入力②)'!$F$3=\"\",\"\",IFERROR(HLOOKUP(AA$2,'生徒(データ入力②)'!$F$3:$AS$24,16,FALSE)&\"\",\"\"))","v":""},{"$f":"IF('生徒(データ入力②)'!$F$3=\"\",\"\",IFERROR(HLOOKUP(AB$2,'生徒(データ入力②)'!$F$3:$AS$24,16,FALSE)&\"\",\"\"))","v":""},{"$f":"IF('生徒(データ入力②)'!$F$3=\"\",\"\",IFERROR(HLOOKUP(AC$2,'生徒(データ入力②)'!$F$3:$AS$24,16,FALSE)&\"\",\"\"))","v":""},{"$f":"IF('生徒(データ入力②)'!$F$3=\"\",\"\",IFERROR(HLOOKUP(AD$2,'生徒(データ入力②)'!$F$3:$AS$24,16,FALSE)&\"\",\"\"))","v":""},{"$f":"IF('生徒(データ入力②)'!$F$3=\"\",\"\",IFERROR(HLOOKUP(AE$2,'生徒(データ入力②)'!$F$3:$AS$24,16,FALSE)&\"\",\"\"))","v":""},{"$f":"IF('生徒(データ入力②)'!$F$3=\"\",\"\",IFERROR(HLOOKUP(AF$2,'生徒(データ入力②)'!$F$3:$AS$24,16,FALSE)&\"\",\"\"))","v":""},{"$f":"IF('生徒(データ入力②)'!$F$3=\"\",\"\",IFERROR(HLOOKUP(AG$2,'生徒(データ入力②)'!$F$3:$AS$24,16,FALSE)&\"\",\"\"))","v":""},{"$f":"IF('生徒(データ入力②)'!$F$3=\"\",\"\",IFERROR(HLOOKUP(AH$2,'生徒(データ入力②)'!$F$3:$AS$24,16,FALSE)&\"\",\"\"))","v":""},{"$f":"IF('生徒(データ入力②)'!$F$3=\"\",\"\",IFERROR(HLOOKUP(AI$2,'生徒(データ入力②)'!$F$3:$AS$24,16,FALSE)&\"\",\"\"))","v":""},{"$f":"IF('生徒(データ入力②)'!$F$3=\"\",\"\",IFERROR(HLOOKUP(AJ$2,'生徒(データ入力②)'!$F$3:$AS$24,16,FALSE)&\"\",\"\"))","v":""},{"$f":"IF('生徒(データ入力②)'!$F$3=\"\",\"\",IFERROR(HLOOKUP(AK$2,'生徒(データ入力②)'!$F$3:$AS$24,16,FALSE)&\"\",\"\"))","v":""},{"$f":"IF('生徒(データ入力②)'!$F$3=\"\",\"\",IFERROR(HLOOKUP(AL$2,'生徒(データ入力②)'!$F$3:$AS$24,16,FALSE)&\"\",\"\"))","v":""},{"$f":"IF('生徒(データ入力②)'!$F$3=\"\",\"\",IFERROR(HLOOKUP(AM$2,'生徒(データ入力②)'!$F$3:$AS$24,16,FALSE)&\"\",\"\"))","v":""},{"$f":"IF('生徒(データ入力②)'!$F$3=\"\",\"\",IFERROR(HLOOKUP(AN$2,'生徒(データ入力②)'!$F$3:$AS$24,16,FALSE)&\"\",\"\"))","v":""},{"$f":"IF('生徒(データ入力②)'!$F$3=\"\",\"\",IFERROR(HLOOKUP(AO$2,'生徒(データ入力②)'!$F$3:$AS$24,16,FALSE)&\"\",\"\"))","v":""},{"$f":"IF('生徒(データ入力②)'!$F$3=\"\",\"\",IFERROR(HLOOKUP(AP$2,'生徒(データ入力②)'!$F$3:$AS$24,16,FALSE)&\"\",\"\"))","v":""},{"$f":"IF('生徒(データ入力②)'!$F$3=\"\",\"\",IFERROR(HLOOKUP(AQ$2,'生徒(データ入力②)'!$F$3:$AS$24,16,FALSE)&\"\",\"\"))","v":""},{"$f":"IF('生徒(データ入力②)'!$F$3=\"\",\"\",IFERROR(HLOOKUP(AR$2,'生徒(データ入力②)'!$F$3:$AS$24,16,FALSE)&\"\",\"\"))","v":""},{"$f":"IF('生徒(データ入力②)'!$F$3=\"\",\"\",IFERROR(HLOOKUP(AS$2,'生徒(データ入力②)'!$F$3:$AS$24,16,FALSE)&\"\",\"\"))","v":""},{"$f":"IF('生徒(データ入力②)'!$F$3=\"\",\"\",IFERROR(HLOOKUP(AT$2,'生徒(データ入力②)'!$F$3:$AS$24,16,FALSE)&\"\",\"\"))","v":""},{"$f":"IF('生徒(データ入力②)'!$F$3=\"\",\"\",IFERROR(HLOOKUP(AU$2,'生徒(データ入力②)'!$F$3:$AS$24,16,FALSE)&\"\",\"\"))","v":""},{"$f":"IF('生徒(データ入力②)'!$F$3=\"\",\"\",IFERROR(HLOOKUP(AV$2,'生徒(データ入力②)'!$F$3:$AS$24,16,FALSE)&\"\",\"\"))","v":""},{"$f":"IF('生徒(データ入力②)'!$F$3=\"\",\"\",IFERROR(HLOOKUP(AW$2,'生徒(データ入力②)'!$F$3:$BC$24,16,FALSE)&\"\",\"\"))","v":""},{"$f":"IF('生徒(データ入力②)'!$F$3=\"\",\"\",IFERROR(HLOOKUP(AX$2,'生徒(データ入力②)'!$F$3:$BC$24,16,FALSE)&\"\",\"\"))","v":""},{"$f":"IF('生徒(データ入力②)'!$F$3=\"\",\"\",IFERROR(HLOOKUP(AY$2,'生徒(データ入力②)'!$F$3:$BC$24,16,FALSE)&\"\",\"\"))","v":""},{"$f":"IF('生徒(データ入力②)'!$F$3=\"\",\"\",IFERROR(HLOOKUP(AZ$2,'生徒(データ入力②)'!$F$3:$BC$24,16,FALSE)&\"\",\"\"))","v":""},{"$f":"IF('生徒(データ入力②)'!$F$3=\"\",\"\",IFERROR(HLOOKUP(BA$2,'生徒(データ入力②)'!$F$3:$BC$24,16,FALSE)&\"\",\"\"))","v":""},{"$f":"IF('生徒(データ入力②)'!$F$3=\"\",\"\",IFERROR(HLOOKUP(BB$2,'生徒(データ入力②)'!$F$3:$BC$24,16,FALSE)&\"\",\"\"))","v":""},{"$f":"IF('生徒(データ入力②)'!$F$3=\"\",\"\",IFERROR(HLOOKUP(BC$2,'生徒(データ入力②)'!$F$3:$BC$24,16,FALSE)&\"\",\"\"))","v":""},{"$f":"IF('生徒(データ入力②)'!$F$3=\"\",\"\",IFERROR(HLOOKUP(BD$2,'生徒(データ入力②)'!$F$3:$BC$24,16,FALSE)&\"\",\"\"))","v":""},{"$f":"IF('生徒(データ入力②)'!$F$3=\"\",\"\",IFERROR(HLOOKUP(BE$2,'生徒(データ入力②)'!$F$3:$BC$24,16,FALSE)&\"\",\"\"))","v":""},{"$f":"IF('生徒(データ入力②)'!$F$3=\"\",\"\",IFERROR(HLOOKUP(BF$2,'生徒(データ入力②)'!$F$3:$BC$24,16,FALSE)&\"\",\"\"))","v":""},0,{"$error":"#DIV/0!"},{"$f":"ROUND(BH10-'学級(一覧表①)'!BH10,1)","v":{"$error":"#DIV/0!"}},0,{"$error":"#DIV/0!"},{"$f":"ROUND(BK10-'学級(一覧表①)'!BK10,1)","v":{"$error":"#DIV/0!"}},0,{"$error":"#DIV/0!"},{"$f":"ROUND(BN10-'学級(一覧表①)'!BN10,1)","v":{"$error":"#DIV/0!"}},0,{"$error":"#DIV/0!"},{"$f":"ROUND(BQ10-'学級(一覧表①)'!BQ10,1)","v":{"$error":"#DIV/0!"}},null,null,0,{"$error":"#DIV/0!"},{"$error":"#DIV/0!"},0,{"$error":"#DIV/0!"},{"$error":"#DIV/0!"},"そう思う",null,null,null,null,null,null,null,null,null,null,null,null,null,null,null,"肯定"]
[null,null,{"$f":"'生徒(個人)'!B13","v":"私の学級では，誰かの発言や行動を否定したり批判したりせずに尊重している。"},{"$error":"#DIV/0!"},{"$error":"#DIV/0!"},{"$error":"#DIV/0!"},{"$error":"#DIV/0!"},null,{"$f":"IF('生徒(データ入力②)'!$F$3=\"\",\"\",IFERROR(HLOOKUP(I$2,'生徒(データ入力②)'!$F$3:$AS$24,19,FALSE)&\"\",\"\"))","v":""},{"$f":"IF('生徒(データ入力②)'!$F$3=\"\",\"\",IFERROR(HLOOKUP(J$2,'生徒(データ入力②)'!$F$3:$AS$24,19,FALSE)&\"\",\"\"))","v":""},{"$f":"IF('生徒(データ入力②)'!$F$3=\"\",\"\",IFERROR(HLOOKUP(K$2,'生徒(データ入力②)'!$F$3:$AS$24,19,FALSE)&\"\",\"\"))","v":""},{"$f":"IF('生徒(データ入力②)'!$F$3=\"\",\"\",IFERROR(HLOOKUP(L$2,'生徒(データ入力②)'!$F$3:$AS$24,19,FALSE)&\"\",\"\"))","v":""},{"$f":"IF('生徒(データ入力②)'!$F$3=\"\",\"\",IFERROR(HLOOKUP(M$2,'生徒(データ入力②)'!$F$3:$AS$24,19,FALSE)&\"\",\"\"))","v":""},{"$f":"IF('生徒(データ入力②)'!$F$3=\"\",\"\",IFERROR(HLOOKUP(N$2,'生徒(データ入力②)'!$F$3:$AS$24,19,FALSE)&\"\",\"\"))","v":""},{"$f":"IF('生徒(データ入力②)'!$F$3=\"\",\"\",IFERROR(HLOOKUP(O$2,'生徒(データ入力②)'!$F$3:$AS$24,19,FALSE)&\"\",\"\"))","v":""},{"$f":"IF('生徒(データ入力②)'!$F$3=\"\",\"\",IFERROR(HLOOKUP(P$2,'生徒(データ入力②)'!$F$3:$AS$24,19,FALSE)&\"\",\"\"))","v":""},{"$f":"IF('生徒(データ入力②)'!$F$3=\"\",\"\",IFERROR(HLOOKUP(Q$2,'生徒(データ入力②)'!$F$3:$AS$24,19,FALSE)&\"\",\"\"))","v":""},{"$f":"IF('生徒(データ入力②)'!$F$3=\"\",\"\",IFERROR(HLOOKUP(R$2,'生徒(データ入力②)'!$F$3:$AS$24,19,FALSE)&\"\",\"\"))","v":""},{"$f":"IF('生徒(データ入力②)'!$F$3=\"\",\"\",IFERROR(HLOOKUP(S$2,'生徒(データ入力②)'!$F$3:$AS$24,19,FALSE)&\"\",\"\"))","v":""},{"$f":"IF('生徒(データ入力②)'!$F$3=\"\",\"\",IFERROR(HLOOKUP(T$2,'生徒(データ入力②)'!$F$3:$AS$24,19,FALSE)&\"\",\"\"))","v":""},{"$f":"IF('生徒(データ入力②)'!$F$3=\"\",\"\",IFERROR(HLOOKUP(U$2,'生徒(データ入力②)'!$F$3:$AS$24,19,FALSE)&\"\",\"\"))","v":""},{"$f":"IF('生徒(データ入力②)'!$F$3=\"\",\"\",IFERROR(HLOOKUP(V$2,'生徒(データ入力②)'!$F$3:$AS$24,19,FALSE)&\"\",\"\"))","v":""},{"$f":"IF('生徒(データ入力②)'!$F$3=\"\",\"\",IFERROR(HLOOKUP(W$2,'生徒(データ入力②)'!$F$3:$AS$24,19,FALSE)&\"\",\"\"))","v":""},{"$f":"IF('生徒(データ入力②)'!$F$3=\"\",\"\",IFERROR(HLOOKUP(X$2,'生徒(データ入力②)'!$F$3:$AS$24,19,FALSE)&\"\",\"\"))","v":""},{"$f":"IF('生徒(データ入力②)'!$F$3=\"\",\"\",IFERROR(HLOOKUP(Y$2,'生徒(データ入力②)'!$F$3:$AS$24,19,FALSE)&\"\",\"\"))","v":""},{"$f":"IF('生徒(データ入力②)'!$F$3=\"\",\"\",IFERROR(HLOOKUP(Z$2,'生徒(データ入力②)'!$F$3:$AS$24,19,FALSE)&\"\",\"\"))","v":""},{"$f":"IF('生徒(データ入力②)'!$F$3=\"\",\"\",IFERROR(HLOOKUP(AA$2,'生徒(データ入力②)'!$F$3:$AS$24,19,FALSE)&\"\",\"\"))","v":""},{"$f":"IF('生徒(データ入力②)'!$F$3=\"\",\"\",IFERROR(HLOOKUP(AB$2,'生徒(データ入力②)'!$F$3:$AS$24,19,FALSE)&\"\",\"\"))","v":""},{"$f":"IF('生徒(データ入力②)'!$F$3=\"\",\"\",IFERROR(HLOOKUP(AC$2,'生徒(データ入力②)'!$F$3:$AS$24,19,FALSE)&\"\",\"\"))","v":""},{"$f":"IF('生徒(データ入力②)'!$F$3=\"\",\"\",IFERROR(HLOOKUP(AD$2,'生徒(データ入力②)'!$F$3:$AS$24,19,FALSE)&\"\",\"\"))","v":""},{"$f":"IF('生徒(データ入力②)'!$F$3=\"\",\"\",IFERROR(HLOOKUP(AE$2,'生徒(データ入力②)'!$F$3:$AS$24,19,FALSE)&\"\",\"\"))","v":""},{"$f":"IF('生徒(データ入力②)'!$F$3=\"\",\"\",IFERROR(HLOOKUP(AF$2,'生徒(データ入力②)'!$F$3:$AS$24,19,FALSE)&\"\",\"\"))","v":""},{"$f":"IF('生徒(データ入力②)'!$F$3=\"\",\"\",IFERROR(HLOOKUP(AG$2,'生徒(データ入力②)'!$F$3:$AS$24,19,FALSE)&\"\",\"\"))","v":""},{"$f":"IF('生徒(データ入力②)'!$F$3=\"\",\"\",IFERROR(HLOOKUP(AH$2,'生徒(データ入力②)'!$F$3:$AS$24,19,FALSE)&\"\",\"\"))","v":""},{"$f":"IF('生徒(データ入力②)'!$F$3=\"\",\"\",IFERROR(HLOOKUP(AI$2,'生徒(データ入力②)'!$F$3:$AS$24,19,FALSE)&\"\",\"\"))","v":""},{"$f":"IF('生徒(データ入力②)'!$F$3=\"\",\"\",IFERROR(HLOOKUP(AJ$2,'生徒(データ入力②)'!$F$3:$AS$24,19,FALSE)&\"\",\"\"))","v":""},{"$f":"IF('生徒(データ入力②)'!$F$3=\"\",\"\",IFERROR(HLOOKUP(AK$2,'生徒(データ入力②)'!$F$3:$AS$24,19,FALSE)&\"\",\"\"))","v":""},{"$f":"IF('生徒(データ入力②)'!$F$3=\"\",\"\",IFERROR(HLOOKUP(AL$2,'生徒(データ入力②)'!$F$3:$AS$24,19,FALSE)&\"\",\"\"))","v":""},{"$f":"IF('生徒(データ入力②)'!$F$3=\"\",\"\",IFERROR(HLOOKUP(AM$2,'生徒(データ入力②)'!$F$3:$AS$24,19,FALSE)&\"\",\"\"))","v":""},{"$f":"IF('生徒(データ入力②)'!$F$3=\"\",\"\",IFERROR(HLOOKUP(AN$2,'生徒(データ入力②)'!$F$3:$AS$24,19,FALSE)&\"\",\"\"))","v":""},{"$f":"IF('生徒(データ入力②)'!$F$3=\"\",\"\",IFERROR(HLOOKUP(AO$2,'生徒(データ入力②)'!$F$3:$AS$24,19,FALSE)&\"\",\"\"))","v":""},{"$f":"IF('生徒(データ入力②)'!$F$3=\"\",\"\",IFERROR(HLOOKUP(AP$2,'生徒(データ入力②)'!$F$3:$AS$24,19,FALSE)&\"\",\"\"))","v":""},{"$f":"IF('生徒(データ入力②)'!$F$3=\"\",\"\",IFERROR(HLOOKUP(AQ$2,'生徒(データ入力②)'!$F$3:$AS$24,19,FALSE)&\"\",\"\"))","v":""},{"$f":"IF('生徒(データ入力②)'!$F$3=\"\",\"\",IFERROR(HLOOKUP(AR$2,'生徒(データ入力②)'!$F$3:$AS$24,19,FALSE)&\"\",\"\"))","v":""},{"$f":"IF('生徒(データ入力②)'!$F$3=\"\",\"\",IFERROR(HLOOKUP(AS$2,'生徒(データ入力②)'!$F$3:$AS$24,19,FALSE)&\"\",\"\"))","v":""},{"$f":"IF('生徒(データ入力②)'!$F$3=\"\",\"\",IFERROR(HLOOKUP(AT$2,'生徒(データ入力②)'!$F$3:$AS$24,19,FALSE)&\"\",\"\"))","v":""},{"$f":"IF('生徒(データ入力②)'!$F$3=\"\",\"\",IFERROR(HLOOKUP(AU$2,'生徒(データ入力②)'!$F$3:$AS$24,19,FALSE)&\"\",\"\"))","v":""},{"$f":"IF('生徒(データ入力②)'!$F$3=\"\",\"\",IFERROR(HLOOKUP(AV$2,'生徒(データ入力②)'!$F$3:$AS$24,19,FALSE)&\"\",\"\"))","v":""},{"$f":"IF('生徒(データ入力②)'!$F$3=\"\",\"\",IFERROR(HLOOKUP(AW$2,'生徒(データ入力②)'!$F$3:$BC$24,19,FALSE)&\"\",\"\"))","v":""},{"$f":"IF('生徒(データ入力②)'!$F$3=\"\",\"\",IFERROR(HLOOKUP(AX$2,'生徒(データ入力②)'!$F$3:$BC$24,19,FALSE)&\"\",\"\"))","v":""},{"$f":"IF('生徒(データ入力②)'!$F$3=\"\",\"\",IFERROR(HLOOKUP(AY$2,'生徒(データ入力②)'!$F$3:$BC$24,19,FALSE)&\"\",\"\"))","v":""},{"$f":"IF('生徒(データ入力②)'!$F$3=\"\",\"\",IFERROR(HLOOKUP(AZ$2,'生徒(データ入力②)'!$F$3:$BC$24,19,FALSE)&\"\",\"\"))","v":""},{"$f":"IF('生徒(データ入力②)'!$F$3=\"\",\"\",IFERROR(HLOOKUP(BA$2,'生徒(データ入力②)'!$F$3:$BC$24,19,FALSE)&\"\",\"\"))","v":""},{"$f":"IF('生徒(データ入力②)'!$F$3=\"\",\"\",IFERROR(HLOOKUP(BB$2,'生徒(データ入力②)'!$F$3:$BC$24,19,FALSE)&\"\",\"\"))","v":""},{"$f":"IF('生徒(データ入力②)'!$F$3=\"\",\"\",IFERROR(HLOOKUP(BC$2,'生徒(データ入力②)'!$F$3:$BC$24,19,FALSE)&\"\",\"\"))","v":""},{"$f":"IF('生徒(データ入力②)'!$F$3=\"\",\"\",IFERROR(HLOOKUP(BD$2,'生徒(データ入力②)'!$F$3:$BC$24,19,FALSE)&\"\",\"\"))","v":""},{"$f":"IF('生徒(データ入力②)'!$F$3=\"\",\"\",IFERROR(HLOOKUP(BE$2,'生徒(データ入力②)'!$F$3:$BC$24,19,FALSE)&\"\",\"\"))","v":""},{"$f":"IF('生徒(データ入力②)'!$F$3=\"\",\"\",IFERROR(HLOOKUP(BF$2,'生徒(データ入力②)'!$F$3:$BC$24,19,FALSE)&\"\",\"\"))","v":""},0,{"$error":"#DIV/0!"},{"$f":"ROUND(BH11-'学級(一覧表①)'!BH11,1)","v":{"$error":"#DIV/0!"}},0,{"$error":"#DIV/0!"},{"$f":"ROUND(BK11-'学級(一覧表①)'!BK11,1)","v":{"$error":"#DIV/0!"}},0,{"$error":"#DIV/0!"},{"$f":"ROUND(BN11-'学級(一覧表①)'!BN11,1)","v":{"$error":"#DIV/0!"}},0,{"$error":"#DIV/0!"},{"$f":"ROUND(BQ11-'学級(一覧表①)'!BQ11,1)","v":{"$error":"#DIV/0!"}},null,null,0,{"$error":"#DIV/0!"},{"$error":"#DIV/0!"},0,{"$error":"#DIV/0!"},{"$error":"#DIV/0!"},"少しそう思う",null,null,null,null,null,null,null,null,null,null,{"$f":"\"(\"&CL6&\"%)\"","v":{"$error":"#DIV/0!"}},{"$f":"\"(\"&CM6&\"%)\"","v":{"$error":"#DIV/0!"}},{"$error":"#DIV/0!"},{"$error":"#DIV/0!"},null,"否定"]
[null,null,{"$f":"'生徒(個人)'!B14","v":"私の学級では，みんなで協力して一つのことに取り組むことができる。"},{"$error":"#DIV/0!"},{"$error":"#DIV/0!"},{"$error":"#DIV/0!"},{"$error":"#DIV/0!"},null,{"$f":"IF('生徒(データ入力②)'!$F$3=\"\",\"\",IFERROR(HLOOKUP(I$2,'生徒(データ入力②)'!$F$3:$AS$24,4,FALSE)&\"\",\"\"))","v":""},{"$f":"IF('生徒(データ入力②)'!$F$3=\"\",\"\",IFERROR(HLOOKUP(J$2,'生徒(データ入力②)'!$F$3:$AS$24,4,FALSE)&\"\",\"\"))","v":""},{"$f":"IF('生徒(データ入力②)'!$F$3=\"\",\"\",IFERROR(HLOOKUP(K$2,'生徒(データ入力②)'!$F$3:$AS$24,4,FALSE)&\"\",\"\"))","v":""},{"$f":"IF('生徒(データ入力②)'!$F$3=\"\",\"\",IFERROR(HLOOKUP(L$2,'生徒(データ入力②)'!$F$3:$AS$24,4,FALSE)&\"\",\"\"))","v":""},{"$f":"IF('生徒(データ入力②)'!$F$3=\"\",\"\",IFERROR(HLOOKUP(M$2,'生徒(データ入力②)'!$F$3:$AS$24,4,FALSE)&\"\",\"\"))","v":""},{"$f":"IF('生徒(データ入力②)'!$F$3=\"\",\"\",IFERROR(HLOOKUP(N$2,'生徒(データ入力②)'!$F$3:$AS$24,4,FALSE)&\"\",\"\"))","v":""},{"$f":"IF('生徒(データ入力②)'!$F$3=\"\",\"\",IFERROR(HLOOKUP(O$2,'生徒(データ入力②)'!$F$3:$AS$24,4,FALSE)&\"\",\"\"))","v":""},{"$f":"IF('生徒(データ入力②)'!$F$3=\"\",\"\",IFERROR(HLOOKUP(P$2,'生徒(データ入力②)'!$F$3:$AS$24,4,FALSE)&\"\",\"\"))","v":""},{"$f":"IF('生徒(データ入力②)'!$F$3=\"\",\"\",IFERROR(HLOOKUP(Q$2,'生徒(データ入力②)'!$F$3:$AS$24,4,FALSE)&\"\",\"\"))","v":""},{"$f":"IF('生徒(データ入力②)'!$F$3=\"\",\"\",IFERROR(HLOOKUP(R$2,'生徒(データ入力②)'!$F$3:$AS$24,4,FALSE)&\"\",\"\"))","v":""},{"$f":"IF('生徒(データ入力②)'!$F$3=\"\",\"\",IFERROR(HLOOKUP(S$2,'生徒(データ入力②)'!$F$3:$AS$24,4,FALSE)&\"\",\"\"))","v":""},{"$f":"IF('生徒(データ入力②)'!$F$3=\"\",\"\",IFERROR(HLOOKUP(T$2,'生徒(データ入力②)'!$F$3:$AS$24,4,FALSE)&\"\",\"\"))","v":""},{"$f":"IF('生徒(データ入力②)'!$F$3=\"\",\"\",IFERROR(HLOOKUP(U$2,'生徒(データ入力②)'!$F$3:$AS$24,4,FALSE)&\"\",\"\"))","v":""},{"$f":"IF('生徒(データ入力②)'!$F$3=\"\",\"\",IFERROR(HLOOKUP(V$2,'生徒(データ入力②)'!$F$3:$AS$24,4,FALSE)&\"\",\"\"))","v":""},{"$f":"IF('生徒(データ入力②)'!$F$3=\"\",\"\",IFERROR(HLOOKUP(W$2,'生徒(データ入力②)'!$F$3:$AS$24,4,FALSE)&\"\",\"\"))","v":""},{"$f":"IF('生徒(データ入力②)'!$F$3=\"\",\"\",IFERROR(HLOOKUP(X$2,'生徒(データ入力②)'!$F$3:$AS$24,4,FALSE)&\"\",\"\"))","v":""},{"$f":"IF('生徒(データ入力②)'!$F$3=\"\",\"\",IFERROR(HLOOKUP(Y$2,'生徒(データ入力②)'!$F$3:$AS$24,4,FALSE)&\"\",\"\"))","v":""},{"$f":"IF('生徒(データ入力②)'!$F$3=\"\",\"\",IFERROR(HLOOKUP(Z$2,'生徒(データ入力②)'!$F$3:$AS$24,4,FALSE)&\"\",\"\"))","v":""},{"$f":"IF('生徒(データ入力②)'!$F$3=\"\",\"\",IFERROR(HLOOKUP(AA$2,'生徒(データ入力②)'!$F$3:$AS$24,4,FALSE)&\"\",\"\"))","v":""},{"$f":"IF('生徒(データ入力②)'!$F$3=\"\",\"\",IFERROR(HLOOKUP(AB$2,'生徒(データ入力②)'!$F$3:$AS$24,4,FALSE)&\"\",\"\"))","v":""},{"$f":"IF('生徒(データ入力②)'!$F$3=\"\",\"\",IFERROR(HLOOKUP(AC$2,'生徒(データ入力②)'!$F$3:$AS$24,4,FALSE)&\"\",\"\"))","v":""},{"$f":"IF('生徒(データ入力②)'!$F$3=\"\",\"\",IFERROR(HLOOKUP(AD$2,'生徒(データ入力②)'!$F$3:$AS$24,4,FALSE)&\"\",\"\"))","v":""},{"$f":"IF('生徒(データ入力②)'!$F$3=\"\",\"\",IFERROR(HLOOKUP(AE$2,'生徒(データ入力②)'!$F$3:$AS$24,4,FALSE)&\"\",\"\"))","v":""},{"$f":"IF('生徒(データ入力②)'!$F$3=\"\",\"\",IFERROR(HLOOKUP(AF$2,'生徒(データ入力②)'!$F$3:$AS$24,4,FALSE)&\"\",\"\"))","v":""},{"$f":"IF('生徒(データ入力②)'!$F$3=\"\",\"\",IFERROR(HLOOKUP(AG$2,'生徒(データ入力②)'!$F$3:$AS$24,4,FALSE)&\"\",\"\"))","v":""},{"$f":"IF('生徒(データ入力②)'!$F$3=\"\",\"\",IFERROR(HLOOKUP(AH$2,'生徒(データ入力②)'!$F$3:$AS$24,4,FALSE)&\"\",\"\"))","v":""},{"$f":"IF('生徒(データ入力②)'!$F$3=\"\",\"\",IFERROR(HLOOKUP(AI$2,'生徒(データ入力②)'!$F$3:$AS$24,4,FALSE)&\"\",\"\"))","v":""},{"$f":"IF('生徒(データ入力②)'!$F$3=\"\",\"\",IFERROR(HLOOKUP(AJ$2,'生徒(データ入力②)'!$F$3:$AS$24,4,FALSE)&\"\",\"\"))","v":""},{"$f":"IF('生徒(データ入力②)'!$F$3=\"\",\"\",IFERROR(HLOOKUP(AK$2,'生徒(データ入力②)'!$F$3:$AS$24,4,FALSE)&\"\",\"\"))","v":""},{"$f":"IF('生徒(データ入力②)'!$F$3=\"\",\"\",IFERROR(HLOOKUP(AL$2,'生徒(データ入力②)'!$F$3:$AS$24,4,FALSE)&\"\",\"\"))","v":""},{"$f":"IF('生徒(データ入力②)'!$F$3=\"\",\"\",IFERROR(HLOOKUP(AM$2,'生徒(データ入力②)'!$F$3:$AS$24,4,FALSE)&\"\",\"\"))","v":""},{"$f":"IF('生徒(データ入力②)'!$F$3=\"\",\"\",IFERROR(HLOOKUP(AN$2,'生徒(データ入力②)'!$F$3:$AS$24,4,FALSE)&\"\",\"\"))","v":""},{"$f":"IF('生徒(データ入力②)'!$F$3=\"\",\"\",IFERROR(HLOOKUP(AO$2,'生徒(データ入力②)'!$F$3:$AS$24,4,FALSE)&\"\",\"\"))","v":""},{"$f":"IF('生徒(データ入力②)'!$F$3=\"\",\"\",IFERROR(HLOOKUP(AP$2,'生徒(データ入力②)'!$F$3:$AS$24,4,FALSE)&\"\",\"\"))","v":""},{"$f":"IF('生徒(データ入力②)'!$F$3=\"\",\"\",IFERROR(HLOOKUP(AQ$2,'生徒(データ入力②)'!$F$3:$AS$24,4,FALSE)&\"\",\"\"))","v":""},{"$f":"IF('生徒(データ入力②)'!$F$3=\"\",\"\",IFERROR(HLOOKUP(AR$2,'生徒(データ入力②)'!$F$3:$AS$24,4,FALSE)&\"\",\"\"))","v":""},{"$f":"IF('生徒(データ入力②)'!$F$3=\"\",\"\",IFERROR(HLOOKUP(AS$2,'生徒(データ入力②)'!$F$3:$AS$24,4,FALSE)&\"\",\"\"))","v":""},{"$f":"IF('生徒(データ入力②)'!$F$3=\"\",\"\",IFERROR(HLOOKUP(AT$2,'生徒(データ入力②)'!$F$3:$AS$24,4,FALSE)&\"\",\"\"))","v":""},{"$f":"IF('生徒(データ入力②)'!$F$3=\"\",\"\",IFERROR(HLOOKUP(AU$2,'生徒(データ入力②)'!$F$3:$AS$24,4,FALSE)&\"\",\"\"))","v":""},{"$f":"IF('生徒(データ入力②)'!$F$3=\"\",\"\",IFERROR(HLOOKUP(AV$2,'生徒(データ入力②)'!$F$3:$AS$24,4,FALSE)&\"\",\"\"))","v":""},{"$f":"IF('生徒(データ入力②)'!$F$3=\"\",\"\",IFERROR(HLOOKUP(AW$2,'生徒(データ入力②)'!$F$3:$BC$24,4,FALSE)&\"\",\"\"))","v":""},{"$f":"IF('生徒(データ入力②)'!$F$3=\"\",\"\",IFERROR(HLOOKUP(AX$2,'生徒(データ入力②)'!$F$3:$BC$24,4,FALSE)&\"\",\"\"))","v":""},{"$f":"IF('生徒(データ入力②)'!$F$3=\"\",\"\",IFERROR(HLOOKUP(AY$2,'生徒(データ入力②)'!$F$3:$BC$24,4,FALSE)&\"\",\"\"))","v":""},{"$f":"IF('生徒(データ入力②)'!$F$3=\"\",\"\",IFERROR(HLOOKUP(AZ$2,'生徒(データ入力②)'!$F$3:$BC$24,4,FALSE)&\"\",\"\"))","v":""},{"$f":"IF('生徒(データ入力②)'!$F$3=\"\",\"\",IFERROR(HLOOKUP(BA$2,'生徒(データ入力②)'!$F$3:$BC$24,4,FALSE)&\"\",\"\"))","v":""},{"$f":"IF('生徒(データ入力②)'!$F$3=\"\",\"\",IFERROR(HLOOKUP(BB$2,'生徒(データ入力②)'!$F$3:$BC$24,4,FALSE)&\"\",\"\"))","v":""},{"$f":"IF('生徒(データ入力②)'!$F$3=\"\",\"\",IFERROR(HLOOKUP(BC$2,'生徒(データ入力②)'!$F$3:$BC$24,4,FALSE)&\"\",\"\"))","v":""},{"$f":"IF('生徒(データ入力②)'!$F$3=\"\",\"\",IFERROR(HLOOKUP(BD$2,'生徒(データ入力②)'!$F$3:$BC$24,4,FALSE)&\"\",\"\"))","v":""},{"$f":"IF('生徒(データ入力②)'!$F$3=\"\",\"\",IFERROR(HLOOKUP(BE$2,'生徒(データ入力②)'!$F$3:$BC$24,4,FALSE)&\"\",\"\"))","v":""},{"$f":"IF('生徒(データ入力②)'!$F$3=\"\",\"\",IFERROR(HLOOKUP(BF$2,'生徒(データ入力②)'!$F$3:$BC$24,4,FALSE)&\"\",\"\"))","v":""},0,{"$error":"#DIV/0!"},{"$f":"ROUND(BH12-'学級(一覧表①)'!BH12,1)","v":{"$error":"#DIV/0!"}},0,{"$error":"#DIV/0!"},{"$f":"ROUND(BK12-'学級(一覧表①)'!BK12,1)","v":{"$error":"#DIV/0!"}},0,{"$error":"#DIV/0!"},{"$f":"ROUND(BN12-'学級(一覧表①)'!BN12,1)","v":{"$error":"#DIV/0!"}},0,{"$error":"#DIV/0!"},{"$f":"ROUND(BQ12-'学級(一覧表①)'!BQ12,1)","v":{"$error":"#DIV/0!"}},null,null,0,{"$error":"#DIV/0!"},{"$error":"#DIV/0!"},0,{"$error":"#DIV/0!"},{"$error":"#DIV/0!"},"あまりそう思わない",null,null,null,null,null,null,null,null,null,null,{"$f":"\"(\"&CL7&\"%)\"","v":{"$error":"#DIV/0!"}},{"$error":"#DIV/0!"},{"$error":"#DIV/0!"},{"$error":"#DIV/0!"}]
[null,null,{"$f":"'生徒(個人)'!B15","v":"私の学級では，誰かのユーモアある発言に対し，学級が温かい笑いで包まれる雰囲気がある。"},{"$error":"#DIV/0!"},{"$error":"#DIV/0!"},{"$error":"#DIV/0!"},{"$error":"#DIV/0!"},null,{"$f":"IF('生徒(データ入力②)'!$F$3=\"\",\"\",IFERROR(HLOOKUP(I$2,'生徒(データ入力②)'!$F$3:$AS$24,7,FALSE)&\"\",\"\"))","v":""},{"$f":"IF('生徒(データ入力②)'!$F$3=\"\",\"\",IFERROR(HLOOKUP(J$2,'生徒(データ入力②)'!$F$3:$AS$24,7,FALSE)&\"\",\"\"))","v":""},{"$f":"IF('生徒(データ入力②)'!$F$3=\"\",\"\",IFERROR(HLOOKUP(K$2,'生徒(データ入力②)'!$F$3:$AS$24,7,FALSE)&\"\",\"\"))","v":""},{"$f":"IF('生徒(データ入力②)'!$F$3=\"\",\"\",IFERROR(HLOOKUP(L$2,'生徒(データ入力②)'!$F$3:$AS$24,7,FALSE)&\"\",\"\"))","v":""},{"$f":"IF('生徒(データ入力②)'!$F$3=\"\",\"\",IFERROR(HLOOKUP(M$2,'生徒(データ入力②)'!$F$3:$AS$24,7,FALSE)&\"\",\"\"))","v":""},{"$f":"IF('生徒(データ入力②)'!$F$3=\"\",\"\",IFERROR(HLOOKUP(N$2,'生徒(データ入力②)'!$F$3:$AS$24,7,FALSE)&\"\",\"\"))","v":""},{"$f":"IF('生徒(データ入力②)'!$F$3=\"\",\"\",IFERROR(HLOOKUP(O$2,'生徒(データ入力②)'!$F$3:$AS$24,7,FALSE)&\"\",\"\"))","v":""},{"$f":"IF('生徒(データ入力②)'!$F$3=\"\",\"\",IFERROR(HLOOKUP(P$2,'生徒(データ入力②)'!$F$3:$AS$24,7,FALSE)&\"\",\"\"))","v":""},{"$f":"IF('生徒(データ入力②)'!$F$3=\"\",\"\",IFERROR(HLOOKUP(Q$2,'生徒(データ入力②)'!$F$3:$AS$24,7,FALSE)&\"\",\"\"))","v":""},{"$f":"IF('生徒(データ入力②)'!$F$3=\"\",\"\",IFERROR(HLOOKUP(R$2,'生徒(データ入力②)'!$F$3:$AS$24,7,FALSE)&\"\",\"\"))","v":""},{"$f":"IF('生徒(データ入力②)'!$F$3=\"\",\"\",IFERROR(HLOOKUP(S$2,'生徒(データ入力②)'!$F$3:$AS$24,7,FALSE)&\"\",\"\"))","v":""},{"$f":"IF('生徒(データ入力②)'!$F$3=\"\",\"\",IFERROR(HLOOKUP(T$2,'生徒(データ入力②)'!$F$3:$AS$24,7,FALSE)&\"\",\"\"))","v":""},{"$f":"IF('生徒(データ入力②)'!$F$3=\"\",\"\",IFERROR(HLOOKUP(U$2,'生徒(データ入力②)'!$F$3:$AS$24,7,FALSE)&\"\",\"\"))","v":""},{"$f":"IF('生徒(データ入力②)'!$F$3=\"\",\"\",IFERROR(HLOOKUP(V$2,'生徒(データ入力②)'!$F$3:$AS$24,7,FALSE)&\"\",\"\"))","v":""},{"$f":"IF('生徒(データ入力②)'!$F$3=\"\",\"\",IFERROR(HLOOKUP(W$2,'生徒(データ入力②)'!$F$3:$AS$24,7,FALSE)&\"\",\"\"))","v":""},{"$f":"IF('生徒(データ入力②)'!$F$3=\"\",\"\",IFERROR(HLOOKUP(X$2,'生徒(データ入力②)'!$F$3:$AS$24,7,FALSE)&\"\",\"\"))","v":""},{"$f":"IF('生徒(データ入力②)'!$F$3=\"\",\"\",IFERROR(HLOOKUP(Y$2,'生徒(データ入力②)'!$F$3:$AS$24,7,FALSE)&\"\",\"\"))","v":""},{"$f":"IF('生徒(データ入力②)'!$F$3=\"\",\"\",IFERROR(HLOOKUP(Z$2,'生徒(データ入力②)'!$F$3:$AS$24,7,FALSE)&\"\",\"\"))","v":""},{"$f":"IF('生徒(データ入力②)'!$F$3=\"\",\"\",IFERROR(HLOOKUP(AA$2,'生徒(データ入力②)'!$F$3:$AS$24,7,FALSE)&\"\",\"\"))","v":""},{"$f":"IF('生徒(データ入力②)'!$F$3=\"\",\"\",IFERROR(HLOOKUP(AB$2,'生徒(データ入力②)'!$F$3:$AS$24,7,FALSE)&\"\",\"\"))","v":""},{"$f":"IF('生徒(データ入力②)'!$F$3=\"\",\"\",IFERROR(HLOOKUP(AC$2,'生徒(データ入力②)'!$F$3:$AS$24,7,FALSE)&\"\",\"\"))","v":""},{"$f":"IF('生徒(データ入力②)'!$F$3=\"\",\"\",IFERROR(HLOOKUP(AD$2,'生徒(データ入力②)'!$F$3:$AS$24,7,FALSE)&\"\",\"\"))","v":""},{"$f":"IF('生徒(データ入力②)'!$F$3=\"\",\"\",IFERROR(HLOOKUP(AE$2,'生徒(データ入力②)'!$F$3:$AS$24,7,FALSE)&\"\",\"\"))","v":""},{"$f":"IF('生徒(データ入力②)'!$F$3=\"\",\"\",IFERROR(HLOOKUP(AF$2,'生徒(データ入力②)'!$F$3:$AS$24,7,FALSE)&\"\",\"\"))","v":""},{"$f":"IF('生徒(データ入力②)'!$F$3=\"\",\"\",IFERROR(HLOOKUP(AG$2,'生徒(データ入力②)'!$F$3:$AS$24,7,FALSE)&\"\",\"\"))","v":""},{"$f":"IF('生徒(データ入力②)'!$F$3=\"\",\"\",IFERROR(HLOOKUP(AH$2,'生徒(データ入力②)'!$F$3:$AS$24,7,FALSE)&\"\",\"\"))","v":""},{"$f":"IF('生徒(データ入力②)'!$F$3=\"\",\"\",IFERROR(HLOOKUP(AI$2,'生徒(データ入力②)'!$F$3:$AS$24,7,FALSE)&\"\",\"\"))","v":""},{"$f":"IF('生徒(データ入力②)'!$F$3=\"\",\"\",IFERROR(HLOOKUP(AJ$2,'生徒(データ入力②)'!$F$3:$AS$24,7,FALSE)&\"\",\"\"))","v":""},{"$f":"IF('生徒(データ入力②)'!$F$3=\"\",\"\",IFERROR(HLOOKUP(AK$2,'生徒(データ入力②)'!$F$3:$AS$24,7,FALSE)&\"\",\"\"))","v":""},{"$f":"IF('生徒(データ入力②)'!$F$3=\"\",\"\",IFERROR(HLOOKUP(AL$2,'生徒(データ入力②)'!$F$3:$AS$24,7,FALSE)&\"\",\"\"))","v":""},{"$f":"IF('生徒(データ入力②)'!$F$3=\"\",\"\",IFERROR(HLOOKUP(AM$2,'生徒(データ入力②)'!$F$3:$AS$24,7,FALSE)&\"\",\"\"))","v":""},{"$f":"IF('生徒(データ入力②)'!$F$3=\"\",\"\",IFERROR(HLOOKUP(AN$2,'生徒(データ入力②)'!$F$3:$AS$24,7,FALSE)&\"\",\"\"))","v":""},{"$f":"IF('生徒(データ入力②)'!$F$3=\"\",\"\",IFERROR(HLOOKUP(AO$2,'生徒(データ入力②)'!$F$3:$AS$24,7,FALSE)&\"\",\"\"))","v":""},{"$f":"IF('生徒(データ入力②)'!$F$3=\"\",\"\",IFERROR(HLOOKUP(AP$2,'生徒(データ入力②)'!$F$3:$AS$24,7,FALSE)&\"\",\"\"))","v":""},{"$f":"IF('生徒(データ入力②)'!$F$3=\"\",\"\",IFERROR(HLOOKUP(AQ$2,'生徒(データ入力②)'!$F$3:$AS$24,7,FALSE)&\"\",\"\"))","v":""},{"$f":"IF('生徒(データ入力②)'!$F$3=\"\",\"\",IFERROR(HLOOKUP(AR$2,'生徒(データ入力②)'!$F$3:$AS$24,7,FALSE)&\"\",\"\"))","v":""},{"$f":"IF('生徒(データ入力②)'!$F$3=\"\",\"\",IFERROR(HLOOKUP(AS$2,'生徒(データ入力②)'!$F$3:$AS$24,7,FALSE)&\"\",\"\"))","v":""},{"$f":"IF('生徒(データ入力②)'!$F$3=\"\",\"\",IFERROR(HLOOKUP(AT$2,'生徒(データ入力②)'!$F$3:$AS$24,7,FALSE)&\"\",\"\"))","v":""},{"$f":"IF('生徒(データ入力②)'!$F$3=\"\",\"\",IFERROR(HLOOKUP(AU$2,'生徒(データ入力②)'!$F$3:$AS$24,7,FALSE)&\"\",\"\"))","v":""},{"$f":"IF('生徒(データ入力②)'!$F$3=\"\",\"\",IFERROR(HLOOKUP(AV$2,'生徒(データ入力②)'!$F$3:$AS$24,7,FALSE)&\"\",\"\"))","v":""},{"$f":"IF('生徒(データ入力②)'!$F$3=\"\",\"\",IFERROR(HLOOKUP(AW$2,'生徒(データ入力②)'!$F$3:$BC$24,7,FALSE)&\"\",\"\"))","v":""},{"$f":"IF('生徒(データ入力②)'!$F$3=\"\",\"\",IFERROR(HLOOKUP(AX$2,'生徒(データ入力②)'!$F$3:$BC$24,7,FALSE)&\"\",\"\"))","v":""},{"$f":"IF('生徒(データ入力②)'!$F$3=\"\",\"\",IFERROR(HLOOKUP(AY$2,'生徒(データ入力②)'!$F$3:$BC$24,7,FALSE)&\"\",\"\"))","v":""},{"$f":"IF('生徒(データ入力②)'!$F$3=\"\",\"\",IFERROR(HLOOKUP(AZ$2,'生徒(データ入力②)'!$F$3:$BC$24,7,FALSE)&\"\",\"\"))","v":""},{"$f":"IF('生徒(データ入力②)'!$F$3=\"\",\"\",IFERROR(HLOOKUP(BA$2,'生徒(データ入力②)'!$F$3:$BC$24,7,FALSE)&\"\",\"\"))","v":""},{"$f":"IF('生徒(データ入力②)'!$F$3=\"\",\"\",IFERROR(HLOOKUP(BB$2,'生徒(データ入力②)'!$F$3:$BC$24,7,FALSE)&\"\",\"\"))","v":""},{"$f":"IF('生徒(データ入力②)'!$F$3=\"\",\"\",IFERROR(HLOOKUP(BC$2,'生徒(データ入力②)'!$F$3:$BC$24,7,FALSE)&\"\",\"\"))","v":""},{"$f":"IF('生徒(データ入力②)'!$F$3=\"\",\"\",IFERROR(HLOOKUP(BD$2,'生徒(データ入力②)'!$F$3:$BC$24,7,FALSE)&\"\",\"\"))","v":""},{"$f":"IF('生徒(データ入力②)'!$F$3=\"\",\"\",IFERROR(HLOOKUP(BE$2,'生徒(データ入力②)'!$F$3:$BC$24,7,FALSE)&\"\",\"\"))","v":""},{"$f":"IF('生徒(データ入力②)'!$F$3=\"\",\"\",IFERROR(HLOOKUP(BF$2,'生徒(データ入力②)'!$F$3:$BC$24,7,FALSE)&\"\",\"\"))","v":""},0,{"$error":"#DIV/0!"},{"$f":"ROUND(BH13-'学級(一覧表①)'!BH13,1)","v":{"$error":"#DIV/0!"}},0,{"$error":"#DIV/0!"},{"$f":"ROUND(BK13-'学級(一覧表①)'!BK13,1)","v":{"$error":"#DIV/0!"}},0,{"$error":"#DIV/0!"},{"$f":"ROUND(BN13-'学級(一覧表①)'!BN13,1)","v":{"$error":"#DIV/0!"}},0,{"$error":"#DIV/0!"},{"$f":"ROUND(BQ13-'学級(一覧表①)'!BQ13,1)","v":{"$error":"#DIV/0!"}},null,null,0,{"$error":"#DIV/0!"},{"$error":"#DIV/0!"},0,{"$error":"#DIV/0!"},{"$error":"#DIV/0!"},"そう思わない",null,null,null,null,null,null,null,null,null,null,{"$f":"\"(\"&CL8&\"%)\"","v":{"$error":"#DIV/0!"}},{"$error":"#DIV/0!"},{"$error":"#DIV/0!"},{"$error":"#DIV/0!"}]
[null,"自分の考え、選択、決定が尊重されているという安心感",{"$f":"'生徒(個人)'!B16","v":"私の学級では，自分（たち）で学習や生活の目標を決め，振り返りをしている。"},{"$error":"#DIV/0!"},{"$error":"#DIV/0!"},{"$error":"#DIV/0!"},{"$error":"#DIV/0!"},null,{"$f":"IF('生徒(データ入力②)'!$F$3=\"\",\"\",IFERROR(HLOOKUP(I$2,'生徒(データ入力②)'!$F$3:$AS$24,3,FALSE)&\"\",\"\"))","v":""},{"$f":"IF('生徒(データ入力②)'!$F$3=\"\",\"\",IFERROR(HLOOKUP(J$2,'生徒(データ入力②)'!$F$3:$AS$24,3,FALSE)&\"\",\"\"))","v":""},{"$f":"IF('生徒(データ入力②)'!$F$3=\"\",\"\",IFERROR(HLOOKUP(K$2,'生徒(データ入力②)'!$F$3:$AS$24,3,FALSE)&\"\",\"\"))","v":""},{"$f":"IF('生徒(データ入力②)'!$F$3=\"\",\"\",IFERROR(HLOOKUP(L$2,'生徒(データ入力②)'!$F$3:$AS$24,3,FALSE)&\"\",\"\"))","v":""},{"$f":"IF('生徒(データ入力②)'!$F$3=\"\",\"\",IFERROR(HLOOKUP(M$2,'生徒(データ入力②)'!$F$3:$AS$24,3,FALSE)&\"\",\"\"))","v":""},{"$f":"IF('生徒(データ入力②)'!$F$3=\"\",\"\",IFERROR(HLOOKUP(N$2,'生徒(データ入力②)'!$F$3:$AS$24,3,FALSE)&\"\",\"\"))","v":""},{"$f":"IF('生徒(データ入力②)'!$F$3=\"\",\"\",IFERROR(HLOOKUP(O$2,'生徒(データ入力②)'!$F$3:$AS$24,3,FALSE)&\"\",\"\"))","v":""},{"$f":"IF('生徒(データ入力②)'!$F$3=\"\",\"\",IFERROR(HLOOKUP(P$2,'生徒(データ入力②)'!$F$3:$AS$24,3,FALSE)&\"\",\"\"))","v":""},{"$f":"IF('生徒(データ入力②)'!$F$3=\"\",\"\",IFERROR(HLOOKUP(Q$2,'生徒(データ入力②)'!$F$3:$AS$24,3,FALSE)&\"\",\"\"))","v":""},{"$f":"IF('生徒(データ入力②)'!$F$3=\"\",\"\",IFERROR(HLOOKUP(R$2,'生徒(データ入力②)'!$F$3:$AS$24,3,FALSE)&\"\",\"\"))","v":""},{"$f":"IF('生徒(データ入力②)'!$F$3=\"\",\"\",IFERROR(HLOOKUP(S$2,'生徒(データ入力②)'!$F$3:$AS$24,3,FALSE)&\"\",\"\"))","v":""},{"$f":"IF('生徒(データ入力②)'!$F$3=\"\",\"\",IFERROR(HLOOKUP(T$2,'生徒(データ入力②)'!$F$3:$AS$24,3,FALSE)&\"\",\"\"))","v":""},{"$f":"IF('生徒(データ入力②)'!$F$3=\"\",\"\",IFERROR(HLOOKUP(U$2,'生徒(データ入力②)'!$F$3:$AS$24,3,FALSE)&\"\",\"\"))","v":""},{"$f":"IF('生徒(データ入力②)'!$F$3=\"\",\"\",IFERROR(HLOOKUP(V$2,'生徒(データ入力②)'!$F$3:$AS$24,3,FALSE)&\"\",\"\"))","v":""},{"$f":"IF('生徒(データ入力②)'!$F$3=\"\",\"\",IFERROR(HLOOKUP(W$2,'生徒(データ入力②)'!$F$3:$AS$24,3,FALSE)&\"\",\"\"))","v":""},{"$f":"IF('生徒(データ入力②)'!$F$3=\"\",\"\",IFERROR(HLOOKUP(X$2,'生徒(データ入力②)'!$F$3:$AS$24,3,FALSE)&\"\",\"\"))","v":""},{"$f":"IF('生徒(データ入力②)'!$F$3=\"\",\"\",IFERROR(HLOOKUP(Y$2,'生徒(データ入力②)'!$F$3:$AS$24,3,FALSE)&\"\",\"\"))","v":""},{"$f":"IF('生徒(データ入力②)'!$F$3=\"\",\"\",IFERROR(HLOOKUP(Z$2,'生徒(データ入力②)'!$F$3:$AS$24,3,FALSE)&\"\",\"\"))","v":""},{"$f":"IF('生徒(データ入力②)'!$F$3=\"\",\"\",IFERROR(HLOOKUP(AA$2,'生徒(データ入力②)'!$F$3:$AS$24,3,FALSE)&\"\",\"\"))","v":""},{"$f":"IF('生徒(データ入力②)'!$F$3=\"\",\"\",IFERROR(HLOOKUP(AB$2,'生徒(データ入力②)'!$F$3:$AS$24,3,FALSE)&\"\",\"\"))","v":""},{"$f":"IF('生徒(データ入力②)'!$F$3=\"\",\"\",IFERROR(HLOOKUP(AC$2,'生徒(データ入力②)'!$F$3:$AS$24,3,FALSE)&\"\",\"\"))","v":""},{"$f":"IF('生徒(データ入力②)'!$F$3=\"\",\"\",IFERROR(HLOOKUP(AD$2,'生徒(データ入力②)'!$F$3:$AS$24,3,FALSE)&\"\",\"\"))","v":""},{"$f":"IF('生徒(データ入力②)'!$F$3=\"\",\"\",IFERROR(HLOOKUP(AE$2,'生徒(データ入力②)'!$F$3:$AS$24,3,FALSE)&\"\",\"\"))","v":""},{"$f":"IF('生徒(データ入力②)'!$F$3=\"\",\"\",IFERROR(HLOOKUP(AF$2,'生徒(データ入力②)'!$F$3:$AS$24,3,FALSE)&\"\",\"\"))","v":""},{"$f":"IF('生徒(データ入力②)'!$F$3=\"\",\"\",IFERROR(HLOOKUP(AG$2,'生徒(データ入力②)'!$F$3:$AS$24,3,FALSE)&\"\",\"\"))","v":""},{"$f":"IF('生徒(データ入力②)'!$F$3=\"\",\"\",IFERROR(HLOOKUP(AH$2,'生徒(データ入力②)'!$F$3:$AS$24,3,FALSE)&\"\",\"\"))","v":""},{"$f":"IF('生徒(データ入力②)'!$F$3=\"\",\"\",IFERROR(HLOOKUP(AI$2,'生徒(データ入力②)'!$F$3:$AS$24,3,FALSE)&\"\",\"\"))","v":""},{"$f":"IF('生徒(データ入力②)'!$F$3=\"\",\"\",IFERROR(HLOOKUP(AJ$2,'生徒(データ入力②)'!$F$3:$AS$24,3,FALSE)&\"\",\"\"))","v":""},{"$f":"IF('生徒(データ入力②)'!$F$3=\"\",\"\",IFERROR(HLOOKUP(AK$2,'生徒(データ入力②)'!$F$3:$AS$24,3,FALSE)&\"\",\"\"))","v":""},{"$f":"IF('生徒(データ入力②)'!$F$3=\"\",\"\",IFERROR(HLOOKUP(AL$2,'生徒(データ入力②)'!$F$3:$AS$24,3,FALSE)&\"\",\"\"))","v":""},{"$f":"IF('生徒(データ入力②)'!$F$3=\"\",\"\",IFERROR(HLOOKUP(AM$2,'生徒(データ入力②)'!$F$3:$AS$24,3,FALSE)&\"\",\"\"))","v":""},{"$f":"IF('生徒(データ入力②)'!$F$3=\"\",\"\",IFERROR(HLOOKUP(AN$2,'生徒(データ入力②)'!$F$3:$AS$24,3,FALSE)&\"\",\"\"))","v":""},{"$f":"IF('生徒(データ入力②)'!$F$3=\"\",\"\",IFERROR(HLOOKUP(AO$2,'生徒(データ入力②)'!$F$3:$AS$24,3,FALSE)&\"\",\"\"))","v":""},{"$f":"IF('生徒(データ入力②)'!$F$3=\"\",\"\",IFERROR(HLOOKUP(AP$2,'生徒(データ入力②)'!$F$3:$AS$24,3,FALSE)&\"\",\"\"))","v":""},{"$f":"IF('生徒(データ入力②)'!$F$3=\"\",\"\",IFERROR(HLOOKUP(AQ$2,'生徒(データ入力②)'!$F$3:$AS$24,3,FALSE)&\"\",\"\"))","v":""},{"$f":"IF('生徒(データ入力②)'!$F$3=\"\",\"\",IFERROR(HLOOKUP(AR$2,'生徒(データ入力②)'!$F$3:$AS$24,3,FALSE)&\"\",\"\"))","v":""},{"$f":"IF('生徒(データ入力②)'!$F$3=\"\",\"\",IFERROR(HLOOKUP(AS$2,'生徒(データ入力②)'!$F$3:$AS$24,3,FALSE)&\"\",\"\"))","v":""},{"$f":"IF('生徒(データ入力②)'!$F$3=\"\",\"\",IFERROR(HLOOKUP(AT$2,'生徒(データ入力②)'!$F$3:$AS$24,3,FALSE)&\"\",\"\"))","v":""},{"$f":"IF('生徒(データ入力②)'!$F$3=\"\",\"\",IFERROR(HLOOKUP(AU$2,'生徒(データ入力②)'!$F$3:$AS$24,3,FALSE)&\"\",\"\"))","v":""},{"$f":"IF('生徒(データ入力②)'!$F$3=\"\",\"\",IFERROR(HLOOKUP(AV$2,'生徒(データ入力②)'!$F$3:$AS$24,3,FALSE)&\"\",\"\"))","v":""},{"$f":"IF('生徒(データ入力②)'!$F$3=\"\",\"\",IFERROR(HLOOKUP(AW$2,'生徒(データ入力②)'!$F$3:$BC$24,3,FALSE)&\"\",\"\"))","v":""},{"$f":"IF('生徒(データ入力②)'!$F$3=\"\",\"\",IFERROR(HLOOKUP(AX$2,'生徒(データ入力②)'!$F$3:$BC$24,3,FALSE)&\"\",\"\"))","v":""},{"$f":"IF('生徒(データ入力②)'!$F$3=\"\",\"\",IFERROR(HLOOKUP(AY$2,'生徒(データ入力②)'!$F$3:$BC$24,3,FALSE)&\"\",\"\"))","v":""},{"$f":"IF('生徒(データ入力②)'!$F$3=\"\",\"\",IFERROR(HLOOKUP(AZ$2,'生徒(データ入力②)'!$F$3:$BC$24,3,FALSE)&\"\",\"\"))","v":""},{"$f":"IF('生徒(データ入力②)'!$F$3=\"\",\"\",IFERROR(HLOOKUP(BA$2,'生徒(データ入力②)'!$F$3:$BC$24,3,FALSE)&\"\",\"\"))","v":""},{"$f":"IF('生徒(データ入力②)'!$F$3=\"\",\"\",IFERROR(HLOOKUP(BB$2,'生徒(データ入力②)'!$F$3:$BC$24,3,FALSE)&\"\",\"\"))","v":""},{"$f":"IF('生徒(データ入力②)'!$F$3=\"\",\"\",IFERROR(HLOOKUP(BC$2,'生徒(データ入力②)'!$F$3:$BC$24,3,FALSE)&\"\",\"\"))","v":""},{"$f":"IF('生徒(データ入力②)'!$F$3=\"\",\"\",IFERROR(HLOOKUP(BD$2,'生徒(データ入力②)'!$F$3:$BC$24,3,FALSE)&\"\",\"\"))","v":""},{"$f":"IF('生徒(データ入力②)'!$F$3=\"\",\"\",IFERROR(HLOOKUP(BE$2,'生徒(データ入力②)'!$F$3:$BC$24,3,FALSE)&\"\",\"\"))","v":""},{"$f":"IF('生徒(データ入力②)'!$F$3=\"\",\"\",IFERROR(HLOOKUP(BF$2,'生徒(データ入力②)'!$F$3:$BC$24,3,FALSE)&\"\",\"\"))","v":""},0,{"$error":"#DIV/0!"},{"$f":"ROUND(BH14-'学級(一覧表①)'!BH14,1)","v":{"$error":"#DIV/0!"}},0,{"$error":"#DIV/0!"},{"$f":"ROUND(BK14-'学級(一覧表①)'!BK14,1)","v":{"$error":"#DIV/0!"}},0,{"$error":"#DIV/0!"},{"$f":"ROUND(BN14-'学級(一覧表①)'!BN14,1)","v":{"$error":"#DIV/0!"}},0,{"$error":"#DIV/0!"},{"$f":"ROUND(BQ14-'学級(一覧表①)'!BQ14,1)","v":{"$error":"#DIV/0!"}},null,null,0,{"$error":"#DIV/0!"},{"$error":"#DIV/0!"},0,{"$error":"#DIV/0!"},{"$error":"#DIV/0!"},null,null,null,null,null,null,null,null,null,null,null,{"$f":"\"(\"&CL9&\"%)\"","v":{"$error":"#DIV/0!"}},{"$error":"#DIV/0!"},{"$error":"#DIV/0!"},{"$error":"#DIV/0!"}]
[null,null,{"$f":"'生徒(個人)'!B17","v":"私の学級では，話合いなど自分たちが中心となって活動する場面が多くある。"},{"$error":"#DIV/0!"},{"$error":"#DIV/0!"},{"$error":"#DIV/0!"},{"$error":"#DIV/0!"},null,{"$f":"IF('生徒(データ入力②)'!$F$3=\"\",\"\",IFERROR(HLOOKUP(I$2,'生徒(データ入力②)'!$F$3:$AS$24,22,FALSE)&\"\",\"\"))","v":""},{"$f":"IF('生徒(データ入力②)'!$F$3=\"\",\"\",IFERROR(HLOOKUP(J$2,'生徒(データ入力②)'!$F$3:$AS$24,22,FALSE)&\"\",\"\"))","v":""},{"$f":"IF('生徒(データ入力②)'!$F$3=\"\",\"\",IFERROR(HLOOKUP(K$2,'生徒(データ入力②)'!$F$3:$AS$24,22,FALSE)&\"\",\"\"))","v":""},{"$f":"IF('生徒(データ入力②)'!$F$3=\"\",\"\",IFERROR(HLOOKUP(L$2,'生徒(データ入力②)'!$F$3:$AS$24,22,FALSE)&\"\",\"\"))","v":""},{"$f":"IF('生徒(データ入力②)'!$F$3=\"\",\"\",IFERROR(HLOOKUP(M$2,'生徒(データ入力②)'!$F$3:$AS$24,22,FALSE)&\"\",\"\"))","v":""},{"$f":"IF('生徒(データ入力②)'!$F$3=\"\",\"\",IFERROR(HLOOKUP(N$2,'生徒(データ入力②)'!$F$3:$AS$24,22,FALSE)&\"\",\"\"))","v":""},{"$f":"IF('生徒(データ入力②)'!$F$3=\"\",\"\",IFERROR(HLOOKUP(O$2,'生徒(データ入力②)'!$F$3:$AS$24,22,FALSE)&\"\",\"\"))","v":""},{"$f":"IF('生徒(データ入力②)'!$F$3=\"\",\"\",IFERROR(HLOOKUP(P$2,'生徒(データ入力②)'!$F$3:$AS$24,22,FALSE)&\"\",\"\"))","v":""},{"$f":"IF('生徒(データ入力②)'!$F$3=\"\",\"\",IFERROR(HLOOKUP(Q$2,'生徒(データ入力②)'!$F$3:$AS$24,22,FALSE)&\"\",\"\"))","v":""},{"$f":"IF('生徒(データ入力②)'!$F$3=\"\",\"\",IFERROR(HLOOKUP(R$2,'生徒(データ入力②)'!$F$3:$AS$24,22,FALSE)&\"\",\"\"))","v":""},{"$f":"IF('生徒(データ入力②)'!$F$3=\"\",\"\",IFERROR(HLOOKUP(S$2,'生徒(データ入力②)'!$F$3:$AS$24,22,FALSE)&\"\",\"\"))","v":""},{"$f":"IF('生徒(データ入力②)'!$F$3=\"\",\"\",IFERROR(HLOOKUP(T$2,'生徒(データ入力②)'!$F$3:$AS$24,22,FALSE)&\"\",\"\"))","v":""},{"$f":"IF('生徒(データ入力②)'!$F$3=\"\",\"\",IFERROR(HLOOKUP(U$2,'生徒(データ入力②)'!$F$3:$AS$24,22,FALSE)&\"\",\"\"))","v":""},{"$f":"IF('生徒(データ入力②)'!$F$3=\"\",\"\",IFERROR(HLOOKUP(V$2,'生徒(データ入力②)'!$F$3:$AS$24,22,FALSE)&\"\",\"\"))","v":""},{"$f":"IF('生徒(データ入力②)'!$F$3=\"\",\"\",IFERROR(HLOOKUP(W$2,'生徒(データ入力②)'!$F$3:$AS$24,22,FALSE)&\"\",\"\"))","v":""},{"$f":"IF('生徒(データ入力②)'!$F$3=\"\",\"\",IFERROR(HLOOKUP(X$2,'生徒(データ入力②)'!$F$3:$AS$24,22,FALSE)&\"\",\"\"))","v":""},{"$f":"IF('生徒(データ入力②)'!$F$3=\"\",\"\",IFERROR(HLOOKUP(Y$2,'生徒(データ入力②)'!$F$3:$AS$24,22,FALSE)&\"\",\"\"))","v":""},{"$f":"IF('生徒(データ入力②)'!$F$3=\"\",\"\",IFERROR(HLOOKUP(Z$2,'生徒(データ入力②)'!$F$3:$AS$24,22,FALSE)&\"\",\"\"))","v":""},{"$f":"IF('生徒(データ入力②)'!$F$3=\"\",\"\",IFERROR(HLOOKUP(AA$2,'生徒(データ入力②)'!$F$3:$AS$24,22,FALSE)&\"\",\"\"))","v":""},{"$f":"IF('生徒(データ入力②)'!$F$3=\"\",\"\",IFERROR(HLOOKUP(AB$2,'生徒(データ入力②)'!$F$3:$AS$24,22,FALSE)&\"\",\"\"))","v":""},{"$f":"IF('生徒(データ入力②)'!$F$3=\"\",\"\",IFERROR(HLOOKUP(AC$2,'生徒(データ入力②)'!$F$3:$AS$24,22,FALSE)&\"\",\"\"))","v":""},{"$f":"IF('生徒(データ入力②)'!$F$3=\"\",\"\",IFERROR(HLOOKUP(AD$2,'生徒(データ入力②)'!$F$3:$AS$24,22,FALSE)&\"\",\"\"))","v":""},{"$f":"IF('生徒(データ入力②)'!$F$3=\"\",\"\",IFERROR(HLOOKUP(AE$2,'生徒(データ入力②)'!$F$3:$AS$24,22,FALSE)&\"\",\"\"))","v":""},{"$f":"IF('生徒(データ入力②)'!$F$3=\"\",\"\",IFERROR(HLOOKUP(AF$2,'生徒(データ入力②)'!$F$3:$AS$24,22,FALSE)&\"\",\"\"))","v":""},{"$f":"IF('生徒(データ入力②)'!$F$3=\"\",\"\",IFERROR(HLOOKUP(AG$2,'生徒(データ入力②)'!$F$3:$AS$24,22,FALSE)&\"\",\"\"))","v":""},{"$f":"IF('生徒(データ入力②)'!$F$3=\"\",\"\",IFERROR(HLOOKUP(AH$2,'生徒(データ入力②)'!$F$3:$AS$24,22,FALSE)&\"\",\"\"))","v":""},{"$f":"IF('生徒(データ入力②)'!$F$3=\"\",\"\",IFERROR(HLOOKUP(AI$2,'生徒(データ入力②)'!$F$3:$AS$24,22,FALSE)&\"\",\"\"))","v":""},{"$f":"IF('生徒(データ入力②)'!$F$3=\"\",\"\",IFERROR(HLOOKUP(AJ$2,'生徒(データ入力②)'!$F$3:$AS$24,22,FALSE)&\"\",\"\"))","v":""},{"$f":"IF('生徒(データ入力②)'!$F$3=\"\",\"\",IFERROR(HLOOKUP(AK$2,'生徒(データ入力②)'!$F$3:$AS$24,22,FALSE)&\"\",\"\"))","v":""},{"$f":"IF('生徒(データ入力②)'!$F$3=\"\",\"\",IFERROR(HLOOKUP(AL$2,'生徒(データ入力②)'!$F$3:$AS$24,22,FALSE)&\"\",\"\"))","v":""},{"$f":"IF('生徒(データ入力②)'!$F$3=\"\",\"\",IFERROR(HLOOKUP(AM$2,'生徒(データ入力②)'!$F$3:$AS$24,22,FALSE)&\"\",\"\"))","v":""},{"$f":"IF('生徒(データ入力②)'!$F$3=\"\",\"\",IFERROR(HLOOKUP(AN$2,'生徒(データ入力②)'!$F$3:$AS$24,22,FALSE)&\"\",\"\"))","v":""},{"$f":"IF('生徒(データ入力②)'!$F$3=\"\",\"\",IFERROR(HLOOKUP(AO$2,'生徒(データ入力②)'!$F$3:$AS$24,22,FALSE)&\"\",\"\"))","v":""},{"$f":"IF('生徒(データ入力②)'!$F$3=\"\",\"\",IFERROR(HLOOKUP(AP$2,'生徒(データ入力②)'!$F$3:$AS$24,22,FALSE)&\"\",\"\"))","v":""},{"$f":"IF('生徒(データ入力②)'!$F$3=\"\",\"\",IFERROR(HLOOKUP(AQ$2,'生徒(データ入力②)'!$F$3:$AS$24,22,FALSE)&\"\",\"\"))","v":""},{"$f":"IF('生徒(データ入力②)'!$F$3=\"\",\"\",IFERROR(HLOOKUP(AR$2,'生徒(データ入力②)'!$F$3:$AS$24,22,FALSE)&\"\",\"\"))","v":""},{"$f":"IF('生徒(データ入力②)'!$F$3=\"\",\"\",IFERROR(HLOOKUP(AS$2,'生徒(データ入力②)'!$F$3:$AS$24,22,FALSE)&\"\",\"\"))","v":""},{"$f":"IF('生徒(データ入力②)'!$F$3=\"\",\"\",IFERROR(HLOOKUP(AT$2,'生徒(データ入力②)'!$F$3:$AS$24,22,FALSE)&\"\",\"\"))","v":""},{"$f":"IF('生徒(データ入力②)'!$F$3=\"\",\"\",IFERROR(HLOOKUP(AU$2,'生徒(データ入力②)'!$F$3:$AS$24,22,FALSE)&\"\",\"\"))","v":""},{"$f":"IF('生徒(データ入力②)'!$F$3=\"\",\"\",IFERROR(HLOOKUP(AV$2,'生徒(データ入力②)'!$F$3:$AS$24,22,FALSE)&\"\",\"\"))","v":""},{"$f":"IF('生徒(データ入力②)'!$F$3=\"\",\"\",IFERROR(HLOOKUP(AW$2,'生徒(データ入力②)'!$F$3:$BC$24,22,FALSE)&\"\",\"\"))","v":""},{"$f":"IF('生徒(データ入力②)'!$F$3=\"\",\"\",IFERROR(HLOOKUP(AX$2,'生徒(データ入力②)'!$F$3:$BC$24,22,FALSE)&\"\",\"\"))","v":""},{"$f":"IF('生徒(データ入力②)'!$F$3=\"\",\"\",IFERROR(HLOOKUP(AY$2,'生徒(データ入力②)'!$F$3:$BC$24,22,FALSE)&\"\",\"\"))","v":""},{"$f":"IF('生徒(データ入力②)'!$F$3=\"\",\"\",IFERROR(HLOOKUP(AZ$2,'生徒(データ入力②)'!$F$3:$BC$24,22,FALSE)&\"\",\"\"))","v":""},{"$f":"IF('生徒(データ入力②)'!$F$3=\"\",\"\",IFERROR(HLOOKUP(BA$2,'生徒(データ入力②)'!$F$3:$BC$24,22,FALSE)&\"\",\"\"))","v":""},{"$f":"IF('生徒(データ入力②)'!$F$3=\"\",\"\",IFERROR(HLOOKUP(BB$2,'生徒(データ入力②)'!$F$3:$BC$24,22,FALSE)&\"\",\"\"))","v":""},{"$f":"IF('生徒(データ入力②)'!$F$3=\"\",\"\",IFERROR(HLOOKUP(BC$2,'生徒(データ入力②)'!$F$3:$BC$24,22,FALSE)&\"\",\"\"))","v":""},{"$f":"IF('生徒(データ入力②)'!$F$3=\"\",\"\",IFERROR(HLOOKUP(BD$2,'生徒(データ入力②)'!$F$3:$BC$24,22,FALSE)&\"\",\"\"))","v":""},{"$f":"IF('生徒(データ入力②)'!$F$3=\"\",\"\",IFERROR(HLOOKUP(BE$2,'生徒(データ入力②)'!$F$3:$BC$24,22,FALSE)&\"\",\"\"))","v":""},{"$f":"IF('生徒(データ入力②)'!$F$3=\"\",\"\",IFERROR(HLOOKUP(BF$2,'生徒(データ入力②)'!$F$3:$BC$24,22,FALSE)&\"\",\"\"))","v":""},0,{"$error":"#DIV/0!"},{"$f":"ROUND(BH15-'学級(一覧表①)'!BH15,1)","v":{"$error":"#DIV/0!"}},0,{"$error":"#DIV/0!"},{"$f":"ROUND(BK15-'学級(一覧表①)'!BK15,1)","v":{"$error":"#DIV/0!"}},0,{"$error":"#DIV/0!"},{"$f":"ROUND(BN15-'学級(一覧表①)'!BN15,1)","v":{"$error":"#DIV/0!"}},0,{"$error":"#DIV/0!"},{"$f":"ROUND(BQ15-'学級(一覧表①)'!BQ15,1)","v":{"$error":"#DIV/0!"}},null,null,0,{"$error":"#DIV/0!"},{"$error":"#DIV/0!"},0,{"$error":"#DIV/0!"},{"$error":"#DIV/0!"}]
[null,null,{"$f":"'生徒(個人)'!B18","v":"私の学級では，自分で調べたり制作したりするときに，先生や友達からアドバイスをもらえる。"},{"$error":"#DIV/0!"},{"$error":"#DIV/0!"},{"$error":"#DIV/0!"},{"$error":"#DIV/0!"},null,{"$f":"IF('生徒(データ入力②)'!$F$3=\"\",\"\",IFERROR(HLOOKUP(I$2,'生徒(データ入力②)'!$F$3:$AS$24,11,FALSE)&\"\",\"\"))","v":""},{"$f":"IF('生徒(データ入力②)'!$F$3=\"\",\"\",IFERROR(HLOOKUP(J$2,'生徒(データ入力②)'!$F$3:$AS$24,11,FALSE)&\"\",\"\"))","v":""},{"$f":"IF('生徒(データ入力②)'!$F$3=\"\",\"\",IFERROR(HLOOKUP(K$2,'生徒(データ入力②)'!$F$3:$AS$24,11,FALSE)&\"\",\"\"))","v":""},{"$f":"IF('生徒(データ入力②)'!$F$3=\"\",\"\",IFERROR(HLOOKUP(L$2,'生徒(データ入力②)'!$F$3:$AS$24,11,FALSE)&\"\",\"\"))","v":""},{"$f":"IF('生徒(データ入力②)'!$F$3=\"\",\"\",IFERROR(HLOOKUP(M$2,'生徒(データ入力②)'!$F$3:$AS$24,11,FALSE)&\"\",\"\"))","v":""},{"$f":"IF('生徒(データ入力②)'!$F$3=\"\",\"\",IFERROR(HLOOKUP(N$2,'生徒(データ入力②)'!$F$3:$AS$24,11,FALSE)&\"\",\"\"))","v":""},{"$f":"IF('生徒(データ入力②)'!$F$3=\"\",\"\",IFERROR(HLOOKUP(O$2,'生徒(データ入力②)'!$F$3:$AS$24,11,FALSE)&\"\",\"\"))","v":""},{"$f":"IF('生徒(データ入力②)'!$F$3=\"\",\"\",IFERROR(HLOOKUP(P$2,'生徒(データ入力②)'!$F$3:$AS$24,11,FALSE)&\"\",\"\"))","v":""},{"$f":"IF('生徒(データ入力②)'!$F$3=\"\",\"\",IFERROR(HLOOKUP(Q$2,'生徒(データ入力②)'!$F$3:$AS$24,11,FALSE)&\"\",\"\"))","v":""},{"$f":"IF('生徒(データ入力②)'!$F$3=\"\",\"\",IFERROR(HLOOKUP(R$2,'生徒(データ入力②)'!$F$3:$AS$24,11,FALSE)&\"\",\"\"))","v":""},{"$f":"IF('生徒(データ入力②)'!$F$3=\"\",\"\",IFERROR(HLOOKUP(S$2,'生徒(データ入力②)'!$F$3:$AS$24,11,FALSE)&\"\",\"\"))","v":""},{"$f":"IF('生徒(データ入力②)'!$F$3=\"\",\"\",IFERROR(HLOOKUP(T$2,'生徒(データ入力②)'!$F$3:$AS$24,11,FALSE)&\"\",\"\"))","v":""},{"$f":"IF('生徒(データ入力②)'!$F$3=\"\",\"\",IFERROR(HLOOKUP(U$2,'生徒(データ入力②)'!$F$3:$AS$24,11,FALSE)&\"\",\"\"))","v":""},{"$f":"IF('生徒(データ入力②)'!$F$3=\"\",\"\",IFERROR(HLOOKUP(V$2,'生徒(データ入力②)'!$F$3:$AS$24,11,FALSE)&\"\",\"\"))","v":""},{"$f":"IF('生徒(データ入力②)'!$F$3=\"\",\"\",IFERROR(HLOOKUP(W$2,'生徒(データ入力②)'!$F$3:$AS$24,11,FALSE)&\"\",\"\"))","v":""},{"$f":"IF('生徒(データ入力②)'!$F$3=\"\",\"\",IFERROR(HLOOKUP(X$2,'生徒(データ入力②)'!$F$3:$AS$24,11,FALSE)&\"\",\"\"))","v":""},{"$f":"IF('生徒(データ入力②)'!$F$3=\"\",\"\",IFERROR(HLOOKUP(Y$2,'生徒(データ入力②)'!$F$3:$AS$24,11,FALSE)&\"\",\"\"))","v":""},{"$f":"IF('生徒(データ入力②)'!$F$3=\"\",\"\",IFERROR(HLOOKUP(Z$2,'生徒(データ入力②)'!$F$3:$AS$24,11,FALSE)&\"\",\"\"))","v":""},{"$f":"IF('生徒(データ入力②)'!$F$3=\"\",\"\",IFERROR(HLOOKUP(AA$2,'生徒(データ入力②)'!$F$3:$AS$24,11,FALSE)&\"\",\"\"))","v":""},{"$f":"IF('生徒(データ入力②)'!$F$3=\"\",\"\",IFERROR(HLOOKUP(AB$2,'生徒(データ入力②)'!$F$3:$AS$24,11,FALSE)&\"\",\"\"))","v":""},{"$f":"IF('生徒(データ入力②)'!$F$3=\"\",\"\",IFERROR(HLOOKUP(AC$2,'生徒(データ入力②)'!$F$3:$AS$24,11,FALSE)&\"\",\"\"))","v":""},{"$f":"IF('生徒(データ入力②)'!$F$3=\"\",\"\",IFERROR(HLOOKUP(AD$2,'生徒(データ入力②)'!$F$3:$AS$24,11,FALSE)&\"\",\"\"))","v":""},{"$f":"IF('生徒(データ入力②)'!$F$3=\"\",\"\",IFERROR(HLOOKUP(AE$2,'生徒(データ入力②)'!$F$3:$AS$24,11,FALSE)&\"\",\"\"))","v":""},{"$f":"IF('生徒(データ入力②)'!$F$3=\"\",\"\",IFERROR(HLOOKUP(AF$2,'生徒(データ入力②)'!$F$3:$AS$24,11,FALSE)&\"\",\"\"))","v":""},{"$f":"IF('生徒(データ入力②)'!$F$3=\"\",\"\",IFERROR(HLOOKUP(AG$2,'生徒(データ入力②)'!$F$3:$AS$24,11,FALSE)&\"\",\"\"))","v":""},{"$f":"IF('生徒(データ入力②)'!$F$3=\"\",\"\",IFERROR(HLOOKUP(AH$2,'生徒(データ入力②)'!$F$3:$AS$24,11,FALSE)&\"\",\"\"))","v":""},{"$f":"IF('生徒(データ入力②)'!$F$3=\"\",\"\",IFERROR(HLOOKUP(AI$2,'生徒(データ入力②)'!$F$3:$AS$24,11,FALSE)&\"\",\"\"))","v":""},{"$f":"IF('生徒(データ入力②)'!$F$3=\"\",\"\",IFERROR(HLOOKUP(AJ$2,'生徒(データ入力②)'!$F$3:$AS$24,11,FALSE)&\"\",\"\"))","v":""},{"$f":"IF('生徒(データ入力②)'!$F$3=\"\",\"\",IFERROR(HLOOKUP(AK$2,'生徒(データ入力②)'!$F$3:$AS$24,11,FALSE)&\"\",\"\"))","v":""},{"$f":"IF('生徒(データ入力②)'!$F$3=\"\",\"\",IFERROR(HLOOKUP(AL$2,'生徒(データ入力②)'!$F$3:$AS$24,11,FALSE)&\"\",\"\"))","v":""},{"$f":"IF('生徒(データ入力②)'!$F$3=\"\",\"\",IFERROR(HLOOKUP(AM$2,'生徒(データ入力②)'!$F$3:$AS$24,11,FALSE)&\"\",\"\"))","v":""},{"$f":"IF('生徒(データ入力②)'!$F$3=\"\",\"\",IFERROR(HLOOKUP(AN$2,'生徒(データ入力②)'!$F$3:$AS$24,11,FALSE)&\"\",\"\"))","v":""},{"$f":"IF('生徒(データ入力②)'!$F$3=\"\",\"\",IFERROR(HLOOKUP(AO$2,'生徒(データ入力②)'!$F$3:$AS$24,11,FALSE)&\"\",\"\"))","v":""},{"$f":"IF('生徒(データ入力②)'!$F$3=\"\",\"\",IFERROR(HLOOKUP(AP$2,'生徒(データ入力②)'!$F$3:$AS$24,11,FALSE)&\"\",\"\"))","v":""},{"$f":"IF('生徒(データ入力②)'!$F$3=\"\",\"\",IFERROR(HLOOKUP(AQ$2,'生徒(データ入力②)'!$F$3:$AS$24,11,FALSE)&\"\",\"\"))","v":""},{"$f":"IF('生徒(データ入力②)'!$F$3=\"\",\"\",IFERROR(HLOOKUP(AR$2,'生徒(データ入力②)'!$F$3:$AS$24,11,FALSE)&\"\",\"\"))","v":""},{"$f":"IF('生徒(データ入力②)'!$F$3=\"\",\"\",IFERROR(HLOOKUP(AS$2,'生徒(データ入力②)'!$F$3:$AS$24,11,FALSE)&\"\",\"\"))","v":""},{"$f":"IF('生徒(データ入力②)'!$F$3=\"\",\"\",IFERROR(HLOOKUP(AT$2,'生徒(データ入力②)'!$F$3:$AS$24,11,FALSE)&\"\",\"\"))","v":""},{"$f":"IF('生徒(データ入力②)'!$F$3=\"\",\"\",IFERROR(HLOOKUP(AU$2,'生徒(データ入力②)'!$F$3:$AS$24,11,FALSE)&\"\",\"\"))","v":""},{"$f":"IF('生徒(データ入力②)'!$F$3=\"\",\"\",IFERROR(HLOOKUP(AV$2,'生徒(データ入力②)'!$F$3:$AS$24,11,FALSE)&\"\",\"\"))","v":""},{"$f":"IF('生徒(データ入力②)'!$F$3=\"\",\"\",IFERROR(HLOOKUP(AW$2,'生徒(データ入力②)'!$F$3:$BC$24,11,FALSE)&\"\",\"\"))","v":""},{"$f":"IF('生徒(データ入力②)'!$F$3=\"\",\"\",IFERROR(HLOOKUP(AX$2,'生徒(データ入力②)'!$F$3:$BC$24,11,FALSE)&\"\",\"\"))","v":""},{"$f":"IF('生徒(データ入力②)'!$F$3=\"\",\"\",IFERROR(HLOOKUP(AY$2,'生徒(データ入力②)'!$F$3:$BC$24,11,FALSE)&\"\",\"\"))","v":""},{"$f":"IF('生徒(データ入力②)'!$F$3=\"\",\"\",IFERROR(HLOOKUP(AZ$2,'生徒(データ入力②)'!$F$3:$BC$24,11,FALSE)&\"\",\"\"))","v":""},{"$f":"IF('生徒(データ入力②)'!$F$3=\"\",\"\",IFERROR(HLOOKUP(BA$2,'生徒(データ入力②)'!$F$3:$BC$24,11,FALSE)&\"\",\"\"))","v":""},{"$f":"IF('生徒(データ入力②)'!$F$3=\"\",\"\",IFERROR(HLOOKUP(BB$2,'生徒(データ入力②)'!$F$3:$BC$24,11,FALSE)&\"\",\"\"))","v":""},{"$f":"IF('生徒(データ入力②)'!$F$3=\"\",\"\",IFERROR(HLOOKUP(BC$2,'生徒(データ入力②)'!$F$3:$BC$24,11,FALSE)&\"\",\"\"))","v":""},{"$f":"IF('生徒(データ入力②)'!$F$3=\"\",\"\",IFERROR(HLOOKUP(BD$2,'生徒(データ入力②)'!$F$3:$BC$24,11,FALSE)&\"\",\"\"))","v":""},{"$f":"IF('生徒(データ入力②)'!$F$3=\"\",\"\",IFERROR(HLOOKUP(BE$2,'生徒(データ入力②)'!$F$3:$BC$24,11,FALSE)&\"\",\"\"))","v":""},{"$f":"IF('生徒(データ入力②)'!$F$3=\"\",\"\",IFERROR(HLOOKUP(BF$2,'生徒(データ入力②)'!$F$3:$BC$24,11,FALSE)&\"\",\"\"))","v":""},0,{"$error":"#DIV/0!"},{"$f":"ROUND(BH16-'学級(一覧表①)'!BH16,1)","v":{"$error":"#DIV/0!"}},0,{"$error":"#DIV/0!"},{"$f":"ROUND(BK16-'学級(一覧表①)'!BK16,1)","v":{"$error":"#DIV/0!"}},0,{"$error":"#DIV/0!"},{"$f":"ROUND(BN16-'学級(一覧表①)'!BN16,1)","v":{"$error":"#DIV/0!"}},0,{"$error":"#DIV/0!"},{"$f":"ROUND(BQ16-'学級(一覧表①)'!BQ16,1)","v":{"$error":"#DIV/0!"}},null,null,0,{"$error":"#DIV/0!"},{"$error":"#DIV/0!"},0,{"$error":"#DIV/0!"},{"$error":"#DIV/0!"}]
[null,null,{"$f":"'生徒(個人)'!B19","v":"私の学級では，私の考えを伝えたいと思える場面や機会がある。"},{"$error":"#DIV/0!"},{"$error":"#DIV/0!"},{"$error":"#DIV/0!"},{"$error":"#DIV/0!"},null,{"$f":"IF('生徒(データ入力②)'!$F$3=\"\",\"\",IFERROR(HLOOKUP(I$2,'生徒(データ入力②)'!$F$3:$AS$24,5,FALSE)&\"\",\"\"))","v":""},{"$f":"IF('生徒(データ入力②)'!$F$3=\"\",\"\",IFERROR(HLOOKUP(J$2,'生徒(データ入力②)'!$F$3:$AS$24,5,FALSE)&\"\",\"\"))","v":""},{"$f":"IF('生徒(データ入力②)'!$F$3=\"\",\"\",IFERROR(HLOOKUP(K$2,'生徒(データ入力②)'!$F$3:$AS$24,5,FALSE)&\"\",\"\"))","v":""},{"$f":"IF('生徒(データ入力②)'!$F$3=\"\",\"\",IFERROR(HLOOKUP(L$2,'生徒(データ入力②)'!$F$3:$AS$24,5,FALSE)&\"\",\"\"))","v":""},{"$f":"IF('生徒(データ入力②)'!$F$3=\"\",\"\",IFERROR(HLOOKUP(M$2,'生徒(データ入力②)'!$F$3:$AS$24,5,FALSE)&\"\",\"\"))","v":""},{"$f":"IF('生徒(データ入力②)'!$F$3=\"\",\"\",IFERROR(HLOOKUP(N$2,'生徒(データ入力②)'!$F$3:$AS$24,5,FALSE)&\"\",\"\"))","v":""},{"$f":"IF('生徒(データ入力②)'!$F$3=\"\",\"\",IFERROR(HLOOKUP(O$2,'生徒(データ入力②)'!$F$3:$AS$24,5,FALSE)&\"\",\"\"))","v":""},{"$f":"IF('生徒(データ入力②)'!$F$3=\"\",\"\",IFERROR(HLOOKUP(P$2,'生徒(データ入力②)'!$F$3:$AS$24,5,FALSE)&\"\",\"\"))","v":""},{"$f":"IF('生徒(データ入力②)'!$F$3=\"\",\"\",IFERROR(HLOOKUP(Q$2,'生徒(データ入力②)'!$F$3:$AS$24,5,FALSE)&\"\",\"\"))","v":""},{"$f":"IF('生徒(データ入力②)'!$F$3=\"\",\"\",IFERROR(HLOOKUP(R$2,'生徒(データ入力②)'!$F$3:$AS$24,5,FALSE)&\"\",\"\"))","v":""},{"$f":"IF('生徒(データ入力②)'!$F$3=\"\",\"\",IFERROR(HLOOKUP(S$2,'生徒(データ入力②)'!$F$3:$AS$24,5,FALSE)&\"\",\"\"))","v":""},{"$f":"IF('生徒(データ入力②)'!$F$3=\"\",\"\",IFERROR(HLOOKUP(T$2,'生徒(データ入力②)'!$F$3:$AS$24,5,FALSE)&\"\",\"\"))","v":""},{"$f":"IF('生徒(データ入力②)'!$F$3=\"\",\"\",IFERROR(HLOOKUP(U$2,'生徒(データ入力②)'!$F$3:$AS$24,5,FALSE)&\"\",\"\"))","v":""},{"$f":"IF('生徒(データ入力②)'!$F$3=\"\",\"\",IFERROR(HLOOKUP(V$2,'生徒(データ入力②)'!$F$3:$AS$24,5,FALSE)&\"\",\"\"))","v":""},{"$f":"IF('生徒(データ入力②)'!$F$3=\"\",\"\",IFERROR(HLOOKUP(W$2,'生徒(データ入力②)'!$F$3:$AS$24,5,FALSE)&\"\",\"\"))","v":""},{"$f":"IF('生徒(データ入力②)'!$F$3=\"\",\"\",IFERROR(HLOOKUP(X$2,'生徒(データ入力②)'!$F$3:$AS$24,5,FALSE)&\"\",\"\"))","v":""},{"$f":"IF('生徒(データ入力②)'!$F$3=\"\",\"\",IFERROR(HLOOKUP(Y$2,'生徒(データ入力②)'!$F$3:$AS$24,5,FALSE)&\"\",\"\"))","v":""},{"$f":"IF('生徒(データ入力②)'!$F$3=\"\",\"\",IFERROR(HLOOKUP(Z$2,'生徒(データ入力②)'!$F$3:$AS$24,5,FALSE)&\"\",\"\"))","v":""},{"$f":"IF('生徒(データ入力②)'!$F$3=\"\",\"\",IFERROR(HLOOKUP(AA$2,'生徒(データ入力②)'!$F$3:$AS$24,5,FALSE)&\"\",\"\"))","v":""},{"$f":"IF('生徒(データ入力②)'!$F$3=\"\",\"\",IFERROR(HLOOKUP(AB$2,'生徒(データ入力②)'!$F$3:$AS$24,5,FALSE)&\"\",\"\"))","v":""},{"$f":"IF('生徒(データ入力②)'!$F$3=\"\",\"\",IFERROR(HLOOKUP(AC$2,'生徒(データ入力②)'!$F$3:$AS$24,5,FALSE)&\"\",\"\"))","v":""},{"$f":"IF('生徒(データ入力②)'!$F$3=\"\",\"\",IFERROR(HLOOKUP(AD$2,'生徒(データ入力②)'!$F$3:$AS$24,5,FALSE)&\"\",\"\"))","v":""},{"$f":"IF('生徒(データ入力②)'!$F$3=\"\",\"\",IFERROR(HLOOKUP(AE$2,'生徒(データ入力②)'!$F$3:$AS$24,5,FALSE)&\"\",\"\"))","v":""},{"$f":"IF('生徒(データ入力②)'!$F$3=\"\",\"\",IFERROR(HLOOKUP(AF$2,'生徒(データ入力②)'!$F$3:$AS$24,5,FALSE)&\"\",\"\"))","v":""},{"$f":"IF('生徒(データ入力②)'!$F$3=\"\",\"\",IFERROR(HLOOKUP(AG$2,'生徒(データ入力②)'!$F$3:$AS$24,5,FALSE)&\"\",\"\"))","v":""},{"$f":"IF('生徒(データ入力②)'!$F$3=\"\",\"\",IFERROR(HLOOKUP(AH$2,'生徒(データ入力②)'!$F$3:$AS$24,5,FALSE)&\"\",\"\"))","v":""},{"$f":"IF('生徒(データ入力②)'!$F$3=\"\",\"\",IFERROR(HLOOKUP(AI$2,'生徒(データ入力②)'!$F$3:$AS$24,5,FALSE)&\"\",\"\"))","v":""},{"$f":"IF('生徒(データ入力②)'!$F$3=\"\",\"\",IFERROR(HLOOKUP(AJ$2,'生徒(データ入力②)'!$F$3:$AS$24,5,FALSE)&\"\",\"\"))","v":""},{"$f":"IF('生徒(データ入力②)'!$F$3=\"\",\"\",IFERROR(HLOOKUP(AK$2,'生徒(データ入力②)'!$F$3:$AS$24,5,FALSE)&\"\",\"\"))","v":""},{"$f":"IF('生徒(データ入力②)'!$F$3=\"\",\"\",IFERROR(HLOOKUP(AL$2,'生徒(データ入力②)'!$F$3:$AS$24,5,FALSE)&\"\",\"\"))","v":""},{"$f":"IF('生徒(データ入力②)'!$F$3=\"\",\"\",IFERROR(HLOOKUP(AM$2,'生徒(データ入力②)'!$F$3:$AS$24,5,FALSE)&\"\",\"\"))","v":""},{"$f":"IF('生徒(データ入力②)'!$F$3=\"\",\"\",IFERROR(HLOOKUP(AN$2,'生徒(データ入力②)'!$F$3:$AS$24,5,FALSE)&\"\",\"\"))","v":""},{"$f":"IF('生徒(データ入力②)'!$F$3=\"\",\"\",IFERROR(HLOOKUP(AO$2,'生徒(データ入力②)'!$F$3:$AS$24,5,FALSE)&\"\",\"\"))","v":""},{"$f":"IF('生徒(データ入力②)'!$F$3=\"\",\"\",IFERROR(HLOOKUP(AP$2,'生徒(データ入力②)'!$F$3:$AS$24,5,FALSE)&\"\",\"\"))","v":""},{"$f":"IF('生徒(データ入力②)'!$F$3=\"\",\"\",IFERROR(HLOOKUP(AQ$2,'生徒(データ入力②)'!$F$3:$AS$24,5,FALSE)&\"\",\"\"))","v":""},{"$f":"IF('生徒(データ入力②)'!$F$3=\"\",\"\",IFERROR(HLOOKUP(AR$2,'生徒(データ入力②)'!$F$3:$AS$24,5,FALSE)&\"\",\"\"))","v":""},{"$f":"IF('生徒(データ入力②)'!$F$3=\"\",\"\",IFERROR(HLOOKUP(AS$2,'生徒(データ入力②)'!$F$3:$AS$24,5,FALSE)&\"\",\"\"))","v":""},{"$f":"IF('生徒(データ入力②)'!$F$3=\"\",\"\",IFERROR(HLOOKUP(AT$2,'生徒(データ入力②)'!$F$3:$AS$24,5,FALSE)&\"\",\"\"))","v":""},{"$f":"IF('生徒(データ入力②)'!$F$3=\"\",\"\",IFERROR(HLOOKUP(AU$2,'生徒(データ入力②)'!$F$3:$AS$24,5,FALSE)&\"\",\"\"))","v":""},{"$f":"IF('生徒(データ入力②)'!$F$3=\"\",\"\",IFERROR(HLOOKUP(AV$2,'生徒(データ入力②)'!$F$3:$AS$24,5,FALSE)&\"\",\"\"))","v":""},{"$f":"IF('生徒(データ入力②)'!$F$3=\"\",\"\",IFERROR(HLOOKUP(AW$2,'生徒(データ入力②)'!$F$3:$BC$24,5,FALSE)&\"\",\"\"))","v":""},{"$f":"IF('生徒(データ入力②)'!$F$3=\"\",\"\",IFERROR(HLOOKUP(AX$2,'生徒(データ入力②)'!$F$3:$BC$24,5,FALSE)&\"\",\"\"))","v":""},{"$f":"IF('生徒(データ入力②)'!$F$3=\"\",\"\",IFERROR(HLOOKUP(AY$2,'生徒(データ入力②)'!$F$3:$BC$24,5,FALSE)&\"\",\"\"))","v":""},{"$f":"IF('生徒(データ入力②)'!$F$3=\"\",\"\",IFERROR(HLOOKUP(AZ$2,'生徒(データ入力②)'!$F$3:$BC$24,5,FALSE)&\"\",\"\"))","v":""},{"$f":"IF('生徒(データ入力②)'!$F$3=\"\",\"\",IFERROR(HLOOKUP(BA$2,'生徒(データ入力②)'!$F$3:$BC$24,5,FALSE)&\"\",\"\"))","v":""},{"$f":"IF('生徒(データ入力②)'!$F$3=\"\",\"\",IFERROR(HLOOKUP(BB$2,'生徒(データ入力②)'!$F$3:$BC$24,5,FALSE)&\"\",\"\"))","v":""},{"$f":"IF('生徒(データ入力②)'!$F$3=\"\",\"\",IFERROR(HLOOKUP(BC$2,'生徒(データ入力②)'!$F$3:$BC$24,5,FALSE)&\"\",\"\"))","v":""},{"$f":"IF('生徒(データ入力②)'!$F$3=\"\",\"\",IFERROR(HLOOKUP(BD$2,'生徒(データ入力②)'!$F$3:$BC$24,5,FALSE)&\"\",\"\"))","v":""},{"$f":"IF('生徒(データ入力②)'!$F$3=\"\",\"\",IFERROR(HLOOKUP(BE$2,'生徒(データ入力②)'!$F$3:$BC$24,5,FALSE)&\"\",\"\"))","v":""},{"$f":"IF('生徒(データ入力②)'!$F$3=\"\",\"\",IFERROR(HLOOKUP(BF$2,'生徒(データ入力②)'!$F$3:$BC$24,5,FALSE)&\"\",\"\"))","v":""},0,{"$error":"#DIV/0!"},{"$f":"ROUND(BH17-'学級(一覧表①)'!BH17,1)","v":{"$error":"#DIV/0!"}},0,{"$error":"#DIV/0!"},{"$f":"ROUND(BK17-'学級(一覧表①)'!BK17,1)","v":{"$error":"#DIV/0!"}},0,{"$error":"#DIV/0!"},{"$f":"ROUND(BN17-'学級(一覧表①)'!BN17,1)","v":{"$error":"#DIV/0!"}},0,{"$error":"#DIV/0!"},{"$f":"ROUND(BQ17-'学級(一覧表①)'!BQ17,1)","v":{"$error":"#DIV/0!"}},null,null,0,{"$error":"#DIV/0!"},{"$error":"#DIV/0!"},0,{"$error":"#DIV/0!"},{"$error":"#DIV/0!"}]
[null,null,{"$f":"'生徒(個人)'!B20","v":"私の学級では，自分一人で考える場面で，必要な情報が示されている。"},{"$error":"#DIV/0!"},{"$error":"#DIV/0!"},{"$error":"#DIV/0!"},{"$error":"#DIV/0!"},null,{"$f":"IF('生徒(データ入力②)'!$F$3=\"\",\"\",IFERROR(HLOOKUP(I$2,'生徒(データ入力②)'!$F$3:$AS$24,14,FALSE)&\"\",\"\"))","v":""},{"$f":"IF('生徒(データ入力②)'!$F$3=\"\",\"\",IFERROR(HLOOKUP(J$2,'生徒(データ入力②)'!$F$3:$AS$24,14,FALSE)&\"\",\"\"))","v":""},{"$f":"IF('生徒(データ入力②)'!$F$3=\"\",\"\",IFERROR(HLOOKUP(K$2,'生徒(データ入力②)'!$F$3:$AS$24,14,FALSE)&\"\",\"\"))","v":""},{"$f":"IF('生徒(データ入力②)'!$F$3=\"\",\"\",IFERROR(HLOOKUP(L$2,'生徒(データ入力②)'!$F$3:$AS$24,14,FALSE)&\"\",\"\"))","v":""},{"$f":"IF('生徒(データ入力②)'!$F$3=\"\",\"\",IFERROR(HLOOKUP(M$2,'生徒(データ入力②)'!$F$3:$AS$24,14,FALSE)&\"\",\"\"))","v":""},{"$f":"IF('生徒(データ入力②)'!$F$3=\"\",\"\",IFERROR(HLOOKUP(N$2,'生徒(データ入力②)'!$F$3:$AS$24,14,FALSE)&\"\",\"\"))","v":""},{"$f":"IF('生徒(データ入力②)'!$F$3=\"\",\"\",IFERROR(HLOOKUP(O$2,'生徒(データ入力②)'!$F$3:$AS$24,14,FALSE)&\"\",\"\"))","v":""},{"$f":"IF('生徒(データ入力②)'!$F$3=\"\",\"\",IFERROR(HLOOKUP(P$2,'生徒(データ入力②)'!$F$3:$AS$24,14,FALSE)&\"\",\"\"))","v":""},{"$f":"IF('生徒(データ入力②)'!$F$3=\"\",\"\",IFERROR(HLOOKUP(Q$2,'生徒(データ入力②)'!$F$3:$AS$24,14,FALSE)&\"\",\"\"))","v":""},{"$f":"IF('生徒(データ入力②)'!$F$3=\"\",\"\",IFERROR(HLOOKUP(R$2,'生徒(データ入力②)'!$F$3:$AS$24,14,FALSE)&\"\",\"\"))","v":""},{"$f":"IF('生徒(データ入力②)'!$F$3=\"\",\"\",IFERROR(HLOOKUP(S$2,'生徒(データ入力②)'!$F$3:$AS$24,14,FALSE)&\"\",\"\"))","v":""},{"$f":"IF('生徒(データ入力②)'!$F$3=\"\",\"\",IFERROR(HLOOKUP(T$2,'生徒(データ入力②)'!$F$3:$AS$24,14,FALSE)&\"\",\"\"))","v":""},{"$f":"IF('生徒(データ入力②)'!$F$3=\"\",\"\",IFERROR(HLOOKUP(U$2,'生徒(データ入力②)'!$F$3:$AS$24,14,FALSE)&\"\",\"\"))","v":""},{"$f":"IF('生徒(データ入力②)'!$F$3=\"\",\"\",IFERROR(HLOOKUP(V$2,'生徒(データ入力②)'!$F$3:$AS$24,14,FALSE)&\"\",\"\"))","v":""},{"$f":"IF('生徒(データ入力②)'!$F$3=\"\",\"\",IFERROR(HLOOKUP(W$2,'生徒(データ入力②)'!$F$3:$AS$24,14,FALSE)&\"\",\"\"))","v":""},{"$f":"IF('生徒(データ入力②)'!$F$3=\"\",\"\",IFERROR(HLOOKUP(X$2,'生徒(データ入力②)'!$F$3:$AS$24,14,FALSE)&\"\",\"\"))","v":""},{"$f":"IF('生徒(データ入力②)'!$F$3=\"\",\"\",IFERROR(HLOOKUP(Y$2,'生徒(データ入力②)'!$F$3:$AS$24,14,FALSE)&\"\",\"\"))","v":""},{"$f":"IF('生徒(データ入力②)'!$F$3=\"\",\"\",IFERROR(HLOOKUP(Z$2,'生徒(データ入力②)'!$F$3:$AS$24,14,FALSE)&\"\",\"\"))","v":""},{"$f":"IF('生徒(データ入力②)'!$F$3=\"\",\"\",IFERROR(HLOOKUP(AA$2,'生徒(データ入力②)'!$F$3:$AS$24,14,FALSE)&\"\",\"\"))","v":""},{"$f":"IF('生徒(データ入力②)'!$F$3=\"\",\"\",IFERROR(HLOOKUP(AB$2,'生徒(データ入力②)'!$F$3:$AS$24,14,FALSE)&\"\",\"\"))","v":""},{"$f":"IF('生徒(データ入力②)'!$F$3=\"\",\"\",IFERROR(HLOOKUP(AC$2,'生徒(データ入力②)'!$F$3:$AS$24,14,FALSE)&\"\",\"\"))","v":""},{"$f":"IF('生徒(データ入力②)'!$F$3=\"\",\"\",IFERROR(HLOOKUP(AD$2,'生徒(データ入力②)'!$F$3:$AS$24,14,FALSE)&\"\",\"\"))","v":""},{"$f":"IF('生徒(データ入力②)'!$F$3=\"\",\"\",IFERROR(HLOOKUP(AE$2,'生徒(データ入力②)'!$F$3:$AS$24,14,FALSE)&\"\",\"\"))","v":""},{"$f":"IF('生徒(データ入力②)'!$F$3=\"\",\"\",IFERROR(HLOOKUP(AF$2,'生徒(データ入力②)'!$F$3:$AS$24,14,FALSE)&\"\",\"\"))","v":""},{"$f":"IF('生徒(データ入力②)'!$F$3=\"\",\"\",IFERROR(HLOOKUP(AG$2,'生徒(データ入力②)'!$F$3:$AS$24,14,FALSE)&\"\",\"\"))","v":""},{"$f":"IF('生徒(データ入力②)'!$F$3=\"\",\"\",IFERROR(HLOOKUP(AH$2,'生徒(データ入力②)'!$F$3:$AS$24,14,FALSE)&\"\",\"\"))","v":""},{"$f":"IF('生徒(データ入力②)'!$F$3=\"\",\"\",IFERROR(HLOOKUP(AI$2,'生徒(データ入力②)'!$F$3:$AS$24,14,FALSE)&\"\",\"\"))","v":""},{"$f":"IF('生徒(データ入力②)'!$F$3=\"\",\"\",IFERROR(HLOOKUP(AJ$2,'生徒(データ入力②)'!$F$3:$AS$24,14,FALSE)&\"\",\"\"))","v":""},{"$f":"IF('生徒(データ入力②)'!$F$3=\"\",\"\",IFERROR(HLOOKUP(AK$2,'生徒(データ入力②)'!$F$3:$AS$24,14,FALSE)&\"\",\"\"))","v":""},{"$f":"IF('生徒(データ入力②)'!$F$3=\"\",\"\",IFERROR(HLOOKUP(AL$2,'生徒(データ入力②)'!$F$3:$AS$24,14,FALSE)&\"\",\"\"))","v":""},{"$f":"IF('生徒(データ入力②)'!$F$3=\"\",\"\",IFERROR(HLOOKUP(AM$2,'生徒(データ入力②)'!$F$3:$AS$24,14,FALSE)&\"\",\"\"))","v":""},{"$f":"IF('生徒(データ入力②)'!$F$3=\"\",\"\",IFERROR(HLOOKUP(AN$2,'生徒(データ入力②)'!$F$3:$AS$24,14,FALSE)&\"\",\"\"))","v":""},{"$f":"IF('生徒(データ入力②)'!$F$3=\"\",\"\",IFERROR(HLOOKUP(AO$2,'生徒(データ入力②)'!$F$3:$AS$24,14,FALSE)&\"\",\"\"))","v":""},{"$f":"IF('生徒(データ入力②)'!$F$3=\"\",\"\",IFERROR(HLOOKUP(AP$2,'生徒(データ入力②)'!$F$3:$AS$24,14,FALSE)&\"\",\"\"))","v":""},{"$f":"IF('生徒(データ入力②)'!$F$3=\"\",\"\",IFERROR(HLOOKUP(AQ$2,'生徒(データ入力②)'!$F$3:$AS$24,14,FALSE)&\"\",\"\"))","v":""},{"$f":"IF('生徒(データ入力②)'!$F$3=\"\",\"\",IFERROR(HLOOKUP(AR$2,'生徒(データ入力②)'!$F$3:$AS$24,14,FALSE)&\"\",\"\"))","v":""},{"$f":"IF('生徒(データ入力②)'!$F$3=\"\",\"\",IFERROR(HLOOKUP(AS$2,'生徒(データ入力②)'!$F$3:$AS$24,14,FALSE)&\"\",\"\"))","v":""},{"$f":"IF('生徒(データ入力②)'!$F$3=\"\",\"\",IFERROR(HLOOKUP(AT$2,'生徒(データ入力②)'!$F$3:$AS$24,14,FALSE)&\"\",\"\"))","v":""},{"$f":"IF('生徒(データ入力②)'!$F$3=\"\",\"\",IFERROR(HLOOKUP(AU$2,'生徒(データ入力②)'!$F$3:$AS$24,14,FALSE)&\"\",\"\"))","v":""},{"$f":"IF('生徒(データ入力②)'!$F$3=\"\",\"\",IFERROR(HLOOKUP(AV$2,'生徒(データ入力②)'!$F$3:$AS$24,14,FALSE)&\"\",\"\"))","v":""},{"$f":"IF('生徒(データ入力②)'!$F$3=\"\",\"\",IFERROR(HLOOKUP(AW$2,'生徒(データ入力②)'!$F$3:$BC$24,14,FALSE)&\"\",\"\"))","v":""},{"$f":"IF('生徒(データ入力②)'!$F$3=\"\",\"\",IFERROR(HLOOKUP(AX$2,'生徒(データ入力②)'!$F$3:$BC$24,14,FALSE)&\"\",\"\"))","v":""},{"$f":"IF('生徒(データ入力②)'!$F$3=\"\",\"\",IFERROR(HLOOKUP(AY$2,'生徒(データ入力②)'!$F$3:$BC$24,14,FALSE)&\"\",\"\"))","v":""},{"$f":"IF('生徒(データ入力②)'!$F$3=\"\",\"\",IFERROR(HLOOKUP(AZ$2,'生徒(データ入力②)'!$F$3:$BC$24,14,FALSE)&\"\",\"\"))","v":""},{"$f":"IF('生徒(データ入力②)'!$F$3=\"\",\"\",IFERROR(HLOOKUP(BA$2,'生徒(データ入力②)'!$F$3:$BC$24,14,FALSE)&\"\",\"\"))","v":""},{"$f":"IF('生徒(データ入力②)'!$F$3=\"\",\"\",IFERROR(HLOOKUP(BB$2,'生徒(データ入力②)'!$F$3:$BC$24,14,FALSE)&\"\",\"\"))","v":""},{"$f":"IF('生徒(データ入力②)'!$F$3=\"\",\"\",IFERROR(HLOOKUP(BC$2,'生徒(データ入力②)'!$F$3:$BC$24,14,FALSE)&\"\",\"\"))","v":""},{"$f":"IF('生徒(データ入力②)'!$F$3=\"\",\"\",IFERROR(HLOOKUP(BD$2,'生徒(データ入力②)'!$F$3:$BC$24,14,FALSE)&\"\",\"\"))","v":""},{"$f":"IF('生徒(データ入力②)'!$F$3=\"\",\"\",IFERROR(HLOOKUP(BE$2,'生徒(データ入力②)'!$F$3:$BC$24,14,FALSE)&\"\",\"\"))","v":""},{"$f":"IF('生徒(データ入力②)'!$F$3=\"\",\"\",IFERROR(HLOOKUP(BF$2,'生徒(データ入力②)'!$F$3:$BC$24,14,FALSE)&\"\",\"\"))","v":""},0,{"$error":"#DIV/0!"},{"$f":"ROUND(BH18-'学級(一覧表①)'!BH18,1)","v":{"$error":"#DIV/0!"}},0,{"$error":"#DIV/0!"},{"$f":"ROUND(BK18-'学級(一覧表①)'!BK18,1)","v":{"$error":"#DIV/0!"}},0,{"$error":"#DIV/0!"},{"$f":"ROUND(BN18-'学級(一覧表①)'!BN18,1)","v":{"$error":"#DIV/0!"}},0,{"$error":"#DIV/0!"},{"$f":"ROUND(BQ18-'学級(一覧表①)'!BQ18,1)","v":{"$error":"#DIV/0!"}},null,null,0,{"$error":"#DIV/0!"},{"$error":"#DIV/0!"},0,{"$error":"#DIV/0!"},{"$error":"#DIV/0!"}]
[null,"ルールが守られ他者から傷つけられないという安心感",{"$f":"'生徒(個人)'!B21","v":"私の学級では，係活動や清掃など，みんなが自分の役割に責任を持って取り組んでいる。"},{"$error":"#DIV/0!"},{"$error":"#DIV/0!"},{"$error":"#DIV/0!"},{"$error":"#DIV/0!"},null,{"$f":"IF('生徒(データ入力②)'!$F$3=\"\",\"\",IFERROR(HLOOKUP(I$2,'生徒(データ入力②)'!$F$3:$AS$24,12,FALSE)&\"\",\"\"))","v":""},{"$f":"IF('生徒(データ入力②)'!$F$3=\"\",\"\",IFERROR(HLOOKUP(J$2,'生徒(データ入力②)'!$F$3:$AS$24,12,FALSE)&\"\",\"\"))","v":""},{"$f":"IF('生徒(データ入力②)'!$F$3=\"\",\"\",IFERROR(HLOOKUP(K$2,'生徒(データ入力②)'!$F$3:$AS$24,12,FALSE)&\"\",\"\"))","v":""},{"$f":"IF('生徒(データ入力②)'!$F$3=\"\",\"\",IFERROR(HLOOKUP(L$2,'生徒(データ入力②)'!$F$3:$AS$24,12,FALSE)&\"\",\"\"))","v":""},{"$f":"IF('生徒(データ入力②)'!$F$3=\"\",\"\",IFERROR(HLOOKUP(M$2,'生徒(データ入力②)'!$F$3:$AS$24,12,FALSE)&\"\",\"\"))","v":""},{"$f":"IF('生徒(データ入力②)'!$F$3=\"\",\"\",IFERROR(HLOOKUP(N$2,'生徒(データ入力②)'!$F$3:$AS$24,12,FALSE)&\"\",\"\"))","v":""},{"$f":"IF('生徒(データ入力②)'!$F$3=\"\",\"\",IFERROR(HLOOKUP(O$2,'生徒(データ入力②)'!$F$3:$AS$24,12,FALSE)&\"\",\"\"))","v":""},{"$f":"IF('生徒(データ入力②)'!$F$3=\"\",\"\",IFERROR(HLOOKUP(P$2,'生徒(データ入力②)'!$F$3:$AS$24,12,FALSE)&\"\",\"\"))","v":""},{"$f":"IF('生徒(データ入力②)'!$F$3=\"\",\"\",IFERROR(HLOOKUP(Q$2,'生徒(データ入力②)'!$F$3:$AS$24,12,FALSE)&\"\",\"\"))","v":""},{"$f":"IF('生徒(データ入力②)'!$F$3=\"\",\"\",IFERROR(HLOOKUP(R$2,'生徒(データ入力②)'!$F$3:$AS$24,12,FALSE)&\"\",\"\"))","v":""},{"$f":"IF('生徒(データ入力②)'!$F$3=\"\",\"\",IFERROR(HLOOKUP(S$2,'生徒(データ入力②)'!$F$3:$AS$24,12,FALSE)&\"\",\"\"))","v":""},{"$f":"IF('生徒(データ入力②)'!$F$3=\"\",\"\",IFERROR(HLOOKUP(T$2,'生徒(データ入力②)'!$F$3:$AS$24,12,FALSE)&\"\",\"\"))","v":""},{"$f":"IF('生徒(データ入力②)'!$F$3=\"\",\"\",IFERROR(HLOOKUP(U$2,'生徒(データ入力②)'!$F$3:$AS$24,12,FALSE)&\"\",\"\"))","v":""},{"$f":"IF('生徒(データ入力②)'!$F$3=\"\",\"\",IFERROR(HLOOKUP(V$2,'生徒(データ入力②)'!$F$3:$AS$24,12,FALSE)&\"\",\"\"))","v":""},{"$f":"IF('生徒(データ入力②)'!$F$3=\"\",\"\",IFERROR(HLOOKUP(W$2,'生徒(データ入力②)'!$F$3:$AS$24,12,FALSE)&\"\",\"\"))","v":""},{"$f":"IF('生徒(データ入力②)'!$F$3=\"\",\"\",IFERROR(HLOOKUP(X$2,'生徒(データ入力②)'!$F$3:$AS$24,12,FALSE)&\"\",\"\"))","v":""},{"$f":"IF('生徒(データ入力②)'!$F$3=\"\",\"\",IFERROR(HLOOKUP(Y$2,'生徒(データ入力②)'!$F$3:$AS$24,12,FALSE)&\"\",\"\"))","v":""},{"$f":"IF('生徒(データ入力②)'!$F$3=\"\",\"\",IFERROR(HLOOKUP(Z$2,'生徒(データ入力②)'!$F$3:$AS$24,12,FALSE)&\"\",\"\"))","v":""},{"$f":"IF('生徒(データ入力②)'!$F$3=\"\",\"\",IFERROR(HLOOKUP(AA$2,'生徒(データ入力②)'!$F$3:$AS$24,12,FALSE)&\"\",\"\"))","v":""},{"$f":"IF('生徒(データ入力②)'!$F$3=\"\",\"\",IFERROR(HLOOKUP(AB$2,'生徒(データ入力②)'!$F$3:$AS$24,12,FALSE)&\"\",\"\"))","v":""},{"$f":"IF('生徒(データ入力②)'!$F$3=\"\",\"\",IFERROR(HLOOKUP(AC$2,'生徒(データ入力②)'!$F$3:$AS$24,12,FALSE)&\"\",\"\"))","v":""},{"$f":"IF('生徒(データ入力②)'!$F$3=\"\",\"\",IFERROR(HLOOKUP(AD$2,'生徒(データ入力②)'!$F$3:$AS$24,12,FALSE)&\"\",\"\"))","v":""},{"$f":"IF('生徒(データ入力②)'!$F$3=\"\",\"\",IFERROR(HLOOKUP(AE$2,'生徒(データ入力②)'!$F$3:$AS$24,12,FALSE)&\"\",\"\"))","v":""},{"$f":"IF('生徒(データ入力②)'!$F$3=\"\",\"\",IFERROR(HLOOKUP(AF$2,'生徒(データ入力②)'!$F$3:$AS$24,12,FALSE)&\"\",\"\"))","v":""},{"$f":"IF('生徒(データ入力②)'!$F$3=\"\",\"\",IFERROR(HLOOKUP(AG$2,'生徒(データ入力②)'!$F$3:$AS$24,12,FALSE)&\"\",\"\"))","v":""},{"$f":"IF('生徒(データ入力②)'!$F$3=\"\",\"\",IFERROR(HLOOKUP(AH$2,'生徒(データ入力②)'!$F$3:$AS$24,12,FALSE)&\"\",\"\"))","v":""},{"$f":"IF('生徒(データ入力②)'!$F$3=\"\",\"\",IFERROR(HLOOKUP(AI$2,'生徒(データ入力②)'!$F$3:$AS$24,12,FALSE)&\"\",\"\"))","v":""},{"$f":"IF('生徒(データ入力②)'!$F$3=\"\",\"\",IFERROR(HLOOKUP(AJ$2,'生徒(データ入力②)'!$F$3:$AS$24,12,FALSE)&\"\",\"\"))","v":""},{"$f":"IF('生徒(データ入力②)'!$F$3=\"\",\"\",IFERROR(HLOOKUP(AK$2,'生徒(データ入力②)'!$F$3:$AS$24,12,FALSE)&\"\",\"\"))","v":""},{"$f":"IF('生徒(データ入力②)'!$F$3=\"\",\"\",IFERROR(HLOOKUP(AL$2,'生徒(データ入力②)'!$F$3:$AS$24,12,FALSE)&\"\",\"\"))","v":""},{"$f":"IF('生徒(データ入力②)'!$F$3=\"\",\"\",IFERROR(HLOOKUP(AM$2,'生徒(データ入力②)'!$F$3:$AS$24,12,FALSE)&\"\",\"\"))","v":""},{"$f":"IF('生徒(データ入力②)'!$F$3=\"\",\"\",IFERROR(HLOOKUP(AN$2,'生徒(データ入力②)'!$F$3:$AS$24,12,FALSE)&\"\",\"\"))","v":""},{"$f":"IF('生徒(データ入力②)'!$F$3=\"\",\"\",IFERROR(HLOOKUP(AO$2,'生徒(データ入力②)'!$F$3:$AS$24,12,FALSE)&\"\",\"\"))","v":""},{"$f":"IF('生徒(データ入力②)'!$F$3=\"\",\"\",IFERROR(HLOOKUP(AP$2,'生徒(データ入力②)'!$F$3:$AS$24,12,FALSE)&\"\",\"\"))","v":""},{"$f":"IF('生徒(データ入力②)'!$F$3=\"\",\"\",IFERROR(HLOOKUP(AQ$2,'生徒(データ入力②)'!$F$3:$AS$24,12,FALSE)&\"\",\"\"))","v":""},{"$f":"IF('生徒(データ入力②)'!$F$3=\"\",\"\",IFERROR(HLOOKUP(AR$2,'生徒(データ入力②)'!$F$3:$AS$24,12,FALSE)&\"\",\"\"))","v":""},{"$f":"IF('生徒(データ入力②)'!$F$3=\"\",\"\",IFERROR(HLOOKUP(AS$2,'生徒(データ入力②)'!$F$3:$AS$24,12,FALSE)&\"\",\"\"))","v":""},{"$f":"IF('生徒(データ入力②)'!$F$3=\"\",\"\",IFERROR(HLOOKUP(AT$2,'生徒(データ入力②)'!$F$3:$AS$24,12,FALSE)&\"\",\"\"))","v":""},{"$f":"IF('生徒(データ入力②)'!$F$3=\"\",\"\",IFERROR(HLOOKUP(AU$2,'生徒(データ入力②)'!$F$3:$AS$24,12,FALSE)&\"\",\"\"))","v":""},{"$f":"IF('生徒(データ入力②)'!$F$3=\"\",\"\",IFERROR(HLOOKUP(AV$2,'生徒(データ入力②)'!$F$3:$AS$24,12,FALSE)&\"\",\"\"))","v":""},{"$f":"IF('生徒(データ入力②)'!$F$3=\"\",\"\",IFERROR(HLOOKUP(AW$2,'生徒(データ入力②)'!$F$3:$BC$24,12,FALSE)&\"\",\"\"))","v":""},{"$f":"IF('生徒(データ入力②)'!$F$3=\"\",\"\",IFERROR(HLOOKUP(AX$2,'生徒(データ入力②)'!$F$3:$BC$24,12,FALSE)&\"\",\"\"))","v":""},{"$f":"IF('生徒(データ入力②)'!$F$3=\"\",\"\",IFERROR(HLOOKUP(AY$2,'生徒(データ入力②)'!$F$3:$BC$24,12,FALSE)&\"\",\"\"))","v":""},{"$f":"IF('生徒(データ入力②)'!$F$3=\"\",\"\",IFERROR(HLOOKUP(AZ$2,'生徒(データ入力②)'!$F$3:$BC$24,12,FALSE)&\"\",\"\"))","v":""},{"$f":"IF('生徒(データ入力②)'!$F$3=\"\",\"\",IFERROR(HLOOKUP(BA$2,'生徒(データ入力②)'!$F$3:$BC$24,12,FALSE)&\"\",\"\"))","v":""},{"$f":"IF('生徒(データ入力②)'!$F$3=\"\",\"\",IFERROR(HLOOKUP(BB$2,'生徒(データ入力②)'!$F$3:$BC$24,12,FALSE)&\"\",\"\"))","v":""},{"$f":"IF('生徒(データ入力②)'!$F$3=\"\",\"\",IFERROR(HLOOKUP(BC$2,'生徒(データ入力②)'!$F$3:$BC$24,12,FALSE)&\"\",\"\"))","v":""},{"$f":"IF('生徒(データ入力②)'!$F$3=\"\",\"\",IFERROR(HLOOKUP(BD$2,'生徒(データ入力②)'!$F$3:$BC$24,12,FALSE)&\"\",\"\"))","v":""},{"$f":"IF('生徒(データ入力②)'!$F$3=\"\",\"\",IFERROR(HLOOKUP(BE$2,'生徒(データ入力②)'!$F$3:$BC$24,12,FALSE)&\"\",\"\"))","v":""},{"$f":"IF('生徒(データ入力②)'!$F$3=\"\",\"\",IFERROR(HLOOKUP(BF$2,'生徒(データ入力②)'!$F$3:$BC$24,12,FALSE)&\"\",\"\"))","v":""},0,{"$error":"#DIV/0!"},{"$f":"ROUND(BH19-'学級(一覧表①)'!BH19,1)","v":{"$error":"#DIV/0!"}},0,{"$error":"#DIV/0!"},{"$f":"ROUND(BK19-'学級(一覧表①)'!BK19,1)","v":{"$error":"#DIV/0!"}},0,{"$error":"#DIV/0!"},{"$f":"ROUND(BN19-'学級(一覧表①)'!BN19,1)","v":{"$error":"#DIV/0!"}},0,{"$error":"#DIV/0!"},{"$f":"ROUND(BQ19-'学級(一覧表①)'!BQ19,1)","v":{"$error":"#DIV/0!"}},null,null,0,{"$error":"#DIV/0!"},{"$error":"#DIV/0!"},0,{"$error":"#DIV/0!"},{"$error":"#DIV/0!"}]
[null,null,{"$f":"'生徒(個人)'!B22","v":"私の学級には，友達の間違いや失敗を冷やかしたり，からかったりしない雰囲気がある。"},{"$error":"#DIV/0!"},{"$error":"#DIV/0!"},{"$error":"#DIV/0!"},{"$error":"#DIV/0!"},null,{"$f":"IF('生徒(データ入力②)'!$F$3=\"\",\"\",IFERROR(HLOOKUP(I$2,'生徒(データ入力②)'!$F$3:$AS$24,6,FALSE)&\"\",\"\"))","v":""},{"$f":"IF('生徒(データ入力②)'!$F$3=\"\",\"\",IFERROR(HLOOKUP(J$2,'生徒(データ入力②)'!$F$3:$AS$24,6,FALSE)&\"\",\"\"))","v":""},{"$f":"IF('生徒(データ入力②)'!$F$3=\"\",\"\",IFERROR(HLOOKUP(K$2,'生徒(データ入力②)'!$F$3:$AS$24,6,FALSE)&\"\",\"\"))","v":""},{"$f":"IF('生徒(データ入力②)'!$F$3=\"\",\"\",IFERROR(HLOOKUP(L$2,'生徒(データ入力②)'!$F$3:$AS$24,6,FALSE)&\"\",\"\"))","v":""},{"$f":"IF('生徒(データ入力②)'!$F$3=\"\",\"\",IFERROR(HLOOKUP(M$2,'生徒(データ入力②)'!$F$3:$AS$24,6,FALSE)&\"\",\"\"))","v":""},{"$f":"IF('生徒(データ入力②)'!$F$3=\"\",\"\",IFERROR(HLOOKUP(N$2,'生徒(データ入力②)'!$F$3:$AS$24,6,FALSE)&\"\",\"\"))","v":""},{"$f":"IF('生徒(データ入力②)'!$F$3=\"\",\"\",IFERROR(HLOOKUP(O$2,'生徒(データ入力②)'!$F$3:$AS$24,6,FALSE)&\"\",\"\"))","v":""},{"$f":"IF('生徒(データ入力②)'!$F$3=\"\",\"\",IFERROR(HLOOKUP(P$2,'生徒(データ入力②)'!$F$3:$AS$24,6,FALSE)&\"\",\"\"))","v":""},{"$f":"IF('生徒(データ入力②)'!$F$3=\"\",\"\",IFERROR(HLOOKUP(Q$2,'生徒(データ入力②)'!$F$3:$AS$24,6,FALSE)&\"\",\"\"))","v":""},{"$f":"IF('生徒(データ入力②)'!$F$3=\"\",\"\",IFERROR(HLOOKUP(R$2,'生徒(データ入力②)'!$F$3:$AS$24,6,FALSE)&\"\",\"\"))","v":""},{"$f":"IF('生徒(データ入力②)'!$F$3=\"\",\"\",IFERROR(HLOOKUP(S$2,'生徒(データ入力②)'!$F$3:$AS$24,6,FALSE)&\"\",\"\"))","v":""},{"$f":"IF('生徒(データ入力②)'!$F$3=\"\",\"\",IFERROR(HLOOKUP(T$2,'生徒(データ入力②)'!$F$3:$AS$24,6,FALSE)&\"\",\"\"))","v":""},{"$f":"IF('生徒(データ入力②)'!$F$3=\"\",\"\",IFERROR(HLOOKUP(U$2,'生徒(データ入力②)'!$F$3:$AS$24,6,FALSE)&\"\",\"\"))","v":""},{"$f":"IF('生徒(データ入力②)'!$F$3=\"\",\"\",IFERROR(HLOOKUP(V$2,'生徒(データ入力②)'!$F$3:$AS$24,6,FALSE)&\"\",\"\"))","v":""},{"$f":"IF('生徒(データ入力②)'!$F$3=\"\",\"\",IFERROR(HLOOKUP(W$2,'生徒(データ入力②)'!$F$3:$AS$24,6,FALSE)&\"\",\"\"))","v":""},{"$f":"IF('生徒(データ入力②)'!$F$3=\"\",\"\",IFERROR(HLOOKUP(X$2,'生徒(データ入力②)'!$F$3:$AS$24,6,FALSE)&\"\",\"\"))","v":""},{"$f":"IF('生徒(データ入力②)'!$F$3=\"\",\"\",IFERROR(HLOOKUP(Y$2,'生徒(データ入力②)'!$F$3:$AS$24,6,FALSE)&\"\",\"\"))","v":""},{"$f":"IF('生徒(データ入力②)'!$F$3=\"\",\"\",IFERROR(HLOOKUP(Z$2,'生徒(データ入力②)'!$F$3:$AS$24,6,FALSE)&\"\",\"\"))","v":""},{"$f":"IF('生徒(データ入力②)'!$F$3=\"\",\"\",IFERROR(HLOOKUP(AA$2,'生徒(データ入力②)'!$F$3:$AS$24,6,FALSE)&\"\",\"\"))","v":""},{"$f":"IF('生徒(データ入力②)'!$F$3=\"\",\"\",IFERROR(HLOOKUP(AB$2,'生徒(データ入力②)'!$F$3:$AS$24,6,FALSE)&\"\",\"\"))","v":""},{"$f":"IF('生徒(データ入力②)'!$F$3=\"\",\"\",IFERROR(HLOOKUP(AC$2,'生徒(データ入力②)'!$F$3:$AS$24,6,FALSE)&\"\",\"\"))","v":""},{"$f":"IF('生徒(データ入力②)'!$F$3=\"\",\"\",IFERROR(HLOOKUP(AD$2,'生徒(データ入力②)'!$F$3:$AS$24,6,FALSE)&\"\",\"\"))","v":""},{"$f":"IF('生徒(データ入力②)'!$F$3=\"\",\"\",IFERROR(HLOOKUP(AE$2,'生徒(データ入力②)'!$F$3:$AS$24,6,FALSE)&\"\",\"\"))","v":""},{"$f":"IF('生徒(データ入力②)'!$F$3=\"\",\"\",IFERROR(HLOOKUP(AF$2,'生徒(データ入力②)'!$F$3:$AS$24,6,FALSE)&\"\",\"\"))","v":""},{"$f":"IF('生徒(データ入力②)'!$F$3=\"\",\"\",IFERROR(HLOOKUP(AG$2,'生徒(データ入力②)'!$F$3:$AS$24,6,FALSE)&\"\",\"\"))","v":""},{"$f":"IF('生徒(データ入力②)'!$F$3=\"\",\"\",IFERROR(HLOOKUP(AH$2,'生徒(データ入力②)'!$F$3:$AS$24,6,FALSE)&\"\",\"\"))","v":""},{"$f":"IF('生徒(データ入力②)'!$F$3=\"\",\"\",IFERROR(HLOOKUP(AI$2,'生徒(データ入力②)'!$F$3:$AS$24,6,FALSE)&\"\",\"\"))","v":""},{"$f":"IF('生徒(データ入力②)'!$F$3=\"\",\"\",IFERROR(HLOOKUP(AJ$2,'生徒(データ入力②)'!$F$3:$AS$24,6,FALSE)&\"\",\"\"))","v":""},{"$f":"IF('生徒(データ入力②)'!$F$3=\"\",\"\",IFERROR(HLOOKUP(AK$2,'生徒(データ入力②)'!$F$3:$AS$24,6,FALSE)&\"\",\"\"))","v":""},{"$f":"IF('生徒(データ入力②)'!$F$3=\"\",\"\",IFERROR(HLOOKUP(AL$2,'生徒(データ入力②)'!$F$3:$AS$24,6,FALSE)&\"\",\"\"))","v":""},{"$f":"IF('生徒(データ入力②)'!$F$3=\"\",\"\",IFERROR(HLOOKUP(AM$2,'生徒(データ入力②)'!$F$3:$AS$24,6,FALSE)&\"\",\"\"))","v":""},{"$f":"IF('生徒(データ入力②)'!$F$3=\"\",\"\",IFERROR(HLOOKUP(AN$2,'生徒(データ入力②)'!$F$3:$AS$24,6,FALSE)&\"\",\"\"))","v":""},{"$f":"IF('生徒(データ入力②)'!$F$3=\"\",\"\",IFERROR(HLOOKUP(AO$2,'生徒(データ入力②)'!$F$3:$AS$24,6,FALSE)&\"\",\"\"))","v":""},{"$f":"IF('生徒(データ入力②)'!$F$3=\"\",\"\",IFERROR(HLOOKUP(AP$2,'生徒(データ入力②)'!$F$3:$AS$24,6,FALSE)&\"\",\"\"))","v":""},{"$f":"IF('生徒(データ入力②)'!$F$3=\"\",\"\",IFERROR(HLOOKUP(AQ$2,'生徒(データ入力②)'!$F$3:$AS$24,6,FALSE)&\"\",\"\"))","v":""},{"$f":"IF('生徒(データ入力②)'!$F$3=\"\",\"\",IFERROR(HLOOKUP(AR$2,'生徒(データ入力②)'!$F$3:$AS$24,6,FALSE)&\"\",\"\"))","v":""},{"$f":"IF('生徒(データ入力②)'!$F$3=\"\",\"\",IFERROR(HLOOKUP(AS$2,'生徒(データ入力②)'!$F$3:$AS$24,6,FALSE)&\"\",\"\"))","v":""},{"$f":"IF('生徒(データ入力②)'!$F$3=\"\",\"\",IFERROR(HLOOKUP(AT$2,'生徒(データ入力②)'!$F$3:$AS$24,6,FALSE)&\"\",\"\"))","v":""},{"$f":"IF('生徒(データ入力②)'!$F$3=\"\",\"\",IFERROR(HLOOKUP(AU$2,'生徒(データ入力②)'!$F$3:$AS$24,6,FALSE)&\"\",\"\"))","v":""},{"$f":"IF('生徒(データ入力②)'!$F$3=\"\",\"\",IFERROR(HLOOKUP(AV$2,'生徒(データ入力②)'!$F$3:$AS$24,6,FALSE)&\"\",\"\"))","v":""},{"$f":"IF('生徒(データ入力②)'!$F$3=\"\",\"\",IFERROR(HLOOKUP(AW$2,'生徒(データ入力②)'!$F$3:$BC$24,6,FALSE)&\"\",\"\"))","v":""},{"$f":"IF('生徒(データ入力②)'!$F$3=\"\",\"\",IFERROR(HLOOKUP(AX$2,'生徒(データ入力②)'!$F$3:$BC$24,6,FALSE)&\"\",\"\"))","v":""},{"$f":"IF('生徒(データ入力②)'!$F$3=\"\",\"\",IFERROR(HLOOKUP(AY$2,'生徒(データ入力②)'!$F$3:$BC$24,6,FALSE)&\"\",\"\"))","v":""},{"$f":"IF('生徒(データ入力②)'!$F$3=\"\",\"\",IFERROR(HLOOKUP(AZ$2,'生徒(データ入力②)'!$F$3:$BC$24,6,FALSE)&\"\",\"\"))","v":""},{"$f":"IF('生徒(データ入力②)'!$F$3=\"\",\"\",IFERROR(HLOOKUP(BA$2,'生徒(データ入力②)'!$F$3:$BC$24,6,FALSE)&\"\",\"\"))","v":""},{"$f":"IF('生徒(データ入力②)'!$F$3=\"\",\"\",IFERROR(HLOOKUP(BB$2,'生徒(データ入力②)'!$F$3:$BC$24,6,FALSE)&\"\",\"\"))","v":""},{"$f":"IF('生徒(データ入力②)'!$F$3=\"\",\"\",IFERROR(HLOOKUP(BC$2,'生徒(データ入力②)'!$F$3:$BC$24,6,FALSE)&\"\",\"\"))","v":""},{"$f":"IF('生徒(データ入力②)'!$F$3=\"\",\"\",IFERROR(HLOOKUP(BD$2,'生徒(データ入力②)'!$F$3:$BC$24,6,FALSE)&\"\",\"\"))","v":""},{"$f":"IF('生徒(データ入力②)'!$F$3=\"\",\"\",IFERROR(HLOOKUP(BE$2,'生徒(データ入力②)'!$F$3:$BC$24,6,FALSE)&\"\",\"\"))","v":""},{"$f":"IF('生徒(データ入力②)'!$F$3=\"\",\"\",IFERROR(HLOOKUP(BF$2,'生徒(データ入力②)'!$F$3:$BC$24,6,FALSE)&\"\",\"\"))","v":""},0,{"$error":"#DIV/0!"},{"$f":"ROUND(BH20-'学級(一覧表①)'!BH20,1)","v":{"$error":"#DIV/0!"}},0,{"$error":"#DIV/0!"},{"$f":"ROUND(BK20-'学級(一覧表①)'!BK20,1)","v":{"$error":"#DIV/0!"}},0,{"$error":"#DIV/0!"},{"$f":"ROUND(BN20-'学級(一覧表①)'!BN20,1)","v":{"$error":"#DIV/0!"}},0,{"$error":"#DIV/0!"},{"$f":"ROUND(BQ20-'学級(一覧表①)'!BQ20,1)","v":{"$error":"#DIV/0!"}},null,null,0,{"$error":"#DIV/0!"},{"$error":"#DIV/0!"},0,{"$error":"#DIV/0!"},{"$error":"#DIV/0!"}]
[null,null,{"$f":"'生徒(個人)'!B23","v":"私の学級には，周りの迷惑になる言動をしてはいけない雰囲気がある。"},{"$error":"#DIV/0!"},{"$error":"#DIV/0!"},{"$error":"#DIV/0!"},{"$error":"#DIV/0!"},null,{"$f":"IF('生徒(データ入力②)'!$F$3=\"\",\"\",IFERROR(HLOOKUP(I$2,'生徒(データ入力②)'!$F$3:$AS$24,13,FALSE)&\"\",\"\"))","v":""},{"$f":"IF('生徒(データ入力②)'!$F$3=\"\",\"\",IFERROR(HLOOKUP(J$2,'生徒(データ入力②)'!$F$3:$AS$24,13,FALSE)&\"\",\"\"))","v":""},{"$f":"IF('生徒(データ入力②)'!$F$3=\"\",\"\",IFERROR(HLOOKUP(K$2,'生徒(データ入力②)'!$F$3:$AS$24,13,FALSE)&\"\",\"\"))","v":""},{"$f":"IF('生徒(データ入力②)'!$F$3=\"\",\"\",IFERROR(HLOOKUP(L$2,'生徒(データ入力②)'!$F$3:$AS$24,13,FALSE)&\"\",\"\"))","v":""},{"$f":"IF('生徒(データ入力②)'!$F$3=\"\",\"\",IFERROR(HLOOKUP(M$2,'生徒(データ入力②)'!$F$3:$AS$24,13,FALSE)&\"\",\"\"))","v":""},{"$f":"IF('生徒(データ入力②)'!$F$3=\"\",\"\",IFERROR(HLOOKUP(N$2,'生徒(データ入力②)'!$F$3:$AS$24,13,FALSE)&\"\",\"\"))","v":""},{"$f":"IF('生徒(データ入力②)'!$F$3=\"\",\"\",IFERROR(HLOOKUP(O$2,'生徒(データ入力②)'!$F$3:$AS$24,13,FALSE)&\"\",\"\"))","v":""},{"$f":"IF('生徒(データ入力②)'!$F$3=\"\",\"\",IFERROR(HLOOKUP(P$2,'生徒(データ入力②)'!$F$3:$AS$24,13,FALSE)&\"\",\"\"))","v":""},{"$f":"IF('生徒(データ入力②)'!$F$3=\"\",\"\",IFERROR(HLOOKUP(Q$2,'生徒(データ入力②)'!$F$3:$AS$24,13,FALSE)&\"\",\"\"))","v":""},{"$f":"IF('生徒(データ入力②)'!$F$3=\"\",\"\",IFERROR(HLOOKUP(R$2,'生徒(データ入力②)'!$F$3:$AS$24,13,FALSE)&\"\",\"\"))","v":""},{"$f":"IF('生徒(データ入力②)'!$F$3=\"\",\"\",IFERROR(HLOOKUP(S$2,'生徒(データ入力②)'!$F$3:$AS$24,13,FALSE)&\"\",\"\"))","v":""},{"$f":"IF('生徒(データ入力②)'!$F$3=\"\",\"\",IFERROR(HLOOKUP(T$2,'生徒(データ入力②)'!$F$3:$AS$24,13,FALSE)&\"\",\"\"))","v":""},{"$f":"IF('生徒(データ入力②)'!$F$3=\"\",\"\",IFERROR(HLOOKUP(U$2,'生徒(データ入力②)'!$F$3:$AS$24,13,FALSE)&\"\",\"\"))","v":""},{"$f":"IF('生徒(データ入力②)'!$F$3=\"\",\"\",IFERROR(HLOOKUP(V$2,'生徒(データ入力②)'!$F$3:$AS$24,13,FALSE)&\"\",\"\"))","v":""},{"$f":"IF('生徒(データ入力②)'!$F$3=\"\",\"\",IFERROR(HLOOKUP(W$2,'生徒(データ入力②)'!$F$3:$AS$24,13,FALSE)&\"\",\"\"))","v":""},{"$f":"IF('生徒(データ入力②)'!$F$3=\"\",\"\",IFERROR(HLOOKUP(X$2,'生徒(データ入力②)'!$F$3:$AS$24,13,FALSE)&\"\",\"\"))","v":""},{"$f":"IF('生徒(データ入力②)'!$F$3=\"\",\"\",IFERROR(HLOOKUP(Y$2,'生徒(データ入力②)'!$F$3:$AS$24,13,FALSE)&\"\",\"\"))","v":""},{"$f":"IF('生徒(データ入力②)'!$F$3=\"\",\"\",IFERROR(HLOOKUP(Z$2,'生徒(データ入力②)'!$F$3:$AS$24,13,FALSE)&\"\",\"\"))","v":""},{"$f":"IF('生徒(データ入力②)'!$F$3=\"\",\"\",IFERROR(HLOOKUP(AA$2,'生徒(データ入力②)'!$F$3:$AS$24,13,FALSE)&\"\",\"\"))","v":""},{"$f":"IF('生徒(データ入力②)'!$F$3=\"\",\"\",IFERROR(HLOOKUP(AB$2,'生徒(データ入力②)'!$F$3:$AS$24,13,FALSE)&\"\",\"\"))","v":""},{"$f":"IF('生徒(データ入力②)'!$F$3=\"\",\"\",IFERROR(HLOOKUP(AC$2,'生徒(データ入力②)'!$F$3:$AS$24,13,FALSE)&\"\",\"\"))","v":""},{"$f":"IF('生徒(データ入力②)'!$F$3=\"\",\"\",IFERROR(HLOOKUP(AD$2,'生徒(データ入力②)'!$F$3:$AS$24,13,FALSE)&\"\",\"\"))","v":""},{"$f":"IF('生徒(データ入力②)'!$F$3=\"\",\"\",IFERROR(HLOOKUP(AE$2,'生徒(データ入力②)'!$F$3:$AS$24,13,FALSE)&\"\",\"\"))","v":""},{"$f":"IF('生徒(データ入力②)'!$F$3=\"\",\"\",IFERROR(HLOOKUP(AF$2,'生徒(データ入力②)'!$F$3:$AS$24,13,FALSE)&\"\",\"\"))","v":""},{"$f":"IF('生徒(データ入力②)'!$F$3=\"\",\"\",IFERROR(HLOOKUP(AG$2,'生徒(データ入力②)'!$F$3:$AS$24,13,FALSE)&\"\",\"\"))","v":""},{"$f":"IF('生徒(データ入力②)'!$F$3=\"\",\"\",IFERROR(HLOOKUP(AH$2,'生徒(データ入力②)'!$F$3:$AS$24,13,FALSE)&\"\",\"\"))","v":""},{"$f":"IF('生徒(データ入力②)'!$F$3=\"\",\"\",IFERROR(HLOOKUP(AI$2,'生徒(データ入力②)'!$F$3:$AS$24,13,FALSE)&\"\",\"\"))","v":""},{"$f":"IF('生徒(データ入力②)'!$F$3=\"\",\"\",IFERROR(HLOOKUP(AJ$2,'生徒(データ入力②)'!$F$3:$AS$24,13,FALSE)&\"\",\"\"))","v":""},{"$f":"IF('生徒(データ入力②)'!$F$3=\"\",\"\",IFERROR(HLOOKUP(AK$2,'生徒(データ入力②)'!$F$3:$AS$24,13,FALSE)&\"\",\"\"))","v":""},{"$f":"IF('生徒(データ入力②)'!$F$3=\"\",\"\",IFERROR(HLOOKUP(AL$2,'生徒(データ入力②)'!$F$3:$AS$24,13,FALSE)&\"\",\"\"))","v":""},{"$f":"IF('生徒(データ入力②)'!$F$3=\"\",\"\",IFERROR(HLOOKUP(AM$2,'生徒(データ入力②)'!$F$3:$AS$24,13,FALSE)&\"\",\"\"))","v":""},{"$f":"IF('生徒(データ入力②)'!$F$3=\"\",\"\",IFERROR(HLOOKUP(AN$2,'生徒(データ入力②)'!$F$3:$AS$24,13,FALSE)&\"\",\"\"))","v":""},{"$f":"IF('生徒(データ入力②)'!$F$3=\"\",\"\",IFERROR(HLOOKUP(AO$2,'生徒(データ入力②)'!$F$3:$AS$24,13,FALSE)&\"\",\"\"))","v":""},{"$f":"IF('生徒(データ入力②)'!$F$3=\"\",\"\",IFERROR(HLOOKUP(AP$2,'生徒(データ入力②)'!$F$3:$AS$24,13,FALSE)&\"\",\"\"))","v":""},{"$f":"IF('生徒(データ入力②)'!$F$3=\"\",\"\",IFERROR(HLOOKUP(AQ$2,'生徒(データ入力②)'!$F$3:$AS$24,13,FALSE)&\"\",\"\"))","v":""},{"$f":"IF('生徒(データ入力②)'!$F$3=\"\",\"\",IFERROR(HLOOKUP(AR$2,'生徒(データ入力②)'!$F$3:$AS$24,13,FALSE)&\"\",\"\"))","v":""},{"$f":"IF('生徒(データ入力②)'!$F$3=\"\",\"\",IFERROR(HLOOKUP(AS$2,'生徒(データ入力②)'!$F$3:$AS$24,13,FALSE)&\"\",\"\"))","v":""},{"$f":"IF('生徒(データ入力②)'!$F$3=\"\",\"\",IFERROR(HLOOKUP(AT$2,'生徒(データ入力②)'!$F$3:$AS$24,13,FALSE)&\"\",\"\"))","v":""},{"$f":"IF('生徒(データ入力②)'!$F$3=\"\",\"\",IFERROR(HLOOKUP(AU$2,'生徒(データ入力②)'!$F$3:$AS$24,13,FALSE)&\"\",\"\"))","v":""},{"$f":"IF('生徒(データ入力②)'!$F$3=\"\",\"\",IFERROR(HLOOKUP(AV$2,'生徒(データ入力②)'!$F$3:$AS$24,13,FALSE)&\"\",\"\"))","v":""},{"$f":"IF('生徒(データ入力②)'!$F$3=\"\",\"\",IFERROR(HLOOKUP(AW$2,'生徒(データ入力②)'!$F$3:$BC$24,13,FALSE)&\"\",\"\"))","v":""},{"$f":"IF('生徒(データ入力②)'!$F$3=\"\",\"\",IFERROR(HLOOKUP(AX$2,'生徒(データ入力②)'!$F$3:$BC$24,13,FALSE)&\"\",\"\"))","v":""},{"$f":"IF('生徒(データ入力②)'!$F$3=\"\",\"\",IFERROR(HLOOKUP(AY$2,'生徒(データ入力②)'!$F$3:$BC$24,13,FALSE)&\"\",\"\"))","v":""},{"$f":"IF('生徒(データ入力②)'!$F$3=\"\",\"\",IFERROR(HLOOKUP(AZ$2,'生徒(データ入力②)'!$F$3:$BC$24,13,FALSE)&\"\",\"\"))","v":""},{"$f":"IF('生徒(データ入力②)'!$F$3=\"\",\"\",IFERROR(HLOOKUP(BA$2,'生徒(データ入力②)'!$F$3:$BC$24,13,FALSE)&\"\",\"\"))","v":""},{"$f":"IF('生徒(データ入力②)'!$F$3=\"\",\"\",IFERROR(HLOOKUP(BB$2,'生徒(データ入力②)'!$F$3:$BC$24,13,FALSE)&\"\",\"\"))","v":""},{"$f":"IF('生徒(データ入力②)'!$F$3=\"\",\"\",IFERROR(HLOOKUP(BC$2,'生徒(データ入力②)'!$F$3:$BC$24,13,FALSE)&\"\",\"\"))","v":""},{"$f":"IF('生徒(データ入力②)'!$F$3=\"\",\"\",IFERROR(HLOOKUP(BD$2,'生徒(データ入力②)'!$F$3:$BC$24,13,FALSE)&\"\",\"\"))","v":""},{"$f":"IF('生徒(データ入力②)'!$F$3=\"\",\"\",IFERROR(HLOOKUP(BE$2,'生徒(データ入力②)'!$F$3:$BC$24,13,FALSE)&\"\",\"\"))","v":""},{"$f":"IF('生徒(データ入力②)'!$F$3=\"\",\"\",IFERROR(HLOOKUP(BF$2,'生徒(データ入力②)'!$F$3:$BC$24,13,FALSE)&\"\",\"\"))","v":""},0,{"$error":"#DIV/0!"},{"$f":"ROUND(BH21-'学級(一覧表①)'!BH21,1)","v":{"$error":"#DIV/0!"}},0,{"$error":"#DIV/0!"},{"$f":"ROUND(BK21-'学級(一覧表①)'!BK21,1)","v":{"$error":"#DIV/0!"}},0,{"$error":"#DIV/0!"},{"$f":"ROUND(BN21-'学級(一覧表①)'!BN21,1)","v":{"$error":"#DIV/0!"}},0,{"$error":"#DIV/0!"},{"$f":"ROUND(BQ21-'学級(一覧表①)'!BQ21,1)","v":{"$error":"#DIV/0!"}},null,null,0,{"$error":"#DIV/0!"},{"$error":"#DIV/0!"},0,{"$error":"#DIV/0!"},{"$error":"#DIV/0!"}]
[null,null,{"$f":"'生徒(個人)'!B24","v":"私の学級では，みんなが活動の始まりと終わりの時間を守っている。"},{"$error":"#DIV/0!"},{"$error":"#DIV/0!"},{"$error":"#DIV/0!"},{"$error":"#DIV/0!"},null,{"$f":"IF('生徒(データ入力②)'!$F$3=\"\",\"\",IFERROR(HLOOKUP(I$2,'生徒(データ入力②)'!$F$3:$AS$24,21,FALSE)&\"\",\"\"))","v":""},{"$f":"IF('生徒(データ入力②)'!$F$3=\"\",\"\",IFERROR(HLOOKUP(J$2,'生徒(データ入力②)'!$F$3:$AS$24,21,FALSE)&\"\",\"\"))","v":""},{"$f":"IF('生徒(データ入力②)'!$F$3=\"\",\"\",IFERROR(HLOOKUP(K$2,'生徒(データ入力②)'!$F$3:$AS$24,21,FALSE)&\"\",\"\"))","v":""},{"$f":"IF('生徒(データ入力②)'!$F$3=\"\",\"\",IFERROR(HLOOKUP(L$2,'生徒(データ入力②)'!$F$3:$AS$24,21,FALSE)&\"\",\"\"))","v":""},{"$f":"IF('生徒(データ入力②)'!$F$3=\"\",\"\",IFERROR(HLOOKUP(M$2,'生徒(データ入力②)'!$F$3:$AS$24,21,FALSE)&\"\",\"\"))","v":""},{"$f":"IF('生徒(データ入力②)'!$F$3=\"\",\"\",IFERROR(HLOOKUP(N$2,'生徒(データ入力②)'!$F$3:$AS$24,21,FALSE)&\"\",\"\"))","v":""},{"$f":"IF('生徒(データ入力②)'!$F$3=\"\",\"\",IFERROR(HLOOKUP(O$2,'生徒(データ入力②)'!$F$3:$AS$24,21,FALSE)&\"\",\"\"))","v":""},{"$f":"IF('生徒(データ入力②)'!$F$3=\"\",\"\",IFERROR(HLOOKUP(P$2,'生徒(データ入力②)'!$F$3:$AS$24,21,FALSE)&\"\",\"\"))","v":""},{"$f":"IF('生徒(データ入力②)'!$F$3=\"\",\"\",IFERROR(HLOOKUP(Q$2,'生徒(データ入力②)'!$F$3:$AS$24,21,FALSE)&\"\",\"\"))","v":""},{"$f":"IF('生徒(データ入力②)'!$F$3=\"\",\"\",IFERROR(HLOOKUP(R$2,'生徒(データ入力②)'!$F$3:$AS$24,21,FALSE)&\"\",\"\"))","v":""},{"$f":"IF('生徒(データ入力②)'!$F$3=\"\",\"\",IFERROR(HLOOKUP(S$2,'生徒(データ入力②)'!$F$3:$AS$24,21,FALSE)&\"\",\"\"))","v":""},{"$f":"IF('生徒(データ入力②)'!$F$3=\"\",\"\",IFERROR(HLOOKUP(T$2,'生徒(データ入力②)'!$F$3:$AS$24,21,FALSE)&\"\",\"\"))","v":""},{"$f":"IF('生徒(データ入力②)'!$F$3=\"\",\"\",IFERROR(HLOOKUP(U$2,'生徒(データ入力②)'!$F$3:$AS$24,21,FALSE)&\"\",\"\"))","v":""},{"$f":"IF('生徒(データ入力②)'!$F$3=\"\",\"\",IFERROR(HLOOKUP(V$2,'生徒(データ入力②)'!$F$3:$AS$24,21,FALSE)&\"\",\"\"))","v":""},{"$f":"IF('生徒(データ入力②)'!$F$3=\"\",\"\",IFERROR(HLOOKUP(W$2,'生徒(データ入力②)'!$F$3:$AS$24,21,FALSE)&\"\",\"\"))","v":""},{"$f":"IF('生徒(データ入力②)'!$F$3=\"\",\"\",IFERROR(HLOOKUP(X$2,'生徒(データ入力②)'!$F$3:$AS$24,21,FALSE)&\"\",\"\"))","v":""},{"$f":"IF('生徒(データ入力②)'!$F$3=\"\",\"\",IFERROR(HLOOKUP(Y$2,'生徒(データ入力②)'!$F$3:$AS$24,21,FALSE)&\"\",\"\"))","v":""},{"$f":"IF('生徒(データ入力②)'!$F$3=\"\",\"\",IFERROR(HLOOKUP(Z$2,'生徒(データ入力②)'!$F$3:$AS$24,21,FALSE)&\"\",\"\"))","v":""},{"$f":"IF('生徒(データ入力②)'!$F$3=\"\",\"\",IFERROR(HLOOKUP(AA$2,'生徒(データ入力②)'!$F$3:$AS$24,21,FALSE)&\"\",\"\"))","v":""},{"$f":"IF('生徒(データ入力②)'!$F$3=\"\",\"\",IFERROR(HLOOKUP(AB$2,'生徒(データ入力②)'!$F$3:$AS$24,21,FALSE)&\"\",\"\"))","v":""},{"$f":"IF('生徒(データ入力②)'!$F$3=\"\",\"\",IFERROR(HLOOKUP(AC$2,'生徒(データ入力②)'!$F$3:$AS$24,21,FALSE)&\"\",\"\"))","v":""},{"$f":"IF('生徒(データ入力②)'!$F$3=\"\",\"\",IFERROR(HLOOKUP(AD$2,'生徒(データ入力②)'!$F$3:$AS$24,21,FALSE)&\"\",\"\"))","v":""},{"$f":"IF('生徒(データ入力②)'!$F$3=\"\",\"\",IFERROR(HLOOKUP(AE$2,'生徒(データ入力②)'!$F$3:$AS$24,21,FALSE)&\"\",\"\"))","v":""},{"$f":"IF('生徒(データ入力②)'!$F$3=\"\",\"\",IFERROR(HLOOKUP(AF$2,'生徒(データ入力②)'!$F$3:$AS$24,21,FALSE)&\"\",\"\"))","v":""},{"$f":"IF('生徒(データ入力②)'!$F$3=\"\",\"\",IFERROR(HLOOKUP(AG$2,'生徒(データ入力②)'!$F$3:$AS$24,21,FALSE)&\"\",\"\"))","v":""},{"$f":"IF('生徒(データ入力②)'!$F$3=\"\",\"\",IFERROR(HLOOKUP(AH$2,'生徒(データ入力②)'!$F$3:$AS$24,21,FALSE)&\"\",\"\"))","v":""},{"$f":"IF('生徒(データ入力②)'!$F$3=\"\",\"\",IFERROR(HLOOKUP(AI$2,'生徒(データ入力②)'!$F$3:$AS$24,21,FALSE)&\"\",\"\"))","v":""},{"$f":"IF('生徒(データ入力②)'!$F$3=\"\",\"\",IFERROR(HLOOKUP(AJ$2,'生徒(データ入力②)'!$F$3:$AS$24,21,FALSE)&\"\",\"\"))","v":""},{"$f":"IF('生徒(データ入力②)'!$F$3=\"\",\"\",IFERROR(HLOOKUP(AK$2,'生徒(データ入力②)'!$F$3:$AS$24,21,FALSE)&\"\",\"\"))","v":""},{"$f":"IF('生徒(データ入力②)'!$F$3=\"\",\"\",IFERROR(HLOOKUP(AL$2,'生徒(データ入力②)'!$F$3:$AS$24,21,FALSE)&\"\",\"\"))","v":""},{"$f":"IF('生徒(データ入力②)'!$F$3=\"\",\"\",IFERROR(HLOOKUP(AM$2,'生徒(データ入力②)'!$F$3:$AS$24,21,FALSE)&\"\",\"\"))","v":""},{"$f":"IF('生徒(データ入力②)'!$F$3=\"\",\"\",IFERROR(HLOOKUP(AN$2,'生徒(データ入力②)'!$F$3:$AS$24,21,FALSE)&\"\",\"\"))","v":""},{"$f":"IF('生徒(データ入力②)'!$F$3=\"\",\"\",IFERROR(HLOOKUP(AO$2,'生徒(データ入力②)'!$F$3:$AS$24,21,FALSE)&\"\",\"\"))","v":""},{"$f":"IF('生徒(データ入力②)'!$F$3=\"\",\"\",IFERROR(HLOOKUP(AP$2,'生徒(データ入力②)'!$F$3:$AS$24,21,FALSE)&\"\",\"\"))","v":""},{"$f":"IF('生徒(データ入力②)'!$F$3=\"\",\"\",IFERROR(HLOOKUP(AQ$2,'生徒(データ入力②)'!$F$3:$AS$24,21,FALSE)&\"\",\"\"))","v":""},{"$f":"IF('生徒(データ入力②)'!$F$3=\"\",\"\",IFERROR(HLOOKUP(AR$2,'生徒(データ入力②)'!$F$3:$AS$24,21,FALSE)&\"\",\"\"))","v":""},{"$f":"IF('生徒(データ入力②)'!$F$3=\"\",\"\",IFERROR(HLOOKUP(AS$2,'生徒(データ入力②)'!$F$3:$AS$24,21,FALSE)&\"\",\"\"))","v":""},{"$f":"IF('生徒(データ入力②)'!$F$3=\"\",\"\",IFERROR(HLOOKUP(AT$2,'生徒(データ入力②)'!$F$3:$AS$24,21,FALSE)&\"\",\"\"))","v":""},{"$f":"IF('生徒(データ入力②)'!$F$3=\"\",\"\",IFERROR(HLOOKUP(AU$2,'生徒(データ入力②)'!$F$3:$AS$24,21,FALSE)&\"\",\"\"))","v":""},{"$f":"IF('生徒(データ入力②)'!$F$3=\"\",\"\",IFERROR(HLOOKUP(AV$2,'生徒(データ入力②)'!$F$3:$AS$24,21,FALSE)&\"\",\"\"))","v":""},{"$f":"IF('生徒(データ入力②)'!$F$3=\"\",\"\",IFERROR(HLOOKUP(AW$2,'生徒(データ入力②)'!$F$3:$BC$24,21,FALSE)&\"\",\"\"))","v":""},{"$f":"IF('生徒(データ入力②)'!$F$3=\"\",\"\",IFERROR(HLOOKUP(AX$2,'生徒(データ入力②)'!$F$3:$BC$24,21,FALSE)&\"\",\"\"))","v":""},{"$f":"IF('生徒(データ入力②)'!$F$3=\"\",\"\",IFERROR(HLOOKUP(AY$2,'生徒(データ入力②)'!$F$3:$BC$24,21,FALSE)&\"\",\"\"))","v":""},{"$f":"IF('生徒(データ入力②)'!$F$3=\"\",\"\",IFERROR(HLOOKUP(AZ$2,'生徒(データ入力②)'!$F$3:$BC$24,21,FALSE)&\"\",\"\"))","v":""},{"$f":"IF('生徒(データ入力②)'!$F$3=\"\",\"\",IFERROR(HLOOKUP(BA$2,'生徒(データ入力②)'!$F$3:$BC$24,21,FALSE)&\"\",\"\"))","v":""},{"$f":"IF('生徒(データ入力②)'!$F$3=\"\",\"\",IFERROR(HLOOKUP(BB$2,'生徒(データ入力②)'!$F$3:$BC$24,21,FALSE)&\"\",\"\"))","v":""},{"$f":"IF('生徒(データ入力②)'!$F$3=\"\",\"\",IFERROR(HLOOKUP(BC$2,'生徒(データ入力②)'!$F$3:$BC$24,21,FALSE)&\"\",\"\"))","v":""},{"$f":"IF('生徒(データ入力②)'!$F$3=\"\",\"\",IFERROR(HLOOKUP(BD$2,'生徒(データ入力②)'!$F$3:$BC$24,21,FALSE)&\"\",\"\"))","v":""},{"$f":"IF('生徒(データ入力②)'!$F$3=\"\",\"\",IFERROR(HLOOKUP(BE$2,'生徒(データ入力②)'!$F$3:$BC$24,21,FALSE)&\"\",\"\"))","v":""},{"$f":"IF('生徒(データ入力②)'!$F$3=\"\",\"\",IFERROR(HLOOKUP(BF$2,'生徒(データ入力②)'!$F$3:$BC$24,21,FALSE)&\"\",\"\"))","v":""},0,{"$error":"#DIV/0!"},{"$f":"ROUND(BH22-'学級(一覧表①)'!BH22,1)","v":{"$error":"#DIV/0!"}},0,{"$error":"#DIV/0!"},{"$f":"ROUND(BK22-'学級(一覧表①)'!BK22,1)","v":{"$error":"#DIV/0!"}},0,{"$error":"#DIV/0!"},{"$f":"ROUND(BN22-'学級(一覧表①)'!BN22,1)","v":{"$error":"#DIV/0!"}},0,{"$error":"#DIV/0!"},{"$f":"ROUND(BQ22-'学級(一覧表①)'!BQ22,1)","v":{"$error":"#DIV/0!"}},null,null,0,{"$error":"#DIV/0!"},{"$error":"#DIV/0!"},0,{"$error":"#DIV/0!"},{"$error":"#DIV/0!"}]
[null,null,{"$f":"'生徒(個人)'!B25","v":"私の学級では，人の心や体を傷つける言葉や行為を許さない雰囲気がある。"},{"$error":"#DIV/0!"},{"$error":"#DIV/0!"},{"$error":"#DIV/0!"},{"$error":"#DIV/0!"},null,{"$f":"IF('生徒(データ入力②)'!$F$3=\"\",\"\",IFERROR(HLOOKUP(I$2,'生徒(データ入力②)'!$F$3:$AS$24,9,FALSE)&\"\",\"\"))","v":""},{"$f":"IF('生徒(データ入力②)'!$F$3=\"\",\"\",IFERROR(HLOOKUP(J$2,'生徒(データ入力②)'!$F$3:$AS$24,9,FALSE)&\"\",\"\"))","v":""},{"$f":"IF('生徒(データ入力②)'!$F$3=\"\",\"\",IFERROR(HLOOKUP(K$2,'生徒(データ入力②)'!$F$3:$AS$24,9,FALSE)&\"\",\"\"))","v":""},{"$f":"IF('生徒(データ入力②)'!$F$3=\"\",\"\",IFERROR(HLOOKUP(L$2,'生徒(データ入力②)'!$F$3:$AS$24,9,FALSE)&\"\",\"\"))","v":""},{"$f":"IF('生徒(データ入力②)'!$F$3=\"\",\"\",IFERROR(HLOOKUP(M$2,'生徒(データ入力②)'!$F$3:$AS$24,9,FALSE)&\"\",\"\"))","v":""},{"$f":"IF('生徒(データ入力②)'!$F$3=\"\",\"\",IFERROR(HLOOKUP(N$2,'生徒(データ入力②)'!$F$3:$AS$24,9,FALSE)&\"\",\"\"))","v":""},{"$f":"IF('生徒(データ入力②)'!$F$3=\"\",\"\",IFERROR(HLOOKUP(O$2,'生徒(データ入力②)'!$F$3:$AS$24,9,FALSE)&\"\",\"\"))","v":""},{"$f":"IF('生徒(データ入力②)'!$F$3=\"\",\"\",IFERROR(HLOOKUP(P$2,'生徒(データ入力②)'!$F$3:$AS$24,9,FALSE)&\"\",\"\"))","v":""},{"$f":"IF('生徒(データ入力②)'!$F$3=\"\",\"\",IFERROR(HLOOKUP(Q$2,'生徒(データ入力②)'!$F$3:$AS$24,9,FALSE)&\"\",\"\"))","v":""},{"$f":"IF('生徒(データ入力②)'!$F$3=\"\",\"\",IFERROR(HLOOKUP(R$2,'生徒(データ入力②)'!$F$3:$AS$24,9,FALSE)&\"\",\"\"))","v":""},{"$f":"IF('生徒(データ入力②)'!$F$3=\"\",\"\",IFERROR(HLOOKUP(S$2,'生徒(データ入力②)'!$F$3:$AS$24,9,FALSE)&\"\",\"\"))","v":""},{"$f":"IF('生徒(データ入力②)'!$F$3=\"\",\"\",IFERROR(HLOOKUP(T$2,'生徒(データ入力②)'!$F$3:$AS$24,9,FALSE)&\"\",\"\"))","v":""},{"$f":"IF('生徒(データ入力②)'!$F$3=\"\",\"\",IFERROR(HLOOKUP(U$2,'生徒(データ入力②)'!$F$3:$AS$24,9,FALSE)&\"\",\"\"))","v":""},{"$f":"IF('生徒(データ入力②)'!$F$3=\"\",\"\",IFERROR(HLOOKUP(V$2,'生徒(データ入力②)'!$F$3:$AS$24,9,FALSE)&\"\",\"\"))","v":""},{"$f":"IF('生徒(データ入力②)'!$F$3=\"\",\"\",IFERROR(HLOOKUP(W$2,'生徒(データ入力②)'!$F$3:$AS$24,9,FALSE)&\"\",\"\"))","v":""},{"$f":"IF('生徒(データ入力②)'!$F$3=\"\",\"\",IFERROR(HLOOKUP(X$2,'生徒(データ入力②)'!$F$3:$AS$24,9,FALSE)&\"\",\"\"))","v":""},{"$f":"IF('生徒(データ入力②)'!$F$3=\"\",\"\",IFERROR(HLOOKUP(Y$2,'生徒(データ入力②)'!$F$3:$AS$24,9,FALSE)&\"\",\"\"))","v":""},{"$f":"IF('生徒(データ入力②)'!$F$3=\"\",\"\",IFERROR(HLOOKUP(Z$2,'生徒(データ入力②)'!$F$3:$AS$24,9,FALSE)&\"\",\"\"))","v":""},{"$f":"IF('生徒(データ入力②)'!$F$3=\"\",\"\",IFERROR(HLOOKUP(AA$2,'生徒(データ入力②)'!$F$3:$AS$24,9,FALSE)&\"\",\"\"))","v":""},{"$f":"IF('生徒(データ入力②)'!$F$3=\"\",\"\",IFERROR(HLOOKUP(AB$2,'生徒(データ入力②)'!$F$3:$AS$24,9,FALSE)&\"\",\"\"))","v":""},{"$f":"IF('生徒(データ入力②)'!$F$3=\"\",\"\",IFERROR(HLOOKUP(AC$2,'生徒(データ入力②)'!$F$3:$AS$24,9,FALSE)&\"\",\"\"))","v":""},{"$f":"IF('生徒(データ入力②)'!$F$3=\"\",\"\",IFERROR(HLOOKUP(AD$2,'生徒(データ入力②)'!$F$3:$AS$24,9,FALSE)&\"\",\"\"))","v":""},{"$f":"IF('生徒(データ入力②)'!$F$3=\"\",\"\",IFERROR(HLOOKUP(AE$2,'生徒(データ入力②)'!$F$3:$AS$24,9,FALSE)&\"\",\"\"))","v":""},{"$f":"IF('生徒(データ入力②)'!$F$3=\"\",\"\",IFERROR(HLOOKUP(AF$2,'生徒(データ入力②)'!$F$3:$AS$24,9,FALSE)&\"\",\"\"))","v":""},{"$f":"IF('生徒(データ入力②)'!$F$3=\"\",\"\",IFERROR(HLOOKUP(AG$2,'生徒(データ入力②)'!$F$3:$AS$24,9,FALSE)&\"\",\"\"))","v":""},{"$f":"IF('生徒(データ入力②)'!$F$3=\"\",\"\",IFERROR(HLOOKUP(AH$2,'生徒(データ入力②)'!$F$3:$AS$24,9,FALSE)&\"\",\"\"))","v":""},{"$f":"IF('生徒(データ入力②)'!$F$3=\"\",\"\",IFERROR(HLOOKUP(AI$2,'生徒(データ入力②)'!$F$3:$AS$24,9,FALSE)&\"\",\"\"))","v":""},{"$f":"IF('生徒(データ入力②)'!$F$3=\"\",\"\",IFERROR(HLOOKUP(AJ$2,'生徒(データ入力②)'!$F$3:$AS$24,9,FALSE)&\"\",\"\"))","v":""},{"$f":"IF('生徒(データ入力②)'!$F$3=\"\",\"\",IFERROR(HLOOKUP(AK$2,'生徒(データ入力②)'!$F$3:$AS$24,9,FALSE)&\"\",\"\"))","v":""},{"$f":"IF('生徒(データ入力②)'!$F$3=\"\",\"\",IFERROR(HLOOKUP(AL$2,'生徒(データ入力②)'!$F$3:$AS$24,9,FALSE)&\"\",\"\"))","v":""},{"$f":"IF('生徒(データ入力②)'!$F$3=\"\",\"\",IFERROR(HLOOKUP(AM$2,'生徒(データ入力②)'!$F$3:$AS$24,9,FALSE)&\"\",\"\"))","v":""},{"$f":"IF('生徒(データ入力②)'!$F$3=\"\",\"\",IFERROR(HLOOKUP(AN$2,'生徒(データ入力②)'!$F$3:$AS$24,9,FALSE)&\"\",\"\"))","v":""},{"$f":"IF('生徒(データ入力②)'!$F$3=\"\",\"\",IFERROR(HLOOKUP(AO$2,'生徒(データ入力②)'!$F$3:$AS$24,9,FALSE)&\"\",\"\"))","v":""},{"$f":"IF('生徒(データ入力②)'!$F$3=\"\",\"\",IFERROR(HLOOKUP(AP$2,'生徒(データ入力②)'!$F$3:$AS$24,9,FALSE)&\"\",\"\"))","v":""},{"$f":"IF('生徒(データ入力②)'!$F$3=\"\",\"\",IFERROR(HLOOKUP(AQ$2,'生徒(データ入力②)'!$F$3:$AS$24,9,FALSE)&\"\",\"\"))","v":""},{"$f":"IF('生徒(データ入力②)'!$F$3=\"\",\"\",IFERROR(HLOOKUP(AR$2,'生徒(データ入力②)'!$F$3:$AS$24,9,FALSE)&\"\",\"\"))","v":""},{"$f":"IF('生徒(データ入力②)'!$F$3=\"\",\"\",IFERROR(HLOOKUP(AS$2,'生徒(データ入力②)'!$F$3:$AS$24,9,FALSE)&\"\",\"\"))","v":""},{"$f":"IF('生徒(データ入力②)'!$F$3=\"\",\"\",IFERROR(HLOOKUP(AT$2,'生徒(データ入力②)'!$F$3:$AS$24,9,FALSE)&\"\",\"\"))","v":""},{"$f":"IF('生徒(データ入力②)'!$F$3=\"\",\"\",IFERROR(HLOOKUP(AU$2,'生徒(データ入力②)'!$F$3:$AS$24,9,FALSE)&\"\",\"\"))","v":""},{"$f":"IF('生徒(データ入力②)'!$F$3=\"\",\"\",IFERROR(HLOOKUP(AV$2,'生徒(データ入力②)'!$F$3:$AS$24,9,FALSE)&\"\",\"\"))","v":""},{"$f":"IF('生徒(データ入力②)'!$F$3=\"\",\"\",IFERROR(HLOOKUP(AW$2,'生徒(データ入力②)'!$F$3:$BC$24,9,FALSE)&\"\",\"\"))","v":""},{"$f":"IF('生徒(データ入力②)'!$F$3=\"\",\"\",IFERROR(HLOOKUP(AX$2,'生徒(データ入力②)'!$F$3:$BC$24,9,FALSE)&\"\",\"\"))","v":""},{"$f":"IF('生徒(データ入力②)'!$F$3=\"\",\"\",IFERROR(HLOOKUP(AY$2,'生徒(データ入力②)'!$F$3:$BC$24,9,FALSE)&\"\",\"\"))","v":""},{"$f":"IF('生徒(データ入力②)'!$F$3=\"\",\"\",IFERROR(HLOOKUP(AZ$2,'生徒(データ入力②)'!$F$3:$BC$24,9,FALSE)&\"\",\"\"))","v":""},{"$f":"IF('生徒(データ入力②)'!$F$3=\"\",\"\",IFERROR(HLOOKUP(BA$2,'生徒(データ入力②)'!$F$3:$BC$24,9,FALSE)&\"\",\"\"))","v":""},{"$f":"IF('生徒(データ入力②)'!$F$3=\"\",\"\",IFERROR(HLOOKUP(BB$2,'生徒(データ入力②)'!$F$3:$BC$24,9,FALSE)&\"\",\"\"))","v":""},{"$f":"IF('生徒(データ入力②)'!$F$3=\"\",\"\",IFERROR(HLOOKUP(BC$2,'生徒(データ入力②)'!$F$3:$BC$24,9,FALSE)&\"\",\"\"))","v":""},{"$f":"IF('生徒(データ入力②)'!$F$3=\"\",\"\",IFERROR(HLOOKUP(BD$2,'生徒(データ入力②)'!$F$3:$BC$24,9,FALSE)&\"\",\"\"))","v":""},{"$f":"IF('生徒(データ入力②)'!$F$3=\"\",\"\",IFERROR(HLOOKUP(BE$2,'生徒(データ入力②)'!$F$3:$BC$24,9,FALSE)&\"\",\"\"))","v":""},{"$f":"IF('生徒(データ入力②)'!$F$3=\"\",\"\",IFERROR(HLOOKUP(BF$2,'生徒(データ入力②)'!$F$3:$BC$24,9,FALSE)&\"\",\"\"))","v":""},0,{"$error":"#DIV/0!"},{"$f":"ROUND(BH23-'学級(一覧表①)'!BH23,1)","v":{"$error":"#DIV/0!"}},0,{"$error":"#DIV/0!"},{"$f":"ROUND(BK23-'学級(一覧表①)'!BK23,1)","v":{"$error":"#DIV/0!"}},0,{"$error":"#DIV/0!"},{"$f":"ROUND(BN23-'学級(一覧表①)'!BN23,1)","v":{"$error":"#DIV/0!"}},0,{"$error":"#DIV/0!"},{"$f":"ROUND(BQ23-'学級(一覧表①)'!BQ23,1)","v":{"$error":"#DIV/0!"}},null,null,0,{"$error":"#DIV/0!"},{"$error":"#DIV/0!"},0,{"$error":"#DIV/0!"},{"$error":"#DIV/0!"}]

{"sheet":"教員(一覧表①)","index":15,"n_rows":23,"n_cols":100,"rows_kept":23,"cut":false,"hidden":false,"merged":[[1,79,2,79],[18,1,22,1],[1,68,2,68],[1,69,2,69],[1,71,2,71],[1,72,2,72],[1,70,2,70],[1,77,2,77],[1,78,2,78],[3,1,7,1],[8,1,12,1],[13,1,17,1],[1,74,2,74],[1,75,2,75],[1,73,2,73],[1,76,2,76]]}
[null,null,null,null,null,null,null,null,1,2,3,4,5,6,7,8,9,10,11,12,13,14,15,16,17,18,19,20,21,22,23,24,25,26,27,28,29,30,31,32,33,34,35,36,37,38,39,40,41,42,43,44,45,46,47,48,49,50,51,52,53,54,55,56,57,58,59,60]
[null,null,null,4,3,2,1,"NO",{"$f":"IF('教員(データ入力①)'!F3=\"\",\"\",'教員(データ入力①)'!F3)","v":""},{"$f":"IF('教員(データ入力①)'!G3=\"\",\"\",'教員(データ入力①)'!G3)","v":""},{"$f":"IF('教員(データ入力①)'!H3=\"\",\"\",'教員(データ入力①)'!H3)","v":""},{"$f":"IF('教員(データ入力①)'!I3=\"\",\"\",'教員(データ入力①)'!I3)","v":""},{"$f":"IF('教員(データ入力①)'!J3=\"\",\"\",'教員(データ入力①)'!J3)","v":""},{"$f":"IF('教員(データ入力①)'!K3=\"\",\"\",'教員(データ入力①)'!K3)","v":""},{"$f":"IF('教員(データ入力①)'!L3=\"\",\"\",'教員(データ入力①)'!L3)","v":""},{"$f":"IF('教員(データ入力①)'!M3=\"\",\"\",'教員(データ入力①)'!M3)","v":""},{"$f":"IF('教員(データ入力①)'!N3=\"\",\"\",'教員(データ入力①)'!N3)","v":""},{"$f":"IF('教員(データ入力①)'!O3=\"\",\"\",'教員(データ入力①)'!O3)","v":""},{"$f":"IF('教員(データ入力①)'!P3=\"\",\"\",'教員(データ入力①)'!P3)","v":""},{"$f":"IF('教員(データ入力①)'!Q3=\"\",\"\",'教員(データ入力①)'!Q3)","v":""},{"$f":"IF('教員(データ入力①)'!R3=\"\",\"\",'教員(データ入力①)'!R3)","v":""},{"$f":"IF('教員(データ入力①)'!S3=\"\",\"\",'教員(データ入力①)'!S3)","v":""},{"$f":"IF('教員(データ入力①)'!T3=\"\",\"\",'教員(データ入力①)'!T3)","v":""},{"$f":"IF('教員(データ入力①)'!U3=\"\",\"\",'教員(データ入力①)'!U3)","v":""},{"$f":"IF('教員(データ入力①)'!V3=\"\",\"\",'教員(データ入力①)'!V3)","v":""},{"$f":"IF('教員(データ入力①)'!W3=\"\",\"\",'教員(データ入力①)'!W3)","v":""},{"$f":"IF('教員(データ入力①)'!X3=\"\",\"\",'教員(データ入力①)'!X3)","v":""},{"$f":"IF('教員(データ入力①)'!Y3=\"\",\"\",'教員(データ入力①)'!Y3)","v":""},{"$f":"IF('教員(データ入力①)'!Z3=\"\",\"\",'教員(データ入力①)'!Z3)","v":""},{"$f":"IF('教員(データ入力①)'!AA3=\"\",\"\",'教員(データ入力①)'!AA3)","v":""},{"$f":"IF('教員(データ入力①)'!AB3=\"\",\"\",'教員(データ入力①)'!AB3)","v":""},{"$f":"IF('教員(データ入力①)'!AC3=\"\",\"\",'教員(データ入力①)'!AC3)","v":""},{"$f":"IF('教員(データ入力①)'!AD3=\"\",\"\",'教員(データ入力①)'!AD3)","v":""},{"$f":"IF('教員(データ入力①)'!AE3=\"\",\"\",'教員(データ入力①)'!AE3)","v":""},{"$f":"IF('教員(データ入力①)'!AF3=\"\",\"\",'教員(データ入力①)'!AF3)","v":""},{"$f":"IF('教員(データ入力①)'!AG3=\"\",\"\",'教員(データ入力①)'!AG3)","v":""},{"$f":"IF('教員(データ入力①)'!AH3=\"\",\"\",'教員(データ入力①)'!AH3)","v":""},{"$f":"IF('教員(データ入力①)'!AI3=\"\",\"\",'教員(データ入力①)'!AI3)","v":""},{"$f":"IF('教員(データ入力①)'!AJ3=\"\",\"\",'教員(データ入力①)'!AJ3)","v":""},{"$f":"IF('教員(データ入力①)'!AK3=\"\",\"\",'教員(データ入力①)'!AK3)","v":""},{"$f":"IF('教員(データ入力①)'!AL3=\"\",\"\",'教員(データ入力①)'!AL3)","v":""},{"$f":"IF('教員(データ入力①)'!AM3=\"\",\"\",'教員(データ入力①)'!AM3)","v":""},{"$f":"IF('教員(データ入力①)'!AN3=\"\",\"\",'教員(データ入力①)'!AN3)","v":""},{"$f":"IF('教員(データ入力①)'!AO3=\"\",\"\",'教員(データ入力①)'!AO3)","v":""},{"$f":"IF('教員(データ入力①)'!AP3=\"\",\"\",'教員(データ入力①)'!AP3)","v":""},{"$f":"IF('教員(データ入力①)'!AQ3=\"\",\"\",'教員(データ入力①)'!AQ3)","v":""},{"$f":"IF('教員(データ入力①)'!AR3=\"\",\"\",'教員(データ入力①)'!AR3)","v":""},{"$f":"IF('教員(データ入力①)'!AS3=\"\",\"\",'教員(データ入力①)'!AS3)","v":""},{"$f":"IF('教員(データ入力①)'!AT3=\"\",\"\",'教員(データ入力①)'!AT3)","v":""},{"$f":"IF('教員(データ入力①)'!AU3=\"\",\"\",'教員(データ入力①)'!AU3)","v":""},{"$f":"IF('教員(データ入力①)'!AV3=\"\",\"\",'教員(データ入力①)'!AV3)","v":""},{"$f":"IF('教員(データ入力①)'!AW3=\"\",\"\",'教員(データ入力①)'!AW3)","v":""},{"$f":"IF('教員(データ入力①)'!AX3=\"\",\"\",'教員(データ入力①)'!AX3)","v":""},{"$f":"IF('教員(データ入力①)'!AY3=\"\",\"\",'教員(データ入力①)'!AY3)","v":""},{"$f":"IF('教員(データ入力①)'!AZ3=\"\",\"\",'教員(データ入力①)'!AZ3)","v":""},{"$f":"IF('教員(データ入力①)'!BA3=\"\",\"\",'教員(データ入力①)'!BA3)","v":""},{"$f":"IF('教員(データ入力①)'!BB3=\"\",\"\",'教員(データ入力①)'!BB3)","v":""},{"$f":"IF('教員(データ入力①)'!BC3=\"\",\"\",'教員(データ入力①)'!BC3)","v":""},{"$f":"IF('教員(データ入力①)'!BD3=\"\",\"\",'教員(データ入力①)'!BD3)","v":""},{"$f":"IF('教員(データ入力①)'!BE3=\"\",\"\",'教員(データ入力①)'!BE3)","v":""},{"$f":"IF('教員(データ入力①)'!BF3=\"\",\"\",'教員(データ入力①)'!BF3)","v":""},{"$f":"IF('教員(データ入力①)'!BG3=\"\",\"\",'教員(データ入力①)'!BG3)","v":""},{"$f":"IF('教員(データ入力①)'!BH3=\"\",\"\",'教員(データ入力①)'!BH3)","v":""},{"$f":"IF('教員(データ入力①)'!BI3=\"\",\"\",'教員(データ入力①)'!BI3)","v":""},{"$f":"IF('教員(データ入力①)'!BJ3=\"\",\"\",'教員(データ入力①)'!BJ3)","v":""},{"$f":"IF('教員(データ入力①)'!BK3=\"\",\"\",'教員(データ入力①)'!BK3)","v":""},{"$f":"IF('教員(データ入力①)'!BL3=\"\",\"\",'教員(データ入力①)'!BL3)","v":""},{"$f":"IF('教員(データ入力①)'!BM3=\"\",\"\",'教員(データ入力①)'!BM3)","v":""},"４と答えた人数","割合","比較増減","３と答えた人数","割合","比較増減","２と答えた人数","割合","比較増減","１と答えた人数","割合","比較増減"]
[null,"第1回目","教員","%\n（人数）","%\n（人数）","%\n（人数）","%\n（人数）",null,{"$f":"IF('教員(データ入力①)'!F4=\"\",\"\",'教員(データ入力①)'!F4)","v":""},{"$f":"IF('教員(データ入力①)'!G4=\"\",\"\",'教員(データ入力①)'!G4)","v":""},{"$f":"IF('教員(データ入力①)'!H4=\"\",\"\",'教員(データ入力①)'!H4)","v":""},{"$f":"IF('教員(データ入力①)'!I4=\"\",\"\",'教員(データ入力①)'!I4)","v":""},{"$f":"IF('教員(データ入力①)'!J4=\"\",\"\",'教員(データ入力①)'!J4)","v":""},{"$f":"IF('教員(データ入力①)'!K4=\"\",\"\",'教員(データ入力①)'!K4)","v":""},{"$f":"IF('教員(データ入力①)'!L4=\"\",\"\",'教員(データ入力①)'!L4)","v":""},{"$f":"IF('教員(データ入力①)'!M4=\"\",\"\",'教員(データ入力①)'!M4)","v":""},{"$f":"IF('教員(データ入力①)'!N4=\"\",\"\",'教員(データ入力①)'!N4)","v":""},{"$f":"IF('教員(データ入力①)'!O4=\"\",\"\",'教員(データ入力①)'!O4)","v":""},{"$f":"IF('教員(データ入力①)'!P4=\"\",\"\",'教員(データ入力①)'!P4)","v":""},{"$f":"IF('教員(データ入力①)'!Q4=\"\",\"\",'教員(データ入力①)'!Q4)","v":""},{"$f":"IF('教員(データ入力①)'!R4=\"\",\"\",'教員(データ入力①)'!R4)","v":""},{"$f":"IF('教員(データ入力①)'!S4=\"\",\"\",'教員(データ入力①)'!S4)","v":""},{"$f":"IF('教員(データ入力①)'!T4=\"\",\"\",'教員(データ入力①)'!T4)","v":""},{"$f":"IF('教員(データ入力①)'!U4=\"\",\"\",'教員(データ入力①)'!U4)","v":""},{"$f":"IF('教員(データ入力①)'!V4=\"\",\"\",'教員(データ入力①)'!V4)","v":""},{"$f":"IF('教員(データ入力①)'!W4=\"\",\"\",'教員(データ入力①)'!W4)","v":""},{"$f":"IF('教員(データ入力①)'!X4=\"\",\"\",'教員(データ入力①)'!X4)","v":""},{"$f":"IF('教員(データ入力①)'!Y4=\"\",\"\",'教員(データ入力①)'!Y4)","v":""},{"$f":"IF('教員(データ入力①)'!Z4=\"\",\"\",'教員(データ入力①)'!Z4)","v":""},{"$f":"IF('教員(データ入力①)'!AA4=\"\",\"\",'教員(データ入力①)'!AA4)","v":""},{"$f":"IF('教員(データ入力①)'!AB4=\"\",\"\",'教員(データ入力①)'!AB4)","v":""},{"$f":"IF('教員(データ入力①)'!AC4=\"\",\"\",'教員(データ入力①)'!AC4)","v":""},{"$f":"IF('教員(データ入力①)'!AD4=\"\",\"\",'教員(データ入力①)'!AD4)","v":""},{"$f":"IF('教員(データ入力①)'!AE4=\"\",\"\",'教員(データ入力①)'!AE4)","v":""},{"$f":"IF('教員(データ入力①)'!AF4=\"\",\"\",'教員(データ入力①)'!AF4)","v":""},{"$f":"IF('教員(データ入力①)'!AG4=\"\",\"\",'教員(データ入力①)'!AG4)","v":""},{"$f":"IF('教員(データ入力①)'!AH4=\"\",\"\",'教員(データ入力①)'!AH4)","v":""},{"$f":"IF('教員(データ入力①)'!AI4=\"\",\"\",'教員(データ入力①)'!AI4)","v":""},{"$f":"IF('教員(データ入力①)'!AJ4=\"\",\"\",'教員(データ入力①)'!AJ4)","v":""},{"$f":"IF('教員(データ入力①)'!AK4=\"\",\"\",'教員(データ入力①)'!AK4)","v":""},{"$f":"IF('教員(データ入力①)'!AL4=\"\",\"\",'教員(データ入力①)'!AL4)","v":""},{"$f":"IF('教員(データ入力①)'!AM4=\"\",\"\",'教員(データ入力①)'!AM4)","v":""},{"$f":"IF('教員(データ入力①)'!AN4=\"\",\"\",'教員(データ入力①)'!AN4)","v":""},{"$f":"IF('教員(データ入力①)'!AO4=\"\",\"\",'教員(データ入力①)'!AO4)","v":""},{"$f":"IF('教員(データ入力①)'!AP4=\"\",\"\",'教員(データ入力①)'!AP4)","v":""},{"$f":"IF('教員(データ入力①)'!AQ4=\"\",\"\",'教員(データ入力①)'!AQ4)","v":""},{"$f":"IF('教員(データ入力①)'!AR4=\"\",\"\",'教員(データ入力①)'!AR4)","v":""},{"$f":"IF('教員(データ入力①)'!AS4=\"\",\"\",'教員(データ入力①)'!AS4)","v":""},{"$f":"IF('教員(データ入力①)'!AT4=\"\",\"\",'教員(データ入力①)'!AT4)","v":""},{"$f":"IF('教員(データ入力①)'!AU4=\"\",\"\",'教員(データ入力①)'!AU4)","v":""},{"$f":"IF('教員(データ入力①)'!AV4=\"\",\"\",'教員(データ入力①)'!AV4)","v":""},{"$f":"IF('教員(データ入力①)'!AW4=\"\",\"\",'教員(データ入力①)'!AW4)","v":""},{"$f":"IF('教員(データ入力①)'!AX4=\"\",\"\",'教員(データ入力①)'!AX4)","v":""},{"$f":"IF('教員(データ入力①)'!AY4=\"\",\"\",'教員(データ入力①)'!AY4)","v":""},{"$f":"IF('教員(データ入力①)'!AZ4=\"\",\"\",'教員(データ入力①)'!AZ4)","v":""},{"$f":"IF('教員(データ入力①)'!BA4=\"\",\"\",'教員(データ入力①)'!BA4)","v":""},{"$f":"IF('教員(データ入力①)'!BB4=\"\",\"\",'教員(データ入力①)'!BB4)","v":""},{"$f":"IF('教員(データ入力①)'!BC4=\"\",\"\",'教員(データ入力①)'!BC4)","v":""},{"$f":"IF('教員(データ入力①)'!BD4=\"\",\"\",'教員(データ入力①)'!BD4)","v":""},{"$f":"IF('教員(データ入力①)'!BE4=\"\",\"\",'教員(データ入力①)'!BE4)","v":""},{"$f":"IF('教員(データ入力①)'!BF4=\"\",\"\",'教員(データ入力①)'!BF4)","v":""},{"$f":"IF('教員(データ入力①)'!BG4=\"\",\"\",'教員(データ入力①)'!BG4)","v":""},{"$f":"IF('教員(データ入力①)'!BH4=\"\",\"\",'教員(データ入力①)'!BH4)","v":""},{"$f":"IF('教員(データ入力①)'!BI4=\"\",\"\",'教員(データ入力①)'!BI4)","v":""},{"$f":"IF('教員(データ入力①)'!BJ4=\"\",\"\",'教員(データ入力①)'!BJ4)","v":""},{"$f":"IF('教員(データ入力①)'!BK4=\"\",\"\",'教員(データ入力①)'!BK4)","v":""},{"$f":"IF('教員(データ入力①)'!BL4=\"\",\"\",'教員(データ入力①)'!BL4)","v":""},{"$f":"IF('教員(データ入力①)'!BM4=\"\",\"\",'教員(データ入力①)'!BM4)","v":""},null,null,null,null,null,null,null,null,null,null,null,null,null,"肯定人数","割合","否定人数","割合"]
[null,"教師や仲間から学級の一員として認められているという安心感",{"$f":"'教員(個人)'!B6","v":"私は，毎日多くの生徒と会話（日記や日誌なども含む）をするように心掛けている。"},{"$f":"BR4&\"%\"&\"（\"&BQ4&\"人）\"","v":{"$error":"#DIV/0!"}},{"$f":"BU4&\"%\"&\"（\"&BT4&\"人\"&\"）\"","v":{"$error":"#DIV/0!"}},{"$f":"BX4&\"%\"&\"（\"&BW4&\"人\"&\"）\"","v":{"$error":"#DIV/0!"}},{"$f":"CA4&\"%\"&\"（\"&BZ4&\"人\"&\"）\"","v":{"$error":"#DIV/0!"}},null,{"$f":"IF('教員(データ入力①)'!F19=\"\",\"\",'教員(データ入力①)'!F19)","v":""},{"$f":"IF('教員(データ入力①)'!G19=\"\",\"\",'教員(データ入力①)'!G19)","v":""},{"$f":"IF('教員(データ入力①)'!H19=\"\",\"\",'教員(データ入力①)'!H19)","v":""},{"$f":"IF('教員(データ入力①)'!I19=\"\",\"\",'教員(データ入力①)'!I19)","v":""},{"$f":"IF('教員(データ入力①)'!J19=\"\",\"\",'教員(データ入力①)'!J19)","v":""},{"$f":"IF('教員(データ入力①)'!K19=\"\",\"\",'教員(データ入力①)'!K19)","v":""},{"$f":"IF('教員(データ入力①)'!L19=\"\",\"\",'教員(データ入力①)'!L19)","v":""},{"$f":"IF('教員(データ入力①)'!M19=\"\",\"\",'教員(データ入力①)'!M19)","v":""},{"$f":"IF('教員(データ入力①)'!N19=\"\",\"\",'教員(データ入力①)'!N19)","v":""},{"$f":"IF('教員(データ入力①)'!O19=\"\",\"\",'教員(データ入力①)'!O19)","v":""},{"$f":"IF('教員(データ入力①)'!P19=\"\",\"\",'教員(データ入力①)'!P19)","v":""},{"$f":"IF('教員(データ入力①)'!Q19=\"\",\"\",'教員(データ入力①)'!Q19)","v":""},{"$f":"IF('教員(データ入力①)'!R19=\"\",\"\",'教員(データ入力①)'!R19)","v":""},{"$f":"IF('教員(データ入力①)'!S19=\"\",\"\",'教員(データ入力①)'!S19)","v":""},{"$f":"IF('教員(データ入力①)'!T19=\"\",\"\",'教員(データ入力①)'!T19)","v":""},{"$f":"IF('教員(データ入力①)'!U19=\"\",\"\",'教員(データ入力①)'!U19)","v":""},{"$f":"IF('教員(データ入力①)'!V19=\"\",\"\",'教員(データ入力①)'!V19)","v":""},{"$f":"IF('教員(データ入力①)'!W19=\"\",\"\",'教員(データ入力①)'!W19)","v":""},{"$f":"IF('教員(データ入力①)'!X19=\"\",\"\",'教員(データ入力①)'!X19)","v":""},{"$f":"IF('教員(データ入力①)'!Y19=\"\",\"\",'教員(データ入力①)'!Y19)","v":""},{"$f":"IF('教員(データ入力①)'!Z19=\"\",\"\",'教員(データ入力①)'!Z19)","v":""},{"$f":"IF('教員(データ入力①)'!AA19=\"\",\"\",'教員(データ入力①)'!AA19)","v":""},{"$f":"IF('教員(データ入力①)'!AB19=\"\",\"\",'教員(データ入力①)'!AB19)","v":""},{"$f":"IF('教員(データ入力①)'!AC19=\"\",\"\",'教員(データ入力①)'!AC19)","v":""},{"$f":"IF('教員(データ入力①)'!AD19=\"\",\"\",'教員(データ入力①)'!AD19)","v":""},{"$f":"IF('教員(データ入力①)'!AE19=\"\",\"\",'教員(データ入力①)'!AE19)","v":""},{"$f":"IF('教員(データ入力①)'!AF19=\"\",\"\",'教員(データ入力①)'!AF19)","v":""},{"$f":"IF('教員(データ入力①)'!AG19=\"\",\"\",'教員(データ入力①)'!AG19)","v":""},{"$f":"IF('教員(データ入力①)'!AH19=\"\",\"\",'教員(データ入力①)'!AH19)","v":""},{"$f":"IF('教員(データ入力①)'!AI19=\"\",\"\",'教員(データ入力①)'!AI19)","v":""},{"$f":"IF('教員(データ入力①)'!AJ19=\"\",\"\",'教員(データ入力①)'!AJ19)","v":""},{"$f":"IF('教員(データ入力①)'!AK19=\"\",\"\",'教員(データ入力①)'!AK19)","v":""},{"$f":"IF('教員(データ入力①)'!AL19=\"\",\"\",'教員(データ入力①)'!AL19)","v":""},{"$f":"IF('教員(データ入力①)'!AM19=\"\",\"\",'教員(データ入力①)'!AM19)","v":""},{"$f":"IF('教員(データ入力①)'!AN19=\"\",\"\",'教員(データ入力①)'!AN19)","v":""},{"$f":"IF('教員(データ入力①)'!AO19=\"\",\"\",'教員(データ入力①)'!AO19)","v":""},{"$f":"IF('教員(データ入力①)'!AP19=\"\",\"\",'教員(データ入力①)'!AP19)","v":""},{"$f":"IF('教員(データ入力①)'!AQ19=\"\",\"\",'教員(データ入力①)'!AQ19)","v":""},{"$f":"IF('教員(データ入力①)'!AR19=\"\",\"\",'教員(データ入力①)'!AR19)","v":""},{"$f":"IF('教員(データ入力①)'!AS19=\"\",\"\",'教員(データ入力①)'!AS19)","v":""},{"$f":"IF('教員(データ入力①)'!AT19=\"\",\"\",'教員(データ入力①)'!AT19)","v":""},{"$f":"IF('教員(データ入力①)'!AU19=\"\",\"\",'教員(データ入力①)'!AU19)","v":""},{"$f":"IF('教員(データ入力①)'!AV19=\"\",\"\",'教員(データ入力①)'!AV19)","v":""},{"$f":"IF('教員(データ入力①)'!AW19=\"\",\"\",'教員(データ入力①)'!AW19)","v":""},{"$f":"IF('教員(データ入力①)'!AX19=\"\",\"\",'教員(データ入力①)'!AX19)","v":""},{"$f":"IF('教員(データ入力①)'!AY19=\"\",\"\",'教員(データ入力①)'!AY19)","v":""},{"$f":"IF('教員(データ入力①)'!AZ19=\"\",\"\",'教員(データ入力①)'!AZ19)","v":""},{"$f":"IF('教員(データ入力①)'!BA19=\"\",\"\",'教員(データ入力①)'!BA19)","v":""},{"$f":"IF('教員(データ入力①)'!BB19=\"\",\"\",'教員(データ入力①)'!BB19)","v":""},{"$f":"IF('教員(データ入力①)'!BC19=\"\",\"\",'教員(データ入力①)'!BC19)","v":""},{"$f":"IF('教員(データ入力①)'!BD19=\"\",\"\",'教員(データ入力①)'!BD19)","v":""},{"$f":"IF('教員(データ入力①)'!BE19=\"\",\"\",'教員(データ入力①)'!BE19)","v":""},{"$f":"IF('教員(データ入力①)'!BF19=\"\",\"\",'教員(データ入力①)'!BF19)","v":""},{"$f":"IF('教員(データ入力①)'!BG19=\"\",\"\",'教員(データ入力①)'!BG19)","v":""},{"$f":"IF('教員(データ入力①)'!BH19=\"\",\"\",'教員(データ入力①)'!BH19)","v":""},{"$f":"IF('教員(データ入力①)'!BI19=\"\",\"\",'教員(データ入力①)'!BI19)","v":""},{"$f":"IF('教員(データ入力①)'!BJ19=\"\",\"\",'教員(データ入力①)'!BJ19)","v":""},{"$f":"IF('教員(データ入力①)'!BK19=\"\",\"\",'教員(データ入力①)'!BK19)","v":""},{"$f":"IF('教員(データ入力①)'!BL19=\"\",\"\",'教員(データ入力①)'!BL19)","v":""},{"$f":"IF('教員(データ入力①)'!BM19=\"\",\"\",'教員(データ入力①)'!BM19)","v":""},{"$f":"COUNTIF(I4:BP4,\"4\")","v":0},{"$f":"ROUND((BQ4/(60-COUNTBLANK(I4:BP4)))*100,1)","v":{"$error":"#DIV/0!"}},null,{"$f":"COUNTIF(I4:BP4,\"3\")","v":0},{"$f":"ROUND(BT4/(60-COUNTBLANK(I4:BP4))*100,1)","v":{"$error":"#DIV/0!"}},null,{"$f":"COUNTIF(I4:BP4,\"2\")","v":0},{"$f":"ROUND(BW4/(60-COUNTBLANK(I4:BP4))*100,1)","v":{"$error":"#DIV/0!"}},null,{"$f":"COUNTIF(I4:BP4,\"1\")","v":0},{"$f":"ROUND(BZ4/(60-COUNTBLANK(I4:BP4))*100,1)","v":{"$error":"#DIV/0!"}},null,null,{"$f":"BQ4+BT4","v":0},{"$f":"BR4+BU4","v":{"$error":"#DIV/0!"}},{"$f":"BW4+BZ4","v":0},{"$f":"BX4+CA4","v":{"$error":"#DIV/0!"}},null,"人数",null,null,null,null,"割合",null,null,null,null,"肯定値と否定値"]
[null,null,{"$f":"'教員(個人)'!B7","v":"私は，どの生徒にも役割を与え，その活躍を認めている。"},{"$error":"#DIV/0!"},{"$error":"#DIV/0!"},{"$error":"#DIV/0!"},{"$error":"#DIV/0!"},null,{"$f":"IF('教員(データ入力①)'!F22=\"\",\"\",'教員(データ入力①)'!F22)","v":""},{"$f":"IF('教員(データ入力①)'!G22=\"\",\"\",'教員(データ入力①)'!G22)","v":""},{"$f":"IF('教員(データ入力①)'!H22=\"\",\"\",'教員(データ入力①)'!H22)","v":""},{"$f":"IF('教員(データ入力①)'!I22=\"\",\"\",'教員(データ入力①)'!I22)","v":""},{"$f":"IF('教員(データ入力①)'!J22=\"\",\"\",'教員(データ入力①)'!J22)","v":""},{"$f":"IF('教員(データ入力①)'!K22=\"\",\"\",'教員(データ入力①)'!K22)","v":""},{"$f":"IF('教員(データ入力①)'!L22=\"\",\"\",'教員(データ入力①)'!L22)","v":""},{"$f":"IF('教員(データ入力①)'!M22=\"\",\"\",'教員(データ入力①)'!M22)","v":""},{"$f":"IF('教員(データ入力①)'!N22=\"\",\"\",'教員(データ入力①)'!N22)","v":""},{"$f":"IF('教員(データ入力①)'!O22=\"\",\"\",'教員(データ入力①)'!O22)","v":""},{"$f":"IF('教員(データ入力①)'!P22=\"\",\"\",'教員(データ入力①)'!P22)","v":""},{"$f":"IF('教員(データ入力①)'!Q22=\"\",\"\",'教員(データ入力①)'!Q22)","v":""},{"$f":"IF('教員(データ入力①)'!R22=\"\",\"\",'教員(データ入力①)'!R22)","v":""},{"$f":"IF('教員(データ入力①)'!S22=\"\",\"\",'教員(データ入力①)'!S22)","v":""},{"$f":"IF('教員(データ入力①)'!T22=\"\",\"\",'教員(データ入力①)'!T22)","v":""},{"$f":"IF('教員(データ入力①)'!U22=\"\",\"\",'教員(データ入力①)'!U22)","v":""},{"$f":"IF('教員(データ入力①)'!V22=\"\",\"\",'教員(データ入力①)'!V22)","v":""},{"$f":"IF('教員(データ入力①)'!W22=\"\",\"\",'教員(データ入力①)'!W22)","v":""},{"$f":"IF('教員(データ入力①)'!X22=\"\",\"\",'教員(データ入力①)'!X22)","v":""},{"$f":"IF('教員(データ入力①)'!Y22=\"\",\"\",'教員(データ入力①)'!Y22)","v":""},{"$f":"IF('教員(データ入力①)'!Z22=\"\",\"\",'教員(データ入力①)'!Z22)","v":""},{"$f":"IF('教員(データ入力①)'!AA22=\"\",\"\",'教員(データ入力①)'!AA22)","v":""},{"$f":"IF('教員(データ入力①)'!AB22=\"\",\"\",'教員(データ入力①)'!AB22)","v":""},{"$f":"IF('教員(データ入力①)'!AC22=\"\",\"\",'教員(データ入力①)'!AC22)","v":""},{"$f":"IF('教員(データ入力①)'!AD22=\"\",\"\",'教員(データ入力①)'!AD22)","v":""},{"$f":"IF('教員(データ入力①)'!AE22=\"\",\"\",'教員(データ入力①)'!AE22)","v":""},{"$f":"IF('教員(データ入力①)'!AF22=\"\",\"\",'教員(データ入力①)'!AF22)","v":""},{"$f":"IF('教員(データ入力①)'!AG22=\"\",\"\",'教員(データ入力①)'!AG22)","v":""},{"$f":"IF('教員(データ入力①)'!AH22=\"\",\"\",'教員(データ入力①)'!AH22)","v":""},{"$f":"IF('教員(データ入力①)'!AI22=\"\",\"\",'教員(データ入力①)'!AI22)","v":""},{"$f":"IF('教員(データ入力①)'!AJ22=\"\",\"\",'教員(データ入力①)'!AJ22)","v":""},{"$f":"IF('教員(データ入力①)'!AK22=\"\",\"\",'教員(データ入力①)'!AK22)","v":""},{"$f":"IF('教員(データ入力①)'!AL22=\"\",\"\",'教員(データ入力①)'!AL22)","v":""},{"$f":"IF('教員(データ入力①)'!AM22=\"\",\"\",'教員(データ入力①)'!AM22)","v":""},{"$f":"IF('教員(データ入力①)'!AN22=\"\",\"\",'教員(データ入力①)'!AN22)","v":""},{"$f":"IF('教員(データ入力①)'!AO22=\"\",\"\",'教員(データ入力①)'!AO22)","v":""},{"$f":"IF('教員(データ入力①)'!AP22=\"\",\"\",'教員(データ入力①)'!AP22)","v":""},{"$f":"IF('教員(データ入力①)'!AQ22=\"\",\"\",'教員(データ入力①)'!AQ22)","v":""},{"$f":"IF('教員(データ入力①)'!AR22=\"\",\"\",'教員(データ入力①)'!AR22)","v":""},{"$f":"IF('教員(データ入力①)'!AS22=\"\",\"\",'教員(データ入力①)'!AS22)","v":""},{"$f":"IF('教員(データ入力①)'!AT22=\"\",\"\",'教員(データ入力①)'!AT22)","v":""},{"$f":"IF('教員(データ入力①)'!AU22=\"\",\"\",'教員(データ入力①)'!AU22)","v":""},{"$f":"IF('教員(データ入力①)'!AV22=\"\",\"\",'教員(データ入力①)'!AV22)","v":""},{"$f":"IF('教員(データ入力①)'!AW22=\"\",\"\",'教員(データ入力①)'!AW22)","v":""},{"$f":"IF('教員(データ入力①)'!AX22=\"\",\"\",'教員(データ入力①)'!AX22)","v":""},{"$f":"IF('教員(データ入力①)'!AY22=\"\",\"\",'教員(データ入力①)'!AY22)","v":""},{"$f":"IF('教員(データ入力①)'!AZ22=\"\",\"\",'教員(データ入力①)'!AZ22)","v":""},{"$f":"IF('教員(データ入力①)'!BA22=\"\",\"\",'教員(データ入力①)'!BA22)","v":""},{"$f":"IF('教員(データ入力①)'!BB22=\"\",\"\",'教員(データ入力①)'!BB22)","v":""},{"$f":"IF('教員(データ入力①)'!BC22=\"\",\"\",'教員(データ入力①)'!BC22)","v":""},{"$f":"IF('教員(データ入力①)'!BD22=\"\",\"\",'教員(データ入力①)'!BD22)","v":""},{"$f":"IF('教員(データ入力①)'!BE22=\"\",\"\",'教員(データ入力①)'!BE22)","v":""},{"$f":"IF('教員(データ入力①)'!BF22=\"\",\"\",'教員(データ入力①)'!BF22)","v":""},{"$f":"IF('教員(データ入力①)'!BG22=\"\",\"\",'教員(データ入力①)'!BG22)","v":""},{"$f":"IF('教員(データ入力①)'!BH22=\"\",\"\",'教員(データ入力①)'!BH22)","v":""},{"$f":"IF('教員(データ入力①)'!BI22=\"\",\"\",'教員(データ入力①)'!BI22)","v":""},{"$f":"IF('教員(データ入力①)'!BJ22=\"\",\"\",'教員(データ入力①)'!BJ22)","v":""},{"$f":"IF('教員(データ入力①)'!BK22=\"\",\"\",'教員(データ入力①)'!BK22)","v":""},{"$f":"IF('教員(データ入力①)'!BL22=\"\",\"\",'教員(データ入力①)'!BL22)","v":""},{"$f":"IF('教員(データ入力①)'!BM22=\"\",\"\",'教員(データ入力①)'!BM22)","v":""},{"$f":"COUNTIF(I5:BP5,\"4\")","v":0},{"$f":"ROUND((BQ5/(60-COUNTBLANK(I5:BP5)))*100,1)","v":{"$error":"#DIV/0!"}},null,0,{"$error":"#DIV/0!"},null,0,{"$error":"#DIV/0!"},null,0,{"$error":"#DIV/0!"},null,null,{"$f":"BR5+BT5","v":{"$error":"#DIV/0!"}},{"$f":"BR5+BU5","v":{"$error":"#DIV/0!"}},{"$f":"BV5+BX5","v":{"$error":"#DIV/0!"}},{"$f":"BX5+CA5","v":{"$error":"#DIV/0!"}},null,4,3,2,1,"合計",4,3,2,1]
[null,null,{"$f":"'教員(個人)'!B8","v":"私は，生徒に承認や称賛，励ましの言葉を掛けている。"},{"$error":"#DIV/0!"},{"$error":"#DIV/0!"},{"$error":"#DIV/0!"},{"$error":"#DIV/0!"},null,{"$f":"IF('教員(データ入力①)'!F20=\"\",\"\",'教員(データ入力①)'!F20)","v":""},{"$f":"IF('教員(データ入力①)'!G20=\"\",\"\",'教員(データ入力①)'!G20)","v":""},{"$f":"IF('教員(データ入力①)'!H20=\"\",\"\",'教員(データ入力①)'!H20)","v":""},{"$f":"IF('教員(データ入力①)'!I20=\"\",\"\",'教員(データ入力①)'!I20)","v":""},{"$f":"IF('教員(データ入力①)'!J20=\"\",\"\",'教員(データ入力①)'!J20)","v":""},{"$f":"IF('教員(データ入力①)'!K20=\"\",\"\",'教員(データ入力①)'!K20)","v":""},{"$f":"IF('教員(データ入力①)'!L20=\"\",\"\",'教員(データ入力①)'!L20)","v":""},{"$f":"IF('教員(データ入力①)'!M20=\"\",\"\",'教員(データ入力①)'!M20)","v":""},{"$f":"IF('教員(データ入力①)'!N20=\"\",\"\",'教員(データ入力①)'!N20)","v":""},{"$f":"IF('教員(データ入力①)'!O20=\"\",\"\",'教員(データ入力①)'!O20)","v":""},{"$f":"IF('教員(データ入力①)'!P20=\"\",\"\",'教員(データ入力①)'!P20)","v":""},{"$f":"IF('教員(データ入力①)'!Q20=\"\",\"\",'教員(データ入力①)'!Q20)","v":""},{"$f":"IF('教員(データ入力①)'!R20=\"\",\"\",'教員(データ入力①)'!R20)","v":""},{"$f":"IF('教員(データ入力①)'!S20=\"\",\"\",'教員(データ入力①)'!S20)","v":""},{"$f":"IF('教員(データ入力①)'!T20=\"\",\"\",'教員(データ入力①)'!T20)","v":""},{"$f":"IF('教員(データ入力①)'!U20=\"\",\"\",'教員(データ入力①)'!U20)","v":""},{"$f":"IF('教員(データ入力①)'!V20=\"\",\"\",'教員(データ入力①)'!V20)","v":""},{"$f":"IF('教員(データ入力①)'!W20=\"\",\"\",'教員(データ入力①)'!W20)","v":""},{"$f":"IF('教員(データ入力①)'!X20=\"\",\"\",'教員(データ入力①)'!X20)","v":""},{"$f":"IF('教員(データ入力①)'!Y20=\"\",\"\",'教員(データ入力①)'!Y20)","v":""},{"$f":"IF('教員(データ入力①)'!Z20=\"\",\"\",'教員(データ入力①)'!Z20)","v":""},{"$f":"IF('教員(データ入力①)'!AA20=\"\",\"\",'教員(データ入力①)'!AA20)","v":""},{"$f":"IF('教員(データ入力①)'!AB20=\"\",\"\",'教員(データ入力①)'!AB20)","v":""},{"$f":"IF('教員(データ入力①)'!AC20=\"\",\"\",'教員(データ入力①)'!AC20)","v":""},{"$f":"IF('教員(データ入力①)'!AD20=\"\",\"\",'教員(データ入力①)'!AD20)","v":""},{"$f":"IF('教員(データ入力①)'!AE20=\"\",\"\",'教員(データ入力①)'!AE20)","v":""},{"$f":"IF('教員(データ入力①)'!AF20=\"\",\"\",'教員(データ入力①)'!AF20)","v":""},{"$f":"IF('教員(データ入力①)'!AG20=\"\",\"\",'教員(データ入力①)'!AG20)","v":""},{"$f":"IF('教員(データ入力①)'!AH20=\"\",\"\",'教員(データ入力①)'!AH20)","v":""},{"$f":"IF('教員(データ入力①)'!AI20=\"\",\"\",'教員(データ入力①)'!AI20)","v":""},{"$f":"IF('教員(データ入力①)'!AJ20=\"\",\"\",'教員(データ入力①)'!AJ20)","v":""},{"$f":"IF('教員(データ入力①)'!AK20=\"\",\"\",'教員(データ入力①)'!AK20)","v":""},{"$f":"IF('教員(データ入力①)'!AL20=\"\",\"\",'教員(データ入力①)'!AL20)","v":""},{"$f":"IF('教員(データ入力①)'!AM20=\"\",\"\",'教員(データ入力①)'!AM20)","v":""},{"$f":"IF('教員(データ入力①)'!AN20=\"\",\"\",'教員(データ入力①)'!AN20)","v":""},{"$f":"IF('教員(データ入力①)'!AO20=\"\",\"\",'教員(データ入力①)'!AO20)","v":""},{"$f":"IF('教員(データ入力①)'!AP20=\"\",\"\",'教員(データ入力①)'!AP20)","v":""},{"$f":"IF('教員(データ入力①)'!AQ20=\"\",\"\",'教員(データ入力①)'!AQ20)","v":""},{"$f":"IF('教員(データ入力①)'!AR20=\"\",\"\",'教員(データ入力①)'!AR20)","v":""},{"$f":"IF('教員(データ入力①)'!AS20=\"\",\"\",'教員(データ入力①)'!AS20)","v":""},{"$f":"IF('教員(データ入力①)'!AT20=\"\",\"\",'教員(データ入力①)'!AT20)","v":""},{"$f":"IF('教員(データ入力①)'!AU20=\"\",\"\",'教員(データ入力①)'!AU20)","v":""},{"$f":"IF('教員(データ入力①)'!AV20=\"\",\"\",'教員(データ入力①)'!AV20)","v":""},{"$f":"IF('教員(データ入力①)'!AW20=\"\",\"\",'教員(データ入力①)'!AW20)","v":""},{"$f":"IF('教員(データ入力①)'!AX20=\"\",\"\",'教員(データ入力①)'!AX20)","v":""},{"$f":"IF('教員(データ入力①)'!AY20=\"\",\"\",'教員(データ入力①)'!AY20)","v":""},{"$f":"IF('教員(データ入力①)'!AZ20=\"\",\"\",'教員(データ入力①)'!AZ20)","v":""},{"$f":"IF('教員(データ入力①)'!BA20=\"\",\"\",'教員(データ入力①)'!BA20)","v":""},{"$f":"IF('教員(データ入力①)'!BB20=\"\",\"\",'教員(データ入力①)'!BB20)","v":""},{"$f":"IF('教員(データ入力①)'!BC20=\"\",\"\",'教員(データ入力①)'!BC20)","v":""},{"$f":"IF('教員(データ入力①)'!BD20=\"\",\"\",'教員(データ入力①)'!BD20)","v":""},{"$f":"IF('教員(データ入力①)'!BE20=\"\",\"\",'教員(データ入力①)'!BE20)","v":""},{"$f":"IF('教員(データ入力①)'!BF20=\"\",\"\",'教員(データ入力①)'!BF20)","v":""},{"$f":"IF('教員(データ入力①)'!BG20=\"\",\"\",'教員(データ入力①)'!BG20)","v":""},{"$f":"IF('教員(データ入力①)'!BH20=\"\",\"\",'教員(データ入力①)'!BH20)","v":""},{"$f":"IF('教員(データ入力①)'!BI20=\"\",\"\",'教員(データ入力①)'!BI20)","v":""},{"$f":"IF('教員(データ入力①)'!BJ20=\"\",\"\",'教員(データ入力①)'!BJ20)","v":""},{"$f":"IF('教員(データ入力①)'!BK20=\"\",\"\",'教員(データ入力①)'!BK20)","v":""},{"$f":"IF('教員(データ入力①)'!BL20=\"\",\"\",'教員(データ入力①)'!BL20)","v":""},{"$f":"IF('教員(データ入力①)'!BM20=\"\",\"\",'教員(データ入力①)'!BM20)","v":""},0,{"$error":"#DIV/0!"},null,0,{"$error":"#DIV/0!"},null,0,{"$error":"#DIV/0!"},null,0,{"$error":"#DIV/0!"},null,null,{"$error":"#DIV/0!"},{"$error":"#DIV/0!"},{"$error":"#DIV/0!"},{"$error":"#DIV/0!"},"自己存在感の感受平均",{"$f":"BQ4+BQ5+BQ6+BQ7+BQ8","v":0},{"$f":"BT4+BT5+BT6+BT7+BT8","v":0},{"$f":"BW4+BW5+BW6+BW7+BW8","v":0},{"$f":"BZ4+BZ5+BZ6+BZ7+BZ8","v":0},{"$f":"SUM(CI6:CL6)","v":0},{"$f":"ROUND((CI6/$CM$6)*100,1)","v":{"$error":"#DIV/0!"}},{"$f":"ROUND((CJ6/$CM$6)*100,1)","v":{"$error":"#DIV/0!"}},{"$f":"ROUND((CK6/$CM$6)*100,1)","v":{"$error":"#DIV/0!"}},{"$f":"ROUND((CL6/$CM$6)*100,1)","v":{"$error":"#DIV/0!"}},null,{"$f":"CI6+CJ6","v":0},{"$f":"CK6+CL6","v":0},{"$f":"ROUND(CN6+CO6,1)","v":{"$error":"#DIV/0!"}},{"$f":"ROUND(CP6+CQ6,1)","v":{"$error":"#DIV/0!"}}]
[null,null,{"$f":"'教員(個人)'!B9","v":"私は，生徒一人一人を理解し尊重している。 "},{"$error":"#DIV/0!"},{"$error":"#DIV/0!"},{"$error":"#DIV/0!"},{"$error":"#DIV/0!"},null,{"$f":"IF('教員(データ入力①)'!F17=\"\",\"\",'教員(データ入力①)'!F17)","v":""},{"$f":"IF('教員(データ入力①)'!G17=\"\",\"\",'教員(データ入力①)'!G17)","v":""},{"$f":"IF('教員(データ入力①)'!H17=\"\",\"\",'教員(データ入力①)'!H17)","v":""},{"$f":"IF('教員(データ入力①)'!I17=\"\",\"\",'教員(データ入力①)'!I17)","v":""},{"$f":"IF('教員(データ入力①)'!J17=\"\",\"\",'教員(データ入力①)'!J17)","v":""},{"$f":"IF('教員(データ入力①)'!K17=\"\",\"\",'教員(データ入力①)'!K17)","v":""},{"$f":"IF('教員(データ入力①)'!L17=\"\",\"\",'教員(データ入力①)'!L17)","v":""},{"$f":"IF('教員(データ入力①)'!M17=\"\",\"\",'教員(データ入力①)'!M17)","v":""},{"$f":"IF('教員(データ入力①)'!N17=\"\",\"\",'教員(データ入力①)'!N17)","v":""},{"$f":"IF('教員(データ入力①)'!O17=\"\",\"\",'教員(データ入力①)'!O17)","v":""},{"$f":"IF('教員(データ入力①)'!P17=\"\",\"\",'教員(データ入力①)'!P17)","v":""},{"$f":"IF('教員(データ入力①)'!Q17=\"\",\"\",'教員(データ入力①)'!Q17)","v":""},{"$f":"IF('教員(データ入力①)'!R17=\"\",\"\",'教員(データ入力①)'!R17)","v":""},{"$f":"IF('教員(データ入力①)'!S17=\"\",\"\",'教員(データ入力①)'!S17)","v":""},{"$f":"IF('教員(データ入力①)'!T17=\"\",\"\",'教員(データ入力①)'!T17)","v":""},{"$f":"IF('教員(データ入力①)'!U17=\"\",\"\",'教員(データ入力①)'!U17)","v":""},{"$f":"IF('教員(データ入力①)'!V17=\"\",\"\",'教員(データ入力①)'!V17)","v":""},{"$f":"IF('教員(データ入力①)'!W17=\"\",\"\",'教員(データ入力①)'!W17)","v":""},{"$f":"IF('教員(データ入力①)'!X17=\"\",\"\",'教員(データ入力①)'!X17)","v":""},{"$f":"IF('教員(データ入力①)'!Y17=\"\",\"\",'教員(データ入力①)'!Y17)","v":""},{"$f":"IF('教員(データ入力①)'!Z17=\"\",\"\",'教員(データ入力①)'!Z17)","v":""},{"$f":"IF('教員(データ入力①)'!AA17=\"\",\"\",'教員(データ入力①)'!AA17)","v":""},{"$f":"IF('教員(データ入力①)'!AB17=\"\",\"\",'教員(データ入力①)'!AB17)","v":""},{"$f":"IF('教員(データ入力①)'!AC17=\"\",\"\",'教員(データ入力①)'!AC17)","v":""},{"$f":"IF('教員(データ入力①)'!AD17=\"\",\"\",'教員(データ入力①)'!AD17)","v":""},{"$f":"IF('教員(データ入力①)'!AE17=\"\",\"\",'教員(データ入力①)'!AE17)","v":""},{"$f":"IF('教員(データ入力①)'!AF17=\"\",\"\",'教員(データ入力①)'!AF17)","v":""},{"$f":"IF('教員(データ入力①)'!AG17=\"\",\"\",'教員(データ入力①)'!AG17)","v":""},{"$f":"IF('教員(データ入力①)'!AH17=\"\",\"\",'教員(データ入力①)'!AH17)","v":""},{"$f":"IF('教員(データ入力①)'!AI17=\"\",\"\",'教員(データ入力①)'!AI17)","v":""},{"$f":"IF('教員(データ入力①)'!AJ17=\"\",\"\",'教員(データ入力①)'!AJ17)","v":""},{"$f":"IF('教員(データ入力①)'!AK17=\"\",\"\",'教員(データ入力①)'!AK17)","v":""},{"$f":"IF('教員(データ入力①)'!AL17=\"\",\"\",'教員(データ入力①)'!AL17)","v":""},{"$f":"IF('教員(データ入力①)'!AM17=\"\",\"\",'教員(データ入力①)'!AM17)","v":""},{"$f":"IF('教員(データ入力①)'!AN17=\"\",\"\",'教員(データ入力①)'!AN17)","v":""},{"$f":"IF('教員(データ入力①)'!AO17=\"\",\"\",'教員(データ入力①)'!AO17)","v":""},{"$f":"IF('教員(データ入力①)'!AP17=\"\",\"\",'教員(データ入力①)'!AP17)","v":""},{"$f":"IF('教員(データ入力①)'!AQ17=\"\",\"\",'教員(データ入力①)'!AQ17)","v":""},{"$f":"IF('教員(データ入力①)'!AR17=\"\",\"\",'教員(データ入力①)'!AR17)","v":""},{"$f":"IF('教員(データ入力①)'!AS17=\"\",\"\",'教員(データ入力①)'!AS17)","v":""},{"$f":"IF('教員(データ入力①)'!AT17=\"\",\"\",'教員(データ入力①)'!AT17)","v":""},{"$f":"IF('教員(データ入力①)'!AU17=\"\",\"\",'教員(データ入力①)'!AU17)","v":""},{"$f":"IF('教員(データ入力①)'!AV17=\"\",\"\",'教員(データ入力①)'!AV17)","v":""},{"$f":"IF('教員(データ入力①)'!AW17=\"\",\"\",'教員(データ入力①)'!AW17)","v":""},{"$f":"IF('教員(データ入力①)'!AX17=\"\",\"\",'教員(データ入力①)'!AX17)","v":""},{"$f":"IF('教員(データ入力①)'!AY17=\"\",\"\",'教員(データ入力①)'!AY17)","v":""},{"$f":"IF('教員(データ入力①)'!AZ17=\"\",\"\",'教員(データ入力①)'!AZ17)","v":""},{"$f":"IF('教員(データ入力①)'!BA17=\"\",\"\",'教員(データ入力①)'!BA17)","v":""},{"$f":"IF('教員(データ入力①)'!BB17=\"\",\"\",'教員(データ入力①)'!BB17)","v":""},{"$f":"IF('教員(データ入力①)'!BC17=\"\",\"\",'教員(データ入力①)'!BC17)","v":""},{"$f":"IF('教員(データ入力①)'!BD17=\"\",\"\",'教員(データ入力①)'!BD17)","v":""},{"$f":"IF('教員(データ入力①)'!BE17=\"\",\"\",'教員(データ入力①)'!BE17)","v":""},{"$f":"IF('教員(データ入力①)'!BF17=\"\",\"\",'教員(データ入力①)'!BF17)","v":""},{"$f":"IF('教員(データ入力①)'!BG17=\"\",\"\",'教員(データ入力①)'!BG17)","v":""},{"$f":"IF('教員(データ入力①)'!BH17=\"\",\"\",'教員(データ入力①)'!BH17)","v":""},{"$f":"IF('教員(データ入力①)'!BI17=\"\",\"\",'教員(データ入力①)'!BI17)","v":""},{"$f":"IF('教員(データ入力①)'!BJ17=\"\",\"\",'教員(データ入力①)'!BJ17)","v":""},{"$f":"IF('教員(データ入力①)'!BK17=\"\",\"\",'教員(データ入力①)'!BK17)","v":""},{"$f":"IF('教員(データ入力①)'!BL17=\"\",\"\",'教員(データ入力①)'!BL17)","v":""},{"$f":"IF('教員(データ入力①)'!BM17=\"\",\"\",'教員(データ入力①)'!BM17)","v":""},0,{"$error":"#DIV/0!"},null,0,{"$error":"#DIV/0!"},null,0,{"$error":"#DIV/0!"},null,0,{"$error":"#DIV/0!"},null,null,{"$error":"#DIV/0!"},{"$error":"#DIV/0!"},{"$error":"#DIV/0!"},{"$error":"#DIV/0!"},"共感的な人間関係平均",{"$f":"BQ9+BQ10+BQ11+BQ12+BQ13","v":0},{"$f":"BT9+BT10+BT11+BT12+BT13","v":0},{"$f":"BW9+BW10+BW11+BW12+BW13","v":0},{"$f":"BZ9+BZ10+BZ11+BZ12+BZ13","v":0},{"$f":"SUM(CI7:CL7)","v":0},{"$f":"ROUND((CI7/$CM$7)*100,1)","v":{"$error":"#DIV/0!"}},{"$f":"ROUND((CJ7/$CM$7)*100,1)","v":{"$error":"#DIV/0!"}},{"$f":"ROUND((CK7/$CM$7)*100,1)","v":{"$error":"#DIV/0!"}},{"$f":"ROUND((CL7/$CM$7)*100,1)","v":{"$error":"#DIV/0!"}},null,{"$f":"CI7+CJ7","v":0},{"$f":"CK7+CL7","v":0},{"$f":"ROUND(CN7+CO7,1)","v":{"$error":"#DIV/0!"}},{"$f":"ROUND(CP7+CQ7,1)","v":{"$error":"#DIV/0!"}}]
[null,null,{"$f":"'教員(個人)'!B10","v":"私は，すべての生徒の考えや発言を取り上げている。"},{"$error":"#DIV/0!"},{"$error":"#DIV/0!"},{"$error":"#DIV/0!"},{"$error":"#DIV/0!"},null,{"$f":"IF('教員(データ入力①)'!F10=\"\",\"\",'教員(データ入力①)'!F10)","v":""},{"$f":"IF('教員(データ入力①)'!G10=\"\",\"\",'教員(データ入力①)'!G10)","v":""},{"$f":"IF('教員(データ入力①)'!H10=\"\",\"\",'教員(データ入力①)'!H10)","v":""},{"$f":"IF('教員(データ入力①)'!I10=\"\",\"\",'教員(データ入力①)'!I10)","v":""},{"$f":"IF('教員(データ入力①)'!J10=\"\",\"\",'教員(データ入力①)'!J10)","v":""},{"$f":"IF('教員(データ入力①)'!K10=\"\",\"\",'教員(データ入力①)'!K10)","v":""},{"$f":"IF('教員(データ入力①)'!L10=\"\",\"\",'教員(データ入力①)'!L10)","v":""},{"$f":"IF('教員(データ入力①)'!M10=\"\",\"\",'教員(データ入力①)'!M10)","v":""},{"$f":"IF('教員(データ入力①)'!N10=\"\",\"\",'教員(データ入力①)'!N10)","v":""},{"$f":"IF('教員(データ入力①)'!O10=\"\",\"\",'教員(データ入力①)'!O10)","v":""},{"$f":"IF('教員(データ入力①)'!P10=\"\",\"\",'教員(データ入力①)'!P10)","v":""},{"$f":"IF('教員(データ入力①)'!Q10=\"\",\"\",'教員(データ入力①)'!Q10)","v":""},{"$f":"IF('教員(データ入力①)'!R10=\"\",\"\",'教員(データ入力①)'!R10)","v":""},{"$f":"IF('教員(データ入力①)'!S10=\"\",\"\",'教員(データ入力①)'!S10)","v":""},{"$f":"IF('教員(データ入力①)'!T10=\"\",\"\",'教員(データ入力①)'!T10)","v":""},{"$f":"IF('教員(データ入力①)'!U10=\"\",\"\",'教員(データ入力①)'!U10)","v":""},{"$f":"IF('教員(データ入力①)'!V10=\"\",\"\",'教員(データ入力①)'!V10)","v":""},{"$f":"IF('教員(データ入力①)'!W10=\"\",\"\",'教員(データ入力①)'!W10)","v":""},{"$f":"IF('教員(データ入力①)'!X10=\"\",\"\",'教員(データ入力①)'!X10)","v":""},{"$f":"IF('教員(データ入力①)'!Y10=\"\",\"\",'教員(データ入力①)'!Y10)","v":""},{"$f":"IF('教員(データ入力①)'!Z10=\"\",\"\",'教員(データ入力①)'!Z10)","v":""},{"$f":"IF('教員(データ入力①)'!AA10=\"\",\"\",'教員(データ入力①)'!AA10)","v":""},{"$f":"IF('教員(データ入力①)'!AB10=\"\",\"\",'教員(データ入力①)'!AB10)","v":""},{"$f":"IF('教員(データ入力①)'!AC10=\"\",\"\",'教員(データ入力①)'!AC10)","v":""},{"$f":"IF('教員(データ入力①)'!AD10=\"\",\"\",'教員(データ入力①)'!AD10)","v":""},{"$f":"IF('教員(データ入力①)'!AE10=\"\",\"\",'教員(データ入力①)'!AE10)","v":""},{"$f":"IF('教員(データ入力①)'!AF10=\"\",\"\",'教員(データ入力①)'!AF10)","v":""},{"$f":"IF('教員(データ入力①)'!AG10=\"\",\"\",'教員(データ入力①)'!AG10)","v":""},{"$f":"IF('教員(データ入力①)'!AH10=\"\",\"\",'教員(データ入力①)'!AH10)","v":""},{"$f":"IF('教員(データ入力①)'!AI10=\"\",\"\",'教員(データ入力①)'!AI10)","v":""},{"$f":"IF('教員(データ入力①)'!AJ10=\"\",\"\",'教員(データ入力①)'!AJ10)","v":""},{"$f":"IF('教員(データ入力①)'!AK10=\"\",\"\",'教員(データ入力①)'!AK10)","v":""},{"$f":"IF('教員(データ入力①)'!AL10=\"\",\"\",'教員(データ入力①)'!AL10)","v":""},{"$f":"IF('教員(データ入力①)'!AM10=\"\",\"\",'教員(データ入力①)'!AM10)","v":""},{"$f":"IF('教員(データ入力①)'!AN10=\"\",\"\",'教員(データ入力①)'!AN10)","v":""},{"$f":"IF('教員(データ入力①)'!AO10=\"\",\"\",'教員(データ入力①)'!AO10)","v":""},{"$f":"IF('教員(データ入力①)'!AP10=\"\",\"\",'教員(データ入力①)'!AP10)","v":""},{"$f":"IF('教員(データ入力①)'!AQ10=\"\",\"\",'教員(データ入力①)'!AQ10)","v":""},{"$f":"IF('教員(データ入力①)'!AR10=\"\",\"\",'教員(データ入力①)'!AR10)","v":""},{"$f":"IF('教員(データ入力①)'!AS10=\"\",\"\",'教員(データ入力①)'!AS10)","v":""},{"$f":"IF('教員(データ入力①)'!AT10=\"\",\"\",'教員(データ入力①)'!AT10)","v":""},{"$f":"IF('教員(データ入力①)'!AU10=\"\",\"\",'教員(データ入力①)'!AU10)","v":""},{"$f":"IF('教員(データ入力①)'!AV10=\"\",\"\",'教員(データ入力①)'!AV10)","v":""},{"$f":"IF('教員(データ入力①)'!AW10=\"\",\"\",'教員(データ入力①)'!AW10)","v":""},{"$f":"IF('教員(データ入力①)'!AX10=\"\",\"\",'教員(データ入力①)'!AX10)","v":""},{"$f":"IF('教員(データ入力①)'!AY10=\"\",\"\",'教員(データ入力①)'!AY10)","v":""},{"$f":"IF('教員(データ入力①)'!AZ10=\"\",\"\",'教員(データ入力①)'!AZ10)","v":""},{"$f":"IF('教員(データ入力①)'!BA10=\"\",\"\",'教員(データ入力①)'!BA10)","v":""},{"$f":"IF('教員(データ入力①)'!BB10=\"\",\"\",'教員(データ入力①)'!BB10)","v":""},{"$f":"IF('教員(データ入力①)'!BC10=\"\",\"\",'教員(データ入力①)'!BC10)","v":""},{"$f":"IF('教員(データ入力①)'!BD10=\"\",\"\",'教員(データ入力①)'!BD10)","v":""},{"$f":"IF('教員(データ入力①)'!BE10=\"\",\"\",'教員(データ入力①)'!BE10)","v":""},{"$f":"IF('教員(データ入力①)'!BF10=\"\",\"\",'教員(データ入力①)'!BF10)","v":""},{"$f":"IF('教員(データ入力①)'!BG10=\"\",\"\",'教員(データ入力①)'!BG10)","v":""},{"$f":"IF('教員(データ入力①)'!BH10=\"\",\"\",'教員(データ入力①)'!BH10)","v":""},{"$f":"IF('教員(データ入力①)'!BI10=\"\",\"\",'教員(データ入力①)'!BI10)","v":""},{"$f":"IF('教員(データ入力①)'!BJ10=\"\",\"\",'教員(データ入力①)'!BJ10)","v":""},{"$f":"IF('教員(データ入力①)'!BK10=\"\",\"\",'教員(データ入力①)'!BK10)","v":""},{"$f":"IF('教員(データ入力①)'!BL10=\"\",\"\",'教員(データ入力①)'!BL10)","v":""},{"$f":"IF('教員(データ入力①)'!BM10=\"\",\"\",'教員(データ入力①)'!BM10)","v":""},0,{"$error":"#DIV/0!"},null,0,{"$error":"#DIV/0!"},null,0,{"$error":"#DIV/0!"},null,0,{"$error":"#DIV/0!"},null,null,{"$error":"#DIV/0!"},{"$error":"#DIV/0!"},{"$error":"#DIV/0!"},{"$error":"#DIV/0!"},"自己決定の場の提供平均",{"$f":"BQ14+BQ15+BQ16+BQ17+BQ18","v":0},{"$f":"BT14+BT15+BT16+BT17+BT18","v":0},{"$f":"BW14+BW15+BW16+BW17+BW18","v":0},{"$f":"BZ14+BZ15+BZ16+BZ17+BZ18","v":0},0,{"$f":"ROUND((CI8/$CM$8)*100,1)","v":{"$error":"#DIV/0!"}},{"$f":"ROUND((CJ8/$CM$8)*100,1)","v":{"$error":"#DIV/0!"}},{"$f":"ROUND((CK8/$CM$8)*100,1)","v":{"$error":"#DIV/0!"}},{"$f":"ROUND((CL8/$CM$8)*100,1)","v":{"$error":"#DIV/0!"}},null,{"$f":"CI8+CJ8","v":0},{"$f":"CK8+CL8","v":0},{"$f":"ROUND(CN8+CO8,1)","v":{"$error":"#DIV/0!"}},{"$f":"ROUND(CP8+CQ8,1)","v":{"$error":"#DIV/0!"}}]
[null,"教師や仲間から理解され受け入れられているという安心感",{"$f":"'教員(個人)'!B11","v":"私は，生徒の話を最後まで遮らずに聞いている。"},{"$error":"#DIV/0!"},{"$error":"#DIV/0!"},{"$error":"#DIV/0!"},{"$error":"#DIV/0!"},null,{"$f":"IF('教員(データ入力①)'!F12=\"\",\"\",'教員(データ入力①)'!F12)","v":""},{"$f":"IF('教員(データ入力①)'!G12=\"\",\"\",'教員(データ入力①)'!G12)","v":""},{"$f":"IF('教員(データ入力①)'!H12=\"\",\"\",'教員(データ入力①)'!H12)","v":""},{"$f":"IF('教員(データ入力①)'!I12=\"\",\"\",'教員(データ入力①)'!I12)","v":""},{"$f":"IF('教員(データ入力①)'!J12=\"\",\"\",'教員(データ入力①)'!J12)","v":""},{"$f":"IF('教員(データ入力①)'!K12=\"\",\"\",'教員(データ入力①)'!K12)","v":""},{"$f":"IF('教員(データ入力①)'!L12=\"\",\"\",'教員(データ入力①)'!L12)","v":""},{"$f":"IF('教員(データ入力①)'!M12=\"\",\"\",'教員(データ入力①)'!M12)","v":""},{"$f":"IF('教員(データ入力①)'!N12=\"\",\"\",'教員(データ入力①)'!N12)","v":""},{"$f":"IF('教員(データ入力①)'!O12=\"\",\"\",'教員(データ入力①)'!O12)","v":""},{"$f":"IF('教員(データ入力①)'!P12=\"\",\"\",'教員(データ入力①)'!P12)","v":""},{"$f":"IF('教員(データ入力①)'!Q12=\"\",\"\",'教員(データ入力①)'!Q12)","v":""},{"$f":"IF('教員(データ入力①)'!R12=\"\",\"\",'教員(データ入力①)'!R12)","v":""},{"$f":"IF('教員(データ入力①)'!S12=\"\",\"\",'教員(データ入力①)'!S12)","v":""},{"$f":"IF('教員(データ入力①)'!T12=\"\",\"\",'教員(データ入力①)'!T12)","v":""},{"$f":"IF('教員(データ入力①)'!U12=\"\",\"\",'教員(データ入力①)'!U12)","v":""},{"$f":"IF('教員(データ入力①)'!V12=\"\",\"\",'教員(データ入力①)'!V12)","v":""},{"$f":"IF('教員(データ入力①)'!W12=\"\",\"\",'教員(データ入力①)'!W12)","v":""},{"$f":"IF('教員(データ入力①)'!X12=\"\",\"\",'教員(データ入力①)'!X12)","v":""},{"$f":"IF('教員(データ入力①)'!Y12=\"\",\"\",'教員(データ入力①)'!Y12)","v":""},{"$f":"IF('教員(データ入力①)'!Z12=\"\",\"\",'教員(データ入力①)'!Z12)","v":""},{"$f":"IF('教員(データ入力①)'!AA12=\"\",\"\",'教員(データ入力①)'!AA12)","v":""},{"$f":"IF('教員(データ入力①)'!AB12=\"\",\"\",'教員(データ入力①)'!AB12)","v":""},{"$f":"IF('教員(データ入力①)'!AC12=\"\",\"\",'教員(データ入力①)'!AC12)","v":""},{"$f":"IF('教員(データ入力①)'!AD12=\"\",\"\",'教員(データ入力①)'!AD12)","v":""},{"$f":"IF('教員(データ入力①)'!AE12=\"\",\"\",'教員(データ入力①)'!AE12)","v":""},{"$f":"IF('教員(データ入力①)'!AF12=\"\",\"\",'教員(データ入力①)'!AF12)","v":""},{"$f":"IF('教員(データ入力①)'!AG12=\"\",\"\",'教員(データ入力①)'!AG12)","v":""},{"$f":"IF('教員(データ入力①)'!AH12=\"\",\"\",'教員(データ入力①)'!AH12)","v":""},{"$f":"IF('教員(データ入力①)'!AI12=\"\",\"\",'教員(データ入力①)'!AI12)","v":""},{"$f":"IF('教員(データ入力①)'!AJ12=\"\",\"\",'教員(データ入力①)'!AJ12)","v":""},{"$f":"IF('教員(データ入力①)'!AK12=\"\",\"\",'教員(データ入力①)'!AK12)","v":""},{"$f":"IF('教員(データ入力①)'!AL12=\"\",\"\",'教員(データ入力①)'!AL12)","v":""},{"$f":"IF('教員(データ入力①)'!AM12=\"\",\"\",'教員(データ入力①)'!AM12)","v":""},{"$f":"IF('教員(データ入力①)'!AN12=\"\",\"\",'教員(データ入力①)'!AN12)","v":""},{"$f":"IF('教員(データ入力①)'!AO12=\"\",\"\",'教員(データ入力①)'!AO12)","v":""},{"$f":"IF('教員(データ入力①)'!AP12=\"\",\"\",'教員(データ入力①)'!AP12)","v":""},{"$f":"IF('教員(データ入力①)'!AQ12=\"\",\"\",'教員(データ入力①)'!AQ12)","v":""},{"$f":"IF('教員(データ入力①)'!AR12=\"\",\"\",'教員(データ入力①)'!AR12)","v":""},{"$f":"IF('教員(データ入力①)'!AS12=\"\",\"\",'教員(データ入力①)'!AS12)","v":""},{"$f":"IF('教員(データ入力①)'!AT12=\"\",\"\",'教員(データ入力①)'!AT12)","v":""},{"$f":"IF('教員(データ入力①)'!AU12=\"\",\"\",'教員(データ入力①)'!AU12)","v":""},{"$f":"IF('教員(データ入力①)'!AV12=\"\",\"\",'教員(データ入力①)'!AV12)","v":""},{"$f":"IF('教員(データ入力①)'!AW12=\"\",\"\",'教員(データ入力①)'!AW12)","v":""},{"$f":"IF('教員(データ入力①)'!AX12=\"\",\"\",'教員(データ入力①)'!AX12)","v":""},{"$f":"IF('教員(データ入力①)'!AY12=\"\",\"\",'教員(データ入力①)'!AY12)","v":""},{"$f":"IF('教員(データ入力①)'!AZ12=\"\",\"\",'教員(データ入力①)'!AZ12)","v":""},{"$f":"IF('教員(データ入力①)'!BA12=\"\",\"\",'教員(データ入力①)'!BA12)","v":""},{"$f":"IF('教員(データ入力①)'!BB12=\"\",\"\",'教員(データ入力①)'!BB12)","v":""},{"$f":"IF('教員(データ入力①)'!BC12=\"\",\"\",'教員(データ入力①)'!BC12)","v":""},{"$f":"IF('教員(データ入力①)'!BD12=\"\",\"\",'教員(データ入力①)'!BD12)","v":""},{"$f":"IF('教員(データ入力①)'!BE12=\"\",\"\",'教員(データ入力①)'!BE12)","v":""},{"$f":"IF('教員(データ入力①)'!BF12=\"\",\"\",'教員(データ入力①)'!BF12)","v":""},{"$f":"IF('教員(データ入力①)'!BG12=\"\",\"\",'教員(データ入力①)'!BG12)","v":""},{"$f":"IF('教員(データ入力①)'!BH12=\"\",\"\",'教員(データ入力①)'!BH12)","v":""},{"$f":"IF('教員(データ入力①)'!BI12=\"\",\"\",'教員(データ入力①)'!BI12)","v":""},{"$f":"IF('教員(データ入力①)'!BJ12=\"\",\"\",'教員(データ入力①)'!BJ12)","v":""},{"$f":"IF('教員(データ入力①)'!BK12=\"\",\"\",'教員(データ入力①)'!BK12)","v":""},{"$f":"IF('教員(データ入力①)'!BL12=\"\",\"\",'教員(データ入力①)'!BL12)","v":""},{"$f":"IF('教員(データ入力①)'!BM12=\"\",\"\",'教員(データ入力①)'!BM12)","v":""},0,{"$error":"#DIV/0!"},null,0,{"$error":"#DIV/0!"},null,0,{"$error":"#DIV/0!"},null,0,{"$error":"#DIV/0!"},null,null,{"$error":"#DIV/0!"},{"$error":"#DIV/0!"},{"$error":"#DIV/0!"},{"$error":"#DIV/0!"},"安全・安心な風土の醸成平均",{"$f":"BQ19+BQ20+BQ21+BQ22+BQ23","v":0},{"$f":"BT19+BT20+BT21+BT22+BT23","v":0},{"$f":"BW19+BW20+BW21+BW22+BW23","v":0},{"$f":"BZ19+BZ20+BZ21+BZ22+BZ23","v":0},0,{"$f":"ROUND((CI9/$CM$9)*100,1)","v":{"$error":"#DIV/0!"}},{"$f":"ROUND((CJ9/$CM$9)*100,1)","v":{"$error":"#DIV/0!"}},{"$f":"ROUND((CK9/$CM$9)*100,1)","v":{"$error":"#DIV/0!"}},{"$f":"ROUND((CL9/$CM$9)*100,1)","v":{"$error":"#DIV/0!"}},null,{"$f":"CI9+CJ9","v":0},{"$f":"CK9+CL9","v":0},{"$f":"ROUND(CN9+CO9,1)","v":{"$error":"#DIV/0!"}},{"$f":"ROUND(CP9+CQ9,1)","v":{"$error":"#DIV/0!"}}]
[null,null,{"$f":"'教員(個人)'!B12","v":"私は，生徒が悩みや困りごとを相談しやすい雰囲気づくりをしている。"},{"$error":"#DIV/0!"},{"$error":"#DIV/0!"},{"$error":"#DIV/0!"},{"$error":"#DIV/0!"},null,{"$f":"IF('教員(データ入力①)'!F18=\"\",\"\",'教員(データ入力①)'!F18)","v":""},{"$f":"IF('教員(データ入力①)'!G18=\"\",\"\",'教員(データ入力①)'!G18)","v":""},{"$f":"IF('教員(データ入力①)'!H18=\"\",\"\",'教員(データ入力①)'!H18)","v":""},{"$f":"IF('教員(データ入力①)'!I18=\"\",\"\",'教員(データ入力①)'!I18)","v":""},{"$f":"IF('教員(データ入力①)'!J18=\"\",\"\",'教員(データ入力①)'!J18)","v":""},{"$f":"IF('教員(データ入力①)'!K18=\"\",\"\",'教員(データ入力①)'!K18)","v":""},{"$f":"IF('教員(データ入力①)'!L18=\"\",\"\",'教員(データ入力①)'!L18)","v":""},{"$f":"IF('教員(データ入力①)'!M18=\"\",\"\",'教員(データ入力①)'!M18)","v":""},{"$f":"IF('教員(データ入力①)'!N18=\"\",\"\",'教員(データ入力①)'!N18)","v":""},{"$f":"IF('教員(データ入力①)'!O18=\"\",\"\",'教員(データ入力①)'!O18)","v":""},{"$f":"IF('教員(データ入力①)'!P18=\"\",\"\",'教員(データ入力①)'!P18)","v":""},{"$f":"IF('教員(データ入力①)'!Q18=\"\",\"\",'教員(データ入力①)'!Q18)","v":""},{"$f":"IF('教員(データ入力①)'!R18=\"\",\"\",'教員(データ入力①)'!R18)","v":""},{"$f":"IF('教員(データ入力①)'!S18=\"\",\"\",'教員(データ入力①)'!S18)","v":""},{"$f":"IF('教員(データ入力①)'!T18=\"\",\"\",'教員(データ入力①)'!T18)","v":""},{"$f":"IF('教員(データ入力①)'!U18=\"\",\"\",'教員(データ入力①)'!U18)","v":""},{"$f":"IF('教員(データ入力①)'!V18=\"\",\"\",'教員(データ入力①)'!V18)","v":""},{"$f":"IF('教員(データ入力①)'!W18=\"\",\"\",'教員(データ入力①)'!W18)","v":""},{"$f":"IF('教員(データ入力①)'!X18=\"\",\"\",'教員(データ入力①)'!X18)","v":""},{"$f":"IF('教員(データ入力①)'!Y18=\"\",\"\",'教員(データ入力①)'!Y18)","v":""},{"$f":"IF('教員(データ入力①)'!Z18=\"\",\"\",'教員(データ入力①)'!Z18)","v":""},{"$f":"IF('教員(データ入力①)'!AA18=\"\",\"\",'教員(データ入力①)'!AA18)","v":""},{"$f":"IF('教員(データ入力①)'!AB18=\"\",\"\",'教員(データ入力①)'!AB18)","v":""},{"$f":"IF('教員(データ入力①)'!AC18=\"\",\"\",'教員(データ入力①)'!AC18)","v":""},{"$f":"IF('教員(データ入力①)'!AD18=\"\",\"\",'教員(データ入力①)'!AD18)","v":""},{"$f":"IF('教員(データ入力①)'!AE18=\"\",\"\",'教員(データ入力①)'!AE18)","v":""},{"$f":"IF('教員(データ入力①)'!AF18=\"\",\"\",'教員(データ入力①)'!AF18)","v":""},{"$f":"IF('教員(データ入力①)'!AG18=\"\",\"\",'教員(データ入力①)'!AG18)","v":""},{"$f":"IF('教員(データ入力①)'!AH18=\"\",\"\",'教員(データ入力①)'!AH18)","v":""},{"$f":"IF('教員(データ入力①)'!AI18=\"\",\"\",'教員(データ入力①)'!AI18)","v":""},{"$f":"IF('教員(データ入力①)'!AJ18=\"\",\"\",'教員(データ入力①)'!AJ18)","v":""},{"$f":"IF('教員(データ入力①)'!AK18=\"\",\"\",'教員(データ入力①)'!AK18)","v":""},{"$f":"IF('教員(データ入力①)'!AL18=\"\",\"\",'教員(データ入力①)'!AL18)","v":""},{"$f":"IF('教員(データ入力①)'!AM18=\"\",\"\",'教員(データ入力①)'!AM18)","v":""},{"$f":"IF('教員(データ入力①)'!AN18=\"\",\"\",'教員(データ入力①)'!AN18)","v":""},{"$f":"IF('教員(データ入力①)'!AO18=\"\",\"\",'教員(データ入力①)'!AO18)","v":""},{"$f":"IF('教員(データ入力①)'!AP18=\"\",\"\",'教員(データ入力①)'!AP18)","v":""},{"$f":"IF('教員(データ入力①)'!AQ18=\"\",\"\",'教員(データ入力①)'!AQ18)","v":""},{"$f":"IF('教員(データ入力①)'!AR18=\"\",\"\",'教員(データ入力①)'!AR18)","v":""},{"$f":"IF('教員(データ入力①)'!AS18=\"\",\"\",'教員(データ入力①)'!AS18)","v":""},{"$f":"IF('教員(データ入力①)'!AT18=\"\",\"\",'教員(データ入力①)'!AT18)","v":""},{"$f":"IF('教員(データ入力①)'!AU18=\"\",\"\",'教員(データ入力①)'!AU18)","v":""},{"$f":"IF('教員(データ入力①)'!AV18=\"\",\"\",'教員(データ入力①)'!AV18)","v":""},{"$f":"IF('教員(データ入力①)'!AW18=\"\",\"\",'教員(データ入力①)'!AW18)","v":""},{"$f":"IF('教員(データ入力①)'!AX18=\"\",\"\",'教員(データ入力①)'!AX18)","v":""},{"$f":"IF('教員(データ入力①)'!AY18=\"\",\"\",'教員(データ入力①)'!AY18)","v":""},{"$f":"IF('教員(データ入力①)'!AZ18=\"\",\"\",'教員(データ入力①)'!AZ18)","v":""},{"$f":"IF('教員(データ入力①)'!BA18=\"\",\"\",'教員(データ入力①)'!BA18)","v":""},{"$f":"IF('教員(データ入力①)'!BB18=\"\",\"\",'教員(データ入力①)'!BB18)","v":""},{"$f":"IF('教員(データ入力①)'!BC18=\"\",\"\",'教員(データ入力①)'!BC18)","v":""},{"$f":"IF('教員(データ入力①)'!BD18=\"\",\"\",'教員(データ入力①)'!BD18)","v":""},{"$f":"IF('教員(データ入力①)'!BE18=\"\",\"\",'教員(データ入力①)'!BE18)","v":""},{"$f":"IF('教員(データ入力①)'!BF18=\"\",\"\",'教員(データ入力①)'!BF18)","v":""},{"$f":"IF('教員(データ入力①)'!BG18=\"\",\"\",'教員(データ入力①)'!BG18)","v":""},{"$f":"IF('教員(データ入力①)'!BH18=\"\",\"\",'教員(データ入力①)'!BH18)","v":""},{"$f":"IF('教員(データ入力①)'!BI18=\"\",\"\",'教員(データ入力①)'!BI18)","v":""},{"$f":"IF('教員(データ入力①)'!BJ18=\"\",\"\",'教員(データ入力①)'!BJ18)","v":""},{"$f":"IF('教員(データ入力①)'!BK18=\"\",\"\",'教員(データ入力①)'!BK18)","v":""},{"$f":"IF('教員(データ入力①)'!BL18=\"\",\"\",'教員(データ入力①)'!BL18)","v":""},{"$f":"IF('教員(データ入力①)'!BM18=\"\",\"\",'教員(データ入力①)'!BM18)","v":""},0,{"$error":"#DIV/0!"},null,0,{"$error":"#DIV/0!"},null,0,{"$error":"#DIV/0!"},null,0,{"$error":"#DIV/0!"},null,null,{"$error":"#DIV/0!"},{"$error":"#DIV/0!"},{"$error":"#DIV/0!"},{"$error":"#DIV/0!"},"そう思う",null,null,null,null,null,null,null,null,null,null,"肯定"]
[null,null,{"$f":"'教員(個人)'!B13","v":"私は，生徒に自分と違う意見でも尊重するよう伝えている。"},{"$error":"#DIV/0!"},{"$error":"#DIV/0!"},{"$error":"#DIV/0!"},{"$error":"#DIV/0!"},null,{"$f":"IF('教員(データ入力①)'!F21=\"\",\"\",'教員(データ入力①)'!F21)","v":""},{"$f":"IF('教員(データ入力①)'!G21=\"\",\"\",'教員(データ入力①)'!G21)","v":""},{"$f":"IF('教員(データ入力①)'!H21=\"\",\"\",'教員(データ入力①)'!H21)","v":""},{"$f":"IF('教員(データ入力①)'!I21=\"\",\"\",'教員(データ入力①)'!I21)","v":""},{"$f":"IF('教員(データ入力①)'!J21=\"\",\"\",'教員(データ入力①)'!J21)","v":""},{"$f":"IF('教員(データ入力①)'!K21=\"\",\"\",'教員(データ入力①)'!K21)","v":""},{"$f":"IF('教員(データ入力①)'!L21=\"\",\"\",'教員(データ入力①)'!L21)","v":""},{"$f":"IF('教員(データ入力①)'!M21=\"\",\"\",'教員(データ入力①)'!M21)","v":""},{"$f":"IF('教員(データ入力①)'!N21=\"\",\"\",'教員(データ入力①)'!N21)","v":""},{"$f":"IF('教員(データ入力①)'!O21=\"\",\"\",'教員(データ入力①)'!O21)","v":""},{"$f":"IF('教員(データ入力①)'!P21=\"\",\"\",'教員(データ入力①)'!P21)","v":""},{"$f":"IF('教員(データ入力①)'!Q21=\"\",\"\",'教員(データ入力①)'!Q21)","v":""},{"$f":"IF('教員(データ入力①)'!R21=\"\",\"\",'教員(データ入力①)'!R21)","v":""},{"$f":"IF('教員(データ入力①)'!S21=\"\",\"\",'教員(データ入力①)'!S21)","v":""},{"$f":"IF('教員(データ入力①)'!T21=\"\",\"\",'教員(データ入力①)'!T21)","v":""},{"$f":"IF('教員(データ入力①)'!U21=\"\",\"\",'教員(データ入力①)'!U21)","v":""},{"$f":"IF('教員(データ入力①)'!V21=\"\",\"\",'教員(データ入力①)'!V21)","v":""},{"$f":"IF('教員(データ入力①)'!W21=\"\",\"\",'教員(データ入力①)'!W21)","v":""},{"$f":"IF('教員(データ入力①)'!X21=\"\",\"\",'教員(データ入力①)'!X21)","v":""},{"$f":"IF('教員(データ入力①)'!Y21=\"\",\"\",'教員(データ入力①)'!Y21)","v":""},{"$f":"IF('教員(データ入力①)'!Z21=\"\",\"\",'教員(データ入力①)'!Z21)","v":""},{"$f":"IF('教員(データ入力①)'!AA21=\"\",\"\",'教員(データ入力①)'!AA21)","v":""},{"$f":"IF('教員(データ入力①)'!AB21=\"\",\"\",'教員(データ入力①)'!AB21)","v":""},{"$f":"IF('教員(データ入力①)'!AC21=\"\",\"\",'教員(データ入力①)'!AC21)","v":""},{"$f":"IF('教員(データ入力①)'!AD21=\"\",\"\",'教員(データ入力①)'!AD21)","v":""},{"$f":"IF('教員(データ入力①)'!AE21=\"\",\"\",'教員(データ入力①)'!AE21)","v":""},{"$f":"IF('教員(データ入力①)'!AF21=\"\",\"\",'教員(データ入力①)'!AF21)","v":""},{"$f":"IF('教員(データ入力①)'!AG21=\"\",\"\",'教員(データ入力①)'!AG21)","v":""},{"$f":"IF('教員(データ入力①)'!AH21=\"\",\"\",'教員(データ入力①)'!AH21)","v":""},{"$f":"IF('教員(データ入力①)'!AI21=\"\",\"\",'教員(データ入力①)'!AI21)","v":""},{"$f":"IF('教員(データ入力①)'!AJ21=\"\",\"\",'教員(データ入力①)'!AJ21)","v":""},{"$f":"IF('教員(データ入力①)'!AK21=\"\",\"\",'教員(データ入力①)'!AK21)","v":""},{"$f":"IF('教員(データ入力①)'!AL21=\"\",\"\",'教員(データ入力①)'!AL21)","v":""},{"$f":"IF('教員(データ入力①)'!AM21=\"\",\"\",'教員(データ入力①)'!AM21)","v":""},{"$f":"IF('教員(データ入力①)'!AN21=\"\",\"\",'教員(データ入力①)'!AN21)","v":""},{"$f":"IF('教員(データ入力①)'!AO21=\"\",\"\",'教員(データ入力①)'!AO21)","v":""},{"$f":"IF('教員(データ入力①)'!AP21=\"\",\"\",'教員(データ入力①)'!AP21)","v":""},{"$f":"IF('教員(データ入力①)'!AQ21=\"\",\"\",'教員(データ入力①)'!AQ21)","v":""},{"$f":"IF('教員(データ入力①)'!AR21=\"\",\"\",'教員(データ入力①)'!AR21)","v":""},{"$f":"IF('教員(データ入力①)'!AS21=\"\",\"\",'教員(データ入力①)'!AS21)","v":""},{"$f":"IF('教員(データ入力①)'!AT21=\"\",\"\",'教員(データ入力①)'!AT21)","v":""},{"$f":"IF('教員(データ入力①)'!AU21=\"\",\"\",'教員(データ入力①)'!AU21)","v":""},{"$f":"IF('教員(データ入力①)'!AV21=\"\",\"\",'教員(データ入力①)'!AV21)","v":""},{"$f":"IF('教員(データ入力①)'!AW21=\"\",\"\",'教員(データ入力①)'!AW21)","v":""},{"$f":"IF('教員(データ入力①)'!AX21=\"\",\"\",'教員(データ入力①)'!AX21)","v":""},{"$f":"IF('教員(データ入力①)'!AY21=\"\",\"\",'教員(データ入力①)'!AY21)","v":""},{"$f":"IF('教員(データ入力①)'!AZ21=\"\",\"\",'教員(データ入力①)'!AZ21)","v":""},{"$f":"IF('教員(データ入力①)'!BA21=\"\",\"\",'教員(データ入力①)'!BA21)","v":""},{"$f":"IF('教員(データ入力①)'!BB21=\"\",\"\",'教員(データ入力①)'!BB21)","v":""},{"$f":"IF('教員(データ入力①)'!BC21=\"\",\"\",'教員(データ入力①)'!BC21)","v":""},{"$f":"IF('教員(データ入力①)'!BD21=\"\",\"\",'教員(データ入力①)'!BD21)","v":""},{"$f":"IF('教員(データ入力①)'!BE21=\"\",\"\",'教員(データ入力①)'!BE21)","v":""},{"$f":"IF('教員(データ入力①)'!BF21=\"\",\"\",'教員(データ入力①)'!BF21)","v":""},{"$f":"IF('教員(データ入力①)'!BG21=\"\",\"\",'教員(データ入力①)'!BG21)","v":""},{"$f":"IF('教員(データ入力①)'!BH21=\"\",\"\",'教員(データ入力①)'!BH21)","v":""},{"$f":"IF('教員(データ入力①)'!BI21=\"\",\"\",'教員(データ入力①)'!BI21)","v":""},{"$f":"IF('教員(データ入力①)'!BJ21=\"\",\"\",'教員(データ入力①)'!BJ21)","v":""},{"$f":"IF('教員(データ入力①)'!BK21=\"\",\"\",'教員(データ入力①)'!BK21)","v":""},{"$f":"IF('教員(データ入力①)'!BL21=\"\",\"\",'教員(データ入力①)'!BL21)","v":""},{"$f":"IF('教員(データ入力①)'!BM21=\"\",\"\",'教員(データ入力①)'!BM21)","v":""},0,{"$error":"#DIV/0!"},null,0,{"$error":"#DIV/0!"},null,0,{"$error":"#DIV/0!"},null,0,{"$error":"#DIV/0!"},null,null,{"$error":"#DIV/0!"},{"$error":"#DIV/0!"},{"$error":"#DIV/0!"},{"$error":"#DIV/0!"},"少しそう思う",null,null,null,null,null,null,null,null,null,null,"否定"]
[null,null,{"$f":"'教員(個人)'!B14","v":"私は，生徒同士が協力して一つのことに取り組むための工夫をしている。"},{"$error":"#DIV/0!"},{"$error":"#DIV/0!"},{"$error":"#DIV/0!"},{"$error":"#DIV/0!"},null,{"$f":"IF('教員(データ入力①)'!F6=\"\",\"\",'教員(データ入力①)'!F6)","v":""},{"$f":"IF('教員(データ入力①)'!G6=\"\",\"\",'教員(データ入力①)'!G6)","v":""},{"$f":"IF('教員(データ入力①)'!H6=\"\",\"\",'教員(データ入力①)'!H6)","v":""},{"$f":"IF('教員(データ入力①)'!I6=\"\",\"\",'教員(データ入力①)'!I6)","v":""},{"$f":"IF('教員(データ入力①)'!J6=\"\",\"\",'教員(データ入力①)'!J6)","v":""},{"$f":"IF('教員(データ入力①)'!K6=\"\",\"\",'教員(データ入力①)'!K6)","v":""},{"$f":"IF('教員(データ入力①)'!L6=\"\",\"\",'教員(データ入力①)'!L6)","v":""},{"$f":"IF('教員(データ入力①)'!M6=\"\",\"\",'教員(データ入力①)'!M6)","v":""},{"$f":"IF('教員(データ入力①)'!N6=\"\",\"\",'教員(データ入力①)'!N6)","v":""},{"$f":"IF('教員(データ入力①)'!O6=\"\",\"\",'教員(データ入力①)'!O6)","v":""},{"$f":"IF('教員(データ入力①)'!P6=\"\",\"\",'教員(データ入力①)'!P6)","v":""},{"$f":"IF('教員(データ入力①)'!Q6=\"\",\"\",'教員(データ入力①)'!Q6)","v":""},{"$f":"IF('教員(データ入力①)'!R6=\"\",\"\",'教員(データ入力①)'!R6)","v":""},{"$f":"IF('教員(データ入力①)'!S6=\"\",\"\",'教員(データ入力①)'!S6)","v":""},{"$f":"IF('教員(データ入力①)'!T6=\"\",\"\",'教員(データ入力①)'!T6)","v":""},{"$f":"IF('教員(データ入力①)'!U6=\"\",\"\",'教員(データ入力①)'!U6)","v":""},{"$f":"IF('教員(データ入力①)'!V6=\"\",\"\",'教員(データ入力①)'!V6)","v":""},{"$f":"IF('教員(データ入力①)'!W6=\"\",\"\",'教員(データ入力①)'!W6)","v":""},{"$f":"IF('教員(データ入力①)'!X6=\"\",\"\",'教員(データ入力①)'!X6)","v":""},{"$f":"IF('教員(データ入力①)'!Y6=\"\",\"\",'教員(データ入力①)'!Y6)","v":""},{"$f":"IF('教員(データ入力①)'!Z6=\"\",\"\",'教員(データ入力①)'!Z6)","v":""},{"$f":"IF('教員(データ入力①)'!AA6=\"\",\"\",'教員(データ入力①)'!AA6)","v":""},{"$f":"IF('教員(データ入力①)'!AB6=\"\",\"\",'教員(データ入力①)'!AB6)","v":""},{"$f":"IF('教員(データ入力①)'!AC6=\"\",\"\",'教員(データ入力①)'!AC6)","v":""},{"$f":"IF('教員(データ入力①)'!AD6=\"\",\"\",'教員(データ入力①)'!AD6)","v":""},{"$f":"IF('教員(データ入力①)'!AE6=\"\",\"\",'教員(データ入力①)'!AE6)","v":""},{"$f":"IF('教員(データ入力①)'!AF6=\"\",\"\",'教員(データ入力①)'!AF6)","v":""},{"$f":"IF('教員(データ入力①)'!AG6=\"\",\"\",'教員(データ入力①)'!AG6)","v":""},{"$f":"IF('教員(データ入力①)'!AH6=\"\",\"\",'教員(データ入力①)'!AH6)","v":""},{"$f":"IF('教員(データ入力①)'!AI6=\"\",\"\",'教員(データ入力①)'!AI6)","v":""},{"$f":"IF('教員(データ入力①)'!AJ6=\"\",\"\",'教員(データ入力①)'!AJ6)","v":""},{"$f":"IF('教員(データ入力①)'!AK6=\"\",\"\",'教員(データ入力①)'!AK6)","v":""},{"$f":"IF('教員(データ入力①)'!AL6=\"\",\"\",'教員(データ入力①)'!AL6)","v":""},{"$f":"IF('教員(データ入力①)'!AM6=\"\",\"\",'教員(データ入力①)'!AM6)","v":""},{"$f":"IF('教員(データ入力①)'!AN6=\"\",\"\",'教員(データ入力①)'!AN6)","v":""},{"$f":"IF('教員(データ入力①)'!AO6=\"\",\"\",'教員(データ入力①)'!AO6)","v":""},{"$f":"IF('教員(データ入力①)'!AP6=\"\",\"\",'教員(データ入力①)'!AP6)","v":""},{"$f":"IF('教員(データ入力①)'!AQ6=\"\",\"\",'教員(データ入力①)'!AQ6)","v":""},{"$f":"IF('教員(データ入力①)'!AR6=\"\",\"\",'教員(データ入力①)'!AR6)","v":""},{"$f":"IF('教員(データ入力①)'!AS6=\"\",\"\",'教員(データ入力①)'!AS6)","v":""},{"$f":"IF('教員(データ入力①)'!AT6=\"\",\"\",'教員(データ入力①)'!AT6)","v":""},{"$f":"IF('教員(データ入力①)'!AU6=\"\",\"\",'教員(データ入力①)'!AU6)","v":""},{"$f":"IF('教員(データ入力①)'!AV6=\"\",\"\",'教員(データ入力①)'!AV6)","v":""},{"$f":"IF('教員(データ入力①)'!AW6=\"\",\"\",'教員(データ入力①)'!AW6)","v":""},{"$f":"IF('教員(データ入力①)'!AX6=\"\",\"\",'教員(データ入力①)'!AX6)","v":""},{"$f":"IF('教員(データ入力①)'!AY6=\"\",\"\",'教員(データ入力①)'!AY6)","v":""},{"$f":"IF('教員(データ入力①)'!AZ6=\"\",\"\",'教員(データ入力①)'!AZ6)","v":""},{"$f":"IF('教員(データ入力①)'!BA6=\"\",\"\",'教員(データ入力①)'!BA6)","v":""},{"$f":"IF('教員(データ入力①)'!BB6=\"\",\"\",'教員(データ入力①)'!BB6)","v":""},{"$f":"IF('教員(データ入力①)'!BC6=\"\",\"\",'教員(データ入力①)'!BC6)","v":""},{"$f":"IF('教員(データ入力①)'!BD6=\"\",\"\",'教員(データ入力①)'!BD6)","v":""},{"$f":"IF('教員(データ入力①)'!BE6=\"\",\"\",'教員(データ入力①)'!BE6)","v":""},{"$f":"IF('教員(データ入力①)'!BF6=\"\",\"\",'教員(データ入力①)'!BF6)","v":""},{"$f":"IF('教員(データ入力①)'!BG6=\"\",\"\",'教員(データ入力①)'!BG6)","v":""},{"$f":"IF('教員(データ入力①)'!BH6=\"\",\"\",'教員(データ入力①)'!BH6)","v":""},{"$f":"IF('教員(データ入力①)'!BI6=\"\",\"\",'教員(データ入力①)'!BI6)","v":""},{"$f":"IF('教員(データ入力①)'!BJ6=\"\",\"\",'教員(データ入力①)'!BJ6)","v":""},{"$f":"IF('教員(データ入力①)'!BK6=\"\",\"\",'教員(データ入力①)'!BK6)","v":""},{"$f":"IF('教員(データ入力①)'!BL6=\"\",\"\",'教員(データ入力①)'!BL6)","v":""},{"$f":"IF('教員(データ入力①)'!BM6=\"\",\"\",'教員(データ入力①)'!BM6)","v":""},0,{"$error":"#DIV/0!"},null,0,{"$error":"#DIV/0!"},null,0,{"$error":"#DIV/0!"},null,0,{"$error":"#DIV/0!"},null,null,{"$error":"#DIV/0!"},{"$error":"#DIV/0!"},{"$error":"#DIV/0!"},{"$error":"#DIV/0!"},"あまりそう思わない"]
[null,null,{"$f":"'教員(個人)'!B15","v":"私は，誰かのユーモアある発言に対し，温かい笑いが生まれるような雰囲気づくりをしている。"},{"$error":"#DIV/0!"},{"$error":"#DIV/0!"},{"$error":"#DIV/0!"},{"$error":"#DIV/0!"},null,{"$f":"IF('教員(データ入力①)'!F9=\"\",\"\",'教員(データ入力①)'!F9)","v":""},{"$f":"IF('教員(データ入力①)'!G9=\"\",\"\",'教員(データ入力①)'!G9)","v":""},{"$f":"IF('教員(データ入力①)'!H9=\"\",\"\",'教員(データ入力①)'!H9)","v":""},{"$f":"IF('教員(データ入力①)'!I9=\"\",\"\",'教員(データ入力①)'!I9)","v":""},{"$f":"IF('教員(データ入力①)'!J9=\"\",\"\",'教員(データ入力①)'!J9)","v":""},{"$f":"IF('教員(データ入力①)'!K9=\"\",\"\",'教員(データ入力①)'!K9)","v":""},{"$f":"IF('教員(データ入力①)'!L9=\"\",\"\",'教員(データ入力①)'!L9)","v":""},{"$f":"IF('教員(データ入力①)'!M9=\"\",\"\",'教員(データ入力①)'!M9)","v":""},{"$f":"IF('教員(データ入力①)'!N9=\"\",\"\",'教員(データ入力①)'!N9)","v":""},{"$f":"IF('教員(データ入力①)'!O9=\"\",\"\",'教員(データ入力①)'!O9)","v":""},{"$f":"IF('教員(データ入力①)'!P9=\"\",\"\",'教員(データ入力①)'!P9)","v":""},{"$f":"IF('教員(データ入力①)'!Q9=\"\",\"\",'教員(データ入力①)'!Q9)","v":""},{"$f":"IF('教員(データ入力①)'!R9=\"\",\"\",'教員(データ入力①)'!R9)","v":""},{"$f":"IF('教員(データ入力①)'!S9=\"\",\"\",'教員(データ入力①)'!S9)","v":""},{"$f":"IF('教員(データ入力①)'!T9=\"\",\"\",'教員(データ入力①)'!T9)","v":""},{"$f":"IF('教員(データ入力①)'!U9=\"\",\"\",'教員(データ入力①)'!U9)","v":""},{"$f":"IF('教員(データ入力①)'!V9=\"\",\"\",'教員(データ入力①)'!V9)","v":""},{"$f":"IF('教員(データ入力①)'!W9=\"\",\"\",'教員(データ入力①)'!W9)","v":""},{"$f":"IF('教員(データ入力①)'!X9=\"\",\"\",'教員(データ入力①)'!X9)","v":""},{"$f":"IF('教員(データ入力①)'!Y9=\"\",\"\",'教員(データ入力①)'!Y9)","v":""},{"$f":"IF('教員(データ入力①)'!Z9=\"\",\"\",'教員(データ入力①)'!Z9)","v":""},{"$f":"IF('教員(データ入力①)'!AA9=\"\",\"\",'教員(データ入力①)'!AA9)","v":""},{"$f":"IF('教員(データ入力①)'!AB9=\"\",\"\",'教員(データ入力①)'!AB9)","v":""},{"$f":"IF('教員(データ入力①)'!AC9=\"\",\"\",'教員(データ入力①)'!AC9)","v":""},{"$f":"IF('教員(データ入力①)'!AD9=\"\",\"\",'教員(データ入力①)'!AD9)","v":""},{"$f":"IF('教員(データ入力①)'!AE9=\"\",\"\",'教員(データ入力①)'!AE9)","v":""},{"$f":"IF('教員(データ入力①)'!AF9=\"\",\"\",'教員(データ入力①)'!AF9)","v":""},{"$f":"IF('教員(データ入力①)'!AG9=\"\",\"\",'教員(データ入力①)'!AG9)","v":""},{"$f":"IF('教員(データ入力①)'!AH9=\"\",\"\",'教員(データ入力①)'!AH9)","v":""},{"$f":"IF('教員(データ入力①)'!AI9=\"\",\"\",'教員(データ入力①)'!AI9)","v":""},{"$f":"IF('教員(データ入力①)'!AJ9=\"\",\"\",'教員(データ入力①)'!AJ9)","v":""},{"$f":"IF('教員(データ入力①)'!AK9=\"\",\"\",'教員(データ入力①)'!AK9)","v":""},{"$f":"IF('教員(データ入力①)'!AL9=\"\",\"\",'教員(データ入力①)'!AL9)","v":""},{"$f":"IF('教員(データ入力①)'!AM9=\"\",\"\",'教員(データ入力①)'!AM9)","v":""},{"$f":"IF('教員(データ入力①)'!AN9=\"\",\"\",'教員(データ入力①)'!AN9)","v":""},{"$f":"IF('教員(データ入力①)'!AO9=\"\",\"\",'教員(データ入力①)'!AO9)","v":""},{"$f":"IF('教員(データ入力①)'!AP9=\"\",\"\",'教員(データ入力①)'!AP9)","v":""},{"$f":"IF('教員(データ入力①)'!AQ9=\"\",\"\",'教員(データ入力①)'!AQ9)","v":""},{"$f":"IF('教員(データ入力①)'!AR9=\"\",\"\",'教員(データ入力①)'!AR9)","v":""},{"$f":"IF('教員(データ入力①)'!AS9=\"\",\"\",'教員(データ入力①)'!AS9)","v":""},{"$f":"IF('教員(データ入力①)'!AT9=\"\",\"\",'教員(データ入力①)'!AT9)","v":""},{"$f":"IF('教員(データ入力①)'!AU9=\"\",\"\",'教員(データ入力①)'!AU9)","v":""},{"$f":"IF('教員(データ入力①)'!AV9=\"\",\"\",'教員(データ入力①)'!AV9)","v":""},{"$f":"IF('教員(データ入力①)'!AW9=\"\",\"\",'教員(データ入力①)'!AW9)","v":""},{"$f":"IF('教員(データ入力①)'!AX9=\"\",\"\",'教員(データ入力①)'!AX9)","v":""},{"$f":"IF('教員(データ入力①)'!AY9=\"\",\"\",'教員(データ入力①)'!AY9)","v":""},{"$f":"IF('教員(データ入力①)'!AZ9=\"\",\"\",'教員(データ入力①)'!AZ9)","v":""},{"$f":"IF('教員(データ入力①)'!BA9=\"\",\"\",'教員(データ入力①)'!BA9)","v":""},{"$f":"IF('教員(データ入力①)'!BB9=\"\",\"\",'教員(データ入力①)'!BB9)","v":""},{"$f":"IF('教員(データ入力①)'!BC9=\"\",\"\",'教員(データ入力①)'!BC9)","v":""},{"$f":"IF('教員(データ入力①)'!BD9=\"\",\"\",'教員(データ入力①)'!BD9)","v":""},{"$f":"IF('教員(データ入力①)'!BE9=\"\",\"\",'教員(データ入力①)'!BE9)","v":""},{"$f":"IF('教員(データ入力①)'!BF9=\"\",\"\",'教員(データ入力①)'!BF9)","v":""},{"$f":"IF('教員(データ入力①)'!BG9=\"\",\"\",'教員(データ入力①)'!BG9)","v":""},{"$f":"IF('教員(データ入力①)'!BH9=\"\",\"\",'教員(データ入力①)'!BH9)","v":""},{"$f":"IF('教員(データ入力①)'!BI9=\"\",\"\",'教員(データ入力①)'!BI9)","v":""},{"$f":"IF('教員(データ入力①)'!BJ9=\"\",\"\",'教員(データ入力①)'!BJ9)","v":""},{"$f":"IF('教員(データ入力①)'!BK9=\"\",\"\",'教員(データ入力①)'!BK9)","v":""},{"$f":"IF('教員(データ入力①)'!BL9=\"\",\"\",'教員(データ入力①)'!BL9)","v":""},{"$f":"IF('教員(データ入力①)'!BM9=\"\",\"\",'教員(データ入力①)'!BM9)","v":""},0,{"$error":"#DIV/0!"},null,0,{"$error":"#DIV/0!"},null,0,{"$error":"#DIV/0!"},null,0,{"$error":"#DIV/0!"},null,null,{"$error":"#DIV/0!"},{"$error":"#DIV/0!"},{"$error":"#DIV/0!"},{"$error":"#DIV/0!"},"そう思わない"]
[null,"自分の考え、選択、決定が尊重されているという安心感",{"$f":"'教員(個人)'!B16","v":"私は，生徒が自分（たち）で学習や生活の目標を決め振り返る場を設けている。"},{"$error":"#DIV/0!"},{"$error":"#DIV/0!"},{"$error":"#DIV/0!"},{"$error":"#DIV/0!"},null,{"$f":"IF('教員(データ入力①)'!F5=\"\",\"\",'教員(データ入力①)'!F5)","v":""},{"$f":"IF('教員(データ入力①)'!G5=\"\",\"\",'教員(データ入力①)'!G5)","v":""},{"$f":"IF('教員(データ入力①)'!H5=\"\",\"\",'教員(データ入力①)'!H5)","v":""},{"$f":"IF('教員(データ入力①)'!I5=\"\",\"\",'教員(データ入力①)'!I5)","v":""},{"$f":"IF('教員(データ入力①)'!J5=\"\",\"\",'教員(データ入力①)'!J5)","v":""},{"$f":"IF('教員(データ入力①)'!K5=\"\",\"\",'教員(データ入力①)'!K5)","v":""},{"$f":"IF('教員(データ入力①)'!L5=\"\",\"\",'教員(データ入力①)'!L5)","v":""},{"$f":"IF('教員(データ入力①)'!M5=\"\",\"\",'教員(データ入力①)'!M5)","v":""},{"$f":"IF('教員(データ入力①)'!N5=\"\",\"\",'教員(データ入力①)'!N5)","v":""},{"$f":"IF('教員(データ入力①)'!O5=\"\",\"\",'教員(データ入力①)'!O5)","v":""},{"$f":"IF('教員(データ入力①)'!P5=\"\",\"\",'教員(データ入力①)'!P5)","v":""},{"$f":"IF('教員(データ入力①)'!Q5=\"\",\"\",'教員(データ入力①)'!Q5)","v":""},{"$f":"IF('教員(データ入力①)'!R5=\"\",\"\",'教員(データ入力①)'!R5)","v":""},{"$f":"IF('教員(データ入力①)'!S5=\"\",\"\",'教員(データ入力①)'!S5)","v":""},{"$f":"IF('教員(データ入力①)'!T5=\"\",\"\",'教員(データ入力①)'!T5)","v":""},{"$f":"IF('教員(データ入力①)'!U5=\"\",\"\",'教員(データ入力①)'!U5)","v":""},{"$f":"IF('教員(データ入力①)'!V5=\"\",\"\",'教員(データ入力①)'!V5)","v":""},{"$f":"IF('教員(データ入力①)'!W5=\"\",\"\",'教員(データ入力①)'!W5)","v":""},{"$f":"IF('教員(データ入力①)'!X5=\"\",\"\",'教員(データ入力①)'!X5)","v":""},{"$f":"IF('教員(データ入力①)'!Y5=\"\",\"\",'教員(データ入力①)'!Y5)","v":""},{"$f":"IF('教員(データ入力①)'!Z5=\"\",\"\",'教員(データ入力①)'!Z5)","v":""},{"$f":"IF('教員(データ入力①)'!AA5=\"\",\"\",'教員(データ入力①)'!AA5)","v":""},{"$f":"IF('教員(データ入力①)'!AB5=\"\",\"\",'教員(データ入力①)'!AB5)","v":""},{"$f":"IF('教員(データ入力①)'!AC5=\"\",\"\",'教員(データ入力①)'!AC5)","v":""},{"$f":"IF('教員(データ入力①)'!AD5=\"\",\"\",'教員(データ入力①)'!AD5)","v":""},{"$f":"IF('教員(データ入力①)'!AE5=\"\",\"\",'教員(データ入力①)'!AE5)","v":""},{"$f":"IF('教員(データ入力①)'!AF5=\"\",\"\",'教員(データ入力①)'!AF5)","v":""},{"$f":"IF('教員(データ入力①)'!AG5=\"\",\"\",'教員(データ入力①)'!AG5)","v":""},{"$f":"IF('教員(データ入力①)'!AH5=\"\",\"\",'教員(データ入力①)'!AH5)","v":""},{"$f":"IF('教員(データ入力①)'!AI5=\"\",\"\",'教員(データ入力①)'!AI5)","v":""},{"$f":"IF('教員(データ入力①)'!AJ5=\"\",\"\",'教員(データ入力①)'!AJ5)","v":""},{"$f":"IF('教員(データ入力①)'!AK5=\"\",\"\",'教員(データ入力①)'!AK5)","v":""},{"$f":"IF('教員(データ入力①)'!AL5=\"\",\"\",'教員(データ入力①)'!AL5)","v":""},{"$f":"IF('教員(データ入力①)'!AM5=\"\",\"\",'教員(データ入力①)'!AM5)","v":""},{"$f":"IF('教員(データ入力①)'!AN5=\"\",\"\",'教員(データ入力①)'!AN5)","v":""},{"$f":"IF('教員(データ入力①)'!AO5=\"\",\"\",'教員(データ入力①)'!AO5)","v":""},{"$f":"IF('教員(データ入力①)'!AP5=\"\",\"\",'教員(データ入力①)'!AP5)","v":""},{"$f":"IF('教員(データ入力①)'!AQ5=\"\",\"\",'教員(データ入力①)'!AQ5)","v":""},{"$f":"IF('教員(データ入力①)'!AR5=\"\",\"\",'教員(データ入力①)'!AR5)","v":""},{"$f":"IF('教員(データ入力①)'!AS5=\"\",\"\",'教員(データ入力①)'!AS5)","v":""},{"$f":"IF('教員(データ入力①)'!AT5=\"\",\"\",'教員(データ入力①)'!AT5)","v":""},{"$f":"IF('教員(データ入力①)'!AU5=\"\",\"\",'教員(データ入力①)'!AU5)","v":""},{"$f":"IF('教員(データ入力①)'!AV5=\"\",\"\",'教員(データ入力①)'!AV5)","v":""},{"$f":"IF('教員(データ入力①)'!AW5=\"\",\"\",'教員(データ入力①)'!AW5)","v":""},{"$f":"IF('教員(データ入力①)'!AX5=\"\",\"\",'教員(データ入力①)'!AX5)","v":""},{"$f":"IF('教員(データ入力①)'!AY5=\"\",\"\",'教員(データ入力①)'!AY5)","v":""},{"$f":"IF('教員(データ入力①)'!AZ5=\"\",\"\",'教員(データ入力①)'!AZ5)","v":""},{"$f":"IF('教員(データ入力①)'!BA5=\"\",\"\",'教員(データ入力①)'!BA5)","v":""},{"$f":"IF('教員(データ入力①)'!BB5=\"\",\"\",'教員(データ入力①)'!BB5)","v":""},{"$f":"IF('教員(データ入力①)'!BC5=\"\",\"\",'教員(データ入力①)'!BC5)","v":""},{"$f":"IF('教員(データ入力①)'!BD5=\"\",\"\",'教員(データ入力①)'!BD5)","v":""},{"$f":"IF('教員(データ入力①)'!BE5=\"\",\"\",'教員(データ入力①)'!BE5)","v":""},{"$f":"IF('教員(データ入力①)'!BF5=\"\",\"\",'教員(データ入力①)'!BF5)","v":""},{"$f":"IF('教員(データ入力①)'!BG5=\"\",\"\",'教員(データ入力①)'!BG5)","v":""},{"$f":"IF('教員(データ入力①)'!BH5=\"\",\"\",'教員(データ入力①)'!BH5)","v":""},{"$f":"IF('教員(データ入力①)'!BI5=\"\",\"\",'教員(データ入力①)'!BI5)","v":""},{"$f":"IF('教員(データ入力①)'!BJ5=\"\",\"\",'教員(データ入力①)'!BJ5)","v":""},{"$f":"IF('教員(データ入力①)'!BK5=\"\",\"\",'教員(データ入力①)'!BK5)","v":""},{"$f":"IF('教員(データ入力①)'!BL5=\"\",\"\",'教員(データ入力①)'!BL5)","v":""},{"$f":"IF('教員(データ入力①)'!BM5=\"\",\"\",'教員(データ入力①)'!BM5)","v":""},0,{"$error":"#DIV/0!"},null,0,{"$error":"#DIV/0!"},null,0,{"$error":"#DIV/0!"},null,0,{"$error":"#DIV/0!"},null,null,{"$error":"#DIV/0!"},{"$error":"#DIV/0!"},{"$error":"#DIV/0!"},{"$error":"#DIV/0!"}]
[null,null,{"$f":"'教員(個人)'!B17","v":"私は，生徒主体の活動場面を設けている。"},{"$error":"#DIV/0!"},{"$error":"#DIV/0!"},{"$error":"#DIV/0!"},{"$error":"#DIV/0!"},null,{"$f":"IF('教員(データ入力①)'!F24=\"\",\"\",'教員(データ入力①)'!F24)","v":""},{"$f":"IF('教員(データ入力①)'!G24=\"\",\"\",'教員(データ入力①)'!G24)","v":""},{"$f":"IF('教員(データ入力①)'!H24=\"\",\"\",'教員(データ入力①)'!H24)","v":""},{"$f":"IF('教員(データ入力①)'!I24=\"\",\"\",'教員(データ入力①)'!I24)","v":""},{"$f":"IF('教員(データ入力①)'!J24=\"\",\"\",'教員(データ入力①)'!J24)","v":""},{"$f":"IF('教員(データ入力①)'!K24=\"\",\"\",'教員(データ入力①)'!K24)","v":""},{"$f":"IF('教員(データ入力①)'!L24=\"\",\"\",'教員(データ入力①)'!L24)","v":""},{"$f":"IF('教員(データ入力①)'!M24=\"\",\"\",'教員(データ入力①)'!M24)","v":""},{"$f":"IF('教員(データ入力①)'!N24=\"\",\"\",'教員(データ入力①)'!N24)","v":""},{"$f":"IF('教員(データ入力①)'!O24=\"\",\"\",'教員(データ入力①)'!O24)","v":""},{"$f":"IF('教員(データ入力①)'!P24=\"\",\"\",'教員(データ入力①)'!P24)","v":""},{"$f":"IF('教員(データ入力①)'!Q24=\"\",\"\",'教員(データ入力①)'!Q24)","v":""},{"$f":"IF('教員(データ入力①)'!R24=\"\",\"\",'教員(データ入力①)'!R24)","v":""},{"$f":"IF('教員(データ入力①)'!S24=\"\",\"\",'教員(データ入力①)'!S24)","v":""},{"$f":"IF('教員(データ入力①)'!T24=\"\",\"\",'教員(データ入力①)'!T24)","v":""},{"$f":"IF('教員(データ入力①)'!U24=\"\",\"\",'教員(データ入力①)'!U24)","v":""},{"$f":"IF('教員(データ入力①)'!V24=\"\",\"\",'教員(データ入力①)'!V24)","v":""},{"$f":"IF('教員(データ入力①)'!W24=\"\",\"\",'教員(データ入力①)'!W24)","v":""},{"$f":"IF('教員(データ入力①)'!X24=\"\",\"\",'教員(データ入力①)'!X24)","v":""},{"$f":"IF('教員(データ入力①)'!Y24=\"\",\"\",'教員(データ入力①)'!Y24)","v":""},{"$f":"IF('教員(データ入力①)'!Z24=\"\",\"\",'教員(データ入力①)'!Z24)","v":""},{"$f":"IF('教員(データ入力①)'!AA24=\"\",\"\",'教員(データ入力①)'!AA24)","v":""},{"$f":"IF('教員(データ入力①)'!AB24=\"\",\"\",'教員(データ入力①)'!AB24)","v":""},{"$f":"IF('教員(データ入力①)'!AC24=\"\",\"\",'教員(データ入力①)'!AC24)","v":""},{"$f":"IF('教員(データ入力①)'!AD24=\"\",\"\",'教員(データ入力①)'!AD24)","v":""},{"$f":"IF('教員(データ入力①)'!AE24=\"\",\"\",'教員(データ入力①)'!AE24)","v":""},{"$f":"IF('教員(データ入力①)'!AF24=\"\",\"\",'教員(データ入力①)'!AF24)","v":""},{"$f":"IF('教員(データ入力①)'!AG24=\"\",\"\",'教員(データ入力①)'!AG24)","v":""},{"$f":"IF('教員(データ入力①)'!AH24=\"\",\"\",'教員(データ入力①)'!AH24)","v":""},{"$f":"IF('教員(データ入力①)'!AI24=\"\",\"\",'教員(データ入力①)'!AI24)","v":""},{"$f":"IF('教員(データ入力①)'!AJ24=\"\",\"\",'教員(データ入力①)'!AJ24)","v":""},{"$f":"IF('教員(データ入力①)'!AK24=\"\",\"\",'教員(データ入力①)'!AK24)","v":""},{"$f":"IF('教員(データ入力①)'!AL24=\"\",\"\",'教員(データ入力①)'!AL24)","v":""},{"$f":"IF('教員(データ入力①)'!AM24=\"\",\"\",'教員(データ入力①)'!AM24)","v":""},{"$f":"IF('教員(データ入力①)'!AN24=\"\",\"\",'教員(データ入力①)'!AN24)","v":""},{"$f":"IF('教員(データ入力①)'!AO24=\"\",\"\",'教員(データ入力①)'!AO24)","v":""},{"$f":"IF('教員(データ入力①)'!AP24=\"\",\"\",'教員(データ入力①)'!AP24)","v":""},{"$f":"IF('教員(データ入力①)'!AQ24=\"\",\"\",'教員(データ入力①)'!AQ24)","v":""},{"$f":"IF('教員(データ入力①)'!AR24=\"\",\"\",'教員(データ入力①)'!AR24)","v":""},{"$f":"IF('教員(データ入力①)'!AS24=\"\",\"\",'教員(データ入力①)'!AS24)","v":""},{"$f":"IF('教員(データ入力①)'!AT24=\"\",\"\",'教員(データ入力①)'!AT24)","v":""},{"$f":"IF('教員(データ入力①)'!AU24=\"\",\"\",'教員(データ入力①)'!AU24)","v":""},{"$f":"IF('教員(データ入力①)'!AV24=\"\",\"\",'教員(データ入力①)'!AV24)","v":""},{"$f":"IF('教員(データ入力①)'!AW24=\"\",\"\",'教員(データ入力①)'!AW24)","v":""},{"$f":"IF('教員(データ入力①)'!AX24=\"\",\"\",'教員(データ入力①)'!AX24)","v":""},{"$f":"IF('教員(データ入力①)'!AY24=\"\",\"\",'教員(データ入力①)'!AY24)","v":""},{"$f":"IF('教員(データ入力①)'!AZ24=\"\",\"\",'教員(データ入力①)'!AZ24)","v":""},{"$f":"IF('教員(データ入力①)'!BA24=\"\",\"\",'教員(データ入力①)'!BA24)","v":""},{"$f":"IF('教員(データ入力①)'!BB24=\"\",\"\",'教員(データ入力①)'!BB24)","v":""},{"$f":"IF('教員(データ入力①)'!BC24=\"\",\"\",'教員(データ入力①)'!BC24)","v":""},{"$f":"IF('教員(データ入力①)'!BD24=\"\",\"\",'教員(データ入力①)'!BD24)","v":""},{"$f":"IF('教員(データ入力①)'!BE24=\"\",\"\",'教員(データ入力①)'!BE24)","v":""},{"$f":"IF('教員(データ入力①)'!BF24=\"\",\"\",'教員(データ入力①)'!BF24)","v":""},{"$f":"IF('教員(データ入力①)'!BG24=\"\",\"\",'教員(データ入力①)'!BG24)","v":""},{"$f":"IF('教員(データ入力①)'!BH24=\"\",\"\",'教員(データ入力①)'!BH24)","v":""},{"$f":"IF('教員(データ入力①)'!BI24=\"\",\"\",'教員(データ入力①)'!BI24)","v":""},{"$f":"IF('教員(データ入力①)'!BJ24=\"\",\"\",'教員(データ入力①)'!BJ24)","v":""},{"$f":"IF('教員(データ入力①)'!BK24=\"\",\"\",'教員(データ入力①)'!BK24)","v":""},{"$f":"IF('教員(データ入力①)'!BL24=\"\",\"\",'教員(データ入力①)'!BL24)","v":""},{"$f":"IF('教員(データ入力①)'!BM24=\"\",\"\",'教員(データ入力①)'!BM24)","v":""},0,{"$error":"#DIV/0!"},null,0,{"$error":"#DIV/0!"},null,0,{"$error":"#DIV/0!"},null,0,{"$error":"#DIV/0!"},null,null,{"$error":"#DIV/0!"},{"$error":"#DIV/0!"},{"$error":"#DIV/0!"},{"$error":"#DIV/0!"}]
[null,null,{"$f":"'教員(個人)'!B18","v":"私は，生徒が調べたり制作したりする場面で個別に声掛けをしている。"},{"$error":"#DIV/0!"},{"$error":"#DIV/0!"},{"$error":"#DIV/0!"},{"$error":"#DIV/0!"},null,{"$f":"IF('教員(データ入力①)'!F13=\"\",\"\",'教員(データ入力①)'!F13)","v":""},{"$f":"IF('教員(データ入力①)'!G13=\"\",\"\",'教員(データ入力①)'!G13)","v":""},{"$f":"IF('教員(データ入力①)'!H13=\"\",\"\",'教員(データ入力①)'!H13)","v":""},{"$f":"IF('教員(データ入力①)'!I13=\"\",\"\",'教員(データ入力①)'!I13)","v":""},{"$f":"IF('教員(データ入力①)'!J13=\"\",\"\",'教員(データ入力①)'!J13)","v":""},{"$f":"IF('教員(データ入力①)'!K13=\"\",\"\",'教員(データ入力①)'!K13)","v":""},{"$f":"IF('教員(データ入力①)'!L13=\"\",\"\",'教員(データ入力①)'!L13)","v":""},{"$f":"IF('教員(データ入力①)'!M13=\"\",\"\",'教員(データ入力①)'!M13)","v":""},{"$f":"IF('教員(データ入力①)'!N13=\"\",\"\",'教員(データ入力①)'!N13)","v":""},{"$f":"IF('教員(データ入力①)'!O13=\"\",\"\",'教員(データ入力①)'!O13)","v":""},{"$f":"IF('教員(データ入力①)'!P13=\"\",\"\",'教員(データ入力①)'!P13)","v":""},{"$f":"IF('教員(データ入力①)'!Q13=\"\",\"\",'教員(データ入力①)'!Q13)","v":""},{"$f":"IF('教員(データ入力①)'!R13=\"\",\"\",'教員(データ入力①)'!R13)","v":""},{"$f":"IF('教員(データ入力①)'!S13=\"\",\"\",'教員(データ入力①)'!S13)","v":""},{"$f":"IF('教員(データ入力①)'!T13=\"\",\"\",'教員(データ入力①)'!T13)","v":""},{"$f":"IF('教員(データ入力①)'!U13=\"\",\"\",'教員(データ入力①)'!U13)","v":""},{"$f":"IF('教員(データ入力①)'!V13=\"\",\"\",'教員(データ入力①)'!V13)","v":""},{"$f":"IF('教員(データ入力①)'!W13=\"\",\"\",'教員(データ入力①)'!W13)","v":""},{"$f":"IF('教員(データ入力①)'!X13=\"\",\"\",'教員(データ入力①)'!X13)","v":""},{"$f":"IF('教員(データ入力①)'!Y13=\"\",\"\",'教員(データ入力①)'!Y13)","v":""},{"$f":"IF('教員(データ入力①)'!Z13=\"\",\"\",'教員(データ入力①)'!Z13)","v":""},{"$f":"IF('教員(データ入力①)'!AA13=\"\",\"\",'教員(データ入力①)'!AA13)","v":""},{"$f":"IF('教員(データ入力①)'!AB13=\"\",\"\",'教員(データ入力①)'!AB13)","v":""},{"$f":"IF('教員(データ入力①)'!AC13=\"\",\"\",'教員(データ入力①)'!AC13)","v":""},{"$f":"IF('教員(データ入力①)'!AD13=\"\",\"\",'教員(データ入力①)'!AD13)","v":""},{"$f":"IF('教員(データ入力①)'!AE13=\"\",\"\",'教員(データ入力①)'!AE13)","v":""},{"$f":"IF('教員(データ入力①)'!AF13=\"\",\"\",'教員(データ入力①)'!AF13)","v":""},{"$f":"IF('教員(データ入力①)'!AG13=\"\",\"\",'教員(データ入力①)'!AG13)","v":""},{"$f":"IF('教員(データ入力①)'!AH13=\"\",\"\",'教員(データ入力①)'!AH13)","v":""},{"$f":"IF('教員(データ入力①)'!AI13=\"\",\"\",'教員(データ入力①)'!AI13)","v":""},{"$f":"IF('教員(データ入力①)'!AJ13=\"\",\"\",'教員(データ入力①)'!AJ13)","v":""},{"$f":"IF('教員(データ入力①)'!AK13=\"\",\"\",'教員(データ入力①)'!AK13)","v":""},{"$f":"IF('教員(データ入力①)'!AL13=\"\",\"\",'教員(データ入力①)'!AL13)","v":""},{"$f":"IF('教員(データ入力①)'!AM13=\"\",\"\",'教員(データ入力①)'!AM13)","v":""},{"$f":"IF('教員(データ入力①)'!AN13=\"\",\"\",'教員(データ入力①)'!AN13)","v":""},{"$f":"IF('教員(データ入力①)'!AO13=\"\",\"\",'教員(データ入力①)'!AO13)","v":""},{"$f":"IF('教員(データ入力①)'!AP13=\"\",\"\",'教員(データ入力①)'!AP13)","v":""},{"$f":"IF('教員(データ入力①)'!AQ13=\"\",\"\",'教員(データ入力①)'!AQ13)","v":""},{"$f":"IF('教員(データ入力①)'!AR13=\"\",\"\",'教員(データ入力①)'!AR13)","v":""},{"$f":"IF('教員(データ入力①)'!AS13=\"\",\"\",'教員(データ入力①)'!AS13)","v":""},{"$f":"IF('教員(データ入力①)'!AT13=\"\",\"\",'教員(データ入力①)'!AT13)","v":""},{"$f":"IF('教員(データ入力①)'!AU13=\"\",\"\",'教員(データ入力①)'!AU13)","v":""},{"$f":"IF('教員(データ入力①)'!AV13=\"\",\"\",'教員(データ入力①)'!AV13)","v":""},{"$f":"IF('教員(データ入力①)'!AW13=\"\",\"\",'教員(データ入力①)'!AW13)","v":""},{"$f":"IF('教員(データ入力①)'!AX13=\"\",\"\",'教員(データ入力①)'!AX13)","v":""},{"$f":"IF('教員(データ入力①)'!AY13=\"\",\"\",'教員(データ入力①)'!AY13)","v":""},{"$f":"IF('教員(データ入力①)'!AZ13=\"\",\"\",'教員(データ入力①)'!AZ13)","v":""},{"$f":"IF('教員(データ入力①)'!BA13=\"\",\"\",'教員(データ入力①)'!BA13)","v":""},{"$f":"IF('教員(データ入力①)'!BB13=\"\",\"\",'教員(データ入力①)'!BB13)","v":""},{"$f":"IF('教員(データ入力①)'!BC13=\"\",\"\",'教員(データ入力①)'!BC13)","v":""},{"$f":"IF('教員(データ入力①)'!BD13=\"\",\"\",'教員(データ入力①)'!BD13)","v":""},{"$f":"IF('教員(データ入力①)'!BE13=\"\",\"\",'教員(データ入力①)'!BE13)","v":""},{"$f":"IF('教員(データ入力①)'!BF13=\"\",\"\",'教員(データ入力①)'!BF13)","v":""},{"$f":"IF('教員(データ入力①)'!BG13=\"\",\"\",'教員(データ入力①)'!BG13)","v":""},{"$f":"IF('教員(データ入力①)'!BH13=\"\",\"\",'教員(データ入力①)'!BH13)","v":""},{"$f":"IF('教員(データ入力①)'!BI13=\"\",\"\",'教員(データ入力①)'!BI13)","v":""},{"$f":"IF('教員(データ入力①)'!BJ13=\"\",\"\",'教員(データ入力①)'!BJ13)","v":""},{"$f":"IF('教員(データ入力①)'!BK13=\"\",\"\",'教員(データ入力①)'!BK13)","v":""},{"$f":"IF('教員(データ入力①)'!BL13=\"\",\"\",'教員(データ入力①)'!BL13)","v":""},{"$f":"IF('教員(データ入力①)'!BM13=\"\",\"\",'教員(データ入力①)'!BM13)","v":""},0,{"$error":"#DIV/0!"},null,0,{"$error":"#DIV/0!"},null,0,{"$error":"#DIV/0!"},null,0,{"$error":"#DIV/0!"},null,null,{"$error":"#DIV/0!"},{"$error":"#DIV/0!"},{"$error":"#DIV/0!"},{"$error":"#DIV/0!"}]
[null,null,{"$f":"'教員(個人)'!B19","v":"私は，生徒が自分の考えを伝えたいと思えるような場面や機会を設けている。"},{"$error":"#DIV/0!"},{"$error":"#DIV/0!"},{"$error":"#DIV/0!"},{"$error":"#DIV/0!"},null,{"$f":"IF('教員(データ入力①)'!F7=\"\",\"\",'教員(データ入力①)'!F7)","v":""},{"$f":"IF('教員(データ入力①)'!G7=\"\",\"\",'教員(データ入力①)'!G7)","v":""},{"$f":"IF('教員(データ入力①)'!H7=\"\",\"\",'教員(データ入力①)'!H7)","v":""},{"$f":"IF('教員(データ入力①)'!I7=\"\",\"\",'教員(データ入力①)'!I7)","v":""},{"$f":"IF('教員(データ入力①)'!J7=\"\",\"\",'教員(データ入力①)'!J7)","v":""},{"$f":"IF('教員(データ入力①)'!K7=\"\",\"\",'教員(データ入力①)'!K7)","v":""},{"$f":"IF('教員(データ入力①)'!L7=\"\",\"\",'教員(データ入力①)'!L7)","v":""},{"$f":"IF('教員(データ入力①)'!M7=\"\",\"\",'教員(データ入力①)'!M7)","v":""},{"$f":"IF('教員(データ入力①)'!N7=\"\",\"\",'教員(データ入力①)'!N7)","v":""},{"$f":"IF('教員(データ入力①)'!O7=\"\",\"\",'教員(データ入力①)'!O7)","v":""},{"$f":"IF('教員(データ入力①)'!P7=\"\",\"\",'教員(データ入力①)'!P7)","v":""},{"$f":"IF('教員(データ入力①)'!Q7=\"\",\"\",'教員(データ入力①)'!Q7)","v":""},{"$f":"IF('教員(データ入力①)'!R7=\"\",\"\",'教員(データ入力①)'!R7)","v":""},{"$f":"IF('教員(データ入力①)'!S7=\"\",\"\",'教員(データ入力①)'!S7)","v":""},{"$f":"IF('教員(データ入力①)'!T7=\"\",\"\",'教員(データ入力①)'!T7)","v":""},{"$f":"IF('教員(データ入力①)'!U7=\"\",\"\",'教員(データ入力①)'!U7)","v":""},{"$f":"IF('教員(データ入力①)'!V7=\"\",\"\",'教員(データ入力①)'!V7)","v":""},{"$f":"IF('教員(データ入力①)'!W7=\"\",\"\",'教員(データ入力①)'!W7)","v":""},{"$f":"IF('教員(データ入力①)'!X7=\"\",\"\",'教員(データ入力①)'!X7)","v":""},{"$f":"IF('教員(データ入力①)'!Y7=\"\",\"\",'教員(データ入力①)'!Y7)","v":""},{"$f":"IF('教員(データ入力①)'!Z7=\"\",\"\",'教員(データ入力①)'!Z7)","v":""},{"$f":"IF('教員(データ入力①)'!AA7=\"\",\"\",'教員(データ入力①)'!AA7)","v":""},{"$f":"IF('教員(データ入力①)'!AB7=\"\",\"\",'教員(データ入力①)'!AB7)","v":""},{"$f":"IF('教員(データ入力①)'!AC7=\"\",\"\",'教員(データ入力①)'!AC7)","v":""},{"$f":"IF('教員(データ入力①)'!AD7=\"\",\"\",'教員(データ入力①)'!AD7)","v":""},{"$f":"IF('教員(データ入力①)'!AE7=\"\",\"\",'教員(データ入力①)'!AE7)","v":""},{"$f":"IF('教員(データ入力①)'!AF7=\"\",\"\",'教員(データ入力①)'!AF7)","v":""},{"$f":"IF('教員(データ入力①)'!AG7=\"\",\"\",'教員(データ入力①)'!AG7)","v":""},{"$f":"IF('教員(データ入力①)'!AH7=\"\",\"\",'教員(データ入力①)'!AH7)","v":""},{"$f":"IF('教員(データ入力①)'!AI7=\"\",\"\",'教員(データ入力①)'!AI7)","v":""},{"$f":"IF('教員(データ入力①)'!AJ7=\"\",\"\",'教員(データ入力①)'!AJ7)","v":""},{"$f":"IF('教員(データ入力①)'!AK7=\"\",\"\",'教員(データ入力①)'!AK7)","v":""},{"$f":"IF('教員(データ入力①)'!AL7=\"\",\"\",'教員(データ入力①)'!AL7)","v":""},{"$f":"IF('教員(データ入力①)'!AM7=\"\",\"\",'教員(データ入力①)'!AM7)","v":""},{"$f":"IF('教員(データ入力①)'!AN7=\"\",\"\",'教員(データ入力①)'!AN7)","v":""},{"$f":"IF('教員(データ入力①)'!AO7=\"\",\"\",'教員(データ入力①)'!AO7)","v":""},{"$f":"IF('教員(データ入力①)'!AP7=\"\",\"\",'教員(データ入力①)'!AP7)","v":""},{"$f":"IF('教員(データ入力①)'!AQ7=\"\",\"\",'教員(データ入力①)'!AQ7)","v":""},{"$f":"IF('教員(データ入力①)'!AR7=\"\",\"\",'教員(データ入力①)'!AR7)","v":""},{"$f":"IF('教員(データ入力①)'!AS7=\"\",\"\",'教員(データ入力①)'!AS7)","v":""},{"$f":"IF('教員(データ入力①)'!AT7=\"\",\"\",'教員(データ入力①)'!AT7)","v":""},{"$f":"IF('教員(データ入力①)'!AU7=\"\",\"\",'教員(データ入力①)'!AU7)","v":""},{"$f":"IF('教員(データ入力①)'!AV7=\"\",\"\",'教員(データ入力①)'!AV7)","v":""},{"$f":"IF('教員(データ入力①)'!AW7=\"\",\"\",'教員(データ入力①)'!AW7)","v":""},{"$f":"IF('教員(データ入力①)'!AX7=\"\",\"\",'教員(データ入力①)'!AX7)","v":""},{"$f":"IF('教員(データ入力①)'!AY7=\"\",\"\",'教員(データ入力①)'!AY7)","v":""},{"$f":"IF('教員(データ入力①)'!AZ7=\"\",\"\",'教員(データ入力①)'!AZ7)","v":""},{"$f":"IF('教員(データ入力①)'!BA7=\"\",\"\",'教員(データ入力①)'!BA7)","v":""},{"$f":"IF('教員(データ入力①)'!BB7=\"\",\"\",'教員(データ入力①)'!BB7)","v":""},{"$f":"IF('教員(データ入力①)'!BC7=\"\",\"\",'教員(データ入力①)'!BC7)","v":""},{"$f":"IF('教員(データ入力①)'!BD7=\"\",\"\",'教員(データ入力①)'!BD7)","v":""},{"$f":"IF('教員(データ入力①)'!BE7=\"\",\"\",'教員(データ入力①)'!BE7)","v":""},{"$f":"IF('教員(データ入力①)'!BF7=\"\",\"\",'教員(データ入力①)'!BF7)","v":""},{"$f":"IF('教員(データ入力①)'!BG7=\"\",\"\",'教員(データ入力①)'!BG7)","v":""},{"$f":"IF('教員(データ入力①)'!BH7=\"\",\"\",'教員(データ入力①)'!BH7)","v":""},{"$f":"IF('教員(データ入力①)'!BI7=\"\",\"\",'教員(データ入力①)'!BI7)","v":""},{"$f":"IF('教員(データ入力①)'!BJ7=\"\",\"\",'教員(データ入力①)'!BJ7)","v":""},{"$f":"IF('教員(データ入力①)'!BK7=\"\",\"\",'教員(データ入力①)'!BK7)","v":""},{"$f":"IF('教員(データ入力①)'!BL7=\"\",\"\",'教員(データ入力①)'!BL7)","v":""},{"$f":"IF('教員(データ入力①)'!BM7=\"\",\"\",'教員(データ入力①)'!BM7)","v":""},0,{"$error":"#DIV/0!"},null,0,{"$error":"#DIV/0!"},null,0,{"$error":"#DIV/0!"},null,0,{"$error":"#DIV/0!"},null,null,{"$error":"#DIV/0!"},{"$error":"#DIV/0!"},{"$error":"#DIV/0!"},{"$error":"#DIV/0!"}]
[null,null,{"$f":"'教員(個人)'!B20","v":"私は，生徒が自分一人で考えるために必要な支援をしている。"},{"$error":"#DIV/0!"},{"$error":"#DIV/0!"},{"$error":"#DIV/0!"},{"$error":"#DIV/0!"},null,{"$f":"IF('教員(データ入力①)'!F16=\"\",\"\",'教員(データ入力①)'!F16)","v":""},{"$f":"IF('教員(データ入力①)'!G16=\"\",\"\",'教員(データ入力①)'!G16)","v":""},{"$f":"IF('教員(データ入力①)'!H16=\"\",\"\",'教員(データ入力①)'!H16)","v":""},{"$f":"IF('教員(データ入力①)'!I16=\"\",\"\",'教員(データ入力①)'!I16)","v":""},{"$f":"IF('教員(データ入力①)'!J16=\"\",\"\",'教員(データ入力①)'!J16)","v":""},{"$f":"IF('教員(データ入力①)'!K16=\"\",\"\",'教員(データ入力①)'!K16)","v":""},{"$f":"IF('教員(データ入力①)'!L16=\"\",\"\",'教員(データ入力①)'!L16)","v":""},{"$f":"IF('教員(データ入力①)'!M16=\"\",\"\",'教員(データ入力①)'!M16)","v":""},{"$f":"IF('教員(データ入力①)'!N16=\"\",\"\",'教員(データ入力①)'!N16)","v":""},{"$f":"IF('教員(データ入力①)'!O16=\"\",\"\",'教員(データ入力①)'!O16)","v":""},{"$f":"IF('教員(データ入力①)'!P16=\"\",\"\",'教員(データ入力①)'!P16)","v":""},{"$f":"IF('教員(データ入力①)'!Q16=\"\",\"\",'教員(データ入力①)'!Q16)","v":""},{"$f":"IF('教員(データ入力①)'!R16=\"\",\"\",'教員(データ入力①)'!R16)","v":""},{"$f":"IF('教員(データ入力①)'!S16=\"\",\"\",'教員(データ入力①)'!S16)","v":""},{"$f":"IF('教員(データ入力①)'!T16=\"\",\"\",'教員(データ入力①)'!T16)","v":""},{"$f":"IF('教員(データ入力①)'!U16=\"\",\"\",'教員(データ入力①)'!U16)","v":""},{"$f":"IF('教員(データ入力①)'!V16=\"\",\"\",'教員(データ入力①)'!V16)","v":""},{"$f":"IF('教員(データ入力①)'!W16=\"\",\"\",'教員(データ入力①)'!W16)","v":""},{"$f":"IF('教員(データ入力①)'!X16=\"\",\"\",'教員(データ入力①)'!X16)","v":""},{"$f":"IF('教員(データ入力①)'!Y16=\"\",\"\",'教員(データ入力①)'!Y16)","v":""},{"$f":"IF('教員(データ入力①)'!Z16=\"\",\"\",'教員(データ入力①)'!Z16)","v":""},{"$f":"IF('教員(データ入力①)'!AA16=\"\",\"\",'教員(データ入力①)'!AA16)","v":""},{"$f":"IF('教員(データ入力①)'!AB16=\"\",\"\",'教員(データ入力①)'!AB16)","v":""},{"$f":"IF('教員(データ入力①)'!AC16=\"\",\"\",'教員(データ入力①)'!AC16)","v":""},{"$f":"IF('教員(データ入力①)'!AD16=\"\",\"\",'教員(データ入力①)'!AD16)","v":""},{"$f":"IF('教員(データ入力①)'!AE16=\"\",\"\",'教員(データ入力①)'!AE16)","v":""},{"$f":"IF('教員(データ入力①)'!AF16=\"\",\"\",'教員(データ入力①)'!AF16)","v":""},{"$f":"IF('教員(データ入力①)'!AG16=\"\",\"\",'教員(データ入力①)'!AG16)","v":""},{"$f":"IF('教員(データ入力①)'!AH16=\"\",\"\",'教員(データ入力①)'!AH16)","v":""},{"$f":"IF('教員(データ入力①)'!AI16=\"\",\"\",'教員(データ入力①)'!AI16)","v":""},{"$f":"IF('教員(データ入力①)'!AJ16=\"\",\"\",'教員(データ入力①)'!AJ16)","v":""},{"$f":"IF('教員(データ入力①)'!AK16=\"\",\"\",'教員(データ入力①)'!AK16)","v":""},{"$f":"IF('教員(データ入力①)'!AL16=\"\",\"\",'教員(データ入力①)'!AL16)","v":""},{"$f":"IF('教員(データ入力①)'!AM16=\"\",\"\",'教員(データ入力①)'!AM16)","v":""},{"$f":"IF('教員(データ入力①)'!AN16=\"\",\"\",'教員(データ入力①)'!AN16)","v":""},{"$f":"IF('教員(データ入力①)'!AO16=\"\",\"\",'教員(データ入力①)'!AO16)","v":""},{"$f":"IF('教員(データ入力①)'!AP16=\"\",\"\",'教員(データ入力①)'!AP16)","v":""},{"$f":"IF('教員(データ入力①)'!AQ16=\"\",\"\",'教員(データ入力①)'!AQ16)","v":""},{"$f":"IF('教員(データ入力①)'!AR16=\"\",\"\",'教員(データ入力①)'!AR16)","v":""},{"$f":"IF('教員(データ入力①)'!AS16=\"\",\"\",'教員(データ入力①)'!AS16)","v":""},{"$f":"IF('教員(データ入力①)'!AT16=\"\",\"\",'教員(データ入力①)'!AT16)","v":""},{"$f":"IF('教員(データ入力①)'!AU16=\"\",\"\",'教員(データ入力①)'!AU16)","v":""},{"$f":"IF('教員(データ入力①)'!AV16=\"\",\"\",'教員(データ入力①)'!AV16)","v":""},{"$f":"IF('教員(データ入力①)'!AW16=\"\",\"\",'教員(データ入力①)'!AW16)","v":""},{"$f":"IF('教員(データ入力①)'!AX16=\"\",\"\",'教員(データ入力①)'!AX16)","v":""},{"$f":"IF('教員(データ入力①)'!AY16=\"\",\"\",'教員(データ入力①)'!AY16)","v":""},{"$f":"IF('教員(データ入力①)'!AZ16=\"\",\"\",'教員(データ入力①)'!AZ16)","v":""},{"$f":"IF('教員(データ入力①)'!BA16=\"\",\"\",'教員(データ入力①)'!BA16)","v":""},{"$f":"IF('教員(データ入力①)'!BB16=\"\",\"\",'教員(データ入力①)'!BB16)","v":""},{"$f":"IF('教員(データ入力①)'!BC16=\"\",\"\",'教員(データ入力①)'!BC16)","v":""},{"$f":"IF('教員(データ入力①)'!BD16=\"\",\"\",'教員(データ入力①)'!BD16)","v":""},{"$f":"IF('教員(データ入力①)'!BE16=\"\",\"\",'教員(データ入力①)'!BE16)","v":""},{"$f":"IF('教員(データ入力①)'!BF16=\"\",\"\",'教員(データ入力①)'!BF16)","v":""},{"$f":"IF('教員(データ入力①)'!BG16=\"\",\"\",'教員(データ入力①)'!BG16)","v":""},{"$f":"IF('教員(データ入力①)'!BH16=\"\",\"\",'教員(データ入力①)'!BH16)","v":""},{"$f":"IF('教員(データ入力①)'!BI16=\"\",\"\",'教員(データ入力①)'!BI16)","v":""},{"$f":"IF('教員(データ入力①)'!BJ16=\"\",\"\",'教員(データ入力①)'!BJ16)","v":""},{"$f":"IF('教員(データ入力①)'!BK16=\"\",\"\",'教員(データ入力①)'!BK16)","v":""},{"$f":"IF('教員(データ入力①)'!BL16=\"\",\"\",'教員(データ入力①)'!BL16)","v":""},{"$f":"IF('教員(データ入力①)'!BM16=\"\",\"\",'教員(データ入力①)'!BM16)","v":""},0,{"$error":"#DIV/0!"},null,0,{"$error":"#DIV/0!"},null,0,{"$error":"#DIV/0!"},null,0,{"$error":"#DIV/0!"},null,null,{"$error":"#DIV/0!"},{"$error":"#DIV/0!"},{"$error":"#DIV/0!"},{"$error":"#DIV/0!"}]
[null,"ルールが守られ他者から傷つけられないという安心感",{"$f":"'教員(個人)'!B21","v":"私は，生徒が自分の役割に責任を持って取り組めるようにしている。"},{"$error":"#DIV/0!"},{"$error":"#DIV/0!"},{"$error":"#DIV/0!"},{"$error":"#DIV/0!"},null,{"$f":"IF('教員(データ入力①)'!F14=\"\",\"\",'教員(データ入力①)'!F14)","v":""},{"$f":"IF('教員(データ入力①)'!G14=\"\",\"\",'教員(データ入力①)'!G14)","v":""},{"$f":"IF('教員(データ入力①)'!H14=\"\",\"\",'教員(データ入力①)'!H14)","v":""},{"$f":"IF('教員(データ入力①)'!I14=\"\",\"\",'教員(データ入力①)'!I14)","v":""},{"$f":"IF('教員(データ入力①)'!J14=\"\",\"\",'教員(データ入力①)'!J14)","v":""},{"$f":"IF('教員(データ入力①)'!K14=\"\",\"\",'教員(データ入力①)'!K14)","v":""},{"$f":"IF('教員(データ入力①)'!L14=\"\",\"\",'教員(データ入力①)'!L14)","v":""},{"$f":"IF('教員(データ入力①)'!M14=\"\",\"\",'教員(データ入力①)'!M14)","v":""},{"$f":"IF('教員(データ入力①)'!N14=\"\",\"\",'教員(データ入力①)'!N14)","v":""},{"$f":"IF('教員(データ入力①)'!O14=\"\",\"\",'教員(データ入力①)'!O14)","v":""},{"$f":"IF('教員(データ入力①)'!P14=\"\",\"\",'教員(データ入力①)'!P14)","v":""},{"$f":"IF('教員(データ入力①)'!Q14=\"\",\"\",'教員(データ入力①)'!Q14)","v":""},{"$f":"IF('教員(データ入力①)'!R14=\"\",\"\",'教員(データ入力①)'!R14)","v":""},{"$f":"IF('教員(データ入力①)'!S14=\"\",\"\",'教員(データ入力①)'!S14)","v":""},{"$f":"IF('教員(データ入力①)'!T14=\"\",\"\",'教員(データ入力①)'!T14)","v":""},{"$f":"IF('教員(データ入力①)'!U14=\"\",\"\",'教員(データ入力①)'!U14)","v":""},{"$f":"IF('教員(データ入力①)'!V14=\"\",\"\",'教員(データ入力①)'!V14)","v":""},{"$f":"IF('教員(データ入力①)'!W14=\"\",\"\",'教員(データ入力①)'!W14)","v":""},{"$f":"IF('教員(データ入力①)'!X14=\"\",\"\",'教員(データ入力①)'!X14)","v":""},{"$f":"IF('教員(データ入力①)'!Y14=\"\",\"\",'教員(データ入力①)'!Y14)","v":""},{"$f":"IF('教員(データ入力①)'!Z14=\"\",\"\",'教員(データ入力①)'!Z14)","v":""},{"$f":"IF('教員(データ入力①)'!AA14=\"\",\"\",'教員(データ入力①)'!AA14)","v":""},{"$f":"IF('教員(データ入力①)'!AB14=\"\",\"\",'教員(データ入力①)'!AB14)","v":""},{"$f":"IF('教員(データ入力①)'!AC14=\"\",\"\",'教員(データ入力①)'!AC14)","v":""},{"$f":"IF('教員(データ入力①)'!AD14=\"\",\"\",'教員(データ入力①)'!AD14)","v":""},{"$f":"IF('教員(データ入力①)'!AE14=\"\",\"\",'教員(データ入力①)'!AE14)","v":""},{"$f":"IF('教員(データ入力①)'!AF14=\"\",\"\",'教員(データ入力①)'!AF14)","v":""},{"$f":"IF('教員(データ入力①)'!AG14=\"\",\"\",'教員(データ入力①)'!AG14)","v":""},{"$f":"IF('教員(データ入力①)'!AH14=\"\",\"\",'教員(データ入力①)'!AH14)","v":""},{"$f":"IF('教員(データ入力①)'!AI14=\"\",\"\",'教員(データ入力①)'!AI14)","v":""},{"$f":"IF('教員(データ入力①)'!AJ14=\"\",\"\",'教員(データ入力①)'!AJ14)","v":""},{"$f":"IF('教員(データ入力①)'!AK14=\"\",\"\",'教員(データ入力①)'!AK14)","v":""},{"$f":"IF('教員(データ入力①)'!AL14=\"\",\"\",'教員(データ入力①)'!AL14)","v":""},{"$f":"IF('教員(データ入力①)'!AM14=\"\",\"\",'教員(データ入力①)'!AM14)","v":""},{"$f":"IF('教員(データ入力①)'!AN14=\"\",\"\",'教員(データ入力①)'!AN14)","v":""},{"$f":"IF('教員(データ入力①)'!AO14=\"\",\"\",'教員(データ入力①)'!AO14)","v":""},{"$f":"IF('教員(データ入力①)'!AP14=\"\",\"\",'教員(データ入力①)'!AP14)","v":""},{"$f":"IF('教員(データ入力①)'!AQ14=\"\",\"\",'教員(データ入力①)'!AQ14)","v":""},{"$f":"IF('教員(データ入力①)'!AR14=\"\",\"\",'教員(データ入力①)'!AR14)","v":""},{"$f":"IF('教員(データ入力①)'!AS14=\"\",\"\",'教員(データ入力①)'!AS14)","v":""},{"$f":"IF('教員(データ入力①)'!AT14=\"\",\"\",'教員(データ入力①)'!AT14)","v":""},{"$f":"IF('教員(データ入力①)'!AU14=\"\",\"\",'教員(データ入力①)'!AU14)","v":""},{"$f":"IF('教員(データ入力①)'!AV14=\"\",\"\",'教員(データ入力①)'!AV14)","v":""},{"$f":"IF('教員(データ入力①)'!AW14=\"\",\"\",'教員(データ入力①)'!AW14)","v":""},{"$f":"IF('教員(データ入力①)'!AX14=\"\",\"\",'教員(データ入力①)'!AX14)","v":""},{"$f":"IF('教員(データ入力①)'!AY14=\"\",\"\",'教員(データ入力①)'!AY14)","v":""},{"$f":"IF('教員(データ入力①)'!AZ14=\"\",\"\",'教員(データ入力①)'!AZ14)","v":""},{"$f":"IF('教員(データ入力①)'!BA14=\"\",\"\",'教員(データ入力①)'!BA14)","v":""},{"$f":"IF('教員(データ入力①)'!BB14=\"\",\"\",'教員(データ入力①)'!BB14)","v":""},{"$f":"IF('教員(データ入力①)'!BC14=\"\",\"\",'教員(データ入力①)'!BC14)","v":""},{"$f":"IF('教員(データ入力①)'!BD14=\"\",\"\",'教員(データ入力①)'!BD14)","v":""},{"$f":"IF('教員(データ入力①)'!BE14=\"\",\"\",'教員(データ入力①)'!BE14)","v":""},{"$f":"IF('教員(データ入力①)'!BF14=\"\",\"\",'教員(データ入力①)'!BF14)","v":""},{"$f":"IF('教員(データ入力①)'!BG14=\"\",\"\",'教員(データ入力①)'!BG14)","v":""},{"$f":"IF('教員(データ入力①)'!BH14=\"\",\"\",'教員(データ入力①)'!BH14)","v":""},{"$f":"IF('教員(データ入力①)'!BI14=\"\",\"\",'教員(データ入力①)'!BI14)","v":""},{"$f":"IF('教員(データ入力①)'!BJ14=\"\",\"\",'教員(データ入力①)'!BJ14)","v":""},{"$f":"IF('教員(データ入力①)'!BK14=\"\",\"\",'教員(データ入力①)'!BK14)","v":""},{"$f":"IF('教員(データ入力①)'!BL14=\"\",\"\",'教員(データ入力①)'!BL14)","v":""},{"$f":"IF('教員(データ入力①)'!BM14=\"\",\"\",'教員(データ入力①)'!BM14)","v":""},0,{"$error":"#DIV/0!"},null,0,{"$error":"#DIV/0!"},null,0,{"$error":"#DIV/0!"},null,0,{"$error":"#DIV/0!"},null,null,{"$error":"#DIV/0!"},{"$error":"#DIV/0!"},{"$error":"#DIV/0!"},{"$error":"#DIV/0!"}]
[null,null,{"$f":"'教員(個人)'!B22","v":"私は，生徒がお互いの間違いや失敗を冷やかしたり，からかったりしない雰囲気づくりをしている。"},{"$error":"#DIV/0!"},{"$error":"#DIV/0!"},{"$error":"#DIV/0!"},{"$error":"#DIV/0!"},null,{"$f":"IF('教員(データ入力①)'!F8=\"\",\"\",'教員(データ入力①)'!F8)","v":""},{"$f":"IF('教員(データ入力①)'!G8=\"\",\"\",'教員(データ入力①)'!G8)","v":""},{"$f":"IF('教員(データ入力①)'!H8=\"\",\"\",'教員(データ入力①)'!H8)","v":""},{"$f":"IF('教員(データ入力①)'!I8=\"\",\"\",'教員(データ入力①)'!I8)","v":""},{"$f":"IF('教員(データ入力①)'!J8=\"\",\"\",'教員(データ入力①)'!J8)","v":""},{"$f":"IF('教員(データ入力①)'!K8=\"\",\"\",'教員(データ入力①)'!K8)","v":""},{"$f":"IF('教員(データ入力①)'!L8=\"\",\"\",'教員(データ入力①)'!L8)","v":""},{"$f":"IF('教員(データ入力①)'!M8=\"\",\"\",'教員(データ入力①)'!M8)","v":""},{"$f":"IF('教員(データ入力①)'!N8=\"\",\"\",'教員(データ入力①)'!N8)","v":""},{"$f":"IF('教員(データ入力①)'!O8=\"\",\"\",'教員(データ入力①)'!O8)","v":""},{"$f":"IF('教員(データ入力①)'!P8=\"\",\"\",'教員(データ入力①)'!P8)","v":""},{"$f":"IF('教員(データ入力①)'!Q8=\"\",\"\",'教員(データ入力①)'!Q8)","v":""},{"$f":"IF('教員(データ入力①)'!R8=\"\",\"\",'教員(データ入力①)'!R8)","v":""},{"$f":"IF('教員(データ入力①)'!S8=\"\",\"\",'教員(データ入力①)'!S8)","v":""},{"$f":"IF('教員(データ入力①)'!T8=\"\",\"\",'教員(データ入力①)'!T8)","v":""},{"$f":"IF('教員(データ入力①)'!U8=\"\",\"\",'教員(データ入力①)'!U8)","v":""},{"$f":"IF('教員(データ入力①)'!V8=\"\",\"\",'教員(データ入力①)'!V8)","v":""},{"$f":"IF('教員(データ入力①)'!W8=\"\",\"\",'教員(データ入力①)'!W8)","v":""},{"$f":"IF('教員(データ入力①)'!X8=\"\",\"\",'教員(データ入力①)'!X8)","v":""},{"$f":"IF('教員(データ入力①)'!Y8=\"\",\"\",'教員(データ入力①)'!Y8)","v":""},{"$f":"IF('教員(データ入力①)'!Z8=\"\",\"\",'教員(データ入力①)'!Z8)","v":""},{"$f":"IF('教員(データ入力①)'!AA8=\"\",\"\",'教員(データ入力①)'!AA8)","v":""},{"$f":"IF('教員(データ入力①)'!AB8=\"\",\"\",'教員(データ入力①)'!AB8)","v":""},{"$f":"IF('教員(データ入力①)'!AC8=\"\",\"\",'教員(データ入力①)'!AC8)","v":""},{"$f":"IF('教員(データ入力①)'!AD8=\"\",\"\",'教員(データ入力①)'!AD8)","v":""},{"$f":"IF('教員(データ入力①)'!AE8=\"\",\"\",'教員(データ入力①)'!AE8)","v":""},{"$f":"IF('教員(データ入力①)'!AF8=\"\",\"\",'教員(データ入力①)'!AF8)","v":""},{"$f":"IF('教員(データ入力①)'!AG8=\"\",\"\",'教員(データ入力①)'!AG8)","v":""},{"$f":"IF('教員(データ入力①)'!AH8=\"\",\"\",'教員(データ入力①)'!AH8)","v":""},{"$f":"IF('教員(データ入力①)'!AI8=\"\",\"\",'教員(データ入力①)'!AI8)","v":""},{"$f":"IF('教員(データ入力①)'!AJ8=\"\",\"\",'教員(データ入力①)'!AJ8)","v":""},{"$f":"IF('教員(データ入力①)'!AK8=\"\",\"\",'教員(データ入力①)'!AK8)","v":""},{"$f":"IF('教員(データ入力①)'!AL8=\"\",\"\",'教員(データ入力①)'!AL8)","v":""},{"$f":"IF('教員(データ入力①)'!AM8=\"\",\"\",'教員(データ入力①)'!AM8)","v":""},{"$f":"IF('教員(データ入力①)'!AN8=\"\",\"\",'教員(データ入力①)'!AN8)","v":""},{"$f":"IF('教員(データ入力①)'!AO8=\"\",\"\",'教員(データ入力①)'!AO8)","v":""},{"$f":"IF('教員(データ入力①)'!AP8=\"\",\"\",'教員(データ入力①)'!AP8)","v":""},{"$f":"IF('教員(データ入力①)'!AQ8=\"\",\"\",'教員(データ入力①)'!AQ8)","v":""},{"$f":"IF('教員(データ入力①)'!AR8=\"\",\"\",'教員(データ入力①)'!AR8)","v":""},{"$f":"IF('教員(データ入力①)'!AS8=\"\",\"\",'教員(データ入力①)'!AS8)","v":""},{"$f":"IF('教員(データ入力①)'!AT8=\"\",\"\",'教員(データ入力①)'!AT8)","v":""},{"$f":"IF('教員(データ入力①)'!AU8=\"\",\"\",'教員(データ入力①)'!AU8)","v":""},{"$f":"IF('教員(データ入力①)'!AV8=\"\",\"\",'教員(データ入力①)'!AV8)","v":""},{"$f":"IF('教員(データ入力①)'!AW8=\"\",\"\",'教員(データ入力①)'!AW8)","v":""},{"$f":"IF('教員(データ入力①)'!AX8=\"\",\"\",'教員(データ入力①)'!AX8)","v":""},{"$f":"IF('教員(データ入力①)'!AY8=\"\",\"\",'教員(データ入力①)'!AY8)","v":""},{"$f":"IF('教員(データ入力①)'!AZ8=\"\",\"\",'教員(データ入力①)'!AZ8)","v":""},{"$f":"IF('教員(データ入力①)'!BA8=\"\",\"\",'教員(データ入力①)'!BA8)","v":""},{"$f":"IF('教員(データ入力①)'!BB8=\"\",\"\",'教員(データ入力①)'!BB8)","v":""},{"$f":"IF('教員(データ入力①)'!BC8=\"\",\"\",'教員(データ入力①)'!BC8)","v":""},{"$f":"IF('教員(データ入力①)'!BD8=\"\",\"\",'教員(データ入力①)'!BD8)","v":""},{"$f":"IF('教員(データ入力①)'!BE8=\"\",\"\",'教員(データ入力①)'!BE8)","v":""},{"$f":"IF('教員(データ入力①)'!BF8=\"\",\"\",'教員(データ入力①)'!BF8)","v":""},{"$f":"IF('教員(データ入力①)'!BG8=\"\",\"\",'教員(データ入力①)'!BG8)","v":""},{"$f":"IF('教員(データ入力①)'!BH8=\"\",\"\",'教員(データ入力①)'!BH8)","v":""},{"$f":"IF('教員(データ入力①)'!BI8=\"\",\"\",'教員(データ入力①)'!BI8)","v":""},{"$f":"IF('教員(データ入力①)'!BJ8=\"\",\"\",'教員(データ入力①)'!BJ8)","v":""},{"$f":"IF('教員(データ入力①)'!BK8=\"\",\"\",'教員(データ入力①)'!BK8)","v":""},{"$f":"IF('教員(データ入力①)'!BL8=\"\",\"\",'教員(データ入力①)'!BL8)","v":""},{"$f":"IF('教員(データ入力①)'!BM8=\"\",\"\",'教員(データ入力①)'!BM8)","v":""},0,{"$error":"#DIV/0!"},null,0,{"$error":"#DIV/0!"},null,0,{"$error":"#DIV/0!"},null,0,{"$error":"#DIV/0!"},null,null,{"$error":"#DIV/0!"},{"$error":"#DIV/0!"},{"$error":"#DIV/0!"},{"$error":"#DIV/0!"}]
[null,null,{"$f":"'教員(個人)'!B23","v":"私は，生徒が周りの迷惑になるような言動を許さない雰囲気づくりをしている。"},{"$error":"#DIV/0!"},{"$error":"#DIV/0!"},{"$error":"#DIV/0!"},{"$error":"#DIV/0!"},null,{"$f":"IF('教員(データ入力①)'!F15=\"\",\"\",'教員(データ入力①)'!F15)","v":""},{"$f":"IF('教員(データ入力①)'!G15=\"\",\"\",'教員(データ入力①)'!G15)","v":""},{"$f":"IF('教員(データ入力①)'!H15=\"\",\"\",'教員(データ入力①)'!H15)","v":""},{"$f":"IF('教員(データ入力①)'!I15=\"\",\"\",'教員(データ入力①)'!I15)","v":""},{"$f":"IF('教員(データ入力①)'!J15=\"\",\"\",'教員(データ入力①)'!J15)","v":""},{"$f":"IF('教員(データ入力①)'!K15=\"\",\"\",'教員(データ入力①)'!K15)","v":""},{"$f":"IF('教員(データ入力①)'!L15=\"\",\"\",'教員(データ入力①)'!L15)","v":""},{"$f":"IF('教員(データ入力①)'!M15=\"\",\"\",'教員(データ入力①)'!M15)","v":""},{"$f":"IF('教員(データ入力①)'!N15=\"\",\"\",'教員(データ入力①)'!N15)","v":""},{"$f":"IF('教員(データ入力①)'!O15=\"\",\"\",'教員(データ入力①)'!O15)","v":""},{"$f":"IF('教員(データ入力①)'!P15=\"\",\"\",'教員(データ入力①)'!P15)","v":""},{"$f":"IF('教員(データ入力①)'!Q15=\"\",\"\",'教員(データ入力①)'!Q15)","v":""},{"$f":"IF('教員(データ入力①)'!R15=\"\",\"\",'教員(データ入力①)'!R15)","v":""},{"$f":"IF('教員(データ入力①)'!S15=\"\",\"\",'教員(データ入力①)'!S15)","v":""},{"$f":"IF('教員(データ入力①)'!T15=\"\",\"\",'教員(データ入力①)'!T15)","v":""},{"$f":"IF('教員(データ入力①)'!U15=\"\",\"\",'教員(データ入力①)'!U15)","v":""},{"$f":"IF('教員(データ入力①)'!V15=\"\",\"\",'教員(データ入力①)'!V15)","v":""},{"$f":"IF('教員(データ入力①)'!W15=\"\",\"\",'教員(データ入力①)'!W15)","v":""},{"$f":"IF('教員(データ入力①)'!X15=\"\",\"\",'教員(データ入力①)'!X15)","v":""},{"$f":"IF('教員(データ入力①)'!Y15=\"\",\"\",'教員(データ入力①)'!Y15)","v":""},{"$f":"IF('教員(データ入力①)'!Z15=\"\",\"\",'教員(データ入力①)'!Z15)","v":""},{"$f":"IF('教員(データ入力①)'!AA15=\"\",\"\",'教員(データ入力①)'!AA15)","v":""},{"$f":"IF('教員(データ入力①)'!AB15=\"\",\"\",'教員(データ入力①)'!AB15)","v":""},{"$f":"IF('教員(データ入力①)'!AC15=\"\",\"\",'教員(データ入力①)'!AC15)","v":""},{"$f":"IF('教員(データ入力①)'!AD15=\"\",\"\",'教員(データ入力①)'!AD15)","v":""},{"$f":"IF('教員(データ入力①)'!AE15=\"\",\"\",'教員(データ入力①)'!AE15)","v":""},{"$f":"IF('教員(データ入力①)'!AF15=\"\",\"\",'教員(データ入力①)'!AF15)","v":""},{"$f":"IF('教員(データ入力①)'!AG15=\"\",\"\",'教員(データ入力①)'!AG15)","v":""},{"$f":"IF('教員(データ入力①)'!AH15=\"\",\"\",'教員(データ入力①)'!AH15)","v":""},{"$f":"IF('教員(データ入力①)'!AI15=\"\",\"\",'教員(データ入力①)'!AI15)","v":""},{"$f":"IF('教員(データ入力①)'!AJ15=\"\",\"\",'教員(データ入力①)'!AJ15)","v":""},{"$f":"IF('教員(データ入力①)'!AK15=\"\",\"\",'教員(データ入力①)'!AK15)","v":""},{"$f":"IF('教員(データ入力①)'!AL15=\"\",\"\",'教員(データ入力①)'!AL15)","v":""},{"$f":"IF('教員(データ入力①)'!AM15=\"\",\"\",'教員(データ入力①)'!AM15)","v":""},{"$f":"IF('教員(データ入力①)'!AN15=\"\",\"\",'教員(データ入力①)'!AN15)","v":""},{"$f":"IF('教員(データ入力①)'!AO15=\"\",\"\",'教員(データ入力①)'!AO15)","v":""},{"$f":"IF('教員(データ入力①)'!AP15=\"\",\"\",'教員(データ入力①)'!AP15)","v":""},{"$f":"IF('教員(データ入力①)'!AQ15=\"\",\"\",'教員(データ入力①)'!AQ15)","v":""},{"$f":"IF('教員(データ入力①)'!AR15=\"\",\"\",'教員(データ入力①)'!AR15)","v":""},{"$f":"IF('教員(データ入力①)'!AS15=\"\",\"\",'教員(データ入力①)'!AS15)","v":""},{"$f":"IF('教員(データ入力①)'!AT15=\"\",\"\",'教員(データ入力①)'!AT15)","v":""},{"$f":"IF('教員(データ入力①)'!AU15=\"\",\"\",'教員(データ入力①)'!AU15)","v":""},{"$f":"IF('教員(データ入力①)'!AV15=\"\",\"\",'教員(データ入力①)'!AV15)","v":""},{"$f":"IF('教員(データ入力①)'!AW15=\"\",\"\",'教員(データ入力①)'!AW15)","v":""},{"$f":"IF('教員(データ入力①)'!AX15=\"\",\"\",'教員(データ入力①)'!AX15)","v":""},{"$f":"IF('教員(データ入力①)'!AY15=\"\",\"\",'教員(データ入力①)'!AY15)","v":""},{"$f":"IF('教員(データ入力①)'!AZ15=\"\",\"\",'教員(データ入力①)'!AZ15)","v":""},{"$f":"IF('教員(データ入力①)'!BA15=\"\",\"\",'教員(データ入力①)'!BA15)","v":""},{"$f":"IF('教員(データ入力①)'!BB15=\"\",\"\",'教員(データ入力①)'!BB15)","v":""},{"$f":"IF('教員(データ入力①)'!BC15=\"\",\"\",'教員(データ入力①)'!BC15)","v":""},{"$f":"IF('教員(データ入力①)'!BD15=\"\",\"\",'教員(データ入力①)'!BD15)","v":""},{"$f":"IF('教員(データ入力①)'!BE15=\"\",\"\",'教員(データ入力①)'!BE15)","v":""},{"$f":"IF('教員(データ入力①)'!BF15=\"\",\"\",'教員(データ入力①)'!BF15)","v":""},{"$f":"IF('教員(データ入力①)'!BG15=\"\",\"\",'教員(データ入力①)'!BG15)","v":""},{"$f":"IF('教員(データ入力①)'!BH15=\"\",\"\",'教員(データ入力①)'!BH15)","v":""},{"$f":"IF('教員(データ入力①)'!BI15=\"\",\"\",'教員(データ入力①)'!BI15)","v":""},{"$f":"IF('教員(データ入力①)'!BJ15=\"\",\"\",'教員(データ入力①)'!BJ15)","v":""},{"$f":"IF('教員(データ入力①)'!BK15=\"\",\"\",'教員(データ入力①)'!BK15)","v":""},{"$f":"IF('教員(データ入力①)'!BL15=\"\",\"\",'教員(データ入力①)'!BL15)","v":""},{"$f":"IF('教員(データ入力①)'!BM15=\"\",\"\",'教員(データ入力①)'!BM15)","v":""},0,{"$error":"#DIV/0!"},null,0,{"$error":"#DIV/0!"},null,0,{"$error":"#DIV/0!"},null,0,{"$error":"#DIV/0!"},null,null,{"$error":"#DIV/0!"},{"$error":"#DIV/0!"},{"$error":"#DIV/0!"},{"$error":"#DIV/0!"}]
[null,null,{"$f":"'教員(個人)'!B24","v":"私は，活動の始まりと終わりの時間を守っている。"},{"$error":"#DIV/0!"},{"$error":"#DIV/0!"},{"$error":"#DIV/0!"},{"$error":"#DIV/0!"},null,{"$f":"IF('教員(データ入力①)'!F23=\"\",\"\",'教員(データ入力①)'!F23)","v":""},{"$f":"IF('教員(データ入力①)'!G23=\"\",\"\",'教員(データ入力①)'!G23)","v":""},{"$f":"IF('教員(データ入力①)'!H23=\"\",\"\",'教員(データ入力①)'!H23)","v":""},{"$f":"IF('教員(データ入力①)'!I23=\"\",\"\",'教員(データ入力①)'!I23)","v":""},{"$f":"IF('教員(データ入力①)'!J23=\"\",\"\",'教員(データ入力①)'!J23)","v":""},{"$f":"IF('教員(データ入力①)'!K23=\"\",\"\",'教員(データ入力①)'!K23)","v":""},{"$f":"IF('教員(データ入力①)'!L23=\"\",\"\",'教員(データ入力①)'!L23)","v":""},{"$f":"IF('教員(データ入力①)'!M23=\"\",\"\",'教員(データ入力①)'!M23)","v":""},{"$f":"IF('教員(データ入力①)'!N23=\"\",\"\",'教員(データ入力①)'!N23)","v":""},{"$f":"IF('教員(データ入力①)'!O23=\"\",\"\",'教員(データ入力①)'!O23)","v":""},{"$f":"IF('教員(データ入力①)'!P23=\"\",\"\",'教員(データ入力①)'!P23)","v":""},{"$f":"IF('教員(データ入力①)'!Q23=\"\",\"\",'教員(データ入力①)'!Q23)","v":""},{"$f":"IF('教員(データ入力①)'!R23=\"\",\"\",'教員(データ入力①)'!R23)","v":""},{"$f":"IF('教員(データ入力①)'!S23=\"\",\"\",'教員(データ入力①)'!S23)","v":""},{"$f":"IF('教員(データ入力①)'!T23=\"\",\"\",'教員(データ入力①)'!T23)","v":""},{"$f":"IF('教員(データ入力①)'!U23=\"\",\"\",'教員(データ入力①)'!U23)","v":""},{"$f":"IF('教員(データ入力①)'!V23=\"\",\"\",'教員(データ入力①)'!V23)","v":""},{"$f":"IF('教員(データ入力①)'!W23=\"\",\"\",'教員(データ入力①)'!W23)","v":""},{"$f":"IF('教員(データ入力①)'!X23=\"\",\"\",'教員(データ入力①)'!X23)","v":""},{"$f":"IF('教員(データ入力①)'!Y23=\"\",\"\",'教員(データ入力①)'!Y23)","v":""},{"$f":"IF('教員(データ入力①)'!Z23=\"\",\"\",'教員(データ入力①)'!Z23)","v":""},{"$f":"IF('教員(データ入力①)'!AA23=\"\",\"\",'教員(データ入力①)'!AA23)","v":""},{"$f":"IF('教員(データ入力①)'!AB23=\"\",\"\",'教員(データ入力①)'!AB23)","v":""},{"$f":"IF('教員(データ入力①)'!AC23=\"\",\"\",'教員(データ入力①)'!AC23)","v":""},{"$f":"IF('教員(データ入力①)'!AD23=\"\",\"\",'教員(データ入力①)'!AD23)","v":""},{"$f":"IF('教員(データ入力①)'!AE23=\"\",\"\",'教員(データ入力①)'!AE23)","v":""},{"$f":"IF('教員(データ入力①)'!AF23=\"\",\"\",'教員(データ入力①)'!AF23)","v":""},{"$f":"IF('教員(データ入力①)'!AG23=\"\",\"\",'教員(データ入力①)'!AG23)","v":""},{"$f":"IF('教員(データ入力①)'!AH23=\"\",\"\",'教員(データ入力①)'!AH23)","v":""},{"$f":"IF('教員(データ入力①)'!AI23=\"\",\"\",'教員(データ入力①)'!AI23)","v":""},{"$f":"IF('教員(データ入力①)'!AJ23=\"\",\"\",'教員(データ入力①)'!AJ23)","v":""},{"$f":"IF('教員(データ入力①)'!AK23=\"\",\"\",'教員(データ入力①)'!AK23)","v":""},{"$f":"IF('教員(データ入力①)'!AL23=\"\",\"\",'教員(データ入力①)'!AL23)","v":""},{"$f":"IF('教員(データ入力①)'!AM23=\"\",\"\",'教員(データ入力①)'!AM23)","v":""},{"$f":"IF('教員(データ入力①)'!AN23=\"\",\"\",'教員(データ入力①)'!AN23)","v":""},{"$f":"IF('教員(データ入力①)'!AO23=\"\",\"\",'教員(データ入力①)'!AO23)","v":""},{"$f":"IF('教員(データ入力①)'!AP23=\"\",\"\",'教員(データ入力①)'!AP23)","v":""},{"$f":"IF('教員(データ入力①)'!AQ23=\"\",\"\",'教員(データ入力①)'!AQ23)","v":""},{"$f":"IF('教員(データ入力①)'!AR23=\"\",\"\",'教員(データ入力①)'!AR23)","v":""},{"$f":"IF('教員(データ入力①)'!AS23=\"\",\"\",'教員(データ入力①)'!AS23)","v":""},{"$f":"IF('教員(データ入力①)'!AT23=\"\",\"\",'教員(データ入力①)'!AT23)","v":""},{"$f":"IF('教員(データ入力①)'!AU23=\"\",\"\",'教員(データ入力①)'!AU23)","v":""},{"$f":"IF('教員(データ入力①)'!AV23=\"\",\"\",'教員(データ入力①)'!AV23)","v":""},{"$f":"IF('教員(データ入力①)'!AW23=\"\",\"\",'教員(データ入力①)'!AW23)","v":""},{"$f":"IF('教員(データ入力①)'!AX23=\"\",\"\",'教員(データ入力①)'!AX23)","v":""},{"$f":"IF('教員(データ入力①)'!AY23=\"\",\"\",'教員(データ入力①)'!AY23)","v":""},{"$f":"IF('教員(データ入力①)'!AZ23=\"\",\"\",'教員(データ入力①)'!AZ23)","v":""},{"$f":"IF('教員(データ入力①)'!BA23=\"\",\"\",'教員(データ入力①)'!BA23)","v":""},{"$f":"IF('教員(データ入力①)'!BB23=\"\",\"\",'教員(データ入力①)'!BB23)","v":""},{"$f":"IF('教員(データ入力①)'!BC23=\"\",\"\",'教員(データ入力①)'!BC23)","v":""},{"$f":"IF('教員(データ入力①)'!BD23=\"\",\"\",'教員(データ入力①)'!BD23)","v":""},{"$f":"IF('教員(データ入力①)'!BE23=\"\",\"\",'教員(データ入力①)'!BE23)","v":""},{"$f":"IF('教員(データ入力①)'!BF23=\"\",\"\",'教員(データ入力①)'!BF23)","v":""},{"$f":"IF('教員(データ入力①)'!BG23=\"\",\"\",'教員(データ入力①)'!BG23)","v":""},{"$f":"IF('教員(データ入力①)'!BH23=\"\",\"\",'教員(データ入力①)'!BH23)","v":""},{"$f":"IF('教員(データ入力①)'!BI23=\"\",\"\",'教員(データ入力①)'!BI23)","v":""},{"$f":"IF('教員(データ入力①)'!BJ23=\"\",\"\",'教員(データ入力①)'!BJ23)","v":""},{"$f":"IF('教員(データ入力①)'!BK23=\"\",\"\",'教員(データ入力①)'!BK23)","v":""},{"$f":"IF('教員(データ入力①)'!BL23=\"\",\"\",'教員(データ入力①)'!BL23)","v":""},{"$f":"IF('教員(データ入力①)'!BM23=\"\",\"\",'教員(データ入力①)'!BM23)","v":""},0,{"$error":"#DIV/0!"},null,0,{"$error":"#DIV/0!"},null,0,{"$error":"#DIV/0!"},null,0,{"$error":"#DIV/0!"},null,null,{"$error":"#DIV/0!"},{"$error":"#DIV/0!"},{"$error":"#DIV/0!"},{"$error":"#DIV/0!"}]
[null,null,{"$f":"'教員(個人)'!B25","v":"私は，人の心や体を傷つける言葉や行為を見逃さず毅然とした対応をとっている。"},{"$error":"#DIV/0!"},{"$error":"#DIV/0!"},{"$error":"#DIV/0!"},{"$error":"#DIV/0!"},null,{"$f":"IF('教員(データ入力①)'!F11=\"\",\"\",'教員(データ入力①)'!F11)","v":""},{"$f":"IF('教員(データ入力①)'!G11=\"\",\"\",'教員(データ入力①)'!G11)","v":""},{"$f":"IF('教員(データ入力①)'!H11=\"\",\"\",'教員(データ入力①)'!H11)","v":""},{"$f":"IF('教員(データ入力①)'!I11=\"\",\"\",'教員(データ入力①)'!I11)","v":""},{"$f":"IF('教員(データ入力①)'!J11=\"\",\"\",'教員(データ入力①)'!J11)","v":""},{"$f":"IF('教員(データ入力①)'!K11=\"\",\"\",'教員(データ入力①)'!K11)","v":""},{"$f":"IF('教員(データ入力①)'!L11=\"\",\"\",'教員(データ入力①)'!L11)","v":""},{"$f":"IF('教員(データ入力①)'!M11=\"\",\"\",'教員(データ入力①)'!M11)","v":""},{"$f":"IF('教員(データ入力①)'!N11=\"\",\"\",'教員(データ入力①)'!N11)","v":""},{"$f":"IF('教員(データ入力①)'!O11=\"\",\"\",'教員(データ入力①)'!O11)","v":""},{"$f":"IF('教員(データ入力①)'!P11=\"\",\"\",'教員(データ入力①)'!P11)","v":""},{"$f":"IF('教員(データ入力①)'!Q11=\"\",\"\",'教員(データ入力①)'!Q11)","v":""},{"$f":"IF('教員(データ入力①)'!R11=\"\",\"\",'教員(データ入力①)'!R11)","v":""},{"$f":"IF('教員(データ入力①)'!S11=\"\",\"\",'教員(データ入力①)'!S11)","v":""},{"$f":"IF('教員(データ入力①)'!T11=\"\",\"\",'教員(データ入力①)'!T11)","v":""},{"$f":"IF('教員(データ入力①)'!U11=\"\",\"\",'教員(データ入力①)'!U11)","v":""},{"$f":"IF('教員(データ入力①)'!V11=\"\",\"\",'教員(データ入力①)'!V11)","v":""},{"$f":"IF('教員(データ入力①)'!W11=\"\",\"\",'教員(データ入力①)'!W11)","v":""},{"$f":"IF('教員(データ入力①)'!X11=\"\",\"\",'教員(データ入力①)'!X11)","v":""},{"$f":"IF('教員(データ入力①)'!Y11=\"\",\"\",'教員(データ入力①)'!Y11)","v":""},{"$f":"IF('教員(データ入力①)'!Z11=\"\",\"\",'教員(データ入力①)'!Z11)","v":""},{"$f":"IF('教員(データ入力①)'!AA11=\"\",\"\",'教員(データ入力①)'!AA11)","v":""},{"$f":"IF('教員(データ入力①)'!AB11=\"\",\"\",'教員(データ入力①)'!AB11)","v":""},{"$f":"IF('教員(データ入力①)'!AC11=\"\",\"\",'教員(データ入力①)'!AC11)","v":""},{"$f":"IF('教員(データ入力①)'!AD11=\"\",\"\",'教員(データ入力①)'!AD11)","v":""},{"$f":"IF('教員(データ入力①)'!AE11=\"\",\"\",'教員(データ入力①)'!AE11)","v":""},{"$f":"IF('教員(データ入力①)'!AF11=\"\",\"\",'教員(データ入力①)'!AF11)","v":""},{"$f":"IF('教員(データ入力①)'!AG11=\"\",\"\",'教員(データ入力①)'!AG11)","v":""},{"$f":"IF('教員(データ入力①)'!AH11=\"\",\"\",'教員(データ入力①)'!AH11)","v":""},{"$f":"IF('教員(データ入力①)'!AI11=\"\",\"\",'教員(データ入力①)'!AI11)","v":""},{"$f":"IF('教員(データ入力①)'!AJ11=\"\",\"\",'教員(データ入力①)'!AJ11)","v":""},{"$f":"IF('教員(データ入力①)'!AK11=\"\",\"\",'教員(データ入力①)'!AK11)","v":""},{"$f":"IF('教員(データ入力①)'!AL11=\"\",\"\",'教員(データ入力①)'!AL11)","v":""},{"$f":"IF('教員(データ入力①)'!AM11=\"\",\"\",'教員(データ入力①)'!AM11)","v":""},{"$f":"IF('教員(データ入力①)'!AN11=\"\",\"\",'教員(データ入力①)'!AN11)","v":""},{"$f":"IF('教員(データ入力①)'!AO11=\"\",\"\",'教員(データ入力①)'!AO11)","v":""},{"$f":"IF('教員(データ入力①)'!AP11=\"\",\"\",'教員(データ入力①)'!AP11)","v":""},{"$f":"IF('教員(データ入力①)'!AQ11=\"\",\"\",'教員(データ入力①)'!AQ11)","v":""},{"$f":"IF('教員(データ入力①)'!AR11=\"\",\"\",'教員(データ入力①)'!AR11)","v":""},{"$f":"IF('教員(データ入力①)'!AS11=\"\",\"\",'教員(データ入力①)'!AS11)","v":""},{"$f":"IF('教員(データ入力①)'!AT11=\"\",\"\",'教員(データ入力①)'!AT11)","v":""},{"$f":"IF('教員(データ入力①)'!AU11=\"\",\"\",'教員(データ入力①)'!AU11)","v":""},{"$f":"IF('教員(データ入力①)'!AV11=\"\",\"\",'教員(データ入力①)'!AV11)","v":""},{"$f":"IF('教員(データ入力①)'!AW11=\"\",\"\",'教員(データ入力①)'!AW11)","v":""},{"$f":"IF('教員(データ入力①)'!AX11=\"\",\"\",'教員(データ入力①)'!AX11)","v":""},{"$f":"IF('教員(データ入力①)'!AY11=\"\",\"\",'教員(データ入力①)'!AY11)","v":""},{"$f":"IF('教員(データ入力①)'!AZ11=\"\",\"\",'教員(データ入力①)'!AZ11)","v":""},{"$f":"IF('教員(データ入力①)'!BA11=\"\",\"\",'教員(データ入力①)'!BA11)","v":""},{"$f":"IF('教員(データ入力①)'!BB11=\"\",\"\",'教員(データ入力①)'!BB11)","v":""},{"$f":"IF('教員(データ入力①)'!BC11=\"\",\"\",'教員(データ入力①)'!BC11)","v":""},{"$f":"IF('教員(データ入力①)'!BD11=\"\",\"\",'教員(データ入力①)'!BD11)","v":""},{"$f":"IF('教員(データ入力①)'!BE11=\"\",\"\",'教員(データ入力①)'!BE11)","v":""},{"$f":"IF('教員(データ入力①)'!BF11=\"\",\"\",'教員(データ入力①)'!BF11)","v":""},{"$f":"IF('教員(データ入力①)'!BG11=\"\",\"\",'教員(データ入力①)'!BG11)","v":""},{"$f":"IF('教員(データ入力①)'!BH11=\"\",\"\",'教員(データ入力①)'!BH11)","v":""},{"$f":"IF('教員(データ入力①)'!BI11=\"\",\"\",'教員(データ入力①)'!BI11)","v":""},{"$f":"IF('教員(データ入力①)'!BJ11=\"\",\"\",'教員(データ入力①)'!BJ11)","v":""},{"$f":"IF('教員(データ入力①)'!BK11=\"\",\"\",'教員(データ入力①)'!BK11)","v":""},{"$f":"IF('教員(データ入力①)'!BL11=\"\",\"\",'教員(データ入力①)'!BL11)","v":""},{"$f":"IF('教員(データ入力①)'!BM11=\"\",\"\",'教員(データ入力①)'!BM11)","v":""},0,{"$error":"#DIV/0!"},null,0,{"$error":"#DIV/0!"},null,0,{"$error":"#DIV/0!"},null,0,{"$error":"#DIV/0!"},null,null,{"$error":"#DIV/0!"},{"$error":"#DIV/0!"},{"$error":"#DIV/0!"},{"$error":"#DIV/0!"}]

{"sheet":"教員(一覧表②)","index":16,"n_rows":23,"n_cols":111,"rows_kept":23,"cut":false,"hidden":false,"merged":[[1,79,2,79],[18,1,22,1],[1,68,2,68],[1,69,2,69],[1,71,2,71],[1,72,2,72],[1,70,2,70],[1,77,2,77],[1,78,2,78],[3,1,7,1],[8,1,12,1],[13,1,17,1],[1,74,2,74],[1,75,2,75],[1,73,2,73],[1,76,2,76]]}
[null,null,null,null,null,null,null,null,1,2,3,4,5,6,7,8,9,10,11,12,13,14,15,16,17,18,19,20,21,22,23,24,25,26,27,28,29,30,31,32,33,34,35,36,37,38,39,40,41,42,43,44,45,46,47,48,49,50,51,52,53,54,55,56,57,58,59,60]
[null,null,null,4,3,2,1,"NO",{"$f":"IF('教員(データ入力②)'!F3=\"\",\"\",'教員(データ入力②)'!F3)","v":""},{"$f":"IF('教員(データ入力②)'!G3=\"\",\"\",'教員(データ入力②)'!G3)","v":""},{"$f":"IF('教員(データ入力②)'!H3=\"\",\"\",'教員(データ入力②)'!H3)","v":""},{"$f":"IF('教員(データ入力②)'!I3=\"\",\"\",'教員(データ入力②)'!I3)","v":""},{"$f":"IF('教員(データ入力②)'!J3=\"\",\"\",'教員(データ入力②)'!J3)","v":""},{"$f":"IF('教員(データ入力②)'!K3=\"\",\"\",'教員(データ入力②)'!K3)","v":""},{"$f":"IF('教員(データ入力②)'!L3=\"\",\"\",'教員(データ入力②)'!L3)","v":""},{"$f":"IF('教員(データ入力②)'!M3=\"\",\"\",'教員(データ入力②)'!M3)","v":""},{"$f":"IF('教員(データ入力②)'!N3=\"\",\"\",'教員(データ入力②)'!N3)","v":""},{"$f":"IF('教員(データ入力②)'!O3=\"\",\"\",'教員(データ入力②)'!O3)","v":""},{"$f":"IF('教員(データ入力②)'!P3=\"\",\"\",'教員(データ入力②)'!P3)","v":""},{"$f":"IF('教員(データ入力②)'!Q3=\"\",\"\",'教員(データ入力②)'!Q3)","v":""},{"$f":"IF('教員(データ入力②)'!R3=\"\",\"\",'教員(データ入力②)'!R3)","v":""},{"$f":"IF('教員(データ入力②)'!S3=\"\",\"\",'教員(データ入力②)'!S3)","v":""},{"$f":"IF('教員(データ入力②)'!T3=\"\",\"\",'教員(データ入力②)'!T3)","v":""},{"$f":"IF('教員(データ入力②)'!U3=\"\",\"\",'教員(データ入力②)'!U3)","v":""},{"$f":"IF('教員(データ入力②)'!V3=\"\",\"\",'教員(データ入力②)'!V3)","v":""},{"$f":"IF('教員(データ入力②)'!W3=\"\",\"\",'教員(データ入力②)'!W3)","v":""},{"$f":"IF('教員(データ入力②)'!X3=\"\",\"\",'教員(データ入力②)'!X3)","v":""},{"$f":"IF('教員(データ入力②)'!Y3=\"\",\"\",'教員(データ入力②)'!Y3)","v":""},{"$f":"IF('教員(データ入力②)'!Z3=\"\",\"\",'教員(データ入力②)'!Z3)","v":""},{"$f":"IF('教員(データ入力②)'!AA3=\"\",\"\",'教員(データ入力②)'!AA3)","v":""},{"$f":"IF('教員(データ入力②)'!AB3=\"\",\"\",'教員(データ入力②)'!AB3)","v":""},{"$f":"IF('教員(データ入力②)'!AC3=\"\",\"\",'教員(データ入力②)'!AC3)","v":""},{"$f":"IF('教員(データ入力②)'!AD3=\"\",\"\",'教員(データ入力②)'!AD3)","v":""},{"$f":"IF('教員(データ入力②)'!AE3=\"\",\"\",'教員(データ入力②)'!AE3)","v":""},{"$f":"IF('教員(データ入力②)'!AF3=\"\",\"\",'教員(データ入力②)'!AF3)","v":""},{"$f":"IF('教員(データ入力②)'!AG3=\"\",\"\",'教員(データ入力②)'!AG3)","v":""},{"$f":"IF('教員(データ入力②)'!AH3=\"\",\"\",'教員(データ入力②)'!AH3)","v":""},{"$f":"IF('教員(データ入力②)'!AI3=\"\",\"\",'教員(データ入力②)'!AI3)","v":""},{"$f":"IF('教員(データ入力②)'!AJ3=\"\",\"\",'教員(データ入力②)'!AJ3)","v":""},{"$f":"IF('教員(データ入力②)'!AK3=\"\",\"\",'教員(データ入力②)'!AK3)","v":""},{"$f":"IF('教員(データ入力②)'!AL3=\"\",\"\",'教員(データ入力②)'!AL3)","v":""},{"$f":"IF('教員(データ入力②)'!AM3=\"\",\"\",'教員(データ入力②)'!AM3)","v":""},{"$f":"IF('教員(データ入力②)'!AN3=\"\",\"\",'教員(データ入力②)'!AN3)","v":""},{"$f":"IF('教員(データ入力②)'!AO3=\"\",\"\",'教員(データ入力②)'!AO3)","v":""},{"$f":"IF('教員(データ入力②)'!AP3=\"\",\"\",'教員(データ入力②)'!AP3)","v":""},{"$f":"IF('教員(データ入力②)'!AQ3=\"\",\"\",'教員(データ入力②)'!AQ3)","v":""},{"$f":"IF('教員(データ入力②)'!AR3=\"\",\"\",'教員(データ入力②)'!AR3)","v":""},{"$f":"IF('教員(データ入力②)'!AS3=\"\",\"\",'教員(データ入力②)'!AS3)","v":""},{"$f":"IF('教員(データ入力②)'!AT3=\"\",\"\",'教員(データ入力②)'!AT3)","v":""},{"$f":"IF('教員(データ入力②)'!AU3=\"\",\"\",'教員(データ入力②)'!AU3)","v":""},{"$f":"IF('教員(データ入力②)'!AV3=\"\",\"\",'教員(データ入力②)'!AV3)","v":""},{"$f":"IF('教員(データ入力②)'!AW3=\"\",\"\",'教員(データ入力②)'!AW3)","v":""},{"$f":"IF('教員(データ入力②)'!AX3=\"\",\"\",'教員(データ入力②)'!AX3)","v":""},{"$f":"IF('教員(データ入力②)'!AY3=\"\",\"\",'教員(データ入力②)'!AY3)","v":""},{"$f":"IF('教員(データ入力②)'!AZ3=\"\",\"\",'教員(データ入力②)'!AZ3)","v":""},{"$f":"IF('教員(データ入力②)'!BA3=\"\",\"\",'教員(データ入力②)'!BA3)","v":""},{"$f":"IF('教員(データ入力②)'!BB3=\"\",\"\",'教員(データ入力②)'!BB3)","v":""},{"$f":"IF('教員(データ入力②)'!BC3=\"\",\"\",'教員(データ入力②)'!BC3)","v":""},{"$f":"IF('教員(データ入力②)'!BD3=\"\",\"\",'教員(データ入力②)'!BD3)","v":""},{"$f":"IF('教員(データ入力②)'!BE3=\"\",\"\",'教員(データ入力②)'!BE3)","v":""},{"$f":"IF('教員(データ入力②)'!BF3=\"\",\"\",'教員(データ入力②)'!BF3)","v":""},{"$f":"IF('教員(データ入力②)'!BG3=\"\",\"\",'教員(データ入力②)'!BG3)","v":""},{"$f":"IF('教員(データ入力②)'!BH3=\"\",\"\",'教員(データ入力②)'!BH3)","v":""},{"$f":"IF('教員(データ入力②)'!BI3=\"\",\"\",'教員(データ入力②)'!BI3)","v":""},{"$f":"IF('教員(データ入力②)'!BJ3=\"\",\"\",'教員(データ入力②)'!BJ3)","v":""},{"$f":"IF('教員(データ入力②)'!BK3=\"\",\"\",'教員(データ入力②)'!BK3)","v":""},{"$f":"IF('教員(データ入力②)'!BL3=\"\",\"\",'教員(データ入力②)'!BL3)","v":""},{"$f":"IF('教員(データ入力②)'!BM3=\"\",\"\",'教員(データ入力②)'!BM3)","v":""},"４と答えた人数","割合","比較増減","３と答えた人数","割合","比較増減","２と答えた人数","割合","比較増減","１と答えた人数","割合","比較増減"]
[null,"第２回目","教員","%\n（人数）","%\n（人数）","%\n（人数）","%\n（人数）",null,{"$f":"IF('教員(データ入力②)'!F4=\"\",\"\",'教員(データ入力②)'!F4)","v":""},{"$f":"IF('教員(データ入力②)'!G4=\"\",\"\",'教員(データ入力②)'!G4)","v":""},{"$f":"IF('教員(データ入力②)'!H4=\"\",\"\",'教員(データ入力②)'!H4)","v":""},{"$f":"IF('教員(データ入力②)'!I4=\"\",\"\",'教員(データ入力②)'!I4)","v":""},{"$f":"IF('教員(データ入力②)'!J4=\"\",\"\",'教員(データ入力②)'!J4)","v":""},{"$f":"IF('教員(データ入力②)'!K4=\"\",\"\",'教員(データ入力②)'!K4)","v":""},{"$f":"IF('教員(データ入力②)'!L4=\"\",\"\",'教員(データ入力②)'!L4)","v":""},{"$f":"IF('教員(データ入力②)'!M4=\"\",\"\",'教員(データ入力②)'!M4)","v":""},{"$f":"IF('教員(データ入力②)'!N4=\"\",\"\",'教員(データ入力②)'!N4)","v":""},{"$f":"IF('教員(データ入力②)'!O4=\"\",\"\",'教員(データ入力②)'!O4)","v":""},{"$f":"IF('教員(データ入力②)'!P4=\"\",\"\",'教員(データ入力②)'!P4)","v":""},{"$f":"IF('教員(データ入力②)'!Q4=\"\",\"\",'教員(データ入力②)'!Q4)","v":""},{"$f":"IF('教員(データ入力②)'!R4=\"\",\"\",'教員(データ入力②)'!R4)","v":""},{"$f":"IF('教員(データ入力②)'!S4=\"\",\"\",'教員(データ入力②)'!S4)","v":""},{"$f":"IF('教員(データ入力②)'!T4=\"\",\"\",'教員(データ入力②)'!T4)","v":""},{"$f":"IF('教員(データ入力②)'!U4=\"\",\"\",'教員(データ入力②)'!U4)","v":""},{"$f":"IF('教員(データ入力②)'!V4=\"\",\"\",'教員(データ入力②)'!V4)","v":""},{"$f":"IF('教員(データ入力②)'!W4=\"\",\"\",'教員(データ入力②)'!W4)","v":""},{"$f":"IF('教員(データ入力②)'!X4=\"\",\"\",'教員(データ入力②)'!X4)","v":""},{"$f":"IF('教員(データ入力②)'!Y4=\"\",\"\",'教員(データ入力②)'!Y4)","v":""},{"$f":"IF('教員(データ入力②)'!Z4=\"\",\"\",'教員(データ入力②)'!Z4)","v":""},{"$f":"IF('教員(データ入力②)'!AA4=\"\",\"\",'教員(データ入力②)'!AA4)","v":""},{"$f":"IF('教員(データ入力②)'!AB4=\"\",\"\",'教員(データ入力②)'!AB4)","v":""},{"$f":"IF('教員(データ入力②)'!AC4=\"\",\"\",'教員(データ入力②)'!AC4)","v":""},{"$f":"IF('教員(データ入力②)'!AD4=\"\",\"\",'教員(データ入力②)'!AD4)","v":""},{"$f":"IF('教員(データ入力②)'!AE4=\"\",\"\",'教員(データ入力②)'!AE4)","v":""},{"$f":"IF('教員(データ入力②)'!AF4=\"\",\"\",'教員(データ入力②)'!AF4)","v":""},{"$f":"IF('教員(データ入力②)'!AG4=\"\",\"\",'教員(データ入力②)'!AG4)","v":""},{"$f":"IF('教員(データ入力②)'!AH4=\"\",\"\",'教員(データ入力②)'!AH4)","v":""},{"$f":"IF('教員(データ入力②)'!AI4=\"\",\"\",'教員(データ入力②)'!AI4)","v":""},{"$f":"IF('教員(データ入力②)'!AJ4=\"\",\"\",'教員(データ入力②)'!AJ4)","v":""},{"$f":"IF('教員(データ入力②)'!AK4=\"\",\"\",'教員(データ入力②)'!AK4)","v":""},{"$f":"IF('教員(データ入力②)'!AL4=\"\",\"\",'教員(データ入力②)'!AL4)","v":""},{"$f":"IF('教員(データ入力②)'!AM4=\"\",\"\",'教員(データ入力②)'!AM4)","v":""},{"$f":"IF('教員(データ入力②)'!AN4=\"\",\"\",'教員(データ入力②)'!AN4)","v":""},{"$f":"IF('教員(データ入力②)'!AO4=\"\",\"\",'教員(データ入力②)'!AO4)","v":""},{"$f":"IF('教員(データ入力②)'!AP4=\"\",\"\",'教員(データ入力②)'!AP4)","v":""},{"$f":"IF('教員(データ入力②)'!AQ4=\"\",\"\",'教員(データ入力②)'!AQ4)","v":""},{"$f":"IF('教員(データ入力②)'!AR4=\"\",\"\",'教員(データ入力②)'!AR4)","v":""},{"$f":"IF('教員(データ入力②)'!AS4=\"\",\"\",'教員(データ入力②)'!AS4)","v":""},{"$f":"IF('教員(データ入力②)'!AT4=\"\",\"\",'教員(データ入力②)'!AT4)","v":""},{"$f":"IF('教員(データ入力②)'!AU4=\"\",\"\",'教員(データ入力②)'!AU4)","v":""},{"$f":"IF('教員(データ入力②)'!AV4=\"\",\"\",'教員(データ入力②)'!AV4)","v":""},{"$f":"IF('教員(データ入力②)'!AW4=\"\",\"\",'教員(データ入力②)'!AW4)","v":""},{"$f":"IF('教員(データ入力②)'!AX4=\"\",\"\",'教員(データ入力②)'!AX4)","v":""},{"$f":"IF('教員(データ入力②)'!AY4=\"\",\"\",'教員(データ入力②)'!AY4)","v":""},{"$f":"IF('教員(データ入力②)'!AZ4=\"\",\"\",'教員(データ入力②)'!AZ4)","v":""},{"$f":"IF('教員(データ入力②)'!BA4=\"\",\"\",'教員(データ入力②)'!BA4)","v":""},{"$f":"IF('教員(データ入力②)'!BB4=\"\",\"\",'教員(データ入力②)'!BB4)","v":""},{"$f":"IF('教員(データ入力②)'!BC4=\"\",\"\",'教員(データ入力②)'!BC4)","v":""},{"$f":"IF('教員(データ入力②)'!BD4=\"\",\"\",'教員(データ入力②)'!BD4)","v":""},{"$f":"IF('教員(データ入力②)'!BE4=\"\",\"\",'教員(データ入力②)'!BE4)","v":""},{"$f":"IF('教員(データ入力②)'!BF4=\"\",\"\",'教員(データ入力②)'!BF4)","v":""},{"$f":"IF('教員(データ入力②)'!BG4=\"\",\"\",'教員(データ入力②)'!BG4)","v":""},{"$f":"IF('教員(データ入力②)'!BH4=\"\",\"\",'教員(データ入力②)'!BH4)","v":""},{"$f":"IF('教員(データ入力②)'!BI4=\"\",\"\",'教員(データ入力②)'!BI4)","v":""},{"$f":"IF('教員(データ入力②)'!BJ4=\"\",\"\",'教員(データ入力②)'!BJ4)","v":""},{"$f":"IF('教員(データ入力②)'!BK4=\"\",\"\",'教員(データ入力②)'!BK4)","v":""},{"$f":"IF('教員(データ入力②)'!BL4=\"\",\"\",'教員(データ入力②)'!BL4)","v":""},{"$f":"IF('教員(データ入力②)'!BM4=\"\",\"\",'教員(データ入力②)'!BM4)","v":""},null,null,null,null,null,null,null,null,null,null,null,null,null,"肯定人数","割合","比較増減","否定人数","割合","比較増減"]
[null,"教師や仲間から学級の一員として認められているという安心感",{"$f":"'教員(個人)'!B6","v":"私は，毎日多くの生徒と会話（日記や日誌なども含む）をするように心掛けている。"},{"$f":"BR4&\"%\"&\"（\"&BQ4&\"人）\"","v":{"$error":"#DIV/0!"}},{"$f":"BU4&\"%\"&\"（\"&BT4&\"人\"&\"）\"","v":{"$error":"#DIV/0!"}},{"$f":"BX4&\"%\"&\"（\"&BW4&\"人\"&\"）\"","v":{"$error":"#DIV/0!"}},{"$f":"CA4&\"%\"&\"（\"&BZ4&\"人\"&\"）\"","v":{"$error":"#DIV/0!"}},null,{"$f":"IF('教員(データ入力②)'!F19=\"\",\"\",'教員(データ入力②)'!F19)","v":""},{"$f":"IF('教員(データ入力②)'!G19=\"\",\"\",'教員(データ入力②)'!G19)","v":""},{"$f":"IF('教員(データ入力②)'!H19=\"\",\"\",'教員(データ入力②)'!H19)","v":""},{"$f":"IF('教員(データ入力②)'!I19=\"\",\"\",'教員(データ入力②)'!I19)","v":""},{"$f":"IF('教員(データ入力②)'!J19=\"\",\"\",'教員(データ入力②)'!J19)","v":""},{"$f":"IF('教員(データ入力②)'!K19=\"\",\"\",'教員(データ入力②)'!K19)","v":""},{"$f":"IF('教員(データ入力②)'!L19=\"\",\"\",'教員(データ入力②)'!L19)","v":""},{"$f":"IF('教員(データ入力②)'!M19=\"\",\"\",'教員(データ入力②)'!M19)","v":""},{"$f":"IF('教員(データ入力②)'!N19=\"\",\"\",'教員(データ入力②)'!N19)","v":""},{"$f":"IF('教員(データ入力②)'!O19=\"\",\"\",'教員(データ入力②)'!O19)","v":""},{"$f":"IF('教員(データ入力②)'!P19=\"\",\"\",'教員(データ入力②)'!P19)","v":""},{"$f":"IF('教員(データ入力②)'!Q19=\"\",\"\",'教員(データ入力②)'!Q19)","v":""},{"$f":"IF('教員(データ入力②)'!R19=\"\",\"\",'教員(データ入力②)'!R19)","v":""},{"$f":"IF('教員(データ入力②)'!S19=\"\",\"\",'教員(データ入力②)'!S19)","v":""},{"$f":"IF('教員(データ入力②)'!T19=\"\",\"\",'教員(データ入力②)'!T19)","v":""},{"$f":"IF('教員(データ入力②)'!U19=\"\",\"\",'教員(データ入力②)'!U19)","v":""},{"$f":"IF('教員(データ入力②)'!V19=\"\",\"\",'教員(データ入力②)'!V19)","v":""},{"$f":"IF('教員(データ入力②)'!W19=\"\",\"\",'教員(データ入力②)'!W19)","v":""},{"$f":"IF('教員(データ入力②)'!X19=\"\",\"\",'教員(データ入力②)'!X19)","v":""},{"$f":"IF('教員(データ入力②)'!Y19=\"\",\"\",'教員(データ入力②)'!Y19)","v":""},{"$f":"IF('教員(データ入力②)'!Z19=\"\",\"\",'教員(データ入力②)'!Z19)","v":""},{"$f":"IF('教員(データ入力②)'!AA19=\"\",\"\",'教員(データ入力②)'!AA19)","v":""},{"$f":"IF('教員(データ入力②)'!AB19=\"\",\"\",'教員(データ入力②)'!AB19)","v":""},{"$f":"IF('教員(データ入力②)'!AC19=\"\",\"\",'教員(データ入力②)'!AC19)","v":""},{"$f":"IF('教員(データ入力②)'!AD19=\"\",\"\",'教員(データ入力②)'!AD19)","v":""},{"$f":"IF('教員(データ入力②)'!AE19=\"\",\"\",'教員(データ入力②)'!AE19)","v":""},{"$f":"IF('教員(データ入力②)'!AF19=\"\",\"\",'教員(データ入力②)'!AF19)","v":""},{"$f":"IF('教員(データ入力②)'!AG19=\"\",\"\",'教員(データ入力②)'!AG19)","v":""},{"$f":"IF('教員(データ入力②)'!AH19=\"\",\"\",'教員(データ入力②)'!AH19)","v":""},{"$f":"IF('教員(データ入力②)'!AI19=\"\",\"\",'教員(データ入力②)'!AI19)","v":""},{"$f":"IF('教員(データ入力②)'!AJ19=\"\",\"\",'教員(データ入力②)'!AJ19)","v":""},{"$f":"IF('教員(データ入力②)'!AK19=\"\",\"\",'教員(データ入力②)'!AK19)","v":""},{"$f":"IF('教員(データ入力②)'!AL19=\"\",\"\",'教員(データ入力②)'!AL19)","v":""},{"$f":"IF('教員(データ入力②)'!AM19=\"\",\"\",'教員(データ入力②)'!AM19)","v":""},{"$f":"IF('教員(データ入力②)'!AN19=\"\",\"\",'教員(データ入力②)'!AN19)","v":""},{"$f":"IF('教員(データ入力②)'!AO19=\"\",\"\",'教員(データ入力②)'!AO19)","v":""},{"$f":"IF('教員(データ入力②)'!AP19=\"\",\"\",'教員(データ入力②)'!AP19)","v":""},{"$f":"IF('教員(データ入力②)'!AQ19=\"\",\"\",'教員(データ入力②)'!AQ19)","v":""},{"$f":"IF('教員(データ入力②)'!AR19=\"\",\"\",'教員(データ入力②)'!AR19)","v":""},{"$f":"IF('教員(データ入力②)'!AS19=\"\",\"\",'教員(データ入力②)'!AS19)","v":""},{"$f":"IF('教員(データ入力②)'!AT19=\"\",\"\",'教員(データ入力②)'!AT19)","v":""},{"$f":"IF('教員(データ入力②)'!AU19=\"\",\"\",'教員(データ入力②)'!AU19)","v":""},{"$f":"IF('教員(データ入力②)'!AV19=\"\",\"\",'教員(データ入力②)'!AV19)","v":""},{"$f":"IF('教員(データ入力②)'!AW19=\"\",\"\",'教員(データ入力②)'!AW19)","v":""},{"$f":"IF('教員(データ入力②)'!AX19=\"\",\"\",'教員(データ入力②)'!AX19)","v":""},{"$f":"IF('教員(データ入力②)'!AY19=\"\",\"\",'教員(データ入力②)'!AY19)","v":""},{"$f":"IF('教員(データ入力②)'!AZ19=\"\",\"\",'教員(データ入力②)'!AZ19)","v":""},{"$f":"IF('教員(データ入力②)'!BA19=\"\",\"\",'教員(データ入力②)'!BA19)","v":""},{"$f":"IF('教員(データ入力②)'!BB19=\"\",\"\",'教員(データ入力②)'!BB19)","v":""},{"$f":"IF('教員(データ入力②)'!BC19=\"\",\"\",'教員(データ入力②)'!BC19)","v":""},{"$f":"IF('教員(データ入力②)'!BD19=\"\",\"\",'教員(データ入力②)'!BD19)","v":""},{"$f":"IF('教員(データ入力②)'!BE19=\"\",\"\",'教員(データ入力②)'!BE19)","v":""},{"$f":"IF('教員(データ入力②)'!BF19=\"\",\"\",'教員(データ入力②)'!BF19)","v":""},{"$f":"IF('教員(データ入力②)'!BG19=\"\",\"\",'教員(データ入力②)'!BG19)","v":""},{"$f":"IF('教員(データ入力②)'!BH19=\"\",\"\",'教員(データ入力②)'!BH19)","v":""},{"$f":"IF('教員(データ入力②)'!BI19=\"\",\"\",'教員(データ入力②)'!BI19)","v":""},{"$f":"IF('教員(データ入力②)'!BJ19=\"\",\"\",'教員(データ入力②)'!BJ19)","v":""},{"$f":"IF('教員(データ入力②)'!BK19=\"\",\"\",'教員(データ入力②)'!BK19)","v":""},{"$f":"IF('教員(データ入力②)'!BL19=\"\",\"\",'教員(データ入力②)'!BL19)","v":""},{"$f":"IF('教員(データ入力②)'!BM19=\"\",\"\",'教員(データ入力②)'!BM19)","v":""},{"$f":"COUNTIF(I4:BP4,\"4\")","v":0},{"$f":"ROUND((BQ4/(60-COUNTBLANK(I4:BP4)))*100,1)","v":{"$error":"#DIV/0!"}},{"$f":"ROUND(BR4-'教員(一覧表①)'!BR4,1)","v":{"$error":"#DIV/0!"}},{"$f":"COUNTIF(I4:BP4,\"3\")","v":0},{"$f":"ROUND(BT4/(60-COUNTBLANK(I4:BP4))*100,1)","v":{"$error":"#DIV/0!"}},{"$f":"ROUND(BU4-'教員(一覧表①)'!BU4,1)","v":{"$error":"#DIV/0!"}},{"$f":"COUNTIF(I4:BP4,\"2\")","v":0},{"$f":"ROUND(BW4/(60-COUNTBLANK(I4:BP4))*100,1)","v":{"$error":"#DIV/0!"}},{"$f":"ROUND(BX4-'教員(一覧表①)'!BX4,1)","v":{"$error":"#DIV/0!"}},{"$f":"COUNTIF(I4:BP4,\"1\")","v":0},{"$f":"ROUND(BZ4/(60-COUNTBLANK(I4:BP4))*100,1)","v":{"$error":"#DIV/0!"}},{"$f":"ROUND(CA4-'教員(一覧表①)'!CA4,1)","v":{"$error":"#DIV/0!"}},null,{"$f":"BQ4+BT4","v":0},{"$f":"ROUND(BR4+BU4,1)","v":{"$error":"#DIV/0!"}},{"$f":"ROUND(BS4+BV4,1)","v":{"$error":"#DIV/0!"}},{"$f":"BW4+BZ4","v":0},{"$f":"ROUND(BX4+CA4,1)","v":{"$error":"#DIV/0!"}},{"$f":"ROUND(BY4+CB4,1)","v":{"$error":"#DIV/0!"}},null,"人数",null,null,null,null,"割合",null,null,null,null,"比較増減",null,null,null,null,"肯定値と否定値"]
[null,null,{"$f":"'教員(個人)'!B7","v":"私は，どの生徒にも役割を与え，その活躍を認めている。"},{"$f":"BR5&\"%\"&\"（\"&BQ5&\"人）\"","v":{"$error":"#DIV/0!"}},{"$f":"BU5&\"%\"&\"（\"&BT5&\"人\"&\"）\"","v":{"$error":"#DIV/0!"}},{"$f":"BX5&\"%\"&\"（\"&BW5&\"人\"&\"）\"","v":{"$error":"#DIV/0!"}},{"$f":"CA5&\"%\"&\"（\"&BZ5&\"人\"&\"）\"","v":{"$error":"#DIV/0!"}},null,{"$f":"IF('教員(データ入力②)'!F22=\"\",\"\",'教員(データ入力②)'!F22)","v":""},{"$f":"IF('教員(データ入力②)'!G22=\"\",\"\",'教員(データ入力②)'!G22)","v":""},{"$f":"IF('教員(データ入力②)'!H22=\"\",\"\",'教員(データ入力②)'!H22)","v":""},{"$f":"IF('教員(データ入力②)'!I22=\"\",\"\",'教員(データ入力②)'!I22)","v":""},{"$f":"IF('教員(データ入力②)'!J22=\"\",\"\",'教員(データ入力②)'!J22)","v":""},{"$f":"IF('教員(データ入力②)'!K22=\"\",\"\",'教員(データ入力②)'!K22)","v":""},{"$f":"IF('教員(データ入力②)'!L22=\"\",\"\",'教員(データ入力②)'!L22)","v":""},{"$f":"IF('教員(データ入力②)'!M22=\"\",\"\",'教員(データ入力②)'!M22)","v":""},{"$f":"IF('教員(データ入力②)'!N22=\"\",\"\",'教員(データ入力②)'!N22)","v":""},{"$f":"IF('教員(データ入力②)'!O22=\"\",\"\",'教員(データ入力②)'!O22)","v":""},{"$f":"IF('教員(データ入力②)'!P22=\"\",\"\",'教員(データ入力②)'!P22)","v":""},{"$f":"IF('教員(データ入力②)'!Q22=\"\",\"\",'教員(データ入力②)'!Q22)","v":""},{"$f":"IF('教員(データ入力②)'!R22=\"\",\"\",'教員(データ入力②)'!R22)","v":""},{"$f":"IF('教員(データ入力②)'!S22=\"\",\"\",'教員(データ入力②)'!S22)","v":""},{"$f":"IF('教員(データ入力②)'!T22=\"\",\"\",'教員(データ入力②)'!T22)","v":""},{"$f":"IF('教員(データ入力②)'!U22=\"\",\"\",'教員(データ入力②)'!U22)","v":""},{"$f":"IF('教員(データ入力②)'!V22=\"\",\"\",'教員(データ入力②)'!V22)","v":""},{"$f":"IF('教員(データ入力②)'!W22=\"\",\"\",'教員(データ入力②)'!W22)","v":""},{"$f":"IF('教員(データ入力②)'!X22=\"\",\"\",'教員(データ入力②)'!X22)","v":""},{"$f":"IF('教員(データ入力②)'!Y22=\"\",\"\",'教員(データ入力②)'!Y22)","v":""},{"$f":"IF('教員(データ入力②)'!Z22=\"\",\"\",'教員(データ入力②)'!Z22)","v":""},{"$f":"IF('教員(データ入力②)'!AA22=\"\",\"\",'教員(データ入力②)'!AA22)","v":""},{"$f":"IF('教員(データ入力②)'!AB22=\"\",\"\",'教員(データ入力②)'!AB22)","v":""},{"$f":"IF('教員(データ入力②)'!AC22=\"\",\"\",'教員(データ入力②)'!AC22)","v":""},{"$f":"IF('教員(データ入力②)'!AD22=\"\",\"\",'教員(データ入力②)'!AD22)","v":""},{"$f":"IF('教員(データ入力②)'!AE22=\"\",\"\",'教員(データ入力②)'!AE22)","v":""},{"$f":"IF('教員(データ入力②)'!AF22=\"\",\"\",'教員(データ入力②)'!AF22)","v":""},{"$f":"IF('教員(データ入力②)'!AG22=\"\",\"\",'教員(データ入力②)'!AG22)","v":""},{"$f":"IF('教員(データ入力②)'!AH22=\"\",\"\",'教員(データ入力②)'!AH22)","v":""},{"$f":"IF('教員(データ入力②)'!AI22=\"\",\"\",'教員(データ入力②)'!AI22)","v":""},{"$f":"IF('教員(データ入力②)'!AJ22=\"\",\"\",'教員(データ入力②)'!AJ22)","v":""},{"$f":"IF('教員(データ入力②)'!AK22=\"\",\"\",'教員(データ入力②)'!AK22)","v":""},{"$f":"IF('教員(データ入力②)'!AL22=\"\",\"\",'教員(データ入力②)'!AL22)","v":""},{"$f":"IF('教員(データ入力②)'!AM22=\"\",\"\",'教員(データ入力②)'!AM22)","v":""},{"$f":"IF('教員(データ入力②)'!AN22=\"\",\"\",'教員(データ入力②)'!AN22)","v":""},{"$f":"IF('教員(データ入力②)'!AO22=\"\",\"\",'教員(データ入力②)'!AO22)","v":""},{"$f":"IF('教員(データ入力②)'!AP22=\"\",\"\",'教員(データ入力②)'!AP22)","v":""},{"$f":"IF('教員(データ入力②)'!AQ22=\"\",\"\",'教員(データ入力②)'!AQ22)","v":""},{"$f":"IF('教員(データ入力②)'!AR22=\"\",\"\",'教員(データ入力②)'!AR22)","v":""},{"$f":"IF('教員(データ入力②)'!AS22=\"\",\"\",'教員(データ入力②)'!AS22)","v":""},{"$f":"IF('教員(データ入力②)'!AT22=\"\",\"\",'教員(データ入力②)'!AT22)","v":""},{"$f":"IF('教員(データ入力②)'!AU22=\"\",\"\",'教員(データ入力②)'!AU22)","v":""},{"$f":"IF('教員(データ入力②)'!AV22=\"\",\"\",'教員(データ入力②)'!AV22)","v":""},{"$f":"IF('教員(データ入力②)'!AW22=\"\",\"\",'教員(データ入力②)'!AW22)","v":""},{"$f":"IF('教員(データ入力②)'!AX22=\"\",\"\",'教員(データ入力②)'!AX22)","v":""},{"$f":"IF('教員(データ入力②)'!AY22=\"\",\"\",'教員(データ入力②)'!AY22)","v":""},{"$f":"IF('教員(データ入力②)'!AZ22=\"\",\"\",'教員(データ入力②)'!AZ22)","v":""},{"$f":"IF('教員(データ入力②)'!BA22=\"\",\"\",'教員(データ入力②)'!BA22)","v":""},{"$f":"IF('教員(データ入力②)'!BB22=\"\",\"\",'教員(データ入力②)'!BB22)","v":""},{"$f":"IF('教員(データ入力②)'!BC22=\"\",\"\",'教員(データ入力②)'!BC22)","v":""},{"$f":"IF('教員(データ入力②)'!BD22=\"\",\"\",'教員(データ入力②)'!BD22)","v":""},{"$f":"IF('教員(データ入力②)'!BE22=\"\",\"\",'教員(データ入力②)'!BE22)","v":""},{"$f":"IF('教員(データ入力②)'!BF22=\"\",\"\",'教員(データ入力②)'!BF22)","v":""},{"$f":"IF('教員(データ入力②)'!BG22=\"\",\"\",'教員(データ入力②)'!BG22)","v":""},{"$f":"IF('教員(データ入力②)'!BH22=\"\",\"\",'教員(データ入力②)'!BH22)","v":""},{"$f":"IF('教員(データ入力②)'!BI22=\"\",\"\",'教員(データ入力②)'!BI22)","v":""},{"$f":"IF('教員(データ入力②)'!BJ22=\"\",\"\",'教員(データ入力②)'!BJ22)","v":""},{"$f":"IF('教員(データ入力②)'!BK22=\"\",\"\",'教員(データ入力②)'!BK22)","v":""},{"$f":"IF('教員(データ入力②)'!BL22=\"\",\"\",'教員(データ入力②)'!BL22)","v":""},{"$f":"IF('教員(データ入力②)'!BM22=\"\",\"\",'教員(データ入力②)'!BM22)","v":""},0,{"$f":"ROUND((BQ5/(60-COUNTBLANK(I5:BP5)))*100,1)","v":{"$error":"#DIV/0!"}},{"$f":"ROUND(BR5-'教員(一覧表①)'!BR5,1)","v":{"$error":"#DIV/0!"}},0,{"$f":"ROUND(BT5/(60-COUNTBLANK(I5:BP5))*100,1)","v":{"$error":"#DIV/0!"}},{"$f":"ROUND(BU5-'教員(一覧表①)'!BU5,1)","v":{"$error":"#DIV/0!"}},0,{"$f":"ROUND(BW5/(60-COUNTBLANK(I5:BP5))*100,1)","v":{"$error":"#DIV/0!"}},{"$f":"ROUND(BX5-'教員(一覧表①)'!BX5,1)","v":{"$error":"#DIV/0!"}},0,{"$f":"ROUND(BZ5/(60-COUNTBLANK(I5:BP5))*100,1)","v":{"$error":"#DIV/0!"}},{"$f":"ROUND(CA5-'教員(一覧表①)'!CA5,1)","v":{"$error":"#DIV/0!"}},null,0,{"$error":"#DIV/0!"},{"$error":"#DIV/0!"},0,{"$error":"#DIV/0!"},{"$error":"#DIV/0!"},null,4,3,2,1,"合計",4,3,2,1,null,4,3,2,1,null,"肯定人数","肯定割合","肯定比較増減","否定人数","否定割合","肯定比較増減"]
[null,null,{"$f":"'教員(個人)'!B8","v":"私は，生徒に承認や称賛，励ましの言葉を掛けている。"},{"$error":"#DIV/0!"},{"$error":"#DIV/0!"},{"$error":"#DIV/0!"},{"$error":"#DIV/0!"},null,{"$f":"IF('教員(データ入力②)'!F20=\"\",\"\",'教員(データ入力②)'!F20)","v":""},{"$f":"IF('教員(データ入力②)'!G20=\"\",\"\",'教員(データ入力②)'!G20)","v":""},{"$f":"IF('教員(データ入力②)'!H20=\"\",\"\",'教員(データ入力②)'!H20)","v":""},{"$f":"IF('教員(データ入力②)'!I20=\"\",\"\",'教員(データ入力②)'!I20)","v":""},{"$f":"IF('教員(データ入力②)'!J20=\"\",\"\",'教員(データ入力②)'!J20)","v":""},{"$f":"IF('教員(データ入力②)'!K20=\"\",\"\",'教員(データ入力②)'!K20)","v":""},{"$f":"IF('教員(データ入力②)'!L20=\"\",\"\",'教員(データ入力②)'!L20)","v":""},{"$f":"IF('教員(データ入力②)'!M20=\"\",\"\",'教員(データ入力②)'!M20)","v":""},{"$f":"IF('教員(データ入力②)'!N20=\"\",\"\",'教員(データ入力②)'!N20)","v":""},{"$f":"IF('教員(データ入力②)'!O20=\"\",\"\",'教員(データ入力②)'!O20)","v":""},{"$f":"IF('教員(データ入力②)'!P20=\"\",\"\",'教員(データ入力②)'!P20)","v":""},{"$f":"IF('教員(データ入力②)'!Q20=\"\",\"\",'教員(データ入力②)'!Q20)","v":""},{"$f":"IF('教員(データ入力②)'!R20=\"\",\"\",'教員(データ入力②)'!R20)","v":""},{"$f":"IF('教員(データ入力②)'!S20=\"\",\"\",'教員(データ入力②)'!S20)","v":""},{"$f":"IF('教員(データ入力②)'!T20=\"\",\"\",'教員(データ入力②)'!T20)","v":""},{"$f":"IF('教員(データ入力②)'!U20=\"\",\"\",'教員(データ入力②)'!U20)","v":""},{"$f":"IF('教員(データ入力②)'!V20=\"\",\"\",'教員(データ入力②)'!V20)","v":""},{"$f":"IF('教員(データ入力②)'!W20=\"\",\"\",'教員(データ入力②)'!W20)","v":""},{"$f":"IF('教員(データ入力②)'!X20=\"\",\"\",'教員(データ入力②)'!X20)","v":""},{"$f":"IF('教員(データ入力②)'!Y20=\"\",\"\",'教員(データ入力②)'!Y20)","v":""},{"$f":"IF('教員(データ入力②)'!Z20=\"\",\"\",'教員(データ入力②)'!Z20)","v":""},{"$f":"IF('教員(データ入力②)'!AA20=\"\",\"\",'教員(データ入力②)'!AA20)","v":""},{"$f":"IF('教員(データ入力②)'!AB20=\"\",\"\",'教員(データ入力②)'!AB20)","v":""},{"$f":"IF('教員(データ入力②)'!AC20=\"\",\"\",'教員(データ入力②)'!AC20)","v":""},{"$f":"IF('教員(データ入力②)'!AD20=\"\",\"\",'教員(データ入力②)'!AD20)","v":""},{"$f":"IF('教員(データ入力②)'!AE20=\"\",\"\",'教員(データ入力②)'!AE20)","v":""},{"$f":"IF('教員(データ入力②)'!AF20=\"\",\"\",'教員(データ入力②)'!AF20)","v":""},{"$f":"IF('教員(データ入力②)'!AG20=\"\",\"\",'教員(データ入力②)'!AG20)","v":""},{"$f":"IF('教員(データ入力②)'!AH20=\"\",\"\",'教員(データ入力②)'!AH20)","v":""},{"$f":"IF('教員(データ入力②)'!AI20=\"\",\"\",'教員(データ入力②)'!AI20)","v":""},{"$f":"IF('教員(データ入力②)'!AJ20=\"\",\"\",'教員(データ入力②)'!AJ20)","v":""},{"$f":"IF('教員(データ入力②)'!AK20=\"\",\"\",'教員(データ入力②)'!AK20)","v":""},{"$f":"IF('教員(データ入力②)'!AL20=\"\",\"\",'教員(データ入力②)'!AL20)","v":""},{"$f":"IF('教員(データ入力②)'!AM20=\"\",\"\",'教員(データ入力②)'!AM20)","v":""},{"$f":"IF('教員(データ入力②)'!AN20=\"\",\"\",'教員(データ入力②)'!AN20)","v":""},{"$f":"IF('教員(データ入力②)'!AO20=\"\",\"\",'教員(データ入力②)'!AO20)","v":""},{"$f":"IF('教員(データ入力②)'!AP20=\"\",\"\",'教員(データ入力②)'!AP20)","v":""},{"$f":"IF('教員(データ入力②)'!AQ20=\"\",\"\",'教員(データ入力②)'!AQ20)","v":""},{"$f":"IF('教員(データ入力②)'!AR20=\"\",\"\",'教員(データ入力②)'!AR20)","v":""},{"$f":"IF('教員(データ入力②)'!AS20=\"\",\"\",'教員(データ入力②)'!AS20)","v":""},{"$f":"IF('教員(データ入力②)'!AT20=\"\",\"\",'教員(データ入力②)'!AT20)","v":""},{"$f":"IF('教員(データ入力②)'!AU20=\"\",\"\",'教員(データ入力②)'!AU20)","v":""},{"$f":"IF('教員(データ入力②)'!AV20=\"\",\"\",'教員(データ入力②)'!AV20)","v":""},{"$f":"IF('教員(データ入力②)'!AW20=\"\",\"\",'教員(データ入力②)'!AW20)","v":""},{"$f":"IF('教員(データ入力②)'!AX20=\"\",\"\",'教員(データ入力②)'!AX20)","v":""},{"$f":"IF('教員(データ入力②)'!AY20=\"\",\"\",'教員(データ入力②)'!AY20)","v":""},{"$f":"IF('教員(データ入力②)'!AZ20=\"\",\"\",'教員(データ入力②)'!AZ20)","v":""},{"$f":"IF('教員(データ入力②)'!BA20=\"\",\"\",'教員(データ入力②)'!BA20)","v":""},{"$f":"IF('教員(データ入力②)'!BB20=\"\",\"\",'教員(データ入力②)'!BB20)","v":""},{"$f":"IF('教員(データ入力②)'!BC20=\"\",\"\",'教員(データ入力②)'!BC20)","v":""},{"$f":"IF('教員(データ入力②)'!BD20=\"\",\"\",'教員(データ入力②)'!BD20)","v":""},{"$f":"IF('教員(データ入力②)'!BE20=\"\",\"\",'教員(データ入力②)'!BE20)","v":""},{"$f":"IF('教員(データ入力②)'!BF20=\"\",\"\",'教員(データ入力②)'!BF20)","v":""},{"$f":"IF('教員(データ入力②)'!BG20=\"\",\"\",'教員(データ入力②)'!BG20)","v":""},{"$f":"IF('教員(データ入力②)'!BH20=\"\",\"\",'教員(データ入力②)'!BH20)","v":""},{"$f":"IF('教員(データ入力②)'!BI20=\"\",\"\",'教員(データ入力②)'!BI20)","v":""},{"$f":"IF('教員(データ入力②)'!BJ20=\"\",\"\",'教員(データ入力②)'!BJ20)","v":""},{"$f":"IF('教員(データ入力②)'!BK20=\"\",\"\",'教員(データ入力②)'!BK20)","v":""},{"$f":"IF('教員(データ入力②)'!BL20=\"\",\"\",'教員(データ入力②)'!BL20)","v":""},{"$f":"IF('教員(データ入力②)'!BM20=\"\",\"\",'教員(データ入力②)'!BM20)","v":""},0,{"$error":"#DIV/0!"},{"$f":"ROUND(BR6-'教員(一覧表①)'!BR6,1)","v":{"$error":"#DIV/0!"}},0,{"$error":"#DIV/0!"},{"$f":"ROUND(BU6-'教員(一覧表①)'!BU6,1)","v":{"$error":"#DIV/0!"}},0,{"$error":"#DIV/0!"},{"$f":"ROUND(BX6-'教員(一覧表①)'!BX6,1)","v":{"$error":"#DIV/0!"}},0,{"$error":"#DIV/0!"},{"$f":"ROUND(CA6-'教員(一覧表①)'!CA6,1)","v":{"$error":"#DIV/0!"}},null,0,{"$error":"#DIV/0!"},{"$error":"#DIV/0!"},0,{"$error":"#DIV/0!"},{"$error":"#DIV/0!"},"自己存在感の感受平均",{"$f":"BQ4+BQ5+BQ6+BQ7+BQ8","v":0},{"$f":"BT4+BT5+BT6+BT7+BT8","v":0},{"$f":"BW4+BW5+BW6+BW7+BW8","v":0},{"$f":"BZ4+BZ5+BZ6+BZ7+BZ8","v":0},{"$f":"SUM(CK6:CN6)","v":0},{"$f":"ROUND((CK6/$CO$6)*100,1)","v":{"$error":"#DIV/0!"}},{"$f":"ROUND((CL6/$CO$6)*100,1)","v":{"$error":"#DIV/0!"}},{"$f":"ROUND((CM6/$CO$6)*100,1)","v":{"$error":"#DIV/0!"}},{"$f":"ROUND((CN6/$CO$6)*100,1)","v":{"$error":"#DIV/0!"}},null,{"$f":"ROUND(CP6-'教員(一覧表①)'!CN6,1)","v":{"$error":"#DIV/0!"}},{"$f":"ROUND(CQ6-'教員(一覧表①)'!CO6,1)","v":{"$error":"#DIV/0!"}},{"$f":"ROUND(CR6-'教員(一覧表①)'!CP6,1)","v":{"$error":"#DIV/0!"}},{"$f":"ROUND(CS6-'教員(一覧表①)'!CQ6,1)","v":{"$error":"#DIV/0!"}},null,{"$f":"CK6+CL6","v":0},{"$f":"CP6+CQ6","v":{"$error":"#DIV/0!"}},{"$f":"ROUND(CU6+CV6,1)","v":{"$error":"#DIV/0!"}},{"$f":"CM6+CN6","v":0},{"$f":"CR6+CS6","v":{"$error":"#DIV/0!"}},{"$f":"ROUND(CW6+CX6,1)","v":{"$error":"#DIV/0!"}},{"$f":"\"(\"&DB6&\"%)\"","v":{"$error":"#DIV/0!"}},{"$f":"\"(\"&DE6&\"%)\"","v":{"$error":"#DIV/0!"}}]
[null,null,{"$f":"'教員(個人)'!B9","v":"私は，生徒一人一人を理解し尊重している。 "},{"$error":"#DIV/0!"},{"$error":"#DIV/0!"},{"$error":"#DIV/0!"},{"$error":"#DIV/0!"},null,{"$f":"IF('教員(データ入力②)'!F17=\"\",\"\",'教員(データ入力②)'!F17)","v":""},{"$f":"IF('教員(データ入力②)'!G17=\"\",\"\",'教員(データ入力②)'!G17)","v":""},{"$f":"IF('教員(データ入力②)'!H17=\"\",\"\",'教員(データ入力②)'!H17)","v":""},{"$f":"IF('教員(データ入力②)'!I17=\"\",\"\",'教員(データ入力②)'!I17)","v":""},{"$f":"IF('教員(データ入力②)'!J17=\"\",\"\",'教員(データ入力②)'!J17)","v":""},{"$f":"IF('教員(データ入力②)'!K17=\"\",\"\",'教員(データ入力②)'!K17)","v":""},{"$f":"IF('教員(データ入力②)'!L17=\"\",\"\",'教員(データ入力②)'!L17)","v":""},{"$f":"IF('教員(データ入力②)'!M17=\"\",\"\",'教員(データ入力②)'!M17)","v":""},{"$f":"IF('教員(データ入力②)'!N17=\"\",\"\",'教員(データ入力②)'!N17)","v":""},{"$f":"IF('教員(データ入力②)'!O17=\"\",\"\",'教員(データ入力②)'!O17)","v":""},{"$f":"IF('教員(データ入力②)'!P17=\"\",\"\",'教員(データ入力②)'!P17)","v":""},{"$f":"IF('教員(データ入力②)'!Q17=\"\",\"\",'教員(データ入力②)'!Q17)","v":""},{"$f":"IF('教員(データ入力②)'!R17=\"\",\"\",'教員(データ入力②)'!R17)","v":""},{"$f":"IF('教員(データ入力②)'!S17=\"\",\"\",'教員(データ入力②)'!S17)","v":""},{"$f":"IF('教員(データ入力②)'!T17=\"\",\"\",'教員(データ入力②)'!T17)","v":""},{"$f":"IF('教員(データ入力②)'!U17=\"\",\"\",'教員(データ入力②)'!U17)","v":""},{"$f":"IF('教員(データ入力②)'!V17=\"\",\"\",'教員(データ入力②)'!V17)","v":""},{"$f":"IF('教員(データ入力②)'!W17=\"\",\"\",'教員(データ入力②)'!W17)","v":""},{"$f":"IF('教員(データ入力②)'!X17=\"\",\"\",'教員(データ入力②)'!X17)","v":""},{"$f":"IF('教員(データ入力②)'!Y17=\"\",\"\",'教員(データ入力②)'!Y17)","v":""},{"$f":"IF('教員(データ入力②)'!Z17=\"\",\"\",'教員(データ入力②)'!Z17)","v":""},{"$f":"IF('教員(データ入力②)'!AA17=\"\",\"\",'教員(データ入力②)'!AA17)","v":""},{"$f":"IF('教員(データ入力②)'!AB17=\"\",\"\",'教員(データ入力②)'!AB17)","v":""},{"$f":"IF('教員(データ入力②)'!AC17=\"\",\"\",'教員(データ入力②)'!AC17)","v":""},{"$f":"IF('教員(データ入力②)'!AD17=\"\",\"\",'教員(データ入力②)'!AD17)","v":""},{"$f":"IF('教員(データ入力②)'!AE17=\"\",\"\",'教員(データ入力②)'!AE17)","v":""},{"$f":"IF('教員(データ入力②)'!AF17=\"\",\"\",'教員(データ入力②)'!AF17)","v":""},{"$f":"IF('教員(データ入力②)'!AG17=\"\",\"\",'教員(データ入力②)'!AG17)","v":""},{"$f":"IF('教員(データ入力②)'!AH17=\"\",\"\",'教員(データ入力②)'!AH17)","v":""},{"$f":"IF('教員(データ入力②)'!AI17=\"\",\"\",'教員(データ入力②)'!AI17)","v":""},{"$f":"IF('教員(データ入力②)'!AJ17=\"\",\"\",'教員(データ入力②)'!AJ17)","v":""},{"$f":"IF('教員(データ入力②)'!AK17=\"\",\"\",'教員(データ入力②)'!AK17)","v":""},{"$f":"IF('教員(データ入力②)'!AL17=\"\",\"\",'教員(データ入力②)'!AL17)","v":""},{"$f":"IF('教員(データ入力②)'!AM17=\"\",\"\",'教員(データ入力②)'!AM17)","v":""},{"$f":"IF('教員(データ入力②)'!AN17=\"\",\"\",'教員(データ入力②)'!AN17)","v":""},{"$f":"IF('教員(データ入力②)'!AO17=\"\",\"\",'教員(データ入力②)'!AO17)","v":""},{"$f":"IF('教員(データ入力②)'!AP17=\"\",\"\",'教員(データ入力②)'!AP17)","v":""},{"$f":"IF('教員(データ入力②)'!AQ17=\"\",\"\",'教員(データ入力②)'!AQ17)","v":""},{"$f":"IF('教員(データ入力②)'!AR17=\"\",\"\",'教員(データ入力②)'!AR17)","v":""},{"$f":"IF('教員(データ入力②)'!AS17=\"\",\"\",'教員(データ入力②)'!AS17)","v":""},{"$f":"IF('教員(データ入力②)'!AT17=\"\",\"\",'教員(データ入力②)'!AT17)","v":""},{"$f":"IF('教員(データ入力②)'!AU17=\"\",\"\",'教員(データ入力②)'!AU17)","v":""},{"$f":"IF('教員(データ入力②)'!AV17=\"\",\"\",'教員(データ入力②)'!AV17)","v":""},{"$f":"IF('教員(データ入力②)'!AW17=\"\",\"\",'教員(データ入力②)'!AW17)","v":""},{"$f":"IF('教員(データ入力②)'!AX17=\"\",\"\",'教員(データ入力②)'!AX17)","v":""},{"$f":"IF('教員(データ入力②)'!AY17=\"\",\"\",'教員(データ入力②)'!AY17)","v":""},{"$f":"IF('教員(データ入力②)'!AZ17=\"\",\"\",'教員(データ入力②)'!AZ17)","v":""},{"$f":"IF('教員(データ入力②)'!BA17=\"\",\"\",'教員(データ入力②)'!BA17)","v":""},{"$f":"IF('教員(データ入力②)'!BB17=\"\",\"\",'教員(データ入力②)'!BB17)","v":""},{"$f":"IF('教員(データ入力②)'!BC17=\"\",\"\",'教員(データ入力②)'!BC17)","v":""},{"$f":"IF('教員(データ入力②)'!BD17=\"\",\"\",'教員(データ入力②)'!BD17)","v":""},{"$f":"IF('教員(データ入力②)'!BE17=\"\",\"\",'教員(データ入力②)'!BE17)","v":""},{"$f":"IF('教員(データ入力②)'!BF17=\"\",\"\",'教員(データ入力②)'!BF17)","v":""},{"$f":"IF('教員(データ入力②)'!BG17=\"\",\"\",'教員(データ入力②)'!BG17)","v":""},{"$f":"IF('教員(データ入力②)'!BH17=\"\",\"\",'教員(データ入力②)'!BH17)","v":""},{"$f":"IF('教員(データ入力②)'!BI17=\"\",\"\",'教員(データ入力②)'!BI17)","v":""},{"$f":"IF('教員(データ入力②)'!BJ17=\"\",\"\",'教員(データ入力②)'!BJ17)","v":""},{"$f":"IF('教員(データ入力②)'!BK17=\"\",\"\",'教員(データ入力②)'!BK17)","v":""},{"$f":"IF('教員(データ入力②)'!BL17=\"\",\"\",'教員(データ入力②)'!BL17)","v":""},{"$f":"IF('教員(データ入力②)'!BM17=\"\",\"\",'教員(データ入力②)'!BM17)","v":""},0,{"$error":"#DIV/0!"},{"$f":"ROUND(BR7-'教員(一覧表①)'!BR7,1)","v":{"$error":"#DIV/0!"}},0,{"$error":"#DIV/0!"},{"$f":"ROUND(BU7-'教員(一覧表①)'!BU7,1)","v":{"$error":"#DIV/0!"}},0,{"$error":"#DIV/0!"},{"$f":"ROUND(BX7-'教員(一覧表①)'!BX7,1)","v":{"$error":"#DIV/0!"}},0,{"$error":"#DIV/0!"},{"$f":"ROUND(CA7-'教員(一覧表①)'!CA7,1)","v":{"$error":"#DIV/0!"}},null,0,{"$error":"#DIV/0!"},{"$error":"#DIV/0!"},0,{"$error":"#DIV/0!"},{"$error":"#DIV/0!"},"共感的な人間関係平均",{"$f":"BQ9+BQ10+BQ11+BQ12+BQ13","v":0},{"$f":"BT9+BT10+BT11+BT12+BT13","v":0},{"$f":"BW9+BW10+BW11+BW12+BW13","v":0},{"$f":"BZ9+BZ10+BZ11+BZ12+BZ13","v":0},{"$f":"SUM(CK7:CN7)","v":0},{"$f":"ROUND((CK7/$CO$7)*100,1)","v":{"$error":"#DIV/0!"}},{"$f":"ROUND((CL7/$CO$7)*100,1)","v":{"$error":"#DIV/0!"}},{"$f":"ROUND((CM7/$CO$7)*100,1)","v":{"$error":"#DIV/0!"}},{"$f":"ROUND((CN7/$CO$7)*100,1)","v":{"$error":"#DIV/0!"}},null,{"$f":"ROUND(CP7-'教員(一覧表①)'!CN7,1)","v":{"$error":"#DIV/0!"}},{"$f":"ROUND(CQ7-'教員(一覧表①)'!CO7,1)","v":{"$error":"#DIV/0!"}},{"$f":"ROUND(CR7-'教員(一覧表①)'!CP7,1)","v":{"$error":"#DIV/0!"}},{"$f":"ROUND(CS7-'教員(一覧表①)'!CQ7,1)","v":{"$error":"#DIV/0!"}},null,{"$f":"CK7+CL7","v":0},{"$f":"CP7+CQ7","v":{"$error":"#DIV/0!"}},{"$f":"ROUND(CU7+CV7,1)","v":{"$error":"#DIV/0!"}},{"$f":"CM7+CN7","v":0},{"$f":"CR7+CS7","v":{"$error":"#DIV/0!"}},{"$f":"ROUND(CW7+CX7,1)","v":{"$error":"#DIV/0!"}},{"$f":"\"(\"&DB7&\"%)\"","v":{"$error":"#DIV/0!"}},{"$f":"\"(\"&DE7&\"%)\"","v":{"$error":"#DIV/0!"}}]
[null,null,{"$f":"'教員(個人)'!B10","v":"私は，すべての生徒の考えや発言を取り上げている。"},{"$error":"#DIV/0!"},{"$error":"#DIV/0!"},{"$error":"#DIV/0!"},{"$error":"#DIV/0!"},null,{"$f":"IF('教員(データ入力②)'!F10=\"\",\"\",'教員(データ入力②)'!F10)","v":""},{"$f":"IF('教員(データ入力②)'!G10=\"\",\"\",'教員(データ入力②)'!G10)","v":""},{"$f":"IF('教員(データ入力②)'!H10=\"\",\"\",'教員(データ入力②)'!H10)","v":""},{"$f":"IF('教員(データ入力②)'!I10=\"\",\"\",'教員(データ入力②)'!I10)","v":""},{"$f":"IF('教員(データ入力②)'!J10=\"\",\"\",'教員(データ入力②)'!J10)","v":""},{"$f":"IF('教員(データ入力②)'!K10=\"\",\"\",'教員(データ入力②)'!K10)","v":""},{"$f":"IF('教員(データ入力②)'!L10=\"\",\"\",'教員(データ入力②)'!L10)","v":""},{"$f":"IF('教員(データ入力②)'!M10=\"\",\"\",'教員(データ入力②)'!M10)","v":""},{"$f":"IF('教員(データ入力②)'!N10=\"\",\"\",'教員(データ入力②)'!N10)","v":""},{"$f":"IF('教員(データ入力②)'!O10=\"\",\"\",'教員(データ入力②)'!O10)","v":""},{"$f":"IF('教員(データ入力②)'!P10=\"\",\"\",'教員(データ入力②)'!P10)","v":""},{"$f":"IF('教員(データ入力②)'!Q10=\"\",\"\",'教員(データ入力②)'!Q10)","v":""},{"$f":"IF('教員(データ入力②)'!R10=\"\",\"\",'教員(データ入力②)'!R10)","v":""},{"$f":"IF('教員(データ入力②)'!S10=\"\",\"\",'教員(データ入力②)'!S10)","v":""},{"$f":"IF('教員(データ入力②)'!T10=\"\",\"\",'教員(データ入力②)'!T10)","v":""},{"$f":"IF('教員(データ入力②)'!U10=\"\",\"\",'教員(データ入力②)'!U10)","v":""},{"$f":"IF('教員(データ入力②)'!V10=\"\",\"\",'教員(データ入力②)'!V10)","v":""},{"$f":"IF('教員(データ入力②)'!W10=\"\",\"\",'教員(データ入力②)'!W10)","v":""},{"$f":"IF('教員(データ入力②)'!X10=\"\",\"\",'教員(データ入力②)'!X10)","v":""},{"$f":"IF('教員(データ入力②)'!Y10=\"\",\"\",'教員(データ入力②)'!Y10)","v":""},{"$f":"IF('教員(データ入力②)'!Z10=\"\",\"\",'教員(データ入力②)'!Z10)","v":""},{"$f":"IF('教員(データ入力②)'!AA10=\"\",\"\",'教員(データ入力②)'!AA10)","v":""},{"$f":"IF('教員(データ入力②)'!AB10=\"\",\"\",'教員(データ入力②)'!AB10)","v":""},{"$f":"IF('教員(データ入力②)'!AC10=\"\",\"\",'教員(データ入力②)'!AC10)","v":""},{"$f":"IF('教員(データ入力②)'!AD10=\"\",\"\",'教員(データ入力②)'!AD10)","v":""},{"$f":"IF('教員(データ入力②)'!AE10=\"\",\"\",'教員(データ入力②)'!AE10)","v":""},{"$f":"IF('教員(データ入力②)'!AF10=\"\",\"\",'教員(データ入力②)'!AF10)","v":""},{"$f":"IF('教員(データ入力②)'!AG10=\"\",\"\",'教員(データ入力②)'!AG10)","v":""},{"$f":"IF('教員(データ入力②)'!AH10=\"\",\"\",'教員(データ入力②)'!AH10)","v":""},{"$f":"IF('教員(データ入力②)'!AI10=\"\",\"\",'教員(データ入力②)'!AI10)","v":""},{"$f":"IF('教員(データ入力②)'!AJ10=\"\",\"\",'教員(データ入力②)'!AJ10)","v":""},{"$f":"IF('教員(データ入力②)'!AK10=\"\",\"\",'教員(データ入力②)'!AK10)","v":""},{"$f":"IF('教員(データ入力②)'!AL10=\"\",\"\",'教員(データ入力②)'!AL10)","v":""},{"$f":"IF('教員(データ入力②)'!AM10=\"\",\"\",'教員(データ入力②)'!AM10)","v":""},{"$f":"IF('教員(データ入力②)'!AN10=\"\",\"\",'教員(データ入力②)'!AN10)","v":""},{"$f":"IF('教員(データ入力②)'!AO10=\"\",\"\",'教員(データ入力②)'!AO10)","v":""},{"$f":"IF('教員(データ入力②)'!AP10=\"\",\"\",'教員(データ入力②)'!AP10)","v":""},{"$f":"IF('教員(データ入力②)'!AQ10=\"\",\"\",'教員(データ入力②)'!AQ10)","v":""},{"$f":"IF('教員(データ入力②)'!AR10=\"\",\"\",'教員(データ入力②)'!AR10)","v":""},{"$f":"IF('教員(データ入力②)'!AS10=\"\",\"\",'教員(データ入力②)'!AS10)","v":""},{"$f":"IF('教員(データ入力②)'!AT10=\"\",\"\",'教員(データ入力②)'!AT10)","v":""},{"$f":"IF('教員(データ入力②)'!AU10=\"\",\"\",'教員(データ入力②)'!AU10)","v":""},{"$f":"IF('教員(データ入力②)'!AV10=\"\",\"\",'教員(データ入力②)'!AV10)","v":""},{"$f":"IF('教員(データ入力②)'!AW10=\"\",\"\",'教員(データ入力②)'!AW10)","v":""},{"$f":"IF('教員(データ入力②)'!AX10=\"\",\"\",'教員(データ入力②)'!AX10)","v":""},{"$f":"IF('教員(データ入力②)'!AY10=\"\",\"\",'教員(データ入力②)'!AY10)","v":""},{"$f":"IF('教員(データ入力②)'!AZ10=\"\",\"\",'教員(データ入力②)'!AZ10)","v":""},{"$f":"IF('教員(データ入力②)'!BA10=\"\",\"\",'教員(データ入力②)'!BA10)","v":""},{"$f":"IF('教員(データ入力②)'!BB10=\"\",\"\",'教員(データ入力②)'!BB10)","v":""},{"$f":"IF('教員(データ入力②)'!BC10=\"\",\"\",'教員(データ入力②)'!BC10)","v":""},{"$f":"IF('教員(データ入力②)'!BD10=\"\",\"\",'教員(データ入力②)'!BD10)","v":""},{"$f":"IF('教員(データ入力②)'!BE10=\"\",\"\",'教員(データ入力②)'!BE10)","v":""},{"$f":"IF('教員(データ入力②)'!BF10=\"\",\"\",'教員(データ入力②)'!BF10)","v":""},{"$f":"IF('教員(データ入力②)'!BG10=\"\",\"\",'教員(データ入力②)'!BG10)","v":""},{"$f":"IF('教員(データ入力②)'!BH10=\"\",\"\",'教員(データ入力②)'!BH10)","v":""},{"$f":"IF('教員(データ入力②)'!BI10=\"\",\"\",'教員(データ入力②)'!BI10)","v":""},{"$f":"IF('教員(データ入力②)'!BJ10=\"\",\"\",'教員(データ入力②)'!BJ10)","v":""},{"$f":"IF('教員(データ入力②)'!BK10=\"\",\"\",'教員(データ入力②)'!BK10)","v":""},{"$f":"IF('教員(データ入力②)'!BL10=\"\",\"\",'教員(データ入力②)'!BL10)","v":""},{"$f":"IF('教員(データ入力②)'!BM10=\"\",\"\",'教員(データ入力②)'!BM10)","v":""},0,{"$error":"#DIV/0!"},{"$f":"ROUND(BR8-'教員(一覧表①)'!BR8,1)","v":{"$error":"#DIV/0!"}},0,{"$error":"#DIV/0!"},{"$f":"ROUND(BU8-'教員(一覧表①)'!BU8,1)","v":{"$error":"#DIV/0!"}},0,{"$error":"#DIV/0!"},{"$f":"ROUND(BX8-'教員(一覧表①)'!BX8,1)","v":{"$error":"#DIV/0!"}},0,{"$error":"#DIV/0!"},{"$f":"ROUND(CA8-'教員(一覧表①)'!CA8,1)","v":{"$error":"#DIV/0!"}},null,0,{"$error":"#DIV/0!"},{"$error":"#DIV/0!"},0,{"$error":"#DIV/0!"},{"$error":"#DIV/0!"},"自己決定の場の提供平均",{"$f":"BQ14+BQ15+BQ16+BQ17+BQ18","v":0},{"$f":"BT14+BT15+BT16+BT17+BT18","v":0},{"$f":"BW14+BW15+BW16+BW17+BW18","v":0},{"$f":"BZ14+BZ15+BZ16+BZ17+BZ18","v":0},0,{"$f":"ROUND((CK8/$CO$8)*100,1)","v":{"$error":"#DIV/0!"}},{"$f":"ROUND((CL8/$CO$8)*100,1)","v":{"$error":"#DIV/0!"}},{"$f":"ROUND((CM8/$CO$8)*100,1)","v":{"$error":"#DIV/0!"}},{"$f":"ROUND((CN8/$CO$8)*100,1)","v":{"$error":"#DIV/0!"}},null,{"$f":"ROUND(CP8-'教員(一覧表①)'!CN8,1)","v":{"$error":"#DIV/0!"}},{"$f":"ROUND(CQ8-'教員(一覧表①)'!CO8,1)","v":{"$error":"#DIV/0!"}},{"$f":"ROUND(CR8-'教員(一覧表①)'!CP8,1)","v":{"$error":"#DIV/0!"}},{"$f":"ROUND(CS8-'教員(一覧表①)'!CQ8,1)","v":{"$error":"#DIV/0!"}},null,{"$f":"CK8+CL8","v":0},{"$f":"CP8+CQ8","v":{"$error":"#DIV/0!"}},{"$f":"ROUND(CU8+CV8,1)","v":{"$error":"#DIV/0!"}},{"$f":"CM8+CN8","v":0},{"$f":"CR8+CS8","v":{"$error":"#DIV/0!"}},{"$f":"ROUND(CW8+CX8,1)","v":{"$error":"#DIV/0!"}},{"$error":"#DIV/0!"},{"$error":"#DIV/0!"}]
[null,"教師や仲間から理解され受け入れられているという安心感",{"$f":"'教員(個人)'!B11","v":"私は，生徒の話を最後まで遮らずに聞いている。"},{"$error":"#DIV/0!"},{"$error":"#DIV/0!"},{"$error":"#DIV/0!"},{"$error":"#DIV/0!"},null,{"$f":"IF('教員(データ入力②)'!F12=\"\",\"\",'教員(データ入力②)'!F12)","v":""},{"$f":"IF('教員(データ入力②)'!G12=\"\",\"\",'教員(データ入力②)'!G12)","v":""},{"$f":"IF('教員(データ入力②)'!H12=\"\",\"\",'教員(データ入力②)'!H12)","v":""},{"$f":"IF('教員(データ入力②)'!I12=\"\",\"\",'教員(データ入力②)'!I12)","v":""},{"$f":"IF('教員(データ入力②)'!J12=\"\",\"\",'教員(データ入力②)'!J12)","v":""},{"$f":"IF('教員(データ入力②)'!K12=\"\",\"\",'教員(データ入力②)'!K12)","v":""},{"$f":"IF('教員(データ入力②)'!L12=\"\",\"\",'教員(データ入力②)'!L12)","v":""},{"$f":"IF('教員(データ入力②)'!M12=\"\",\"\",'教員(データ入力②)'!M12)","v":""},{"$f":"IF('教員(データ入力②)'!N12=\"\",\"\",'教員(データ入力②)'!N12)","v":""},{"$f":"IF('教員(データ入力②)'!O12=\"\",\"\",'教員(データ入力②)'!O12)","v":""},{"$f":"IF('教員(データ入力②)'!P12=\"\",\"\",'教員(データ入力②)'!P12)","v":""},{"$f":"IF('教員(データ入力②)'!Q12=\"\",\"\",'教員(データ入力②)'!Q12)","v":""},{"$f":"IF('教員(データ入力②)'!R12=\"\",\"\",'教員(データ入力②)'!R12)","v":""},{"$f":"IF('教員(データ入力②)'!S12=\"\",\"\",'教員(データ入力②)'!S12)","v":""},{"$f":"IF('教員(データ入力②)'!T12=\"\",\"\",'教員(データ入力②)'!T12)","v":""},{"$f":"IF('教員(データ入力②)'!U12=\"\",\"\",'教員(データ入力②)'!U12)","v":""},{"$f":"IF('教員(データ入力②)'!V12=\"\",\"\",'教員(データ入力②)'!V12)","v":""},{"$f":"IF('教員(データ入力②)'!W12=\"\",\"\",'教員(データ入力②)'!W12)","v":""},{"$f":"IF('教員(データ入力②)'!X12=\"\",\"\",'教員(データ入力②)'!X12)","v":""},{"$f":"IF('教員(データ入力②)'!Y12=\"\",\"\",'教員(データ入力②)'!Y12)","v":""},{"$f":"IF('教員(データ入力②)'!Z12=\"\",\"\",'教員(データ入力②)'!Z12)","v":""},{"$f":"IF('教員(データ入力②)'!AA12=\"\",\"\",'教員(データ入力②)'!AA12)","v":""},{"$f":"IF('教員(データ入力②)'!AB12=\"\",\"\",'教員(データ入力②)'!AB12)","v":""},{"$f":"IF('教員(データ入力②)'!AC12=\"\",\"\",'教員(データ入力②)'!AC12)","v":""},{"$f":"IF('教員(データ入力②)'!AD12=\"\",\"\",'教員(データ入力②)'!AD12)","v":""},{"$f":"IF('教員(データ入力②)'!AE12=\"\",\"\",'教員(データ入力②)'!AE12)","v":""},{"$f":"IF('教員(データ入力②)'!AF12=\"\",\"\",'教員(データ入力②)'!AF12)","v":""},{"$f":"IF('教員(データ入力②)'!AG12=\"\",\"\",'教員(データ入力②)'!AG12)","v":""},{"$f":"IF('教員(データ入力②)'!AH12=\"\",\"\",'教員(データ入力②)'!AH12)","v":""},{"$f":"IF('教員(データ入力②)'!AI12=\"\",\"\",'教員(データ入力②)'!AI12)","v":""},{"$f":"IF('教員(データ入力②)'!AJ12=\"\",\"\",'教員(データ入力②)'!AJ12)","v":""},{"$f":"IF('教員(データ入力②)'!AK12=\"\",\"\",'教員(データ入力②)'!AK12)","v":""},{"$f":"IF('教員(データ入力②)'!AL12=\"\",\"\",'教員(データ入力②)'!AL12)","v":""},{"$f":"IF('教員(データ入力②)'!AM12=\"\",\"\",'教員(データ入力②)'!AM12)","v":""},{"$f":"IF('教員(データ入力②)'!AN12=\"\",\"\",'教員(データ入力②)'!AN12)","v":""},{"$f":"IF('教員(データ入力②)'!AO12=\"\",\"\",'教員(データ入力②)'!AO12)","v":""},{"$f":"IF('教員(データ入力②)'!AP12=\"\",\"\",'教員(データ入力②)'!AP12)","v":""},{"$f":"IF('教員(データ入力②)'!AQ12=\"\",\"\",'教員(データ入力②)'!AQ12)","v":""},{"$f":"IF('教員(データ入力②)'!AR12=\"\",\"\",'教員(データ入力②)'!AR12)","v":""},{"$f":"IF('教員(データ入力②)'!AS12=\"\",\"\",'教員(データ入力②)'!AS12)","v":""},{"$f":"IF('教員(データ入力②)'!AT12=\"\",\"\",'教員(データ入力②)'!AT12)","v":""},{"$f":"IF('教員(データ入力②)'!AU12=\"\",\"\",'教員(データ入力②)'!AU12)","v":""},{"$f":"IF('教員(データ入力②)'!AV12=\"\",\"\",'教員(データ入力②)'!AV12)","v":""},{"$f":"IF('教員(データ入力②)'!AW12=\"\",\"\",'教員(データ入力②)'!AW12)","v":""},{"$f":"IF('教員(データ入力②)'!AX12=\"\",\"\",'教員(データ入力②)'!AX12)","v":""},{"$f":"IF('教員(データ入力②)'!AY12=\"\",\"\",'教員(データ入力②)'!AY12)","v":""},{"$f":"IF('教員(データ入力②)'!AZ12=\"\",\"\",'教員(データ入力②)'!AZ12)","v":""},{"$f":"IF('教員(データ入力②)'!BA12=\"\",\"\",'教員(データ入力②)'!BA12)","v":""},{"$f":"IF('教員(データ入力②)'!BB12=\"\",\"\",'教員(データ入力②)'!BB12)","v":""},{"$f":"IF('教員(データ入力②)'!BC12=\"\",\"\",'教員(データ入力②)'!BC12)","v":""},{"$f":"IF('教員(データ入力②)'!BD12=\"\",\"\",'教員(データ入力②)'!BD12)","v":""},{"$f":"IF('教員(データ入力②)'!BE12=\"\",\"\",'教員(データ入力②)'!BE12)","v":""},{"$f":"IF('教員(データ入力②)'!BF12=\"\",\"\",'教員(データ入力②)'!BF12)","v":""},{"$f":"IF('教員(データ入力②)'!BG12=\"\",\"\",'教員(データ入力②)'!BG12)","v":""},{"$f":"IF('教員(データ入力②)'!BH12=\"\",\"\",'教員(データ入力②)'!BH12)","v":""},{"$f":"IF('教員(データ入力②)'!BI12=\"\",\"\",'教員(データ入力②)'!BI12)","v":""},{"$f":"IF('教員(データ入力②)'!BJ12=\"\",\"\",'教員(データ入力②)'!BJ12)","v":""},{"$f":"IF('教員(データ入力②)'!BK12=\"\",\"\",'教員(データ入力②)'!BK12)","v":""},{"$f":"IF('教員(データ入力②)'!BL12=\"\",\"\",'教員(データ入力②)'!BL12)","v":""},{"$f":"IF('教員(データ入力②)'!BM12=\"\",\"\",'教員(データ入力②)'!BM12)","v":""},0,{"$error":"#DIV/0!"},{"$f":"ROUND(BR9-'教員(一覧表①)'!BR9,1)","v":{"$error":"#DIV/0!"}},0,{"$error":"#DIV/0!"},{"$f":"ROUND(BU9-'教員(一覧表①)'!BU9,1)","v":{"$error":"#DIV/0!"}},0,{"$error":"#DIV/0!"},{"$f":"ROUND(BX9-'教員(一覧表①)'!BX9,1)","v":{"$error":"#DIV/0!"}},0,{"$error":"#DIV/0!"},{"$f":"ROUND(CA9-'教員(一覧表①)'!CA9,1)","v":{"$error":"#DIV/0!"}},null,0,{"$error":"#DIV/0!"},{"$error":"#DIV/0!"},0,{"$error":"#DIV/0!"},{"$error":"#DIV/0!"},"安全・安心な風土の醸成平均",{"$f":"BQ19+BQ20+BQ21+BQ22+BQ23","v":0},{"$f":"BT19+BT20+BT21+BT22+BT23","v":0},{"$f":"BW19+BW20+BW21+BW22+BW23","v":0},{"$f":"BZ19+BZ20+BZ21+BZ22+BZ23","v":0},0,{"$f":"ROUND((CK9/$CO$9)*100,1)","v":{"$error":"#DIV/0!"}},{"$f":"ROUND((CL9/$CO$9)*100,1)","v":{"$error":"#DIV/0!"}},{"$f":"ROUND((CM9/$CO$9)*100,1)","v":{"$error":"#DIV/0!"}},{"$f":"ROUND((CN9/$CO$9)*100,1)","v":{"$error":"#DIV/0!"}},null,{"$f":"ROUND(CP9-'教員(一覧表①)'!CN9,1)","v":{"$error":"#DIV/0!"}},{"$f":"ROUND(CQ9-'教員(一覧表①)'!CO9,1)","v":{"$error":"#DIV/0!"}},{"$f":"ROUND(CR9-'教員(一覧表①)'!CP9,1)","v":{"$error":"#DIV/0!"}},{"$f":"ROUND(CS9-'教員(一覧表①)'!CQ9,1)","v":{"$error":"#DIV/0!"}},null,{"$f":"CK9+CL9","v":0},{"$f":"CP9+CQ9","v":{"$error":"#DIV/0!"}},{"$f":"ROUND(CU9+CV9,1)","v":{"$error":"#DIV/0!"}},{"$f":"CM9+CN9","v":0},{"$f":"CR9+CS9","v":{"$error":"#DIV/0!"}},{"$f":"ROUND(CW9+CX9,1)","v":{"$error":"#DIV/0!"}},{"$error":"#DIV/0!"},{"$error":"#DIV/0!"}]
[null,null,{"$f":"'教員(個人)'!B12","v":"私は，生徒が悩みや困りごとを相談しやすい雰囲気づくりをしている。"},{"$error":"#DIV/0!"},{"$error":"#DIV/0!"},{"$error":"#DIV/0!"},{"$error":"#DIV/0!"},null,{"$f":"IF('教員(データ入力②)'!F18=\"\",\"\",'教員(データ入力②)'!F18)","v":""},{"$f":"IF('教員(データ入力②)'!G18=\"\",\"\",'教員(データ入力②)'!G18)","v":""},{"$f":"IF('教員(データ入力②)'!H18=\"\",\"\",'教員(データ入力②)'!H18)","v":""},{"$f":"IF('教員(データ入力②)'!I18=\"\",\"\",'教員(データ入力②)'!I18)","v":""},{"$f":"IF('教員(データ入力②)'!J18=\"\",\"\",'教員(データ入力②)'!J18)","v":""},{"$f":"IF('教員(データ入力②)'!K18=\"\",\"\",'教員(データ入力②)'!K18)","v":""},{"$f":"IF('教員(データ入力②)'!L18=\"\",\"\",'教員(データ入力②)'!L18)","v":""},{"$f":"IF('教員(データ入力②)'!M18=\"\",\"\",'教員(データ入力②)'!M18)","v":""},{"$f":"IF('教員(データ入力②)'!N18=\"\",\"\",'教員(データ入力②)'!N18)","v":""},{"$f":"IF('教員(データ入力②)'!O18=\"\",\"\",'教員(データ入力②)'!O18)","v":""},{"$f":"IF('教員(データ入力②)'!P18=\"\",\"\",'教員(データ入力②)'!P18)","v":""},{"$f":"IF('教員(データ入力②)'!Q18=\"\",\"\",'教員(データ入力②)'!Q18)","v":""},{"$f":"IF('教員(データ入力②)'!R18=\"\",\"\",'教員(データ入力②)'!R18)","v":""},{"$f":"IF('教員(データ入力②)'!S18=\"\",\"\",'教員(データ入力②)'!S18)","v":""},{"$f":"IF('教員(データ入力②)'!T18=\"\",\"\",'教員(データ入力②)'!T18)","v":""},{"$f":"IF('教員(データ入力②)'!U18=\"\",\"\",'教員(データ入力②)'!U18)","v":""},{"$f":"IF('教員(データ入力②)'!V18=\"\",\"\",'教員(データ入力②)'!V18)","v":""},{"$f":"IF('教員(データ入力②)'!W18=\"\",\"\",'教員(データ入力②)'!W18)","v":""},{"$f":"IF('教員(データ入力②)'!X18=\"\",\"\",'教員(データ入力②)'!X18)","v":""},{"$f":"IF('教員(データ入力②)'!Y18=\"\",\"\",'教員(データ入力②)'!Y18)","v":""},{"$f":"IF('教員(データ入力②)'!Z18=\"\",\"\",'教員(データ入力②)'!Z18)","v":""},{"$f":"IF('教員(データ入力②)'!AA18=\"\",\"\",'教員(データ入力②)'!AA18)","v":""},{"$f":"IF('教員(データ入力②)'!AB18=\"\",\"\",'教員(データ入力②)'!AB18)","v":""},{"$f":"IF('教員(データ入力②)'!AC18=\"\",\"\",'教員(データ入力②)'!AC18)","v":""},{"$f":"IF('教員(データ入力②)'!AD18=\"\",\"\",'教員(データ入力②)'!AD18)","v":""},{"$f":"IF('教員(データ入力②)'!AE18=\"\",\"\",'教員(データ入力②)'!AE18)","v":""},{"$f":"IF('教員(データ入力②)'!AF18=\"\",\"\",'教員(データ入力②)'!AF18)","v":""},{"$f":"IF('教員(データ入力②)'!AG18=\"\",\"\",'教員(データ入力②)'!AG18)","v":""},{"$f":"IF('教員(データ入力②)'!AH18=\"\",\"\",'教員(データ入力②)'!AH18)","v":""},{"$f":"IF('教員(データ入力②)'!AI18=\"\",\"\",'教員(データ入力②)'!AI18)","v":""},{"$f":"IF('教員(データ入力②)'!AJ18=\"\",\"\",'教員(データ入力②)'!AJ18)","v":""},{"$f":"IF('教員(データ入力②)'!AK18=\"\",\"\",'教員(データ入力②)'!AK18)","v":""},{"$f":"IF('教員(データ入力②)'!AL18=\"\",\"\",'教員(データ入力②)'!AL18)","v":""},{"$f":"IF('教員(データ入力②)'!AM18=\"\",\"\",'教員(データ入力②)'!AM18)","v":""},{"$f":"IF('教員(データ入力②)'!AN18=\"\",\"\",'教員(データ入力②)'!AN18)","v":""},{"$f":"IF('教員(データ入力②)'!AO18=\"\",\"\",'教員(データ入力②)'!AO18)","v":""},{"$f":"IF('教員(データ入力②)'!AP18=\"\",\"\",'教員(データ入力②)'!AP18)","v":""},{"$f":"IF('教員(データ入力②)'!AQ18=\"\",\"\",'教員(データ入力②)'!AQ18)","v":""},{"$f":"IF('教員(データ入力②)'!AR18=\"\",\"\",'教員(データ入力②)'!AR18)","v":""},{"$f":"IF('教員(データ入力②)'!AS18=\"\",\"\",'教員(データ入力②)'!AS18)","v":""},{"$f":"IF('教員(データ入力②)'!AT18=\"\",\"\",'教員(データ入力②)'!AT18)","v":""},{"$f":"IF('教員(データ入力②)'!AU18=\"\",\"\",'教員(データ入力②)'!AU18)","v":""},{"$f":"IF('教員(データ入力②)'!AV18=\"\",\"\",'教員(データ入力②)'!AV18)","v":""},{"$f":"IF('教員(データ入力②)'!AW18=\"\",\"\",'教員(データ入力②)'!AW18)","v":""},{"$f":"IF('教員(データ入力②)'!AX18=\"\",\"\",'教員(データ入力②)'!AX18)","v":""},{"$f":"IF('教員(データ入力②)'!AY18=\"\",\"\",'教員(データ入力②)'!AY18)","v":""},{"$f":"IF('教員(データ入力②)'!AZ18=\"\",\"\",'教員(データ入力②)'!AZ18)","v":""},{"$f":"IF('教員(データ入力②)'!BA18=\"\",\"\",'教員(データ入力②)'!BA18)","v":""},{"$f":"IF('教員(データ入力②)'!BB18=\"\",\"\",'教員(データ入力②)'!BB18)","v":""},{"$f":"IF('教員(データ入力②)'!BC18=\"\",\"\",'教員(データ入力②)'!BC18)","v":""},{"$f":"IF('教員(データ入力②)'!BD18=\"\",\"\",'教員(データ入力②)'!BD18)","v":""},{"$f":"IF('教員(データ入力②)'!BE18=\"\",\"\",'教員(データ入力②)'!BE18)","v":""},{"$f":"IF('教員(データ入力②)'!BF18=\"\",\"\",'教員(データ入力②)'!BF18)","v":""},{"$f":"IF('教員(データ入力②)'!BG18=\"\",\"\",'教員(データ入力②)'!BG18)","v":""},{"$f":"IF('教員(データ入力②)'!BH18=\"\",\"\",'教員(データ入力②)'!BH18)","v":""},{"$f":"IF('教員(データ入力②)'!BI18=\"\",\"\",'教員(データ入力②)'!BI18)","v":""},{"$f":"IF('教員(データ入力②)'!BJ18=\"\",\"\",'教員(データ入力②)'!BJ18)","v":""},{"$f":"IF('教員(データ入力②)'!BK18=\"\",\"\",'教員(データ入力②)'!BK18)","v":""},{"$f":"IF('教員(データ入力②)'!BL18=\"\",\"\",'教員(データ入力②)'!BL18)","v":""},{"$f":"IF('教員(データ入力②)'!BM18=\"\",\"\",'教員(データ入力②)'!BM18)","v":""},0,{"$error":"#DIV/0!"},{"$f":"ROUND(BR10-'教員(一覧表①)'!BR10,1)","v":{"$error":"#DIV/0!"}},0,{"$error":"#DIV/0!"},{"$f":"ROUND(BU10-'教員(一覧表①)'!BU10,1)","v":{"$error":"#DIV/0!"}},0,{"$error":"#DIV/0!"},{"$f":"ROUND(BX10-'教員(一覧表①)'!BX10,1)","v":{"$error":"#DIV/0!"}},0,{"$error":"#DIV/0!"},{"$f":"ROUND(CA10-'教員(一覧表①)'!CA10,1)","v":{"$error":"#DIV/0!"}},null,0,{"$error":"#DIV/0!"},{"$error":"#DIV/0!"},0,{"$error":"#DIV/0!"},{"$error":"#DIV/0!"},"そう思う",null,null,null,null,null,null,null,null,null,null,null,null,null,null,null,"肯定"]
[null,null,{"$f":"'教員(個人)'!B13","v":"私は，生徒に自分と違う意見でも尊重するよう伝えている。"},{"$error":"#DIV/0!"},{"$error":"#DIV/0!"},{"$error":"#DIV/0!"},{"$error":"#DIV/0!"},null,{"$f":"IF('教員(データ入力②)'!F21=\"\",\"\",'教員(データ入力②)'!F21)","v":""},{"$f":"IF('教員(データ入力②)'!G21=\"\",\"\",'教員(データ入力②)'!G21)","v":""},{"$f":"IF('教員(データ入力②)'!H21=\"\",\"\",'教員(データ入力②)'!H21)","v":""},{"$f":"IF('教員(データ入力②)'!I21=\"\",\"\",'教員(データ入力②)'!I21)","v":""},{"$f":"IF('教員(データ入力②)'!J21=\"\",\"\",'教員(データ入力②)'!J21)","v":""},{"$f":"IF('教員(データ入力②)'!K21=\"\",\"\",'教員(データ入力②)'!K21)","v":""},{"$f":"IF('教員(データ入力②)'!L21=\"\",\"\",'教員(データ入力②)'!L21)","v":""},{"$f":"IF('教員(データ入力②)'!M21=\"\",\"\",'教員(データ入力②)'!M21)","v":""},{"$f":"IF('教員(データ入力②)'!N21=\"\",\"\",'教員(データ入力②)'!N21)","v":""},{"$f":"IF('教員(データ入力②)'!O21=\"\",\"\",'教員(データ入力②)'!O21)","v":""},{"$f":"IF('教員(データ入力②)'!P21=\"\",\"\",'教員(データ入力②)'!P21)","v":""},{"$f":"IF('教員(データ入力②)'!Q21=\"\",\"\",'教員(データ入力②)'!Q21)","v":""},{"$f":"IF('教員(データ入力②)'!R21=\"\",\"\",'教員(データ入力②)'!R21)","v":""},{"$f":"IF('教員(データ入力②)'!S21=\"\",\"\",'教員(データ入力②)'!S21)","v":""},{"$f":"IF('教員(データ入力②)'!T21=\"\",\"\",'教員(データ入力②)'!T21)","v":""},{"$f":"IF('教員(データ入力②)'!U21=\"\",\"\",'教員(データ入力②)'!U21)","v":""},{"$f":"IF('教員(データ入力②)'!V21=\"\",\"\",'教員(データ入力②)'!V21)","v":""},{"$f":"IF('教員(データ入力②)'!W21=\"\",\"\",'教員(データ入力②)'!W21)","v":""},{"$f":"IF('教員(データ入力②)'!X21=\"\",\"\",'教員(データ入力②)'!X21)","v":""},{"$f":"IF('教員(データ入力②)'!Y21=\"\",\"\",'教員(データ入力②)'!Y21)","v":""},{"$f":"IF('教員(データ入力②)'!Z21=\"\",\"\",'教員(データ入力②)'!Z21)","v":""},{"$f":"IF('教員(データ入力②)'!AA21=\"\",\"\",'教員(データ入力②)'!AA21)","v":""},{"$f":"IF('教員(データ入力②)'!AB21=\"\",\"\",'教員(データ入力②)'!AB21)","v":""},{"$f":"IF('教員(データ入力②)'!AC21=\"\",\"\",'教員(データ入力②)'!AC21)","v":""},{"$f":"IF('教員(データ入力②)'!AD21=\"\",\"\",'教員(データ入力②)'!AD21)","v":""},{"$f":"IF('教員(データ入力②)'!AE21=\"\",\"\",'教員(データ入力②)'!AE21)","v":""},{"$f":"IF('教員(データ入力②)'!AF21=\"\",\"\",'教員(データ入力②)'!AF21)","v":""},{"$f":"IF('教員(データ入力②)'!AG21=\"\",\"\",'教員(データ入力②)'!AG21)","v":""},{"$f":"IF('教員(データ入力②)'!AH21=\"\",\"\",'教員(データ入力②)'!AH21)","v":""},{"$f":"IF('教員(データ入力②)'!AI21=\"\",\"\",'教員(データ入力②)'!AI21)","v":""},{"$f":"IF('教員(データ入力②)'!AJ21=\"\",\"\",'教員(データ入力②)'!AJ21)","v":""},{"$f":"IF('教員(データ入力②)'!AK21=\"\",\"\",'教員(データ入力②)'!AK21)","v":""},{"$f":"IF('教員(データ入力②)'!AL21=\"\",\"\",'教員(データ入力②)'!AL21)","v":""},{"$f":"IF('教員(データ入力②)'!AM21=\"\",\"\",'教員(データ入力②)'!AM21)","v":""},{"$f":"IF('教員(データ入力②)'!AN21=\"\",\"\",'教員(データ入力②)'!AN21)","v":""},{"$f":"IF('教員(データ入力②)'!AO21=\"\",\"\",'教員(データ入力②)'!AO21)","v":""},{"$f":"IF('教員(データ入力②)'!AP21=\"\",\"\",'教員(データ入力②)'!AP21)","v":""},{"$f":"IF('教員(データ入力②)'!AQ21=\"\",\"\",'教員(データ入力②)'!AQ21)","v":""},{"$f":"IF('教員(データ入力②)'!AR21=\"\",\"\",'教員(データ入力②)'!AR21)","v":""},{"$f":"IF('教員(データ入力②)'!AS21=\"\",\"\",'教員(データ入力②)'!AS21)","v":""},{"$f":"IF('教員(データ入力②)'!AT21=\"\",\"\",'教員(データ入力②)'!AT21)","v":""},{"$f":"IF('教員(データ入力②)'!AU21=\"\",\"\",'教員(データ入力②)'!AU21)","v":""},{"$f":"IF('教員(データ入力②)'!AV21=\"\",\"\",'教員(データ入力②)'!AV21)","v":""},{"$f":"IF('教員(データ入力②)'!AW21=\"\",\"\",'教員(データ入力②)'!AW21)","v":""},{"$f":"IF('教員(データ入力②)'!AX21=\"\",\"\",'教員(データ入力②)'!AX21)","v":""},{"$f":"IF('教員(データ入力②)'!AY21=\"\",\"\",'教員(データ入力②)'!AY21)","v":""},{"$f":"IF('教員(データ入力②)'!AZ21=\"\",\"\",'教員(データ入力②)'!AZ21)","v":""},{"$f":"IF('教員(データ入力②)'!BA21=\"\",\"\",'教員(データ入力②)'!BA21)","v":""},{"$f":"IF('教員(データ入力②)'!BB21=\"\",\"\",'教員(データ入力②)'!BB21)","v":""},{"$f":"IF('教員(データ入力②)'!BC21=\"\",\"\",'教員(データ入力②)'!BC21)","v":""},{"$f":"IF('教員(データ入力②)'!BD21=\"\",\"\",'教員(データ入力②)'!BD21)","v":""},{"$f":"IF('教員(データ入力②)'!BE21=\"\",\"\",'教員(データ入力②)'!BE21)","v":""},{"$f":"IF('教員(データ入力②)'!BF21=\"\",\"\",'教員(データ入力②)'!BF21)","v":""},{"$f":"IF('教員(データ入力②)'!BG21=\"\",\"\",'教員(データ入力②)'!BG21)","v":""},{"$f":"IF('教員(データ入力②)'!BH21=\"\",\"\",'教員(データ入力②)'!BH21)","v":""},{"$f":"IF('教員(データ入力②)'!BI21=\"\",\"\",'教員(データ入力②)'!BI21)","v":""},{"$f":"IF('教員(データ入力②)'!BJ21=\"\",\"\",'教員(データ入力②)'!BJ21)","v":""},{"$f":"IF('教員(データ入力②)'!BK21=\"\",\"\",'教員(データ入力②)'!BK21)","v":""},{"$f":"IF('教員(データ入力②)'!BL21=\"\",\"\",'教員(データ入力②)'!BL21)","v":""},{"$f":"IF('教員(データ入力②)'!BM21=\"\",\"\",'教員(データ入力②)'!BM21)","v":""},0,{"$error":"#DIV/0!"},{"$f":"ROUND(BR11-'教員(一覧表①)'!BR11,1)","v":{"$error":"#DIV/0!"}},0,{"$error":"#DIV/0!"},{"$f":"ROUND(BU11-'教員(一覧表①)'!BU11,1)","v":{"$error":"#DIV/0!"}},0,{"$error":"#DIV/0!"},{"$f":"ROUND(BX11-'教員(一覧表①)'!BX11,1)","v":{"$error":"#DIV/0!"}},0,{"$error":"#DIV/0!"},{"$f":"ROUND(CA11-'教員(一覧表①)'!CA11,1)","v":{"$error":"#DIV/0!"}},null,0,{"$error":"#DIV/0!"},{"$error":"#DIV/0!"},0,{"$error":"#DIV/0!"},{"$error":"#DIV/0!"},"少しそう思う",null,null,null,null,null,null,null,null,null,null,{"$f":"\"(\"&CU6&\"%)\"","v":{"$error":"#DIV/0!"}},{"$f":"\"(\"&CV6&\"%)\"","v":{"$error":"#DIV/0!"}},{"$error":"#DIV/0!"},{"$error":"#DIV/0!"},null,"否定"]
[null,null,{"$f":"'教員(個人)'!B14","v":"私は，生徒同士が協力して一つのことに取り組むための工夫をしている。"},{"$error":"#DIV/0!"},{"$error":"#DIV/0!"},{"$error":"#DIV/0!"},{"$error":"#DIV/0!"},null,{"$f":"IF('教員(データ入力②)'!F6=\"\",\"\",'教員(データ入力②)'!F6)","v":""},{"$f":"IF('教員(データ入力②)'!G6=\"\",\"\",'教員(データ入力②)'!G6)","v":""},{"$f":"IF('教員(データ入力②)'!H6=\"\",\"\",'教員(データ入力②)'!H6)","v":""},{"$f":"IF('教員(データ入力②)'!I6=\"\",\"\",'教員(データ入力②)'!I6)","v":""},{"$f":"IF('教員(データ入力②)'!J6=\"\",\"\",'教員(データ入力②)'!J6)","v":""},{"$f":"IF('教員(データ入力②)'!K6=\"\",\"\",'教員(データ入力②)'!K6)","v":""},{"$f":"IF('教員(データ入力②)'!L6=\"\",\"\",'教員(データ入力②)'!L6)","v":""},{"$f":"IF('教員(データ入力②)'!M6=\"\",\"\",'教員(データ入力②)'!M6)","v":""},{"$f":"IF('教員(データ入力②)'!N6=\"\",\"\",'教員(データ入力②)'!N6)","v":""},{"$f":"IF('教員(データ入力②)'!O6=\"\",\"\",'教員(データ入力②)'!O6)","v":""},{"$f":"IF('教員(データ入力②)'!P6=\"\",\"\",'教員(データ入力②)'!P6)","v":""},{"$f":"IF('教員(データ入力②)'!Q6=\"\",\"\",'教員(データ入力②)'!Q6)","v":""},{"$f":"IF('教員(データ入力②)'!R6=\"\",\"\",'教員(データ入力②)'!R6)","v":""},{"$f":"IF('教員(データ入力②)'!S6=\"\",\"\",'教員(データ入力②)'!S6)","v":""},{"$f":"IF('教員(データ入力②)'!T6=\"\",\"\",'教員(データ入力②)'!T6)","v":""},{"$f":"IF('教員(データ入力②)'!U6=\"\",\"\",'教員(データ入力②)'!U6)","v":""},{"$f":"IF('教員(データ入力②)'!V6=\"\",\"\",'教員(データ入力②)'!V6)","v":""},{"$f":"IF('教員(データ入力②)'!W6=\"\",\"\",'教員(データ入力②)'!W6)","v":""},{"$f":"IF('教員(データ入力②)'!X6=\"\",\"\",'教員(データ入力②)'!X6)","v":""},{"$f":"IF('教員(データ入力②)'!Y6=\"\",\"\",'教員(データ入力②)'!Y6)","v":""},{"$f":"IF('教員(データ入力②)'!Z6=\"\",\"\",'教員(データ入力②)'!Z6)","v":""},{"$f":"IF('教員(データ入力②)'!AA6=\"\",\"\",'教員(データ入力②)'!AA6)","v":""},{"$f":"IF('教員(データ入力②)'!AB6=\"\",\"\",'教員(データ入力②)'!AB6)","v":""},{"$f":"IF('教員(データ入力②)'!AC6=\"\",\"\",'教員(データ入力②)'!AC6)","v":""},{"$f":"IF('教員(データ入力②)'!AD6=\"\",\"\",'教員(データ入力②)'!AD6)","v":""},{"$f":"IF('教員(データ入力②)'!AE6=\"\",\"\",'教員(データ入力②)'!AE6)","v":""},{"$f":"IF('教員(データ入力②)'!AF6=\"\",\"\",'教員(データ入力②)'!AF6)","v":""},{"$f":"IF('教員(データ入力②)'!AG6=\"\",\"\",'教員(データ入力②)'!AG6)","v":""},{"$f":"IF('教員(データ入力②)'!AH6=\"\",\"\",'教員(データ入力②)'!AH6)","v":""},{"$f":"IF('教員(データ入力②)'!AI6=\"\",\"\",'教員(データ入力②)'!AI6)","v":""},{"$f":"IF('教員(データ入力②)'!AJ6=\"\",\"\",'教員(データ入力②)'!AJ6)","v":""},{"$f":"IF('教員(データ入力②)'!AK6=\"\",\"\",'教員(データ入力②)'!AK6)","v":""},{"$f":"IF('教員(データ入力②)'!AL6=\"\",\"\",'教員(データ入力②)'!AL6)","v":""},{"$f":"IF('教員(データ入力②)'!AM6=\"\",\"\",'教員(データ入力②)'!AM6)","v":""},{"$f":"IF('教員(データ入力②)'!AN6=\"\",\"\",'教員(データ入力②)'!AN6)","v":""},{"$f":"IF('教員(データ入力②)'!AO6=\"\",\"\",'教員(データ入力②)'!AO6)","v":""},{"$f":"IF('教員(データ入力②)'!AP6=\"\",\"\",'教員(データ入力②)'!AP6)","v":""},{"$f":"IF('教員(データ入力②)'!AQ6=\"\",\"\",'教員(データ入力②)'!AQ6)","v":""},{"$f":"IF('教員(データ入力②)'!AR6=\"\",\"\",'教員(データ入力②)'!AR6)","v":""},{"$f":"IF('教員(データ入力②)'!AS6=\"\",\"\",'教員(データ入力②)'!AS6)","v":""},{"$f":"IF('教員(データ入力②)'!AT6=\"\",\"\",'教員(データ入力②)'!AT6)","v":""},{"$f":"IF('教員(データ入力②)'!AU6=\"\",\"\",'教員(データ入力②)'!AU6)","v":""},{"$f":"IF('教員(データ入力②)'!AV6=\"\",\"\",'教員(データ入力②)'!AV6)","v":""},{"$f":"IF('教員(データ入力②)'!AW6=\"\",\"\",'教員(データ入力②)'!AW6)","v":""},{"$f":"IF('教員(データ入力②)'!AX6=\"\",\"\",'教員(データ入力②)'!AX6)","v":""},{"$f":"IF('教員(データ入力②)'!AY6=\"\",\"\",'教員(データ入力②)'!AY6)","v":""},{"$f":"IF('教員(データ入力②)'!AZ6=\"\",\"\",'教員(データ入力②)'!AZ6)","v":""},{"$f":"IF('教員(データ入力②)'!BA6=\"\",\"\",'教員(データ入力②)'!BA6)","v":""},{"$f":"IF('教員(データ入力②)'!BB6=\"\",\"\",'教員(データ入力②)'!BB6)","v":""},{"$f":"IF('教員(データ入力②)'!BC6=\"\",\"\",'教員(データ入力②)'!BC6)","v":""},{"$f":"IF('教員(データ入力②)'!BD6=\"\",\"\",'教員(データ入力②)'!BD6)","v":""},{"$f":"IF('教員(データ入力②)'!BE6=\"\",\"\",'教員(データ入力②)'!BE6)","v":""},{"$f":"IF('教員(データ入力②)'!BF6=\"\",\"\",'教員(データ入力②)'!BF6)","v":""},{"$f":"IF('教員(データ入力②)'!BG6=\"\",\"\",'教員(データ入力②)'!BG6)","v":""},{"$f":"IF('教員(データ入力②)'!BH6=\"\",\"\",'教員(データ入力②)'!BH6)","v":""},{"$f":"IF('教員(データ入力②)'!BI6=\"\",\"\",'教員(データ入力②)'!BI6)","v":""},{"$f":"IF('教員(データ入力②)'!BJ6=\"\",\"\",'教員(データ入力②)'!BJ6)","v":""},{"$f":"IF('教員(データ入力②)'!BK6=\"\",\"\",'教員(データ入力②)'!BK6)","v":""},{"$f":"IF('教員(データ入力②)'!BL6=\"\",\"\",'教員(データ入力②)'!BL6)","v":""},{"$f":"IF('教員(データ入力②)'!BM6=\"\",\"\",'教員(データ入力②)'!BM6)","v":""},0,{"$error":"#DIV/0!"},{"$f":"ROUND(BR12-'教員(一覧表①)'!BR12,1)","v":{"$error":"#DIV/0!"}},0,{"$error":"#DIV/0!"},{"$f":"ROUND(BU12-'教員(一覧表①)'!BU12,1)","v":{"$error":"#DIV/0!"}},0,{"$error":"#DIV/0!"},{"$f":"ROUND(BX12-'教員(一覧表①)'!BX12,1)","v":{"$error":"#DIV/0!"}},0,{"$error":"#DIV/0!"},{"$f":"ROUND(CA12-'教員(一覧表①)'!CA12,1)","v":{"$error":"#DIV/0!"}},null,0,{"$error":"#DIV/0!"},{"$error":"#DIV/0!"},0,{"$error":"#DIV/0!"},{"$error":"#DIV/0!"},"あまりそう思わない",null,null,null,null,null,null,null,null,null,null,{"$f":"\"(\"&CU7&\"%)\"","v":{"$error":"#DIV/0!"}},{"$f":"\"(\"&CV7&\"%)\"","v":{"$error":"#DIV/0!"}},{"$error":"#DIV/0!"},{"$error":"#DIV/0!"}]
[null,null,{"$f":"'教員(個人)'!B15","v":"私は，誰かのユーモアある発言に対し，温かい笑いが生まれるような雰囲気づくりをしている。"},{"$error":"#DIV/0!"},{"$error":"#DIV/0!"},{"$error":"#DIV/0!"},{"$error":"#DIV/0!"},null,{"$f":"IF('教員(データ入力②)'!F9=\"\",\"\",'教員(データ入力②)'!F9)","v":""},{"$f":"IF('教員(データ入力②)'!G9=\"\",\"\",'教員(データ入力②)'!G9)","v":""},{"$f":"IF('教員(データ入力②)'!H9=\"\",\"\",'教員(データ入力②)'!H9)","v":""},{"$f":"IF('教員(データ入力②)'!I9=\"\",\"\",'教員(データ入力②)'!I9)","v":""},{"$f":"IF('教員(データ入力②)'!J9=\"\",\"\",'教員(データ入力②)'!J9)","v":""},{"$f":"IF('教員(データ入力②)'!K9=\"\",\"\",'教員(データ入力②)'!K9)","v":""},{"$f":"IF('教員(データ入力②)'!L9=\"\",\"\",'教員(データ入力②)'!L9)","v":""},{"$f":"IF('教員(データ入力②)'!M9=\"\",\"\",'教員(データ入力②)'!M9)","v":""},{"$f":"IF('教員(データ入力②)'!N9=\"\",\"\",'教員(データ入力②)'!N9)","v":""},{"$f":"IF('教員(データ入力②)'!O9=\"\",\"\",'教員(データ入力②)'!O9)","v":""},{"$f":"IF('教員(データ入力②)'!P9=\"\",\"\",'教員(データ入力②)'!P9)","v":""},{"$f":"IF('教員(データ入力②)'!Q9=\"\",\"\",'教員(データ入力②)'!Q9)","v":""},{"$f":"IF('教員(データ入力②)'!R9=\"\",\"\",'教員(データ入力②)'!R9)","v":""},{"$f":"IF('教員(データ入力②)'!S9=\"\",\"\",'教員(データ入力②)'!S9)","v":""},{"$f":"IF('教員(データ入力②)'!T9=\"\",\"\",'教員(データ入力②)'!T9)","v":""},{"$f":"IF('教員(データ入力②)'!U9=\"\",\"\",'教員(データ入力②)'!U9)","v":""},{"$f":"IF('教員(データ入力②)'!V9=\"\",\"\",'教員(データ入力②)'!V9)","v":""},{"$f":"IF('教員(データ入力②)'!W9=\"\",\"\",'教員(データ入力②)'!W9)","v":""},{"$f":"IF('教員(データ入力②)'!X9=\"\",\"\",'教員(データ入力②)'!X9)","v":""},{"$f":"IF('教員(データ入力②)'!Y9=\"\",\"\",'教員(データ入力②)'!Y9)","v":""},{"$f":"IF('教員(データ入力②)'!Z9=\"\",\"\",'教員(データ入力②)'!Z9)","v":""},{"$f":"IF('教員(データ入力②)'!AA9=\"\",\"\",'教員(データ入力②)'!AA9)","v":""},{"$f":"IF('教員(データ入力②)'!AB9=\"\",\"\",'教員(データ入力②)'!AB9)","v":""},{"$f":"IF('教員(データ入力②)'!AC9=\"\",\"\",'教員(データ入力②)'!AC9)","v":""},{"$f":"IF('教員(データ入力②)'!AD9=\"\",\"\",'教員(データ入力②)'!AD9)","v":""},{"$f":"IF('教員(データ入力②)'!AE9=\"\",\"\",'教員(データ入力②)'!AE9)","v":""},{"$f":"IF('教員(データ入力②)'!AF9=\"\",\"\",'教員(データ入力②)'!AF9)","v":""},{"$f":"IF('教員(データ入力②)'!AG9=\"\",\"\",'教員(データ入力②)'!AG9)","v":""},{"$f":"IF('教員(データ入力②)'!AH9=\"\",\"\",'教員(データ入力②)'!AH9)","v":""},{"$f":"IF('教員(データ入力②)'!AI9=\"\",\"\",'教員(データ入力②)'!AI9)","v":""},{"$f":"IF('教員(データ入力②)'!AJ9=\"\",\"\",'教員(データ入力②)'!AJ9)","v":""},{"$f":"IF('教員(データ入力②)'!AK9=\"\",\"\",'教員(データ入力②)'!AK9)","v":""},{"$f":"IF('教員(データ入力②)'!AL9=\"\",\"\",'教員(データ入力②)'!AL9)","v":""},{"$f":"IF('教員(データ入力②)'!AM9=\"\",\"\",'教員(データ入力②)'!AM9)","v":""},{"$f":"IF('教員(データ入力②)'!AN9=\"\",\"\",'教員(データ入力②)'!AN9)","v":""},{"$f":"IF('教員(データ入力②)'!AO9=\"\",\"\",'教員(データ入力②)'!AO9)","v":""},{"$f":"IF('教員(データ入力②)'!AP9=\"\",\"\",'教員(データ入力②)'!AP9)","v":""},{"$f":"IF('教員(データ入力②)'!AQ9=\"\",\"\",'教員(データ入力②)'!AQ9)","v":""},{"$f":"IF('教員(データ入力②)'!AR9=\"\",\"\",'教員(データ入力②)'!AR9)","v":""},{"$f":"IF('教員(データ入力②)'!AS9=\"\",\"\",'教員(データ入力②)'!AS9)","v":""},{"$f":"IF('教員(データ入力②)'!AT9=\"\",\"\",'教員(データ入力②)'!AT9)","v":""},{"$f":"IF('教員(データ入力②)'!AU9=\"\",\"\",'教員(データ入力②)'!AU9)","v":""},{"$f":"IF('教員(データ入力②)'!AV9=\"\",\"\",'教員(データ入力②)'!AV9)","v":""},{"$f":"IF('教員(データ入力②)'!AW9=\"\",\"\",'教員(データ入力②)'!AW9)","v":""},{"$f":"IF('教員(データ入力②)'!AX9=\"\",\"\",'教員(データ入力②)'!AX9)","v":""},{"$f":"IF('教員(データ入力②)'!AY9=\"\",\"\",'教員(データ入力②)'!AY9)","v":""},{"$f":"IF('教員(データ入力②)'!AZ9=\"\",\"\",'教員(データ入力②)'!AZ9)","v":""},{"$f":"IF('教員(データ入力②)'!BA9=\"\",\"\",'教員(データ入力②)'!BA9)","v":""},{"$f":"IF('教員(データ入力②)'!BB9=\"\",\"\",'教員(データ入力②)'!BB9)","v":""},{"$f":"IF('教員(データ入力②)'!BC9=\"\",\"\",'教員(データ入力②)'!BC9)","v":""},{"$f":"IF('教員(データ入力②)'!BD9=\"\",\"\",'教員(データ入力②)'!BD9)","v":""},{"$f":"IF('教員(データ入力②)'!BE9=\"\",\"\",'教員(データ入力②)'!BE9)","v":""},{"$f":"IF('教員(データ入力②)'!BF9=\"\",\"\",'教員(データ入力②)'!BF9)","v":""},{"$f":"IF('教員(データ入力②)'!BG9=\"\",\"\",'教員(データ入力②)'!BG9)","v":""},{"$f":"IF('教員(データ入力②)'!BH9=\"\",\"\",'教員(データ入力②)'!BH9)","v":""},{"$f":"IF('教員(データ入力②)'!BI9=\"\",\"\",'教員(データ入力②)'!BI9)","v":""},{"$f":"IF('教員(データ入力②)'!BJ9=\"\",\"\",'教員(データ入力②)'!BJ9)","v":""},{"$f":"IF('教員(データ入力②)'!BK9=\"\",\"\",'教員(データ入力②)'!BK9)","v":""},{"$f":"IF('教員(データ入力②)'!BL9=\"\",\"\",'教員(データ入力②)'!BL9)","v":""},{"$f":"IF('教員(データ入力②)'!BM9=\"\",\"\",'教員(データ入力②)'!BM9)","v":""},0,{"$error":"#DIV/0!"},{"$f":"ROUND(BR13-'教員(一覧表①)'!BR13,1)","v":{"$error":"#DIV/0!"}},0,{"$error":"#DIV/0!"},{"$f":"ROUND(BU13-'教員(一覧表①)'!BU13,1)","v":{"$error":"#DIV/0!"}},0,{"$error":"#DIV/0!"},{"$f":"ROUND(BX13-'教員(一覧表①)'!BX13,1)","v":{"$error":"#DIV/0!"}},0,{"$error":"#DIV/0!"},{"$f":"ROUND(CA13-'教員(一覧表①)'!CA13,1)","v":{"$error":"#DIV/0!"}},null,0,{"$error":"#DIV/0!"},{"$error":"#DIV/0!"},0,{"$error":"#DIV/0!"},{"$error":"#DIV/0!"},"そう思わない",null,null,null,null,null,null,null,null,null,null,{"$f":"\"(\"&CU8&\"%)\"","v":{"$error":"#DIV/0!"}},{"$f":"\"(\"&CV8&\"%)\"","v":{"$error":"#DIV/0!"}},{"$error":"#DIV/0!"},{"$error":"#DIV/0!"}]
[null,"自分の考え、選択、決定が尊重されているという安心感",{"$f":"'教員(個人)'!B16","v":"私は，生徒が自分（たち）で学習や生活の目標を決め振り返る場を設けている。"},{"$error":"#DIV/0!"},{"$error":"#DIV/0!"},{"$error":"#DIV/0!"},{"$error":"#DIV/0!"},null,{"$f":"IF('教員(データ入力②)'!F5=\"\",\"\",'教員(データ入力②)'!F5)","v":""},{"$f":"IF('教員(データ入力②)'!G5=\"\",\"\",'教員(データ入力②)'!G5)","v":""},{"$f":"IF('教員(データ入力②)'!H5=\"\",\"\",'教員(データ入力②)'!H5)","v":""},{"$f":"IF('教員(データ入力②)'!I5=\"\",\"\",'教員(データ入力②)'!I5)","v":""},{"$f":"IF('教員(データ入力②)'!J5=\"\",\"\",'教員(データ入力②)'!J5)","v":""},{"$f":"IF('教員(データ入力②)'!K5=\"\",\"\",'教員(データ入力②)'!K5)","v":""},{"$f":"IF('教員(データ入力②)'!L5=\"\",\"\",'教員(データ入力②)'!L5)","v":""},{"$f":"IF('教員(データ入力②)'!M5=\"\",\"\",'教員(データ入力②)'!M5)","v":""},{"$f":"IF('教員(データ入力②)'!N5=\"\",\"\",'教員(データ入力②)'!N5)","v":""},{"$f":"IF('教員(データ入力②)'!O5=\"\",\"\",'教員(データ入力②)'!O5)","v":""},{"$f":"IF('教員(データ入力②)'!P5=\"\",\"\",'教員(データ入力②)'!P5)","v":""},{"$f":"IF('教員(データ入力②)'!Q5=\"\",\"\",'教員(データ入力②)'!Q5)","v":""},{"$f":"IF('教員(データ入力②)'!R5=\"\",\"\",'教員(データ入力②)'!R5)","v":""},{"$f":"IF('教員(データ入力②)'!S5=\"\",\"\",'教員(データ入力②)'!S5)","v":""},{"$f":"IF('教員(データ入力②)'!T5=\"\",\"\",'教員(データ入力②)'!T5)","v":""},{"$f":"IF('教員(データ入力②)'!U5=\"\",\"\",'教員(データ入力②)'!U5)","v":""},{"$f":"IF('教員(データ入力②)'!V5=\"\",\"\",'教員(データ入力②)'!V5)","v":""},{"$f":"IF('教員(データ入力②)'!W5=\"\",\"\",'教員(データ入力②)'!W5)","v":""},{"$f":"IF('教員(データ入力②)'!X5=\"\",\"\",'教員(データ入力②)'!X5)","v":""},{"$f":"IF('教員(データ入力②)'!Y5=\"\",\"\",'教員(データ入力②)'!Y5)","v":""},{"$f":"IF('教員(データ入力②)'!Z5=\"\",\"\",'教員(データ入力②)'!Z5)","v":""},{"$f":"IF('教員(データ入力②)'!AA5=\"\",\"\",'教員(データ入力②)'!AA5)","v":""},{"$f":"IF('教員(データ入力②)'!AB5=\"\",\"\",'教員(データ入力②)'!AB5)","v":""},{"$f":"IF('教員(データ入力②)'!AC5=\"\",\"\",'教員(データ入力②)'!AC5)","v":""},{"$f":"IF('教員(データ入力②)'!AD5=\"\",\"\",'教員(データ入力②)'!AD5)","v":""},{"$f":"IF('教員(データ入力②)'!AE5=\"\",\"\",'教員(データ入力②)'!AE5)","v":""},{"$f":"IF('教員(データ入力②)'!AF5=\"\",\"\",'教員(データ入力②)'!AF5)","v":""},{"$f":"IF('教員(データ入力②)'!AG5=\"\",\"\",'教員(データ入力②)'!AG5)","v":""},{"$f":"IF('教員(データ入力②)'!AH5=\"\",\"\",'教員(データ入力②)'!AH5)","v":""},{"$f":"IF('教員(データ入力②)'!AI5=\"\",\"\",'教員(データ入力②)'!AI5)","v":""},{"$f":"IF('教員(データ入力②)'!AJ5=\"\",\"\",'教員(データ入力②)'!AJ5)","v":""},{"$f":"IF('教員(データ入力②)'!AK5=\"\",\"\",'教員(データ入力②)'!AK5)","v":""},{"$f":"IF('教員(データ入力②)'!AL5=\"\",\"\",'教員(データ入力②)'!AL5)","v":""},{"$f":"IF('教員(データ入力②)'!AM5=\"\",\"\",'教員(データ入力②)'!AM5)","v":""},{"$f":"IF('教員(データ入力②)'!AN5=\"\",\"\",'教員(データ入力②)'!AN5)","v":""},{"$f":"IF('教員(データ入力②)'!AO5=\"\",\"\",'教員(データ入力②)'!AO5)","v":""},{"$f":"IF('教員(データ入力②)'!AP5=\"\",\"\",'教員(データ入力②)'!AP5)","v":""},{"$f":"IF('教員(データ入力②)'!AQ5=\"\",\"\",'教員(データ入力②)'!AQ5)","v":""},{"$f":"IF('教員(データ入力②)'!AR5=\"\",\"\",'教員(データ入力②)'!AR5)","v":""},{"$f":"IF('教員(データ入力②)'!AS5=\"\",\"\",'教員(データ入力②)'!AS5)","v":""},{"$f":"IF('教員(データ入力②)'!AT5=\"\",\"\",'教員(データ入力②)'!AT5)","v":""},{"$f":"IF('教員(データ入力②)'!AU5=\"\",\"\",'教員(データ入力②)'!AU5)","v":""},{"$f":"IF('教員(データ入力②)'!AV5=\"\",\"\",'教員(データ入力②)'!AV5)","v":""},{"$f":"IF('教員(データ入力②)'!AW5=\"\",\"\",'教員(データ入力②)'!AW5)","v":""},{"$f":"IF('教員(データ入力②)'!AX5=\"\",\"\",'教員(データ入力②)'!AX5)","v":""},{"$f":"IF('教員(データ入力②)'!AY5=\"\",\"\",'教員(データ入力②)'!AY5)","v":""},{"$f":"IF('教員(データ入力②)'!AZ5=\"\",\"\",'教員(データ入力②)'!AZ5)","v":""},{"$f":"IF('教員(データ入力②)'!BA5=\"\",\"\",'教員(データ入力②)'!BA5)","v":""},{"$f":"IF('教員(データ入力②)'!BB5=\"\",\"\",'教員(データ入力②)'!BB5)","v":""},{"$f":"IF('教員(データ入力②)'!BC5=\"\",\"\",'教員(データ入力②)'!BC5)","v":""},{"$f":"IF('教員(データ入力②)'!BD5=\"\",\"\",'教員(データ入力②)'!BD5)","v":""},{"$f":"IF('教員(データ入力②)'!BE5=\"\",\"\",'教員(データ入力②)'!BE5)","v":""},{"$f":"IF('教員(データ入力②)'!BF5=\"\",\"\",'教員(データ入力②)'!BF5)","v":""},{"$f":"IF('教員(データ入力②)'!BG5=\"\",\"\",'教員(データ入力②)'!BG5)","v":""},{"$f":"IF('教員(データ入力②)'!BH5=\"\",\"\",'教員(データ入力②)'!BH5)","v":""},{"$f":"IF('教員(データ入力②)'!BI5=\"\",\"\",'教員(データ入力②)'!BI5)","v":""},{"$f":"IF('教員(データ入力②)'!BJ5=\"\",\"\",'教員(データ入力②)'!BJ5)","v":""},{"$f":"IF('教員(データ入力②)'!BK5=\"\",\"\",'教員(データ入力②)'!BK5)","v":""},{"$f":"IF('教員(データ入力②)'!BL5=\"\",\"\",'教員(データ入力②)'!BL5)","v":""},{"$f":"IF('教員(データ入力②)'!BM5=\"\",\"\",'教員(データ入力②)'!BM5)","v":""},0,{"$error":"#DIV/0!"},{"$f":"ROUND(BR14-'教員(一覧表①)'!BR14,1)","v":{"$error":"#DIV/0!"}},0,{"$error":"#DIV/0!"},{"$f":"ROUND(BU14-'教員(一覧表①)'!BU14,1)","v":{"$error":"#DIV/0!"}},0,{"$error":"#DIV/0!"},{"$f":"ROUND(BX14-'教員(一覧表①)'!BX14,1)","v":{"$error":"#DIV/0!"}},0,{"$error":"#DIV/0!"},{"$f":"ROUND(CA14-'教員(一覧表①)'!CA14,1)","v":{"$error":"#DIV/0!"}},null,0,{"$error":"#DIV/0!"},{"$error":"#DIV/0!"},0,{"$error":"#DIV/0!"},{"$error":"#DIV/0!"},null,null,null,null,null,null,null,null,null,null,null,{"$f":"\"(\"&CU9&\"%)\"","v":{"$error":"#DIV/0!"}},{"$f":"\"(\"&CV9&\"%)\"","v":{"$error":"#DIV/0!"}},{"$error":"#DIV/0!"},{"$error":"#DIV/0!"}]
[null,null,{"$f":"'教員(個人)'!B17","v":"私は，生徒主体の活動場面を設けている。"},{"$error":"#DIV/0!"},{"$error":"#DIV/0!"},{"$error":"#DIV/0!"},{"$error":"#DIV/0!"},null,{"$f":"IF('教員(データ入力②)'!F24=\"\",\"\",'教員(データ入力②)'!F24)","v":""},{"$f":"IF('教員(データ入力②)'!G24=\"\",\"\",'教員(データ入力②)'!G24)","v":""},{"$f":"IF('教員(データ入力②)'!H24=\"\",\"\",'教員(データ入力②)'!H24)","v":""},{"$f":"IF('教員(データ入力②)'!I24=\"\",\"\",'教員(データ入力②)'!I24)","v":""},{"$f":"IF('教員(データ入力②)'!J24=\"\",\"\",'教員(データ入力②)'!J24)","v":""},{"$f":"IF('教員(データ入力②)'!K24=\"\",\"\",'教員(データ入力②)'!K24)","v":""},{"$f":"IF('教員(データ入力②)'!L24=\"\",\"\",'教員(データ入力②)'!L24)","v":""},{"$f":"IF('教員(データ入力②)'!M24=\"\",\"\",'教員(データ入力②)'!M24)","v":""},{"$f":"IF('教員(データ入力②)'!N24=\"\",\"\",'教員(データ入力②)'!N24)","v":""},{"$f":"IF('教員(データ入力②)'!O24=\"\",\"\",'教員(データ入力②)'!O24)","v":""},{"$f":"IF('教員(データ入力②)'!P24=\"\",\"\",'教員(データ入力②)'!P24)","v":""},{"$f":"IF('教員(データ入力②)'!Q24=\"\",\"\",'教員(データ入力②)'!Q24)","v":""},{"$f":"IF('教員(データ入力②)'!R24=\"\",\"\",'教員(データ入力②)'!R24)","v":""},{"$f":"IF('教員(データ入力②)'!S24=\"\",\"\",'教員(データ入力②)'!S24)","v":""},{"$f":"IF('教員(データ入力②)'!T24=\"\",\"\",'教員(データ入力②)'!T24)","v":""},{"$f":"IF('教員(データ入力②)'!U24=\"\",\"\",'教員(データ入力②)'!U24)","v":""},{"$f":"IF('教員(データ入力②)'!V24=\"\",\"\",'教員(データ入力②)'!V24)","v":""},{"$f":"IF('教員(データ入力②)'!W24=\"\",\"\",'教員(データ入力②)'!W24)","v":""},{"$f":"IF('教員(データ入力②)'!X24=\"\",\"\",'教員(データ入力②)'!X24)","v":""},{"$f":"IF('教員(データ入力②)'!Y24=\"\",\"\",'教員(データ入力②)'!Y24)","v":""},{"$f":"IF('教員(データ入力②)'!Z24=\"\",\"\",'教員(データ入力②)'!Z24)","v":""},{"$f":"IF('教員(データ入力②)'!AA24=\"\",\"\",'教員(データ入力②)'!AA24)","v":""},{"$f":"IF('教員(データ入力②)'!AB24=\"\",\"\",'教員(データ入力②)'!AB24)","v":""},{"$f":"IF('教員(データ入力②)'!AC24=\"\",\"\",'教員(データ入力②)'!AC24)","v":""},{"$f":"IF('教員(データ入力②)'!AD24=\"\",\"\",'教員(データ入力②)'!AD24)","v":""},{"$f":"IF('教員(データ入力②)'!AE24=\"\",\"\",'教員(データ入力②)'!AE24)","v":""},{"$f":"IF('教員(データ入力②)'!AF24=\"\",\"\",'教員(データ入力②)'!AF24)","v":""},{"$f":"IF('教員(データ入力②)'!AG24=\"\",\"\",'教員(データ入力②)'!AG24)","v":""},{"$f":"IF('教員(データ入力②)'!AH24=\"\",\"\",'教員(データ入力②)'!AH24)","v":""},{"$f":"IF('教員(データ入力②)'!AI24=\"\",\"\",'教員(データ入力②)'!AI24)","v":""},{"$f":"IF('教員(データ入力②)'!AJ24=\"\",\"\",'教員(データ入力②)'!AJ24)","v":""},{"$f":"IF('教員(データ入力②)'!AK24=\"\",\"\",'教員(データ入力②)'!AK24)","v":""},{"$f":"IF('教員(データ入力②)'!AL24=\"\",\"\",'教員(データ入力②)'!AL24)","v":""},{"$f":"IF('教員(データ入力②)'!AM24=\"\",\"\",'教員(データ入力②)'!AM24)","v":""},{"$f":"IF('教員(データ入力②)'!AN24=\"\",\"\",'教員(データ入力②)'!AN24)","v":""},{"$f":"IF('教員(データ入力②)'!AO24=\"\",\"\",'教員(データ入力②)'!AO24)","v":""},{"$f":"IF('教員(データ入力②)'!AP24=\"\",\"\",'教員(データ入力②)'!AP24)","v":""},{"$f":"IF('教員(データ入力②)'!AQ24=\"\",\"\",'教員(データ入力②)'!AQ24)","v":""},{"$f":"IF('教員(データ入力②)'!AR24=\"\",\"\",'教員(データ入力②)'!AR24)","v":""},{"$f":"IF('教員(データ入力②)'!AS24=\"\",\"\",'教員(データ入力②)'!AS24)","v":""},{"$f":"IF('教員(データ入力②)'!AT24=\"\",\"\",'教員(データ入力②)'!AT24)","v":""},{"$f":"IF('教員(データ入力②)'!AU24=\"\",\"\",'教員(データ入力②)'!AU24)","v":""},{"$f":"IF('教員(データ入力②)'!AV24=\"\",\"\",'教員(データ入力②)'!AV24)","v":""},{"$f":"IF('教員(データ入力②)'!AW24=\"\",\"\",'教員(データ入力②)'!AW24)","v":""},{"$f":"IF('教員(データ入力②)'!AX24=\"\",\"\",'教員(データ入力②)'!AX24)","v":""},{"$f":"IF('教員(データ入力②)'!AY24=\"\",\"\",'教員(データ入力②)'!AY24)","v":""},{"$f":"IF('教員(データ入力②)'!AZ24=\"\",\"\",'教員(データ入力②)'!AZ24)","v":""},{"$f":"IF('教員(データ入力②)'!BA24=\"\",\"\",'教員(データ入力②)'!BA24)","v":""},{"$f":"IF('教員(データ入力②)'!BB24=\"\",\"\",'教員(データ入力②)'!BB24)","v":""},{"$f":"IF('教員(データ入力②)'!BC24=\"\",\"\",'教員(データ入力②)'!BC24)","v":""},{"$f":"IF('教員(データ入力②)'!BD24=\"\",\"\",'教員(データ入力②)'!BD24)","v":""},{"$f":"IF('教員(データ入力②)'!BE24=\"\",\"\",'教員(データ入力②)'!BE24)","v":""},{"$f":"IF('教員(データ入力②)'!BF24=\"\",\"\",'教員(データ入力②)'!BF24)","v":""},{"$f":"IF('教員(データ入力②)'!BG24=\"\",\"\",'教員(データ入力②)'!BG24)","v":""},{"$f":"IF('教員(データ入力②)'!BH24=\"\",\"\",'教員(データ入力②)'!BH24)","v":""},{"$f":"IF('教員(データ入力②)'!BI24=\"\",\"\",'教員(データ入力②)'!BI24)","v":""},{"$f":"IF('教員(データ入力②)'!BJ24=\"\",\"\",'教員(データ入力②)'!BJ24)","v":""},{"$f":"IF('教員(データ入力②)'!BK24=\"\",\"\",'教員(データ入力②)'!BK24)","v":""},{"$f":"IF('教員(データ入力②)'!BL24=\"\",\"\",'教員(データ入力②)'!BL24)","v":""},{"$f":"IF('教員(データ入力②)'!BM24=\"\",\"\",'教員(データ入力②)'!BM24)","v":""},0,{"$error":"#DIV/0!"},{"$f":"ROUND(BR15-'教員(一覧表①)'!BR15,1)","v":{"$error":"#DIV/0!"}},0,{"$error":"#DIV/0!"},{"$f":"ROUND(BU15-'教員(一覧表①)'!BU15,1)","v":{"$error":"#DIV/0!"}},0,{"$error":"#DIV/0!"},{"$f":"ROUND(BX15-'教員(一覧表①)'!BX15,1)","v":{"$error":"#DIV/0!"}},0,{"$error":"#DIV/0!"},{"$f":"ROUND(CA15-'教員(一覧表①)'!CA15,1)","v":{"$error":"#DIV/0!"}},null,0,{"$error":"#DIV/0!"},{"$error":"#DIV/0!"},0,{"$error":"#DIV/0!"},{"$error":"#DIV/0!"}]
[null,null,{"$f":"'教員(個人)'!B18","v":"私は，生徒が調べたり制作したりする場面で個別に声掛けをしている。"},{"$error":"#DIV/0!"},{"$error":"#DIV/0!"},{"$error":"#DIV/0!"},{"$error":"#DIV/0!"},null,{"$f":"IF('教員(データ入力②)'!F13=\"\",\"\",'教員(データ入力②)'!F13)","v":""},{"$f":"IF('教員(データ入力②)'!G13=\"\",\"\",'教員(データ入力②)'!G13)","v":""},{"$f":"IF('教員(データ入力②)'!H13=\"\",\"\",'教員(データ入力②)'!H13)","v":""},{"$f":"IF('教員(データ入力②)'!I13=\"\",\"\",'教員(データ入力②)'!I13)","v":""},{"$f":"IF('教員(データ入力②)'!J13=\"\",\"\",'教員(データ入力②)'!J13)","v":""},{"$f":"IF('教員(データ入力②)'!K13=\"\",\"\",'教員(データ入力②)'!K13)","v":""},{"$f":"IF('教員(データ入力②)'!L13=\"\",\"\",'教員(データ入力②)'!L13)","v":""},{"$f":"IF('教員(データ入力②)'!M13=\"\",\"\",'教員(データ入力②)'!M13)","v":""},{"$f":"IF('教員(データ入力②)'!N13=\"\",\"\",'教員(データ入力②)'!N13)","v":""},{"$f":"IF('教員(データ入力②)'!O13=\"\",\"\",'教員(データ入力②)'!O13)","v":""},{"$f":"IF('教員(データ入力②)'!P13=\"\",\"\",'教員(データ入力②)'!P13)","v":""},{"$f":"IF('教員(データ入力②)'!Q13=\"\",\"\",'教員(データ入力②)'!Q13)","v":""},{"$f":"IF('教員(データ入力②)'!R13=\"\",\"\",'教員(データ入力②)'!R13)","v":""},{"$f":"IF('教員(データ入力②)'!S13=\"\",\"\",'教員(データ入力②)'!S13)","v":""},{"$f":"IF('教員(データ入力②)'!T13=\"\",\"\",'教員(データ入力②)'!T13)","v":""},{"$f":"IF('教員(データ入力②)'!U13=\"\",\"\",'教員(データ入力②)'!U13)","v":""},{"$f":"IF('教員(データ入力②)'!V13=\"\",\"\",'教員(データ入力②)'!V13)","v":""},{"$f":"IF('教員(データ入力②)'!W13=\"\",\"\",'教員(データ入力②)'!W13)","v":""},{"$f":"IF('教員(データ入力②)'!X13=\"\",\"\",'教員(データ入力②)'!X13)","v":""},{"$f":"IF('教員(データ入力②)'!Y13=\"\",\"\",'教員(データ入力②)'!Y13)","v":""},{"$f":"IF('教員(データ入力②)'!Z13=\"\",\"\",'教員(データ入力②)'!Z13)","v":""},{"$f":"IF('教員(データ入力②)'!AA13=\"\",\"\",'教員(データ入力②)'!AA13)","v":""},{"$f":"IF('教員(データ入力②)'!AB13=\"\",\"\",'教員(データ入力②)'!AB13)","v":""},{"$f":"IF('教員(データ入力②)'!AC13=\"\",\"\",'教員(データ入力②)'!AC13)","v":""},{"$f":"IF('教員(データ入力②)'!AD13=\"\",\"\",'教員(データ入力②)'!AD13)","v":""},{"$f":"IF('教員(データ入力②)'!AE13=\"\",\"\",'教員(データ入力②)'!AE13)","v":""},{"$f":"IF('教員(データ入力②)'!AF13=\"\",\"\",'教員(データ入力②)'!AF13)","v":""},{"$f":"IF('教員(データ入力②)'!AG13=\"\",\"\",'教員(データ入力②)'!AG13)","v":""},{"$f":"IF('教員(データ入力②)'!AH13=\"\",\"\",'教員(データ入力②)'!AH13)","v":""},{"$f":"IF('教員(データ入力②)'!AI13=\"\",\"\",'教員(データ入力②)'!AI13)","v":""},{"$f":"IF('教員(データ入力②)'!AJ13=\"\",\"\",'教員(データ入力②)'!AJ13)","v":""},{"$f":"IF('教員(データ入力②)'!AK13=\"\",\"\",'教員(データ入力②)'!AK13)","v":""},{"$f":"IF('教員(データ入力②)'!AL13=\"\",\"\",'教員(データ入力②)'!AL13)","v":""},{"$f":"IF('教員(データ入力②)'!AM13=\"\",\"\",'教員(データ入力②)'!AM13)","v":""},{"$f":"IF('教員(データ入力②)'!AN13=\"\",\"\",'教員(データ入力②)'!AN13)","v":""},{"$f":"IF('教員(データ入力②)'!AO13=\"\",\"\",'教員(データ入力②)'!AO13)","v":""},{"$f":"IF('教員(データ入力②)'!AP13=\"\",\"\",'教員(データ入力②)'!AP13)","v":""},{"$f":"IF('教員(データ入力②)'!AQ13=\"\",\"\",'教員(データ入力②)'!AQ13)","v":""},{"$f":"IF('教員(データ入力②)'!AR13=\"\",\"\",'教員(データ入力②)'!AR13)","v":""},{"$f":"IF('教員(データ入力②)'!AS13=\"\",\"\",'教員(データ入力②)'!AS13)","v":""},{"$f":"IF('教員(データ入力②)'!AT13=\"\",\"\",'教員(データ入力②)'!AT13)","v":""},{"$f":"IF('教員(データ入力②)'!AU13=\"\",\"\",'教員(データ入力②)'!AU13)","v":""},{"$f":"IF('教員(データ入力②)'!AV13=\"\",\"\",'教員(データ入力②)'!AV13)","v":""},{"$f":"IF('教員(データ入力②)'!AW13=\"\",\"\",'教員(データ入力②)'!AW13)","v":""},{"$f":"IF('教員(データ入力②)'!AX13=\"\",\"\",'教員(データ入力②)'!AX13)","v":""},{"$f":"IF('教員(データ入力②)'!AY13=\"\",\"\",'教員(データ入力②)'!AY13)","v":""},{"$f":"IF('教員(データ入力②)'!AZ13=\"\",\"\",'教員(データ入力②)'!AZ13)","v":""},{"$f":"IF('教員(データ入力②)'!BA13=\"\",\"\",'教員(データ入力②)'!BA13)","v":""},{"$f":"IF('教員(データ入力②)'!BB13=\"\",\"\",'教員(データ入力②)'!BB13)","v":""},{"$f":"IF('教員(データ入力②)'!BC13=\"\",\"\",'教員(データ入力②)'!BC13)","v":""},{"$f":"IF('教員(データ入力②)'!BD13=\"\",\"\",'教員(データ入力②)'!BD13)","v":""},{"$f":"IF('教員(データ入力②)'!BE13=\"\",\"\",'教員(データ入力②)'!BE13)","v":""},{"$f":"IF('教員(データ入力②)'!BF13=\"\",\"\",'教員(データ入力②)'!BF13)","v":""},{"$f":"IF('教員(データ入力②)'!BG13=\"\",\"\",'教員(データ入力②)'!BG13)","v":""},{"$f":"IF('教員(データ入力②)'!BH13=\"\",\"\",'教員(データ入力②)'!BH13)","v":""},{"$f":"IF('教員(データ入力②)'!BI13=\"\",\"\",'教員(データ入力②)'!BI13)","v":""},{"$f":"IF('教員(データ入力②)'!BJ13=\"\",\"\",'教員(データ入力②)'!BJ13)","v":""},{"$f":"IF('教員(データ入力②)'!BK13=\"\",\"\",'教員(データ入力②)'!BK13)","v":""},{"$f":"IF('教員(データ入力②)'!BL13=\"\",\"\",'教員(データ入力②)'!BL13)","v":""},{"$f":"IF('教員(データ入力②)'!BM13=\"\",\"\",'教員(データ入力②)'!BM13)","v":""},0,{"$error":"#DIV/0!"},{"$f":"ROUND(BR16-'教員(一覧表①)'!BR16,1)","v":{"$error":"#DIV/0!"}},0,{"$error":"#DIV/0!"},{"$f":"ROUND(BU16-'教員(一覧表①)'!BU16,1)","v":{"$error":"#DIV/0!"}},0,{"$error":"#DIV/0!"},{"$f":"ROUND(BX16-'教員(一覧表①)'!BX16,1)","v":{"$error":"#DIV/0!"}},0,{"$error":"#DIV/0!"},{"$f":"ROUND(CA16-'教員(一覧表①)'!CA16,1)","v":{"$error":"#DIV/0!"}},null,0,{"$error":"#DIV/0!"},{"$error":"#DIV/0!"},0,{"$error":"#DIV/0!"},{"$error":"#DIV/0!"}]
[null,null,{"$f":"'教員(個人)'!B19","v":"私は，生徒が自分の考えを伝えたいと思えるような場面や機会を設けている。"},{"$error":"#DIV/0!"},{"$error":"#DIV/0!"},{"$error":"#DIV/0!"},{"$error":"#DIV/0!"},null,{"$f":"IF('教員(データ入力②)'!F7=\"\",\"\",'教員(データ入力②)'!F7)","v":""},{"$f":"IF('教員(データ入力②)'!G7=\"\",\"\",'教員(データ入力②)'!G7)","v":""},{"$f":"IF('教員(データ入力②)'!H7=\"\",\"\",'教員(データ入力②)'!H7)","v":""},{"$f":"IF('教員(データ入力②)'!I7=\"\",\"\",'教員(データ入力②)'!I7)","v":""},{"$f":"IF('教員(データ入力②)'!J7=\"\",\"\",'教員(データ入力②)'!J7)","v":""},{"$f":"IF('教員(データ入力②)'!K7=\"\",\"\",'教員(データ入力②)'!K7)","v":""},{"$f":"IF('教員(データ入力②)'!L7=\"\",\"\",'教員(データ入力②)'!L7)","v":""},{"$f":"IF('教員(データ入力②)'!M7=\"\",\"\",'教員(データ入力②)'!M7)","v":""},{"$f":"IF('教員(データ入力②)'!N7=\"\",\"\",'教員(データ入力②)'!N7)","v":""},{"$f":"IF('教員(データ入力②)'!O7=\"\",\"\",'教員(データ入力②)'!O7)","v":""},{"$f":"IF('教員(データ入力②)'!P7=\"\",\"\",'教員(データ入力②)'!P7)","v":""},{"$f":"IF('教員(データ入力②)'!Q7=\"\",\"\",'教員(データ入力②)'!Q7)","v":""},{"$f":"IF('教員(データ入力②)'!R7=\"\",\"\",'教員(データ入力②)'!R7)","v":""},{"$f":"IF('教員(データ入力②)'!S7=\"\",\"\",'教員(データ入力②)'!S7)","v":""},{"$f":"IF('教員(データ入力②)'!T7=\"\",\"\",'教員(データ入力②)'!T7)","v":""},{"$f":"IF('教員(データ入力②)'!U7=\"\",\"\",'教員(データ入力②)'!U7)","v":""},{"$f":"IF('教員(データ入力②)'!V7=\"\",\"\",'教員(データ入力②)'!V7)","v":""},{"$f":"IF('教員(データ入力②)'!W7=\"\",\"\",'教員(データ入力②)'!W7)","v":""},{"$f":"IF('教員(データ入力②)'!X7=\"\",\"\",'教員(データ入力②)'!X7)","v":""},{"$f":"IF('教員(データ入力②)'!Y7=\"\",\"\",'教員(データ入力②)'!Y7)","v":""},{"$f":"IF('教員(データ入力②)'!Z7=\"\",\"\",'教員(データ入力②)'!Z7)","v":""},{"$f":"IF('教員(データ入力②)'!AA7=\"\",\"\",'教員(データ入力②)'!AA7)","v":""},{"$f":"IF('教員(データ入力②)'!AB7=\"\",\"\",'教員(データ入力②)'!AB7)","v":""},{"$f":"IF('教員(データ入力②)'!AC7=\"\",\"\",'教員(データ入力②)'!AC7)","v":""},{"$f":"IF('教員(データ入力②)'!AD7=\"\",\"\",'教員(データ入力②)'!AD7)","v":""},{"$f":"IF('教員(データ入力②)'!AE7=\"\",\"\",'教員(データ入力②)'!AE7)","v":""},{"$f":"IF('教員(データ入力②)'!AF7=\"\",\"\",'教員(データ入力②)'!AF7)","v":""},{"$f":"IF('教員(データ入力②)'!AG7=\"\",\"\",'教員(データ入力②)'!AG7)","v":""},{"$f":"IF('教員(データ入力②)'!AH7=\"\",\"\",'教員(データ入力②)'!AH7)","v":""},{"$f":"IF('教員(データ入力②)'!AI7=\"\",\"\",'教員(データ入力②)'!AI7)","v":""},{"$f":"IF('教員(データ入力②)'!AJ7=\"\",\"\",'教員(データ入力②)'!AJ7)","v":""},{"$f":"IF('教員(データ入力②)'!AK7=\"\",\"\",'教員(データ入力②)'!AK7)","v":""},{"$f":"IF('教員(データ入力②)'!AL7=\"\",\"\",'教員(データ入力②)'!AL7)","v":""},{"$f":"IF('教員(データ入力②)'!AM7=\"\",\"\",'教員(データ入力②)'!AM7)","v":""},{"$f":"IF('教員(データ入力②)'!AN7=\"\",\"\",'教員(データ入力②)'!AN7)","v":""},{"$f":"IF('教員(データ入力②)'!AO7=\"\",\"\",'教員(データ入力②)'!AO7)","v":""},{"$f":"IF('教員(データ入力②)'!AP7=\"\",\"\",'教員(データ入力②)'!AP7)","v":""},{"$f":"IF('教員(データ入力②)'!AQ7=\"\",\"\",'教員(データ入力②)'!AQ7)","v":""},{"$f":"IF('教員(データ入力②)'!AR7=\"\",\"\",'教員(データ入力②)'!AR7)","v":""},{"$f":"IF('教員(データ入力②)'!AS7=\"\",\"\",'教員(データ入力②)'!AS7)","v":""},{"$f":"IF('教員(データ入力②)'!AT7=\"\",\"\",'教員(データ入力②)'!AT7)","v":""},{"$f":"IF('教員(データ入力②)'!AU7=\"\",\"\",'教員(データ入力②)'!AU7)","v":""},{"$f":"IF('教員(データ入力②)'!AV7=\"\",\"\",'教員(データ入力②)'!AV7)","v":""},{"$f":"IF('教員(データ入力②)'!AW7=\"\",\"\",'教員(データ入力②)'!AW7)","v":""},{"$f":"IF('教員(データ入力②)'!AX7=\"\",\"\",'教員(データ入力②)'!AX7)","v":""},{"$f":"IF('教員(データ入力②)'!AY7=\"\",\"\",'教員(データ入力②)'!AY7)","v":""},{"$f":"IF('教員(データ入力②)'!AZ7=\"\",\"\",'教員(データ入力②)'!AZ7)","v":""},{"$f":"IF('教員(データ入力②)'!BA7=\"\",\"\",'教員(データ入力②)'!BA7)","v":""},{"$f":"IF('教員(データ入力②)'!BB7=\"\",\"\",'教員(データ入力②)'!BB7)","v":""},{"$f":"IF('教員(データ入力②)'!BC7=\"\",\"\",'教員(データ入力②)'!BC7)","v":""},{"$f":"IF('教員(データ入力②)'!BD7=\"\",\"\",'教員(データ入力②)'!BD7)","v":""},{"$f":"IF('教員(データ入力②)'!BE7=\"\",\"\",'教員(データ入力②)'!BE7)","v":""},{"$f":"IF('教員(データ入力②)'!BF7=\"\",\"\",'教員(データ入力②)'!BF7)","v":""},{"$f":"IF('教員(データ入力②)'!BG7=\"\",\"\",'教員(データ入力②)'!BG7)","v":""},{"$f":"IF('教員(データ入力②)'!BH7=\"\",\"\",'教員(データ入力②)'!BH7)","v":""},{"$f":"IF('教員(データ入力②)'!BI7=\"\",\"\",'教員(データ入力②)'!BI7)","v":""},{"$f":"IF('教員(データ入力②)'!BJ7=\"\",\"\",'教員(データ入力②)'!BJ7)","v":""},{"$f":"IF('教員(データ入力②)'!BK7=\"\",\"\",'教員(データ入力②)'!BK7)","v":""},{"$f":"IF('教員(データ入力②)'!BL7=\"\",\"\",'教員(データ入力②)'!BL7)","v":""},{"$f":"IF('教員(データ入力②)'!BM7=\"\",\"\",'教員(データ入力②)'!BM7)","v":""},0,{"$error":"#DIV/0!"},{"$f":"ROUND(BR17-'教員(一覧表①)'!BR17,1)","v":{"$error":"#DIV/0!"}},0,{"$error":"#DIV/0!"},{"$f":"ROUND(BU17-'教員(一覧表①)'!BU17,1)","v":{"$error":"#DIV/0!"}},0,{"$error":"#DIV/0!"},{"$f":"ROUND(BX17-'教員(一覧表①)'!BX17,1)","v":{"$error":"#DIV/0!"}},0,{"$error":"#DIV/0!"},{"$f":"ROUND(CA17-'教員(一覧表①)'!CA17,1)","v":{"$error":"#DIV/0!"}},null,0,{"$error":"#DIV/0!"},{"$error":"#DIV/0!"},0,{"$error":"#DIV/0!"},{"$error":"#DIV/0!"}]
[null,null,{"$f":"'教員(個人)'!B20","v":"私は，生徒が自分一人で考えるために必要な支援をしている。"},{"$error":"#DIV/0!"},{"$error":"#DIV/0!"},{"$error":"#DIV/0!"},{"$error":"#DIV/0!"},null,{"$f":"IF('教員(データ入力②)'!F16=\"\",\"\",'教員(データ入力②)'!F16)","v":""},{"$f":"IF('教員(データ入力②)'!G16=\"\",\"\",'教員(データ入力②)'!G16)","v":""},{"$f":"IF('教員(データ入力②)'!H16=\"\",\"\",'教員(データ入力②)'!H16)","v":""},{"$f":"IF('教員(データ入力②)'!I16=\"\",\"\",'教員(データ入力②)'!I16)","v":""},{"$f":"IF('教員(データ入力②)'!J16=\"\",\"\",'教員(データ入力②)'!J16)","v":""},{"$f":"IF('教員(データ入力②)'!K16=\"\",\"\",'教員(データ入力②)'!K16)","v":""},{"$f":"IF('教員(データ入力②)'!L16=\"\",\"\",'教員(データ入力②)'!L16)","v":""},{"$f":"IF('教員(データ入力②)'!M16=\"\",\"\",'教員(データ入力②)'!M16)","v":""},{"$f":"IF('教員(データ入力②)'!N16=\"\",\"\",'教員(データ入力②)'!N16)","v":""},{"$f":"IF('教員(データ入力②)'!O16=\"\",\"\",'教員(データ入力②)'!O16)","v":""},{"$f":"IF('教員(データ入力②)'!P16=\"\",\"\",'教員(データ入力②)'!P16)","v":""},{"$f":"IF('教員(データ入力②)'!Q16=\"\",\"\",'教員(データ入力②)'!Q16)","v":""},{"$f":"IF('教員(データ入力②)'!R16=\"\",\"\",'教員(データ入力②)'!R16)","v":""},{"$f":"IF('教員(データ入力②)'!S16=\"\",\"\",'教員(データ入力②)'!S16)","v":""},{"$f":"IF('教員(データ入力②)'!T16=\"\",\"\",'教員(データ入力②)'!T16)","v":""},{"$f":"IF('教員(データ入力②)'!U16=\"\",\"\",'教員(データ入力②)'!U16)","v":""},{"$f":"IF('教員(データ入力②)'!V16=\"\",\"\",'教員(データ入力②)'!V16)","v":""},{"$f":"IF('教員(データ入力②)'!W16=\"\",\"\",'教員(データ入力②)'!W16)","v":""},{"$f":"IF('教員(データ入力②)'!X16=\"\",\"\",'教員(データ入力②)'!X16)","v":""},{"$f":"IF('教員(データ入力②)'!Y16=\"\",\"\",'教員(データ入力②)'!Y16)","v":""},{"$f":"IF('教員(データ入力②)'!Z16=\"\",\"\",'教員(データ入力②)'!Z16)","v":""},{"$f":"IF('教員(データ入力②)'!AA16=\"\",\"\",'教員(データ入力②)'!AA16)","v":""},{"$f":"IF('教員(データ入力②)'!AB16=\"\",\"\",'教員(データ入力②)'!AB16)","v":""},{"$f":"IF('教員(データ入力②)'!AC16=\"\",\"\",'教員(データ入力②)'!AC16)","v":""},{"$f":"IF('教員(データ入力②)'!AD16=\"\",\"\",'教員(データ入力②)'!AD16)","v":""},{"$f":"IF('教員(データ入力②)'!AE16=\"\",\"\",'教員(データ入力②)'!AE16)","v":""},{"$f":"IF('教員(データ入力②)'!AF16=\"\",\"\",'教員(データ入力②)'!AF16)","v":""},{"$f":"IF('教員(データ入力②)'!AG16=\"\",\"\",'教員(データ入力②)'!AG16)","v":""},{"$f":"IF('教員(データ入力②)'!AH16=\"\",\"\",'教員(データ入力②)'!AH16)","v":""},{"$f":"IF('教員(データ入力②)'!AI16=\"\",\"\",'教員(データ入力②)'!AI16)","v":""},{"$f":"IF('教員(データ入力②)'!AJ16=\"\",\"\",'教員(データ入力②)'!AJ16)","v":""},{"$f":"IF('教員(データ入力②)'!AK16=\"\",\"\",'教員(データ入力②)'!AK16)","v":""},{"$f":"IF('教員(データ入力②)'!AL16=\"\",\"\",'教員(データ入力②)'!AL16)","v":""},{"$f":"IF('教員(データ入力②)'!AM16=\"\",\"\",'教員(データ入力②)'!AM16)","v":""},{"$f":"IF('教員(データ入力②)'!AN16=\"\",\"\",'教員(データ入力②)'!AN16)","v":""},{"$f":"IF('教員(データ入力②)'!AO16=\"\",\"\",'教員(データ入力②)'!AO16)","v":""},{"$f":"IF('教員(データ入力②)'!AP16=\"\",\"\",'教員(データ入力②)'!AP16)","v":""},{"$f":"IF('教員(データ入力②)'!AQ16=\"\",\"\",'教員(データ入力②)'!AQ16)","v":""},{"$f":"IF('教員(データ入力②)'!AR16=\"\",\"\",'教員(データ入力②)'!AR16)","v":""},{"$f":"IF('教員(データ入力②)'!AS16=\"\",\"\",'教員(データ入力②)'!AS16)","v":""},{"$f":"IF('教員(データ入力②)'!AT16=\"\",\"\",'教員(データ入力②)'!AT16)","v":""},{"$f":"IF('教員(データ入力②)'!AU16=\"\",\"\",'教員(データ入力②)'!AU16)","v":""},{"$f":"IF('教員(データ入力②)'!AV16=\"\",\"\",'教員(データ入力②)'!AV16)","v":""},{"$f":"IF('教員(データ入力②)'!AW16=\"\",\"\",'教員(データ入力②)'!AW16)","v":""},{"$f":"IF('教員(データ入力②)'!AX16=\"\",\"\",'教員(データ入力②)'!AX16)","v":""},{"$f":"IF('教員(データ入力②)'!AY16=\"\",\"\",'教員(データ入力②)'!AY16)","v":""},{"$f":"IF('教員(データ入力②)'!AZ16=\"\",\"\",'教員(データ入力②)'!AZ16)","v":""},{"$f":"IF('教員(データ入力②)'!BA16=\"\",\"\",'教員(データ入力②)'!BA16)","v":""},{"$f":"IF('教員(データ入力②)'!BB16=\"\",\"\",'教員(データ入力②)'!BB16)","v":""},{"$f":"IF('教員(データ入力②)'!BC16=\"\",\"\",'教員(データ入力②)'!BC16)","v":""},{"$f":"IF('教員(データ入力②)'!BD16=\"\",\"\",'教員(データ入力②)'!BD16)","v":""},{"$f":"IF('教員(データ入力②)'!BE16=\"\",\"\",'教員(データ入力②)'!BE16)","v":""},{"$f":"IF('教員(データ入力②)'!BF16=\"\",\"\",'教員(データ入力②)'!BF16)","v":""},{"$f":"IF('教員(データ入力②)'!BG16=\"\",\"\",'教員(データ入力②)'!BG16)","v":""},{"$f":"IF('教員(データ入力②)'!BH16=\"\",\"\",'教員(データ入力②)'!BH16)","v":""},{"$f":"IF('教員(データ入力②)'!BI16=\"\",\"\",'教員(データ入力②)'!BI16)","v":""},{"$f":"IF('教員(データ入力②)'!BJ16=\"\",\"\",'教員(データ入力②)'!BJ16)","v":""},{"$f":"IF('教員(データ入力②)'!BK16=\"\",\"\",'教員(データ入力②)'!BK16)","v":""},{"$f":"IF('教員(データ入力②)'!BL16=\"\",\"\",'教員(データ入力②)'!BL16)","v":""},{"$f":"IF('教員(データ入力②)'!BM16=\"\",\"\",'教員(データ入力②)'!BM16)","v":""},0,{"$error":"#DIV/0!"},{"$f":"ROUND(BR18-'教員(一覧表①)'!BR18,1)","v":{"$error":"#DIV/0!"}},0,{"$error":"#DIV/0!"},{"$f":"ROUND(BU18-'教員(一覧表①)'!BU18,1)","v":{"$error":"#DIV/0!"}},0,{"$error":"#DIV/0!"},{"$f":"ROUND(BX18-'教員(一覧表①)'!BX18,1)","v":{"$error":"#DIV/0!"}},0,{"$error":"#DIV/0!"},{"$f":"ROUND(CA18-'教員(一覧表①)'!CA18,1)","v":{"$error":"#DIV/0!"}},null,0,{"$error":"#DIV/0!"},{"$error":"#DIV/0!"},0,{"$error":"#DIV/0!"},{"$error":"#DIV/0!"}]
[null,"ルールが守られ他者から傷つけられないという安心感",{"$f":"'教員(個人)'!B21","v":"私は，生徒が自分の役割に責任を持って取り組めるようにしている。"},{"$error":"#DIV/0!"},{"$error":"#DIV/0!"},{"$error":"#DIV/0!"},{"$error":"#DIV/0!"},null,{"$f":"IF('教員(データ入力②)'!F14=\"\",\"\",'教員(データ入力②)'!F14)","v":""},{"$f":"IF('教員(データ入力②)'!G14=\"\",\"\",'教員(データ入力②)'!G14)","v":""},{"$f":"IF('教員(データ入力②)'!H14=\"\",\"\",'教員(データ入力②)'!H14)","v":""},{"$f":"IF('教員(データ入力②)'!I14=\"\",\"\",'教員(データ入力②)'!I14)","v":""},{"$f":"IF('教員(データ入力②)'!J14=\"\",\"\",'教員(データ入力②)'!J14)","v":""},{"$f":"IF('教員(データ入力②)'!K14=\"\",\"\",'教員(データ入力②)'!K14)","v":""},{"$f":"IF('教員(データ入力②)'!L14=\"\",\"\",'教員(データ入力②)'!L14)","v":""},{"$f":"IF('教員(データ入力②)'!M14=\"\",\"\",'教員(データ入力②)'!M14)","v":""},{"$f":"IF('教員(データ入力②)'!N14=\"\",\"\",'教員(データ入力②)'!N14)","v":""},{"$f":"IF('教員(データ入力②)'!O14=\"\",\"\",'教員(データ入力②)'!O14)","v":""},{"$f":"IF('教員(データ入力②)'!P14=\"\",\"\",'教員(データ入力②)'!P14)","v":""},{"$f":"IF('教員(データ入力②)'!Q14=\"\",\"\",'教員(データ入力②)'!Q14)","v":""},{"$f":"IF('教員(データ入力②)'!R14=\"\",\"\",'教員(データ入力②)'!R14)","v":""},{"$f":"IF('教員(データ入力②)'!S14=\"\",\"\",'教員(データ入力②)'!S14)","v":""},{"$f":"IF('教員(データ入力②)'!T14=\"\",\"\",'教員(データ入力②)'!T14)","v":""},{"$f":"IF('教員(データ入力②)'!U14=\"\",\"\",'教員(データ入力②)'!U14)","v":""},{"$f":"IF('教員(データ入力②)'!V14=\"\",\"\",'教員(データ入力②)'!V14)","v":""},{"$f":"IF('教員(データ入力②)'!W14=\"\",\"\",'教員(データ入力②)'!W14)","v":""},{"$f":"IF('教員(データ入力②)'!X14=\"\",\"\",'教員(データ入力②)'!X14)","v":""},{"$f":"IF('教員(データ入力②)'!Y14=\"\",\"\",'教員(データ入力②)'!Y14)","v":""},{"$f":"IF('教員(データ入力②)'!Z14=\"\",\"\",'教員(データ入力②)'!Z14)","v":""},{"$f":"IF('教員(データ入力②)'!AA14=\"\",\"\",'教員(データ入力②)'!AA14)","v":""},{"$f":"IF('教員(データ入力②)'!AB14=\"\",\"\",'教員(データ入力②)'!AB14)","v":""},{"$f":"IF('教員(データ入力②)'!AC14=\"\",\"\",'教員(データ入力②)'!AC14)","v":""},{"$f":"IF('教員(データ入力②)'!AD14=\"\",\"\",'教員(データ入力②)'!AD14)","v":""},{"$f":"IF('教員(データ入力②)'!AE14=\"\",\"\",'教員(データ入力②)'!AE14)","v":""},{"$f":"IF('教員(データ入力②)'!AF14=\"\",\"\",'教員(データ入力②)'!AF14)","v":""},{"$f":"IF('教員(データ入力②)'!AG14=\"\",\"\",'教員(データ入力②)'!AG14)","v":""},{"$f":"IF('教員(データ入力②)'!AH14=\"\",\"\",'教員(データ入力②)'!AH14)","v":""},{"$f":"IF('教員(データ入力②)'!AI14=\"\",\"\",'教員(データ入力②)'!AI14)","v":""},{"$f":"IF('教員(データ入力②)'!AJ14=\"\",\"\",'教員(データ入力②)'!AJ14)","v":""},{"$f":"IF('教員(データ入力②)'!AK14=\"\",\"\",'教員(データ入力②)'!AK14)","v":""},{"$f":"IF('教員(データ入力②)'!AL14=\"\",\"\",'教員(データ入力②)'!AL14)","v":""},{"$f":"IF('教員(データ入力②)'!AM14=\"\",\"\",'教員(データ入力②)'!AM14)","v":""},{"$f":"IF('教員(データ入力②)'!AN14=\"\",\"\",'教員(データ入力②)'!AN14)","v":""},{"$f":"IF('教員(データ入力②)'!AO14=\"\",\"\",'教員(データ入力②)'!AO14)","v":""},{"$f":"IF('教員(データ入力②)'!AP14=\"\",\"\",'教員(データ入力②)'!AP14)","v":""},{"$f":"IF('教員(データ入力②)'!AQ14=\"\",\"\",'教員(データ入力②)'!AQ14)","v":""},{"$f":"IF('教員(データ入力②)'!AR14=\"\",\"\",'教員(データ入力②)'!AR14)","v":""},{"$f":"IF('教員(データ入力②)'!AS14=\"\",\"\",'教員(データ入力②)'!AS14)","v":""},{"$f":"IF('教員(データ入力②)'!AT14=\"\",\"\",'教員(データ入力②)'!AT14)","v":""},{"$f":"IF('教員(データ入力②)'!AU14=\"\",\"\",'教員(データ入力②)'!AU14)","v":""},{"$f":"IF('教員(データ入力②)'!AV14=\"\",\"\",'教員(データ入力②)'!AV14)","v":""},{"$f":"IF('教員(データ入力②)'!AW14=\"\",\"\",'教員(データ入力②)'!AW14)","v":""},{"$f":"IF('教員(データ入力②)'!AX14=\"\",\"\",'教員(データ入力②)'!AX14)","v":""},{"$f":"IF('教員(データ入力②)'!AY14=\"\",\"\",'教員(データ入力②)'!AY14)","v":""},{"$f":"IF('教員(データ入力②)'!AZ14=\"\",\"\",'教員(データ入力②)'!AZ14)","v":""},{"$f":"IF('教員(データ入力②)'!BA14=\"\",\"\",'教員(データ入力②)'!BA14)","v":""},{"$f":"IF('教員(データ入力②)'!BB14=\"\",\"\",'教員(データ入力②)'!BB14)","v":""},{"$f":"IF('教員(データ入力②)'!BC14=\"\",\"\",'教員(データ入力②)'!BC14)","v":""},{"$f":"IF('教員(データ入力②)'!BD14=\"\",\"\",'教員(データ入力②)'!BD14)","v":""},{"$f":"IF('教員(データ入力②)'!BE14=\"\",\"\",'教員(データ入力②)'!BE14)","v":""},{"$f":"IF('教員(データ入力②)'!BF14=\"\",\"\",'教員(データ入力②)'!BF14)","v":""},{"$f":"IF('教員(データ入力②)'!BG14=\"\",\"\",'教員(データ入力②)'!BG14)","v":""},{"$f":"IF('教員(データ入力②)'!BH14=\"\",\"\",'教員(データ入力②)'!BH14)","v":""},{"$f":"IF('教員(データ入力②)'!BI14=\"\",\"\",'教員(データ入力②)'!BI14)","v":""},{"$f":"IF('教員(データ入力②)'!BJ14=\"\",\"\",'教員(データ入力②)'!BJ14)","v":""},{"$f":"IF('教員(データ入力②)'!BK14=\"\",\"\",'教員(データ入力②)'!BK14)","v":""},{"$f":"IF('教員(データ入力②)'!BL14=\"\",\"\",'教員(データ入力②)'!BL14)","v":""},{"$f":"IF('教員(データ入力②)'!BM14=\"\",\"\",'教員(データ入力②)'!BM14)","v":""},0,{"$error":"#DIV/0!"},{"$f":"ROUND(BR19-'教員(一覧表①)'!BR19,1)","v":{"$error":"#DIV/0!"}},0,{"$error":"#DIV/0!"},{"$f":"ROUND(BU19-'教員(一覧表①)'!BU19,1)","v":{"$error":"#DIV/0!"}},0,{"$error":"#DIV/0!"},{"$f":"ROUND(BX19-'教員(一覧表①)'!BX19,1)","v":{"$error":"#DIV/0!"}},0,{"$error":"#DIV/0!"},{"$f":"ROUND(CA19-'教員(一覧表①)'!CA19,1)","v":{"$error":"#DIV/0!"}},null,0,{"$error":"#DIV/0!"},{"$error":"#DIV/0!"},0,{"$error":"#DIV/0!"},{"$error":"#DIV/0!"}]
[null,null,{"$f":"'教員(個人)'!B22","v":"私は，生徒がお互いの間違いや失敗を冷やかしたり，からかったりしない雰囲気づくりをしている。"},{"$error":"#DIV/0!"},{"$error":"#DIV/0!"},{"$error":"#DIV/0!"},{"$error":"#DIV/0!"},null,{"$f":"IF('教員(データ入力②)'!F8=\"\",\"\",'教員(データ入力②)'!F8)","v":""},{"$f":"IF('教員(データ入力②)'!G8=\"\",\"\",'教員(データ入力②)'!G8)","v":""},{"$f":"IF('教員(データ入力②)'!H8=\"\",\"\",'教員(データ入力②)'!H8)","v":""},{"$f":"IF('教員(データ入力②)'!I8=\"\",\"\",'教員(データ入力②)'!I8)","v":""},{"$f":"IF('教員(データ入力②)'!J8=\"\",\"\",'教員(データ入力②)'!J8)","v":""},{"$f":"IF('教員(データ入力②)'!K8=\"\",\"\",'教員(データ入力②)'!K8)","v":""},{"$f":"IF('教員(データ入力②)'!L8=\"\",\"\",'教員(データ入力②)'!L8)","v":""},{"$f":"IF('教員(データ入力②)'!M8=\"\",\"\",'教員(データ入力②)'!M8)","v":""},{"$f":"IF('教員(データ入力②)'!N8=\"\",\"\",'教員(データ入力②)'!N8)","v":""},{"$f":"IF('教員(データ入力②)'!O8=\"\",\"\",'教員(データ入力②)'!O8)","v":""},{"$f":"IF('教員(データ入力②)'!P8=\"\",\"\",'教員(データ入力②)'!P8)","v":""},{"$f":"IF('教員(データ入力②)'!Q8=\"\",\"\",'教員(データ入力②)'!Q8)","v":""},{"$f":"IF('教員(データ入力②)'!R8=\"\",\"\",'教員(データ入力②)'!R8)","v":""},{"$f":"IF('教員(データ入力②)'!S8=\"\",\"\",'教員(データ入力②)'!S8)","v":""},{"$f":"IF('教員(データ入力②)'!T8=\"\",\"\",'教員(データ入力②)'!T8)","v":""},{"$f":"IF('教員(データ入力②)'!U8=\"\",\"\",'教員(データ入力②)'!U8)","v":""},{"$f":"IF('教員(データ入力②)'!V8=\"\",\"\",'教員(データ入力②)'!V8)","v":""},{"$f":"IF('教員(データ入力②)'!W8=\"\",\"\",'教員(データ入力②)'!W8)","v":""},{"$f":"IF('教員(データ入力②)'!X8=\"\",\"\",'教員(データ入力②)'!X8)","v":""},{"$f":"IF('教員(データ入力②)'!Y8=\"\",\"\",'教員(データ入力②)'!Y8)","v":""},{"$f":"IF('教員(データ入力②)'!Z8=\"\",\"\",'教員(データ入力②)'!Z8)","v":""},{"$f":"IF('教員(データ入力②)'!AA8=\"\",\"\",'教員(データ入力②)'!AA8)","v":""},{"$f":"IF('教員(データ入力②)'!AB8=\"\",\"\",'教員(データ入力②)'!AB8)","v":""},{"$f":"IF('教員(データ入力②)'!AC8=\"\",\"\",'教員(データ入力②)'!AC8)","v":""},{"$f":"IF('教員(データ入力②)'!AD8=\"\",\"\",'教員(データ入力②)'!AD8)","v":""},{"$f":"IF('教員(データ入力②)'!AE8=\"\",\"\",'教員(データ入力②)'!AE8)","v":""},{"$f":"IF('教員(データ入力②)'!AF8=\"\",\"\",'教員(データ入力②)'!AF8)","v":""},{"$f":"IF('教員(データ入力②)'!AG8=\"\",\"\",'教員(データ入力②)'!AG8)","v":""},{"$f":"IF('教員(データ入力②)'!AH8=\"\",\"\",'教員(データ入力②)'!AH8)","v":""},{"$f":"IF('教員(データ入力②)'!AI8=\"\",\"\",'教員(データ入力②)'!AI8)","v":""},{"$f":"IF('教員(データ入力②)'!AJ8=\"\",\"\",'教員(データ入力②)'!AJ8)","v":""},{"$f":"IF('教員(データ入力②)'!AK8=\"\",\"\",'教員(データ入力②)'!AK8)","v":""},{"$f":"IF('教員(データ入力②)'!AL8=\"\",\"\",'教員(データ入力②)'!AL8)","v":""},{"$f":"IF('教員(データ入力②)'!AM8=\"\",\"\",'教員(データ入力②)'!AM8)","v":""},{"$f":"IF('教員(データ入力②)'!AN8=\"\",\"\",'教員(データ入力②)'!AN8)","v":""},{"$f":"IF('教員(データ入力②)'!AO8=\"\",\"\",'教員(データ入力②)'!AO8)","v":""},{"$f":"IF('教員(データ入力②)'!AP8=\"\",\"\",'教員(データ入力②)'!AP8)","v":""},{"$f":"IF('教員(データ入力②)'!AQ8=\"\",\"\",'教員(データ入力②)'!AQ8)","v":""},{"$f":"IF('教員(データ入力②)'!AR8=\"\",\"\",'教員(データ入力②)'!AR8)","v":""},{"$f":"IF('教員(データ入力②)'!AS8=\"\",\"\",'教員(データ入力②)'!AS8)","v":""},{"$f":"IF('教員(データ入力②)'!AT8=\"\",\"\",'教員(データ入力②)'!AT8)","v":""},{"$f":"IF('教員(データ入力②)'!AU8=\"\",\"\",'教員(データ入力②)'!AU8)","v":""},{"$f":"IF('教員(データ入力②)'!AV8=\"\",\"\",'教員(データ入力②)'!AV8)","v":""},{"$f":"IF('教員(データ入力②)'!AW8=\"\",\"\",'教員(データ入力②)'!AW8)","v":""},{"$f":"IF('教員(データ入力②)'!AX8=\"\",\"\",'教員(データ入力②)'!AX8)","v":""},{"$f":"IF('教員(データ入力②)'!AY8=\"\",\"\",'教員(データ入力②)'!AY8)","v":""},{"$f":"IF('教員(データ入力②)'!AZ8=\"\",\"\",'教員(データ入力②)'!AZ8)","v":""},{"$f":"IF('教員(データ入力②)'!BA8=\"\",\"\",'教員(データ入力②)'!BA8)","v":""},{"$f":"IF('教員(データ入力②)'!BB8=\"\",\"\",'教員(データ入力②)'!BB8)","v":""},{"$f":"IF('教員(データ入力②)'!BC8=\"\",\"\",'教員(データ入力②)'!BC8)","v":""},{"$f":"IF('教員(データ入力②)'!BD8=\"\",\"\",'教員(データ入力②)'!BD8)","v":""},{"$f":"IF('教員(データ入力②)'!BE8=\"\",\"\",'教員(データ入力②)'!BE8)","v":""},{"$f":"IF('教員(データ入力②)'!BF8=\"\",\"\",'教員(データ入力②)'!BF8)","v":""},{"$f":"IF('教員(データ入力②)'!BG8=\"\",\"\",'教員(データ入力②)'!BG8)","v":""},{"$f":"IF('教員(データ入力②)'!BH8=\"\",\"\",'教員(データ入力②)'!BH8)","v":""},{"$f":"IF('教員(データ入力②)'!BI8=\"\",\"\",'教員(データ入力②)'!BI8)","v":""},{"$f":"IF('教員(データ入力②)'!BJ8=\"\",\"\",'教員(データ入力②)'!BJ8)","v":""},{"$f":"IF('教員(データ入力②)'!BK8=\"\",\"\",'教員(データ入力②)'!BK8)","v":""},{"$f":"IF('教員(データ入力②)'!BL8=\"\",\"\",'教員(データ入力②)'!BL8)","v":""},{"$f":"IF('教員(データ入力②)'!BM8=\"\",\"\",'教員(データ入力②)'!BM8)","v":""},0,{"$error":"#DIV/0!"},{"$f":"ROUND(BR20-'教員(一覧表①)'!BR20,1)","v":{"$error":"#DIV/0!"}},0,{"$error":"#DIV/0!"},{"$f":"ROUND(BU20-'教員(一覧表①)'!BU20,1)","v":{"$error":"#DIV/0!"}},0,{"$error":"#DIV/0!"},{"$f":"ROUND(BX20-'教員(一覧表①)'!BX20,1)","v":{"$error":"#DIV/0!"}},0,{"$error":"#DIV/0!"},{"$f":"ROUND(CA20-'教員(一覧表①)'!CA20,1)","v":{"$error":"#DIV/0!"}},null,0,{"$error":"#DIV/0!"},{"$error":"#DIV/0!"},0,{"$error":"#DIV/0!"},{"$error":"#DIV/0!"}]
[null,null,{"$f":"'教員(個人)'!B23","v":"私は，生徒が周りの迷惑になるような言動を許さない雰囲気づくりをしている。"},{"$error":"#DIV/0!"},{"$error":"#DIV/0!"},{"$error":"#DIV/0!"},{"$error":"#DIV/0!"},null,{"$f":"IF('教員(データ入力②)'!F15=\"\",\"\",'教員(データ入力②)'!F15)","v":""},{"$f":"IF('教員(データ入力②)'!G15=\"\",\"\",'教員(データ入力②)'!G15)","v":""},{"$f":"IF('教員(データ入力②)'!H15=\"\",\"\",'教員(データ入力②)'!H15)","v":""},{"$f":"IF('教員(データ入力②)'!I15=\"\",\"\",'教員(データ入力②)'!I15)","v":""},{"$f":"IF('教員(データ入力②)'!J15=\"\",\"\",'教員(データ入力②)'!J15)","v":""},{"$f":"IF('教員(データ入力②)'!K15=\"\",\"\",'教員(データ入力②)'!K15)","v":""},{"$f":"IF('教員(データ入力②)'!L15=\"\",\"\",'教員(データ入力②)'!L15)","v":""},{"$f":"IF('教員(データ入力②)'!M15=\"\",\"\",'教員(データ入力②)'!M15)","v":""},{"$f":"IF('教員(データ入力②)'!N15=\"\",\"\",'教員(データ入力②)'!N15)","v":""},{"$f":"IF('教員(データ入力②)'!O15=\"\",\"\",'教員(データ入力②)'!O15)","v":""},{"$f":"IF('教員(データ入力②)'!P15=\"\",\"\",'教員(データ入力②)'!P15)","v":""},{"$f":"IF('教員(データ入力②)'!Q15=\"\",\"\",'教員(データ入力②)'!Q15)","v":""},{"$f":"IF('教員(データ入力②)'!R15=\"\",\"\",'教員(データ入力②)'!R15)","v":""},{"$f":"IF('教員(データ入力②)'!S15=\"\",\"\",'教員(データ入力②)'!S15)","v":""},{"$f":"IF('教員(データ入力②)'!T15=\"\",\"\",'教員(データ入力②)'!T15)","v":""},{"$f":"IF('教員(データ入力②)'!U15=\"\",\"\",'教員(データ入力②)'!U15)","v":""},{"$f":"IF('教員(データ入力②)'!V15=\"\",\"\",'教員(データ入力②)'!V15)","v":""},{"$f":"IF('教員(データ入力②)'!W15=\"\",\"\",'教員(データ入力②)'!W15)","v":""},{"$f":"IF('教員(データ入力②)'!X15=\"\",\"\",'教員(データ入力②)'!X15)","v":""},{"$f":"IF('教員(データ入力②)'!Y15=\"\",\"\",'教員(データ入力②)'!Y15)","v":""},{"$f":"IF('教員(データ入力②)'!Z15=\"\",\"\",'教員(データ入力②)'!Z15)","v":""},{"$f":"IF('教員(データ入力②)'!AA15=\"\",\"\",'教員(データ入力②)'!AA15)","v":""},{"$f":"IF('教員(データ入力②)'!AB15=\"\",\"\",'教員(データ入力②)'!AB15)","v":""},{"$f":"IF('教員(データ入力②)'!AC15=\"\",\"\",'教員(データ入力②)'!AC15)","v":""},{"$f":"IF('教員(データ入力②)'!AD15=\"\",\"\",'教員(データ入力②)'!AD15)","v":""},{"$f":"IF('教員(データ入力②)'!AE15=\"\",\"\",'教員(データ入力②)'!AE15)","v":""},{"$f":"IF('教員(データ入力②)'!AF15=\"\",\"\",'教員(データ入力②)'!AF15)","v":""},{"$f":"IF('教員(データ入力②)'!AG15=\"\",\"\",'教員(データ入力②)'!AG15)","v":""},{"$f":"IF('教員(データ入力②)'!AH15=\"\",\"\",'教員(データ入力②)'!AH15)","v":""},{"$f":"IF('教員(データ入力②)'!AI15=\"\",\"\",'教員(データ入力②)'!AI15)","v":""},{"$f":"IF('教員(データ入力②)'!AJ15=\"\",\"\",'教員(データ入力②)'!AJ15)","v":""},{"$f":"IF('教員(データ入力②)'!AK15=\"\",\"\",'教員(データ入力②)'!AK15)","v":""},{"$f":"IF('教員(データ入力②)'!AL15=\"\",\"\",'教員(データ入力②)'!AL15)","v":""},{"$f":"IF('教員(データ入力②)'!AM15=\"\",\"\",'教員(データ入力②)'!AM15)","v":""},{"$f":"IF('教員(データ入力②)'!AN15=\"\",\"\",'教員(データ入力②)'!AN15)","v":""},{"$f":"IF('教員(データ入力②)'!AO15=\"\",\"\",'教員(データ入力②)'!AO15)","v":""},{"$f":"IF('教員(データ入力②)'!AP15=\"\",\"\",'教員(データ入力②)'!AP15)","v":""},{"$f":"IF('教員(データ入力②)'!AQ15=\"\",\"\",'教員(データ入力②)'!AQ15)","v":""},{"$f":"IF('教員(データ入力②)'!AR15=\"\",\"\",'教員(データ入力②)'!AR15)","v":""},{"$f":"IF('教員(データ入力②)'!AS15=\"\",\"\",'教員(データ入力②)'!AS15)","v":""},{"$f":"IF('教員(データ入力②)'!AT15=\"\",\"\",'教員(データ入力②)'!AT15)","v":""},{"$f":"IF('教員(データ入力②)'!AU15=\"\",\"\",'教員(データ入力②)'!AU15)","v":""},{"$f":"IF('教員(データ入力②)'!AV15=\"\",\"\",'教員(データ入力②)'!AV15)","v":""},{"$f":"IF('教員(データ入力②)'!AW15=\"\",\"\",'教員(データ入力②)'!AW15)","v":""},{"$f":"IF('教員(データ入力②)'!AX15=\"\",\"\",'教員(データ入力②)'!AX15)","v":""},{"$f":"IF('教員(データ入力②)'!AY15=\"\",\"\",'教員(データ入力②)'!AY15)","v":""},{"$f":"IF('教員(データ入力②)'!AZ15=\"\",\"\",'教員(データ入力②)'!AZ15)","v":""},{"$f":"IF('教員(データ入力②)'!BA15=\"\",\"\",'教員(データ入力②)'!BA15)","v":""},{"$f":"IF('教員(データ入力②)'!BB15=\"\",\"\",'教員(データ入力②)'!BB15)","v":""},{"$f":"IF('教員(データ入力②)'!BC15=\"\",\"\",'教員(データ入力②)'!BC15)","v":""},{"$f":"IF('教員(データ入力②)'!BD15=\"\",\"\",'教員(データ入力②)'!BD15)","v":""},{"$f":"IF('教員(データ入力②)'!BE15=\"\",\"\",'教員(データ入力②)'!BE15)","v":""},{"$f":"IF('教員(データ入力②)'!BF15=\"\",\"\",'教員(データ入力②)'!BF15)","v":""},{"$f":"IF('教員(データ入力②)'!BG15=\"\",\"\",'教員(データ入力②)'!BG15)","v":""},{"$f":"IF('教員(データ入力②)'!BH15=\"\",\"\",'教員(データ入力②)'!BH15)","v":""},{"$f":"IF('教員(データ入力②)'!BI15=\"\",\"\",'教員(データ入力②)'!BI15)","v":""},{"$f":"IF('教員(データ入力②)'!BJ15=\"\",\"\",'教員(データ入力②)'!BJ15)","v":""},{"$f":"IF('教員(データ入力②)'!BK15=\"\",\"\",'教員(データ入力②)'!BK15)","v":""},{"$f":"IF('教員(データ入力②)'!BL15=\"\",\"\",'教員(データ入力②)'!BL15)","v":""},{"$f":"IF('教員(データ入力②)'!BM15=\"\",\"\",'教員(データ入力②)'!BM15)","v":""},0,{"$error":"#DIV/0!"},{"$f":"ROUND(BR21-'教員(一覧表①)'!BR21,1)","v":{"$error":"#DIV/0!"}},0,{"$error":"#DIV/0!"},{"$f":"ROUND(BU21-'教員(一覧表①)'!BU21,1)","v":{"$error":"#DIV/0!"}},0,{"$error":"#DIV/0!"},{"$f":"ROUND(BX21-'教員(一覧表①)'!BX21,1)","v":{"$error":"#DIV/0!"}},0,{"$error":"#DIV/0!"},{"$f":"ROUND(CA21-'教員(一覧表①)'!CA21,1)","v":{"$error":"#DIV/0!"}},null,0,{"$error":"#DIV/0!"},{"$error":"#DIV/0!"},0,{"$error":"#DIV/0!"},{"$error":"#DIV/0!"}]
[null,null,{"$f":"'教員(個人)'!B24","v":"私は，活動の始まりと終わりの時間を守っている。"},{"$error":"#DIV/0!"},{"$error":"#DIV/0!"},{"$error":"#DIV/0!"},{"$error":"#DIV/0!"},null,{"$f":"IF('教員(データ入力②)'!F23=\"\",\"\",'教員(データ入力②)'!F23)","v":""},{"$f":"IF('教員(データ入力②)'!G23=\"\",\"\",'教員(データ入力②)'!G23)","v":""},{"$f":"IF('教員(データ入力②)'!H23=\"\",\"\",'教員(データ入力②)'!H23)","v":""},{"$f":"IF('教員(データ入力②)'!I23=\"\",\"\",'教員(データ入力②)'!I23)","v":""},{"$f":"IF('教員(データ入力②)'!J23=\"\",\"\",'教員(データ入力②)'!J23)","v":""},{"$f":"IF('教員(データ入力②)'!K23=\"\",\"\",'教員(データ入力②)'!K23)","v":""},{"$f":"IF('教員(データ入力②)'!L23=\"\",\"\",'教員(データ入力②)'!L23)","v":""},{"$f":"IF('教員(データ入力②)'!M23=\"\",\"\",'教員(データ入力②)'!M23)","v":""},{"$f":"IF('教員(データ入力②)'!N23=\"\",\"\",'教員(データ入力②)'!N23)","v":""},{"$f":"IF('教員(データ入力②)'!O23=\"\",\"\",'教員(データ入力②)'!O23)","v":""},{"$f":"IF('教員(データ入力②)'!P23=\"\",\"\",'教員(データ入力②)'!P23)","v":""},{"$f":"IF('教員(データ入力②)'!Q23=\"\",\"\",'教員(データ入力②)'!Q23)","v":""},{"$f":"IF('教員(データ入力②)'!R23=\"\",\"\",'教員(データ入力②)'!R23)","v":""},{"$f":"IF('教員(データ入力②)'!S23=\"\",\"\",'教員(データ入力②)'!S23)","v":""},{"$f":"IF('教員(データ入力②)'!T23=\"\",\"\",'教員(データ入力②)'!T23)","v":""},{"$f":"IF('教員(データ入力②)'!U23=\"\",\"\",'教員(データ入力②)'!U23)","v":""},{"$f":"IF('教員(データ入力②)'!V23=\"\",\"\",'教員(データ入力②)'!V23)","v":""},{"$f":"IF('教員(データ入力②)'!W23=\"\",\"\",'教員(データ入力②)'!W23)","v":""},{"$f":"IF('教員(データ入力②)'!X23=\"\",\"\",'教員(データ入力②)'!X23)","v":""},{"$f":"IF('教員(データ入力②)'!Y23=\"\",\"\",'教員(データ入力②)'!Y23)","v":""},{"$f":"IF('教員(データ入力②)'!Z23=\"\",\"\",'教員(データ入力②)'!Z23)","v":""},{"$f":"IF('教員(データ入力②)'!AA23=\"\",\"\",'教員(データ入力②)'!AA23)","v":""},{"$f":"IF('教員(データ入力②)'!AB23=\"\",\"\",'教員(データ入力②)'!AB23)","v":""},{"$f":"IF('教員(データ入力②)'!AC23=\"\",\"\",'教員(データ入力②)'!AC23)","v":""},{"$f":"IF('教員(データ入力②)'!AD23=\"\",\"\",'教員(データ入力②)'!AD23)","v":""},{"$f":"IF('教員(データ入力②)'!AE23=\"\",\"\",'教員(データ入力②)'!AE23)","v":""},{"$f":"IF('教員(データ入力②)'!AF23=\"\",\"\",'教員(データ入力②)'!AF23)","v":""},{"$f":"IF('教員(データ入力②)'!AG23=\"\",\"\",'教員(データ入力②)'!AG23)","v":""},{"$f":"IF('教員(データ入力②)'!AH23=\"\",\"\",'教員(データ入力②)'!AH23)","v":""},{"$f":"IF('教員(データ入力②)'!AI23=\"\",\"\",'教員(データ入力②)'!AI23)","v":""},{"$f":"IF('教員(データ入力②)'!AJ23=\"\",\"\",'教員(データ入力②)'!AJ23)","v":""},{"$f":"IF('教員(データ入力②)'!AK23=\"\",\"\",'教員(データ入力②)'!AK23)","v":""},{"$f":"IF('教員(データ入力②)'!AL23=\"\",\"\",'教員(データ入力②)'!AL23)","v":""},{"$f":"IF('教員(データ入力②)'!AM23=\"\",\"\",'教員(データ入力②)'!AM23)","v":""},{"$f":"IF('教員(データ入力②)'!AN23=\"\",\"\",'教員(データ入力②)'!AN23)","v":""},{"$f":"IF('教員(データ入力②)'!AO23=\"\",\"\",'教員(データ入力②)'!AO23)","v":""},{"$f":"IF('教員(データ入力②)'!AP23=\"\",\"\",'教員(データ入力②)'!AP23)","v":""},{"$f":"IF('教員(データ入力②)'!AQ23=\"\",\"\",'教員(データ入力②)'!AQ23)","v":""},{"$f":"IF('教員(データ入力②)'!AR23=\"\",\"\",'教員(データ入力②)'!AR23)","v":""},{"$f":"IF('教員(データ入力②)'!AS23=\"\",\"\",'教員(データ入力②)'!AS23)","v":""},{"$f":"IF('教員(データ入力②)'!AT23=\"\",\"\",'教員(データ入力②)'!AT23)","v":""},{"$f":"IF('教員(データ入力②)'!AU23=\"\",\"\",'教員(データ入力②)'!AU23)","v":""},{"$f":"IF('教員(データ入力②)'!AV23=\"\",\"\",'教員(データ入力②)'!AV23)","v":""},{"$f":"IF('教員(データ入力②)'!AW23=\"\",\"\",'教員(データ入力②)'!AW23)","v":""},{"$f":"IF('教員(データ入力②)'!AX23=\"\",\"\",'教員(データ入力②)'!AX23)","v":""},{"$f":"IF('教員(データ入力②)'!AY23=\"\",\"\",'教員(データ入力②)'!AY23)","v":""},{"$f":"IF('教員(データ入力②)'!AZ23=\"\",\"\",'教員(データ入力②)'!AZ23)","v":""},{"$f":"IF('教員(データ入力②)'!BA23=\"\",\"\",'教員(データ入力②)'!BA23)","v":""},{"$f":"IF('教員(データ入力②)'!BB23=\"\",\"\",'教員(データ入力②)'!BB23)","v":""},{"$f":"IF('教員(データ入力②)'!BC23=\"\",\"\",'教員(データ入力②)'!BC23)","v":""},{"$f":"IF('教員(データ入力②)'!BD23=\"\",\"\",'教員(データ入力②)'!BD23)","v":""},{"$f":"IF('教員(データ入力②)'!BE23=\"\",\"\",'教員(データ入力②)'!BE23)","v":""},{"$f":"IF('教員(データ入力②)'!BF23=\"\",\"\",'教員(データ入力②)'!BF23)","v":""},{"$f":"IF('教員(データ入力②)'!BG23=\"\",\"\",'教員(データ入力②)'!BG23)","v":""},{"$f":"IF('教員(データ入力②)'!BH23=\"\",\"\",'教員(データ入力②)'!BH23)","v":""},{"$f":"IF('教員(データ入力②)'!BI23=\"\",\"\",'教員(データ入力②)'!BI23)","v":""},{"$f":"IF('教員(データ入力②)'!BJ23=\"\",\"\",'教員(データ入力②)'!BJ23)","v":""},{"$f":"IF('教員(データ入力②)'!BK23=\"\",\"\",'教員(データ入力②)'!BK23)","v":""},{"$f":"IF('教員(データ入力②)'!BL23=\"\",\"\",'教員(データ入力②)'!BL23)","v":""},{"$f":"IF('教員(データ入力②)'!BM23=\"\",\"\",'教員(データ入力②)'!BM23)","v":""},0,{"$error":"#DIV/0!"},{"$f":"ROUND(BR22-'教員(一覧表①)'!BR22,1)","v":{"$error":"#DIV/0!"}},0,{"$error":"#DIV/0!"},{"$f":"ROUND(BU22-'教員(一覧表①)'!BU22,1)","v":{"$error":"#DIV/0!"}},0,{"$error":"#DIV/0!"},{"$f":"ROUND(BX22-'教員(一覧表①)'!BX22,1)","v":{"$error":"#DIV/0!"}},0,{"$error":"#DIV/0!"},{"$f":"ROUND(CA22-'教員(一覧表①)'!CA22,1)","v":{"$error":"#DIV/0!"}},null,0,{"$error":"#DIV/0!"},{"$error":"#DIV/0!"},0,{"$error":"#DIV/0!"},{"$error":"#DIV/0!"}]
[null,null,{"$f":"'教員(個人)'!B25","v":"私は，人の心や体を傷つける言葉や行為を見逃さず毅然とした対応をとっている。"},{"$error":"#DIV/0!"},{"$error":"#DIV/0!"},{"$error":"#DIV/0!"},{"$error":"#DIV/0!"},null,{"$f":"IF('教員(データ入力②)'!F11=\"\",\"\",'教員(データ入力②)'!F11)","v":""},{"$f":"IF('教員(データ入力②)'!G11=\"\",\"\",'教員(データ入力②)'!G11)","v":""},{"$f":"IF('教員(データ入力②)'!H11=\"\",\"\",'教員(データ入力②)'!H11)","v":""},{"$f":"IF('教員(データ入力②)'!I11=\"\",\"\",'教員(データ入力②)'!I11)","v":""},{"$f":"IF('教員(データ入力②)'!J11=\"\",\"\",'教員(データ入力②)'!J11)","v":""},{"$f":"IF('教員(データ入力②)'!K11=\"\",\"\",'教員(データ入力②)'!K11)","v":""},{"$f":"IF('教員(データ入力②)'!L11=\"\",\"\",'教員(データ入力②)'!L11)","v":""},{"$f":"IF('教員(データ入力②)'!M11=\"\",\"\",'教員(データ入力②)'!M11)","v":""},{"$f":"IF('教員(データ入力②)'!N11=\"\",\"\",'教員(データ入力②)'!N11)","v":""},{"$f":"IF('教員(データ入力②)'!O11=\"\",\"\",'教員(データ入力②)'!O11)","v":""},{"$f":"IF('教員(データ入力②)'!P11=\"\",\"\",'教員(データ入力②)'!P11)","v":""},{"$f":"IF('教員(データ入力②)'!Q11=\"\",\"\",'教員(データ入力②)'!Q11)","v":""},{"$f":"IF('教員(データ入力②)'!R11=\"\",\"\",'教員(データ入力②)'!R11)","v":""},{"$f":"IF('教員(データ入力②)'!S11=\"\",\"\",'教員(データ入力②)'!S11)","v":""},{"$f":"IF('教員(データ入力②)'!T11=\"\",\"\",'教員(データ入力②)'!T11)","v":""},{"$f":"IF('教員(データ入力②)'!U11=\"\",\"\",'教員(データ入力②)'!U11)","v":""},{"$f":"IF('教員(データ入力②)'!V11=\"\",\"\",'教員(データ入力②)'!V11)","v":""},{"$f":"IF('教員(データ入力②)'!W11=\"\",\"\",'教員(データ入力②)'!W11)","v":""},{"$f":"IF('教員(データ入力②)'!X11=\"\",\"\",'教員(データ入力②)'!X11)","v":""},{"$f":"IF('教員(データ入力②)'!Y11=\"\",\"\",'教員(データ入力②)'!Y11)","v":""},{"$f":"IF('教員(データ入力②)'!Z11=\"\",\"\",'教員(データ入力②)'!Z11)","v":""},{"$f":"IF('教員(データ入力②)'!AA11=\"\",\"\",'教員(データ入力②)'!AA11)","v":""},{"$f":"IF('教員(データ入力②)'!AB11=\"\",\"\",'教員(データ入力②)'!AB11)","v":""},{"$f":"IF('教員(データ入力②)'!AC11=\"\",\"\",'教員(データ入力②)'!AC11)","v":""},{"$f":"IF('教員(データ入力②)'!AD11=\"\",\"\",'教員(データ入力②)'!AD11)","v":""},{"$f":"IF('教員(データ入力②)'!AE11=\"\",\"\",'教員(データ入力②)'!AE11)","v":""},{"$f":"IF('教員(データ入力②)'!AF11=\"\",\"\",'教員(データ入力②)'!AF11)","v":""},{"$f":"IF('教員(データ入力②)'!AG11=\"\",\"\",'教員(データ入力②)'!AG11)","v":""},{"$f":"IF('教員(データ入力②)'!AH11=\"\",\"\",'教員(データ入力②)'!AH11)","v":""},{"$f":"IF('教員(データ入力②)'!AI11=\"\",\"\",'教員(データ入力②)'!AI11)","v":""},{"$f":"IF('教員(データ入力②)'!AJ11=\"\",\"\",'教員(データ入力②)'!AJ11)","v":""},{"$f":"IF('教員(データ入力②)'!AK11=\"\",\"\",'教員(データ入力②)'!AK11)","v":""},{"$f":"IF('教員(データ入力②)'!AL11=\"\",\"\",'教員(データ入力②)'!AL11)","v":""},{"$f":"IF('教員(データ入力②)'!AM11=\"\",\"\",'教員(データ入力②)'!AM11)","v":""},{"$f":"IF('教員(データ入力②)'!AN11=\"\",\"\",'教員(データ入力②)'!AN11)","v":""},{"$f":"IF('教員(データ入力②)'!AO11=\"\",\"\",'教員(データ入力②)'!AO11)","v":""},{"$f":"IF('教員(データ入力②)'!AP11=\"\",\"\",'教員(データ入力②)'!AP11)","v":""},{"$f":"IF('教員(データ入力②)'!AQ11=\"\",\"\",'教員(データ入力②)'!AQ11)","v":""},{"$f":"IF('教員(データ入力②)'!AR11=\"\",\"\",'教員(データ入力②)'!AR11)","v":""},{"$f":"IF('教員(データ入力②)'!AS11=\"\",\"\",'教員(データ入力②)'!AS11)","v":""},{"$f":"IF('教員(データ入力②)'!AT11=\"\",\"\",'教員(データ入力②)'!AT11)","v":""},{"$f":"IF('教員(データ入力②)'!AU11=\"\",\"\",'教員(データ入力②)'!AU11)","v":""},{"$f":"IF('教員(データ入力②)'!AV11=\"\",\"\",'教員(データ入力②)'!AV11)","v":""},{"$f":"IF('教員(データ入力②)'!AW11=\"\",\"\",'教員(データ入力②)'!AW11)","v":""},{"$f":"IF('教員(データ入力②)'!AX11=\"\",\"\",'教員(データ入力②)'!AX11)","v":""},{"$f":"IF('教員(データ入力②)'!AY11=\"\",\"\",'教員(データ入力②)'!AY11)","v":""},{"$f":"IF('教員(データ入力②)'!AZ11=\"\",\"\",'教員(データ入力②)'!AZ11)","v":""},{"$f":"IF('教員(データ入力②)'!BA11=\"\",\"\",'教員(データ入力②)'!BA11)","v":""},{"$f":"IF('教員(データ入力②)'!BB11=\"\",\"\",'教員(データ入力②)'!BB11)","v":""},{"$f":"IF('教員(データ入力②)'!BC11=\"\",\"\",'教員(データ入力②)'!BC11)","v":""},{"$f":"IF('教員(データ入力②)'!BD11=\"\",\"\",'教員(データ入力②)'!BD11)","v":""},{"$f":"IF('教員(データ入力②)'!BE11=\"\",\"\",'教員(データ入力②)'!BE11)","v":""},{"$f":"IF('教員(データ入力②)'!BF11=\"\",\"\",'教員(データ入力②)'!BF11)","v":""},{"$f":"IF('教員(データ入力②)'!BG11=\"\",\"\",'教員(データ入力②)'!BG11)","v":""},{"$f":"IF('教員(データ入力②)'!BH11=\"\",\"\",'教員(データ入力②)'!BH11)","v":""},{"$f":"IF('教員(データ入力②)'!BI11=\"\",\"\",'教員(データ入力②)'!BI11)","v":""},{"$f":"IF('教員(データ入力②)'!BJ11=\"\",\"\",'教員(データ入力②)'!BJ11)","v":""},{"$f":"IF('教員(データ入力②)'!BK11=\"\",\"\",'教員(データ入力②)'!BK11)","v":""},{"$f":"IF('教員(データ入力②)'!BL11=\"\",\"\",'教員(データ入力②)'!BL11)","v":""},{"$f":"IF('教員(データ入力②)'!BM11=\"\",\"\",'教員(データ入力②)'!BM11)","v":""},0,{"$error":"#DIV/0!"},{"$f":"ROUND(BR23-'教員(一覧表①)'!BR23,1)","v":{"$error":"#DIV/0!"}},0,{"$error":"#DIV/0!"},{"$f":"ROUND(BU23-'教員(一覧表①)'!BU23,1)","v":{"$error":"#DIV/0!"}},0,{"$error":"#DIV/0!"},{"$f":"ROUND(BX23-'教員(一覧表①)'!BX23,1)","v":{"$error":"#DIV/0!"}},0,{"$error":"#DIV/0!"},{"$f":"ROUND(CA23-'教員(一覧表①)'!CA23,1)","v":{"$error":"#DIV/0!"}},null,0,{"$error":"#DIV/0!"},{"$error":"#DIV/0!"},0,{"$error":"#DIV/0!"},{"$error":"#DIV/0!"}]

{"sheet":"生徒第1回入力 (生徒個人表用)","index":17,"n_rows":24,"n_cols":90,"rows_kept":24,"cut":false,"hidden":false,"merged":[[2,65,3,65],[2,66,3,66],[2,67,3,67],[2,68,3,68],[2,69,3,69],[4,1,8,1],[9,1,13,1],[14,1,18,1],[19,1,23,1],[2,64,3,64],[2,58,3,58],[2,59,3,59],[2,60,3,60],[2,61,3,61],[2,62,3,62],[2,63,3,63]]}
[null,null,null,null,null,null,null,null,1,2,3,4,5,6,7,8,9,10,11,12,13,14,15,16,17,18,19,20,21,22,23,24,25,26,27,28,29,30,31,32,33,34,35,36,37,38,39,40,41,42,43,44,45,46,47,48,49,50]
[]
[null,null,null,4,3,2,1,"NO",{"$f":"IF('生徒(データ入力①)'!F3=\"\",\"\",'生徒(データ入力①)'!F3)","v":""},{"$f":"IF('生徒(データ入力①)'!G3=\"\",\"\",'生徒(データ入力①)'!G3)","v":""},{"$f":"IF('生徒(データ入力①)'!H3=\"\",\"\",'生徒(データ入力①)'!H3)","v":""},{"$f":"IF('生徒(データ入力①)'!I3=\"\",\"\",'生徒(データ入力①)'!I3)","v":""},{"$f":"IF('生徒(データ入力①)'!J3=\"\",\"\",'生徒(データ入力①)'!J3)","v":""},{"$f":"IF('生徒(データ入力①)'!K3=\"\",\"\",'生徒(データ入力①)'!K3)","v":""},{"$f":"IF('生徒(データ入力①)'!L3=\"\",\"\",'生徒(データ入力①)'!L3)","v":""},{"$f":"IF('生徒(データ入力①)'!M3=\"\",\"\",'生徒(データ入力①)'!M3)","v":""},{"$f":"IF('生徒(データ入力①)'!N3=\"\",\"\",'生徒(データ入力①)'!N3)","v":""},{"$f":"IF('生徒(データ入力①)'!O3=\"\",\"\",'生徒(データ入力①)'!O3)","v":""},{"$f":"IF('生徒(データ入力①)'!P3=\"\",\"\",'生徒(データ入力①)'!P3)","v":""},{"$f":"IF('生徒(データ入力①)'!Q3=\"\",\"\",'生徒(データ入力①)'!Q3)","v":""},{"$f":"IF('生徒(データ入力①)'!R3=\"\",\"\",'生徒(データ入力①)'!R3)","v":""},{"$f":"IF('生徒(データ入力①)'!S3=\"\",\"\",'生徒(データ入力①)'!S3)","v":""},{"$f":"IF('生徒(データ入力①)'!T3=\"\",\"\",'生徒(データ入力①)'!T3)","v":""},{"$f":"IF('生徒(データ入力①)'!U3=\"\",\"\",'生徒(データ入力①)'!U3)","v":""},{"$f":"IF('生徒(データ入力①)'!V3=\"\",\"\",'生徒(データ入力①)'!V3)","v":""},{"$f":"IF('生徒(データ入力①)'!W3=\"\",\"\",'生徒(データ入力①)'!W3)","v":""},{"$f":"IF('生徒(データ入力①)'!X3=\"\",\"\",'生徒(データ入力①)'!X3)","v":""},{"$f":"IF('生徒(データ入力①)'!Y3=\"\",\"\",'生徒(データ入力①)'!Y3)","v":""},{"$f":"IF('生徒(データ入力①)'!Z3=\"\",\"\",'生徒(データ入力①)'!Z3)","v":""},{"$f":"IF('生徒(データ入力①)'!AA3=\"\",\"\",'生徒(データ入力①)'!AA3)","v":""},{"$f":"IF('生徒(データ入力①)'!AB3=\"\",\"\",'生徒(データ入力①)'!AB3)","v":""},{"$f":"IF('生徒(データ入力①)'!AC3=\"\",\"\",'生徒(データ入力①)'!AC3)","v":""},{"$f":"IF('生徒(データ入力①)'!AD3=\"\",\"\",'生徒(データ入力①)'!AD3)","v":""},{"$f":"IF('生徒(データ入力①)'!AE3=\"\",\"\",'生徒(データ入力①)'!AE3)","v":""},{"$f":"IF('生徒(データ入力①)'!AF3=\"\",\"\",'生徒(データ入力①)'!AF3)","v":""},{"$f":"IF('生徒(データ入力①)'!AG3=\"\",\"\",'生徒(データ入力①)'!AG3)","v":""},{"$f":"IF('生徒(データ入力①)'!AH3=\"\",\"\",'生徒(データ入力①)'!AH3)","v":""},{"$f":"IF('生徒(データ入力①)'!AI3=\"\",\"\",'生徒(データ入力①)'!AI3)","v":""},{"$f":"IF('生徒(データ入力①)'!AJ3=\"\",\"\",'生徒(データ入力①)'!AJ3)","v":""},{"$f":"IF('生徒(データ入力①)'!AK3=\"\",\"\",'生徒(データ入力①)'!AK3)","v":""},{"$f":"IF('生徒(データ入力①)'!AL3=\"\",\"\",'生徒(データ入力①)'!AL3)","v":""},{"$f":"IF('生徒(データ入力①)'!AM3=\"\",\"\",'生徒(データ入力①)'!AM3)","v":""},{"$f":"IF('生徒(データ入力①)'!AN3=\"\",\"\",'生徒(データ入力①)'!AN3)","v":""},{"$f":"IF('生徒(データ入力①)'!AO3=\"\",\"\",'生徒(データ入力①)'!AO3)","v":""},{"$f":"IF('生徒(データ入力①)'!AP3=\"\",\"\",'生徒(データ入力①)'!AP3)","v":""},{"$f":"IF('生徒(データ入力①)'!AQ3=\"\",\"\",'生徒(データ入力①)'!AQ3)","v":""},{"$f":"IF('生徒(データ入力①)'!AR3=\"\",\"\",'生徒(データ入力①)'!AR3)","v":""},{"$f":"IF('生徒(データ入力①)'!AS3=\"\",\"\",'生徒(データ入力①)'!AS3)","v":""},{"$f":"IF('生徒(データ入力①)'!AT3=\"\",\"\",'生徒(データ入力①)'!AT3)","v":""},{"$f":"IF('生徒(データ入力①)'!AU3=\"\",\"\",'生徒(データ入力①)'!AU3)","v":""},{"$f":"IF('生徒(データ入力①)'!AV3=\"\",\"\",'生徒(データ入力①)'!AV3)","v":""},{"$f":"IF('生徒(データ入力①)'!AW3=\"\",\"\",'生徒(データ入力①)'!AW3)","v":""},{"$f":"IF('生徒(データ入力①)'!AX3=\"\",\"\",'生徒(データ入力①)'!AX3)","v":""},{"$f":"IF('生徒(データ入力①)'!AY3=\"\",\"\",'生徒(データ入力①)'!AY3)","v":""},{"$f":"IF('生徒(データ入力①)'!AZ3=\"\",\"\",'生徒(データ入力①)'!AZ3)","v":""},{"$f":"IF('生徒(データ入力①)'!BA3=\"\",\"\",'生徒(データ入力①)'!BA3)","v":""},{"$f":"IF('生徒(データ入力①)'!BB3=\"\",\"\",'生徒(データ入力①)'!BB3)","v":""},{"$f":"IF('生徒(データ入力①)'!BC3=\"\",\"\",'生徒(データ入力①)'!BC3)","v":""},"４と答えた人数","割合","比較増減","３と答えた人数","割合","比較増減","２と答えた人数","割合","比較増減","１と答えた人数","割合","比較増減"]
[null,"第1回目","生徒","%\n（人数）","%\n（人数）","%\n（人数）","%\n（人数）",null,{"$f":"IF('生徒(データ入力①)'!F4=\"\",\"\",'生徒(データ入力①)'!F4)","v":""},{"$f":"IF('生徒(データ入力①)'!G4=\"\",\"\",'生徒(データ入力①)'!G4)","v":""},{"$f":"IF('生徒(データ入力①)'!H4=\"\",\"\",'生徒(データ入力①)'!H4)","v":""},{"$f":"IF('生徒(データ入力①)'!I4=\"\",\"\",'生徒(データ入力①)'!I4)","v":""},{"$f":"IF('生徒(データ入力①)'!J4=\"\",\"\",'生徒(データ入力①)'!J4)","v":""},{"$f":"IF('生徒(データ入力①)'!K4=\"\",\"\",'生徒(データ入力①)'!K4)","v":""},{"$f":"IF('生徒(データ入力①)'!L4=\"\",\"\",'生徒(データ入力①)'!L4)","v":""},{"$f":"IF('生徒(データ入力①)'!M4=\"\",\"\",'生徒(データ入力①)'!M4)","v":""},{"$f":"IF('生徒(データ入力①)'!N4=\"\",\"\",'生徒(データ入力①)'!N4)","v":""},{"$f":"IF('生徒(データ入力①)'!O4=\"\",\"\",'生徒(データ入力①)'!O4)","v":""},{"$f":"IF('生徒(データ入力①)'!P4=\"\",\"\",'生徒(データ入力①)'!P4)","v":""},{"$f":"IF('生徒(データ入力①)'!Q4=\"\",\"\",'生徒(データ入力①)'!Q4)","v":""},{"$f":"IF('生徒(データ入力①)'!R4=\"\",\"\",'生徒(データ入力①)'!R4)","v":""},{"$f":"IF('生徒(データ入力①)'!S4=\"\",\"\",'生徒(データ入力①)'!S4)","v":""},{"$f":"IF('生徒(データ入力①)'!T4=\"\",\"\",'生徒(データ入力①)'!T4)","v":""},{"$f":"IF('生徒(データ入力①)'!U4=\"\",\"\",'生徒(データ入力①)'!U4)","v":""},{"$f":"IF('生徒(データ入力①)'!V4=\"\",\"\",'生徒(データ入力①)'!V4)","v":""},{"$f":"IF('生徒(データ入力①)'!W4=\"\",\"\",'生徒(データ入力①)'!W4)","v":""},{"$f":"IF('生徒(データ入力①)'!X4=\"\",\"\",'生徒(データ入力①)'!X4)","v":""},{"$f":"IF('生徒(データ入力①)'!Y4=\"\",\"\",'生徒(データ入力①)'!Y4)","v":""},{"$f":"IF('生徒(データ入力①)'!Z4=\"\",\"\",'生徒(データ入力①)'!Z4)","v":""},{"$f":"IF('生徒(データ入力①)'!AA4=\"\",\"\",'生徒(データ入力①)'!AA4)","v":""},{"$f":"IF('生徒(データ入力①)'!AB4=\"\",\"\",'生徒(データ入力①)'!AB4)","v":""},{"$f":"IF('生徒(データ入力①)'!AC4=\"\",\"\",'生徒(データ入力①)'!AC4)","v":""},{"$f":"IF('生徒(データ入力①)'!AD4=\"\",\"\",'生徒(データ入力①)'!AD4)","v":""},{"$f":"IF('生徒(データ入力①)'!AE4=\"\",\"\",'生徒(データ入力①)'!AE4)","v":""},{"$f":"IF('生徒(データ入力①)'!AF4=\"\",\"\",'生徒(データ入力①)'!AF4)","v":""},{"$f":"IF('生徒(データ入力①)'!AG4=\"\",\"\",'生徒(データ入力①)'!AG4)","v":""},{"$f":"IF('生徒(データ入力①)'!AH4=\"\",\"\",'生徒(データ入力①)'!AH4)","v":""},{"$f":"IF('生徒(データ入力①)'!AI4=\"\",\"\",'生徒(データ入力①)'!AI4)","v":""},{"$f":"IF('生徒(データ入力①)'!AJ4=\"\",\"\",'生徒(データ入力①)'!AJ4)","v":""},{"$f":"IF('生徒(データ入力①)'!AK4=\"\",\"\",'生徒(データ入力①)'!AK4)","v":""},{"$f":"IF('生徒(データ入力①)'!AL4=\"\",\"\",'生徒(データ入力①)'!AL4)","v":""},{"$f":"IF('生徒(データ入力①)'!AM4=\"\",\"\",'生徒(データ入力①)'!AM4)","v":""},{"$f":"IF('生徒(データ入力①)'!AN4=\"\",\"\",'生徒(データ入力①)'!AN4)","v":""},{"$f":"IF('生徒(データ入力①)'!AO4=\"\",\"\",'生徒(データ入力①)'!AO4)","v":""},{"$f":"IF('生徒(データ入力①)'!AP4=\"\",\"\",'生徒(データ入力①)'!AP4)","v":""},{"$f":"IF('生徒(データ入力①)'!AQ4=\"\",\"\",'生徒(データ入力①)'!AQ4)","v":""},{"$f":"IF('生徒(データ入力①)'!AR4=\"\",\"\",'生徒(データ入力①)'!AR4)","v":""},{"$f":"IF('生徒(データ入力①)'!AS4=\"\",\"\",'生徒(データ入力①)'!AS4)","v":""},{"$f":"IF('生徒(データ入力①)'!AT4=\"\",\"\",'生徒(データ入力①)'!AT4)","v":""},{"$f":"IF('生徒(データ入力①)'!AU4=\"\",\"\",'生徒(データ入力①)'!AU4)","v":""},{"$f":"IF('生徒(データ入力①)'!AV4=\"\",\"\",'生徒(データ入力①)'!AV4)","v":""},{"$f":"IF('生徒(データ入力①)'!AW4=\"\",\"\",'生徒(データ入力①)'!AW4)","v":""},{"$f":"IF('生徒(データ入力①)'!AX4=\"\",\"\",'生徒(データ入力①)'!AX4)","v":""},{"$f":"IF('生徒(データ入力①)'!AY4=\"\",\"\",'生徒(データ入力①)'!AY4)","v":""},{"$f":"IF('生徒(データ入力①)'!AZ4=\"\",\"\",'生徒(データ入力①)'!AZ4)","v":""},{"$f":"IF('生徒(データ入力①)'!BA4=\"\",\"\",'生徒(データ入力①)'!BA4)","v":""},{"$f":"IF('生徒(データ入力①)'!BB4=\"\",\"\",'生徒(データ入力①)'!BB4)","v":""},{"$f":"IF('生徒(データ入力①)'!BC4=\"\",\"\",'生徒(データ入力①)'!BC4)","v":""},null,null,null,null,null,null,null,null,null,null,null,null,null,"肯定人数","割合","否定人数","割合"]
[null,"教師や仲間から学級の一員として認められているという安心感",{"$f":"'生徒(個人)'!B6","v":"私の学級では，私は先生と話（日記や日誌なども含む）をする機会が多くある。"},{"$f":"BH5&\"%\"&\"（\"&BG5&\"人）\"","v":{"$error":"#DIV/0!"}},{"$f":"BK5&\"%\"&\"（\"&BJ5&\"人\"&\"）\"","v":{"$error":"#DIV/0!"}},{"$f":"BN5&\"%\"&\"（\"&BM5&\"人\"&\"）\"","v":{"$error":"#DIV/0!"}},{"$f":"BQ5&\"%\"&\"（\"&BP5&\"人\"&\"）\"","v":{"$error":"#DIV/0!"}},null,{"$f":"IF('生徒(データ入力①)'!F19=\"\",\"\",'生徒(データ入力①)'!F19)","v":""},{"$f":"IF('生徒(データ入力①)'!G19=\"\",\"\",'生徒(データ入力①)'!G19)","v":""},{"$f":"IF('生徒(データ入力①)'!H19=\"\",\"\",'生徒(データ入力①)'!H19)","v":""},{"$f":"IF('生徒(データ入力①)'!I19=\"\",\"\",'生徒(データ入力①)'!I19)","v":""},{"$f":"IF('生徒(データ入力①)'!J19=\"\",\"\",'生徒(データ入力①)'!J19)","v":""},{"$f":"IF('生徒(データ入力①)'!K19=\"\",\"\",'生徒(データ入力①)'!K19)","v":""},{"$f":"IF('生徒(データ入力①)'!L19=\"\",\"\",'生徒(データ入力①)'!L19)","v":""},{"$f":"IF('生徒(データ入力①)'!M19=\"\",\"\",'生徒(データ入力①)'!M19)","v":""},{"$f":"IF('生徒(データ入力①)'!N19=\"\",\"\",'生徒(データ入力①)'!N19)","v":""},{"$f":"IF('生徒(データ入力①)'!O19=\"\",\"\",'生徒(データ入力①)'!O19)","v":""},{"$f":"IF('生徒(データ入力①)'!P19=\"\",\"\",'生徒(データ入力①)'!P19)","v":""},{"$f":"IF('生徒(データ入力①)'!Q19=\"\",\"\",'生徒(データ入力①)'!Q19)","v":""},{"$f":"IF('生徒(データ入力①)'!R19=\"\",\"\",'生徒(データ入力①)'!R19)","v":""},{"$f":"IF('生徒(データ入力①)'!S19=\"\",\"\",'生徒(データ入力①)'!S19)","v":""},{"$f":"IF('生徒(データ入力①)'!T19=\"\",\"\",'生徒(データ入力①)'!T19)","v":""},{"$f":"IF('生徒(データ入力①)'!U19=\"\",\"\",'生徒(データ入力①)'!U19)","v":""},{"$f":"IF('生徒(データ入力①)'!V19=\"\",\"\",'生徒(データ入力①)'!V19)","v":""},{"$f":"IF('生徒(データ入力①)'!W19=\"\",\"\",'生徒(データ入力①)'!W19)","v":""},{"$f":"IF('生徒(データ入力①)'!X19=\"\",\"\",'生徒(データ入力①)'!X19)","v":""},{"$f":"IF('生徒(データ入力①)'!Y19=\"\",\"\",'生徒(データ入力①)'!Y19)","v":""},{"$f":"IF('生徒(データ入力①)'!Z19=\"\",\"\",'生徒(データ入力①)'!Z19)","v":""},{"$f":"IF('生徒(データ入力①)'!AA19=\"\",\"\",'生徒(データ入力①)'!AA19)","v":""},{"$f":"IF('生徒(データ入力①)'!AB19=\"\",\"\",'生徒(データ入力①)'!AB19)","v":""},{"$f":"IF('生徒(データ入力①)'!AC19=\"\",\"\",'生徒(データ入力①)'!AC19)","v":""},{"$f":"IF('生徒(データ入力①)'!AD19=\"\",\"\",'生徒(データ入力①)'!AD19)","v":""},{"$f":"IF('生徒(データ入力①)'!AE19=\"\",\"\",'生徒(データ入力①)'!AE19)","v":""},{"$f":"IF('生徒(データ入力①)'!AF19=\"\",\"\",'生徒(データ入力①)'!AF19)","v":""},{"$f":"IF('生徒(データ入力①)'!AG19=\"\",\"\",'生徒(データ入力①)'!AG19)","v":""},{"$f":"IF('生徒(データ入力①)'!AH19=\"\",\"\",'生徒(データ入力①)'!AH19)","v":""},{"$f":"IF('生徒(データ入力①)'!AI19=\"\",\"\",'生徒(データ入力①)'!AI19)","v":""},{"$f":"IF('生徒(データ入力①)'!AJ19=\"\",\"\",'生徒(データ入力①)'!AJ19)","v":""},{"$f":"IF('生徒(データ入力①)'!AK19=\"\",\"\",'生徒(データ入力①)'!AK19)","v":""},{"$f":"IF('生徒(データ入力①)'!AL19=\"\",\"\",'生徒(データ入力①)'!AL19)","v":""},{"$f":"IF('生徒(データ入力①)'!AM19=\"\",\"\",'生徒(データ入力①)'!AM19)","v":""},{"$f":"IF('生徒(データ入力①)'!AN19=\"\",\"\",'生徒(データ入力①)'!AN19)","v":""},{"$f":"IF('生徒(データ入力①)'!AO19=\"\",\"\",'生徒(データ入力①)'!AO19)","v":""},{"$f":"IF('生徒(データ入力①)'!AP19=\"\",\"\",'生徒(データ入力①)'!AP19)","v":""},{"$f":"IF('生徒(データ入力①)'!AQ19=\"\",\"\",'生徒(データ入力①)'!AQ19)","v":""},{"$f":"IF('生徒(データ入力①)'!AR19=\"\",\"\",'生徒(データ入力①)'!AR19)","v":""},{"$f":"IF('生徒(データ入力①)'!AS19=\"\",\"\",'生徒(データ入力①)'!AS19)","v":""},{"$f":"IF('生徒(データ入力①)'!AT19=\"\",\"\",'生徒(データ入力①)'!AT19)","v":""},{"$f":"IF('生徒(データ入力①)'!AU19=\"\",\"\",'生徒(データ入力①)'!AU19)","v":""},{"$f":"IF('生徒(データ入力①)'!AV19=\"\",\"\",'生徒(データ入力①)'!AV19)","v":""},{"$f":"IF('生徒(データ入力①)'!AW19=\"\",\"\",'生徒(データ入力①)'!AW19)","v":""},{"$f":"IF('生徒(データ入力①)'!AX19=\"\",\"\",'生徒(データ入力①)'!AX19)","v":""},{"$f":"IF('生徒(データ入力①)'!AY19=\"\",\"\",'生徒(データ入力①)'!AY19)","v":""},{"$f":"IF('生徒(データ入力①)'!AZ19=\"\",\"\",'生徒(データ入力①)'!AZ19)","v":""},{"$f":"IF('生徒(データ入力①)'!BA19=\"\",\"\",'生徒(データ入力①)'!BA19)","v":""},{"$f":"IF('生徒(データ入力①)'!BB19=\"\",\"\",'生徒(データ入力①)'!BB19)","v":""},{"$f":"IF('生徒(データ入力①)'!BC19=\"\",\"\",'生徒(データ入力①)'!BC19)","v":""},{"$f":"COUNTIF(I5:BF5,\"4\")","v":0},{"$f":"ROUND((BG5/(50-COUNTBLANK(I5:BF5)))*100,1)","v":{"$error":"#DIV/0!"}},null,{"$f":"COUNTIF(I5:BF5,\"3\")","v":0},{"$f":"ROUND(BJ5/(50-COUNTBLANK(I5:BF5))*100,1)","v":{"$error":"#DIV/0!"}},null,{"$f":"COUNTIF(I5:BF5,\"2\")","v":0},{"$f":"ROUND(BM5/(50-COUNTBLANK(I5:BF5))*100,1)","v":{"$error":"#DIV/0!"}},null,{"$f":"COUNTIF(I5:BF5,\"1\")","v":0},{"$f":"ROUND(BP5/(50-COUNTBLANK(I5:BF5))*100,1)","v":{"$error":"#DIV/0!"}},null,null,{"$f":"BG5+BJ5","v":0},{"$f":"BH5+BK5","v":{"$error":"#DIV/0!"}},{"$f":"BM5+BP5","v":0},{"$f":"BN5+BQ5","v":{"$error":"#DIV/0!"}},null,"人数",null,null,null,null,"割合",null,null,null,null,"肯定値と否定値"]
[null,null,{"$f":"'生徒(個人)'!B7","v":"私の学級では，私に役割があり，その働きが認められていると感じる。"},{"$error":"#DIV/0!"},{"$error":"#DIV/0!"},{"$error":"#DIV/0!"},{"$error":"#DIV/0!"},null,{"$f":"IF('生徒(データ入力①)'!F22=\"\",\"\",'生徒(データ入力①)'!F22)","v":""},{"$f":"IF('生徒(データ入力①)'!G22=\"\",\"\",'生徒(データ入力①)'!G22)","v":""},{"$f":"IF('生徒(データ入力①)'!H22=\"\",\"\",'生徒(データ入力①)'!H22)","v":""},{"$f":"IF('生徒(データ入力①)'!I22=\"\",\"\",'生徒(データ入力①)'!I22)","v":""},{"$f":"IF('生徒(データ入力①)'!J22=\"\",\"\",'生徒(データ入力①)'!J22)","v":""},{"$f":"IF('生徒(データ入力①)'!K22=\"\",\"\",'生徒(データ入力①)'!K22)","v":""},{"$f":"IF('生徒(データ入力①)'!L22=\"\",\"\",'生徒(データ入力①)'!L22)","v":""},{"$f":"IF('生徒(データ入力①)'!M22=\"\",\"\",'生徒(データ入力①)'!M22)","v":""},{"$f":"IF('生徒(データ入力①)'!N22=\"\",\"\",'生徒(データ入力①)'!N22)","v":""},{"$f":"IF('生徒(データ入力①)'!O22=\"\",\"\",'生徒(データ入力①)'!O22)","v":""},{"$f":"IF('生徒(データ入力①)'!P22=\"\",\"\",'生徒(データ入力①)'!P22)","v":""},{"$f":"IF('生徒(データ入力①)'!Q22=\"\",\"\",'生徒(データ入力①)'!Q22)","v":""},{"$f":"IF('生徒(データ入力①)'!R22=\"\",\"\",'生徒(データ入力①)'!R22)","v":""},{"$f":"IF('生徒(データ入力①)'!S22=\"\",\"\",'生徒(データ入力①)'!S22)","v":""},{"$f":"IF('生徒(データ入力①)'!T22=\"\",\"\",'生徒(データ入力①)'!T22)","v":""},{"$f":"IF('生徒(データ入力①)'!U22=\"\",\"\",'生徒(データ入力①)'!U22)","v":""},{"$f":"IF('生徒(データ入力①)'!V22=\"\",\"\",'生徒(データ入力①)'!V22)","v":""},{"$f":"IF('生徒(データ入力①)'!W22=\"\",\"\",'生徒(データ入力①)'!W22)","v":""},{"$f":"IF('生徒(データ入力①)'!X22=\"\",\"\",'生徒(データ入力①)'!X22)","v":""},{"$f":"IF('生徒(データ入力①)'!Y22=\"\",\"\",'生徒(データ入力①)'!Y22)","v":""},{"$f":"IF('生徒(データ入力①)'!Z22=\"\",\"\",'生徒(データ入力①)'!Z22)","v":""},{"$f":"IF('生徒(データ入力①)'!AA22=\"\",\"\",'生徒(データ入力①)'!AA22)","v":""},{"$f":"IF('生徒(データ入力①)'!AB22=\"\",\"\",'生徒(データ入力①)'!AB22)","v":""},{"$f":"IF('生徒(データ入力①)'!AC22=\"\",\"\",'生徒(データ入力①)'!AC22)","v":""},{"$f":"IF('生徒(データ入力①)'!AD22=\"\",\"\",'生徒(データ入力①)'!AD22)","v":""},{"$f":"IF('生徒(データ入力①)'!AE22=\"\",\"\",'生徒(データ入力①)'!AE22)","v":""},{"$f":"IF('生徒(データ入力①)'!AF22=\"\",\"\",'生徒(データ入力①)'!AF22)","v":""},{"$f":"IF('生徒(データ入力①)'!AG22=\"\",\"\",'生徒(データ入力①)'!AG22)","v":""},{"$f":"IF('生徒(データ入力①)'!AH22=\"\",\"\",'生徒(データ入力①)'!AH22)","v":""},{"$f":"IF('生徒(データ入力①)'!AI22=\"\",\"\",'生徒(データ入力①)'!AI22)","v":""},{"$f":"IF('生徒(データ入力①)'!AJ22=\"\",\"\",'生徒(データ入力①)'!AJ22)","v":""},{"$f":"IF('生徒(データ入力①)'!AK22=\"\",\"\",'生徒(データ入力①)'!AK22)","v":""},{"$f":"IF('生徒(データ入力①)'!AL22=\"\",\"\",'生徒(データ入力①)'!AL22)","v":""},{"$f":"IF('生徒(データ入力①)'!AM22=\"\",\"\",'生徒(データ入力①)'!AM22)","v":""},{"$f":"IF('生徒(データ入力①)'!AN22=\"\",\"\",'生徒(データ入力①)'!AN22)","v":""},{"$f":"IF('生徒(データ入力①)'!AO22=\"\",\"\",'生徒(データ入力①)'!AO22)","v":""},{"$f":"IF('生徒(データ入力①)'!AP22=\"\",\"\",'生徒(データ入力①)'!AP22)","v":""},{"$f":"IF('生徒(データ入力①)'!AQ22=\"\",\"\",'生徒(データ入力①)'!AQ22)","v":""},{"$f":"IF('生徒(データ入力①)'!AR22=\"\",\"\",'生徒(データ入力①)'!AR22)","v":""},{"$f":"IF('生徒(データ入力①)'!AS22=\"\",\"\",'生徒(データ入力①)'!AS22)","v":""},{"$f":"IF('生徒(データ入力①)'!AT22=\"\",\"\",'生徒(データ入力①)'!AT22)","v":""},{"$f":"IF('生徒(データ入力①)'!AU22=\"\",\"\",'生徒(データ入力①)'!AU22)","v":""},{"$f":"IF('生徒(データ入力①)'!AV22=\"\",\"\",'生徒(データ入力①)'!AV22)","v":""},{"$f":"IF('生徒(データ入力①)'!AW22=\"\",\"\",'生徒(データ入力①)'!AW22)","v":""},{"$f":"IF('生徒(データ入力①)'!AX22=\"\",\"\",'生徒(データ入力①)'!AX22)","v":""},{"$f":"IF('生徒(データ入力①)'!AY22=\"\",\"\",'生徒(データ入力①)'!AY22)","v":""},{"$f":"IF('生徒(データ入力①)'!AZ22=\"\",\"\",'生徒(データ入力①)'!AZ22)","v":""},{"$f":"IF('生徒(データ入力①)'!BA22=\"\",\"\",'生徒(データ入力①)'!BA22)","v":""},{"$f":"IF('生徒(データ入力①)'!BB22=\"\",\"\",'生徒(データ入力①)'!BB22)","v":""},{"$f":"IF('生徒(データ入力①)'!BC22=\"\",\"\",'生徒(データ入力①)'!BC22)","v":""},{"$f":"COUNTIF(I6:BF6,\"4\")","v":0},{"$f":"ROUND((BG6/(50-COUNTBLANK(I6:BF6)))*100,1)","v":{"$error":"#DIV/0!"}},null,{"$f":"COUNTIF(I6:BF6,\"3\")","v":0},{"$f":"ROUND(BJ6/(50-COUNTBLANK(I6:BF6))*100,1)","v":{"$error":"#DIV/0!"}},null,{"$f":"COUNTIF(I6:BF6,\"2\")","v":0},{"$f":"ROUND(BM6/(50-COUNTBLANK(I6:BF6))*100,1)","v":{"$error":"#DIV/0!"}},null,{"$f":"COUNTIF(I6:BF6,\"1\")","v":0},{"$f":"ROUND(BP6/(50-COUNTBLANK(I6:BF6))*100,1)","v":{"$error":"#DIV/0!"}},null,null,{"$f":"BH6+BJ6","v":{"$error":"#DIV/0!"}},{"$f":"BH6+BK6","v":{"$error":"#DIV/0!"}},{"$f":"BL6+BN6","v":{"$error":"#DIV/0!"}},{"$f":"BN6+BQ6","v":{"$error":"#DIV/0!"}},null,4,3,2,1,"合計",4,3,2,1]
[null,null,{"$f":"'生徒(個人)'!B8","v":"私の学級では，先生や友達は私の頑張りや良いところを認めてくれている。"},{"$error":"#DIV/0!"},{"$error":"#DIV/0!"},{"$error":"#DIV/0!"},{"$error":"#DIV/0!"},null,{"$f":"IF('生徒(データ入力①)'!F20=\"\",\"\",'生徒(データ入力①)'!F20)","v":""},{"$f":"IF('生徒(データ入力①)'!G20=\"\",\"\",'生徒(データ入力①)'!G20)","v":""},{"$f":"IF('生徒(データ入力①)'!H20=\"\",\"\",'生徒(データ入力①)'!H20)","v":""},{"$f":"IF('生徒(データ入力①)'!I20=\"\",\"\",'生徒(データ入力①)'!I20)","v":""},{"$f":"IF('生徒(データ入力①)'!J20=\"\",\"\",'生徒(データ入力①)'!J20)","v":""},{"$f":"IF('生徒(データ入力①)'!K20=\"\",\"\",'生徒(データ入力①)'!K20)","v":""},{"$f":"IF('生徒(データ入力①)'!L20=\"\",\"\",'生徒(データ入力①)'!L20)","v":""},{"$f":"IF('生徒(データ入力①)'!M20=\"\",\"\",'生徒(データ入力①)'!M20)","v":""},{"$f":"IF('生徒(データ入力①)'!N20=\"\",\"\",'生徒(データ入力①)'!N20)","v":""},{"$f":"IF('生徒(データ入力①)'!O20=\"\",\"\",'生徒(データ入力①)'!O20)","v":""},{"$f":"IF('生徒(データ入力①)'!P20=\"\",\"\",'生徒(データ入力①)'!P20)","v":""},{"$f":"IF('生徒(データ入力①)'!Q20=\"\",\"\",'生徒(データ入力①)'!Q20)","v":""},{"$f":"IF('生徒(データ入力①)'!R20=\"\",\"\",'生徒(データ入力①)'!R20)","v":""},{"$f":"IF('生徒(データ入力①)'!S20=\"\",\"\",'生徒(データ入力①)'!S20)","v":""},{"$f":"IF('生徒(データ入力①)'!T20=\"\",\"\",'生徒(データ入力①)'!T20)","v":""},{"$f":"IF('生徒(データ入力①)'!U20=\"\",\"\",'生徒(データ入力①)'!U20)","v":""},{"$f":"IF('生徒(データ入力①)'!V20=\"\",\"\",'生徒(データ入力①)'!V20)","v":""},{"$f":"IF('生徒(データ入力①)'!W20=\"\",\"\",'生徒(データ入力①)'!W20)","v":""},{"$f":"IF('生徒(データ入力①)'!X20=\"\",\"\",'生徒(データ入力①)'!X20)","v":""},{"$f":"IF('生徒(データ入力①)'!Y20=\"\",\"\",'生徒(データ入力①)'!Y20)","v":""},{"$f":"IF('生徒(データ入力①)'!Z20=\"\",\"\",'生徒(データ入力①)'!Z20)","v":""},{"$f":"IF('生徒(データ入力①)'!AA20=\"\",\"\",'生徒(データ入力①)'!AA20)","v":""},{"$f":"IF('生徒(データ入力①)'!AB20=\"\",\"\",'生徒(データ入力①)'!AB20)","v":""},{"$f":"IF('生徒(データ入力①)'!AC20=\"\",\"\",'生徒(データ入力①)'!AC20)","v":""},{"$f":"IF('生徒(データ入力①)'!AD20=\"\",\"\",'生徒(データ入力①)'!AD20)","v":""},{"$f":"IF('生徒(データ入力①)'!AE20=\"\",\"\",'生徒(データ入力①)'!AE20)","v":""},{"$f":"IF('生徒(データ入力①)'!AF20=\"\",\"\",'生徒(データ入力①)'!AF20)","v":""},{"$f":"IF('生徒(データ入力①)'!AG20=\"\",\"\",'生徒(データ入力①)'!AG20)","v":""},{"$f":"IF('生徒(データ入力①)'!AH20=\"\",\"\",'生徒(データ入力①)'!AH20)","v":""},{"$f":"IF('生徒(データ入力①)'!AI20=\"\",\"\",'生徒(データ入力①)'!AI20)","v":""},{"$f":"IF('生徒(データ入力①)'!AJ20=\"\",\"\",'生徒(データ入力①)'!AJ20)","v":""},{"$f":"IF('生徒(データ入力①)'!AK20=\"\",\"\",'生徒(データ入力①)'!AK20)","v":""},{"$f":"IF('生徒(データ入力①)'!AL20=\"\",\"\",'生徒(データ入力①)'!AL20)","v":""},{"$f":"IF('生徒(データ入力①)'!AM20=\"\",\"\",'生徒(データ入力①)'!AM20)","v":""},{"$f":"IF('生徒(データ入力①)'!AN20=\"\",\"\",'生徒(データ入力①)'!AN20)","v":""},{"$f":"IF('生徒(データ入力①)'!AO20=\"\",\"\",'生徒(データ入力①)'!AO20)","v":""},{"$f":"IF('生徒(データ入力①)'!AP20=\"\",\"\",'生徒(データ入力①)'!AP20)","v":""},{"$f":"IF('生徒(データ入力①)'!AQ20=\"\",\"\",'生徒(データ入力①)'!AQ20)","v":""},{"$f":"IF('生徒(データ入力①)'!AR20=\"\",\"\",'生徒(データ入力①)'!AR20)","v":""},{"$f":"IF('生徒(データ入力①)'!AS20=\"\",\"\",'生徒(データ入力①)'!AS20)","v":""},{"$f":"IF('生徒(データ入力①)'!AT20=\"\",\"\",'生徒(データ入力①)'!AT20)","v":""},{"$f":"IF('生徒(データ入力①)'!AU20=\"\",\"\",'生徒(データ入力①)'!AU20)","v":""},{"$f":"IF('生徒(データ入力①)'!AV20=\"\",\"\",'生徒(データ入力①)'!AV20)","v":""},{"$f":"IF('生徒(データ入力①)'!AW20=\"\",\"\",'生徒(データ入力①)'!AW20)","v":""},{"$f":"IF('生徒(データ入力①)'!AX20=\"\",\"\",'生徒(データ入力①)'!AX20)","v":""},{"$f":"IF('生徒(データ入力①)'!AY20=\"\",\"\",'生徒(データ入力①)'!AY20)","v":""},{"$f":"IF('生徒(データ入力①)'!AZ20=\"\",\"\",'生徒(データ入力①)'!AZ20)","v":""},{"$f":"IF('生徒(データ入力①)'!BA20=\"\",\"\",'生徒(データ入力①)'!BA20)","v":""},{"$f":"IF('生徒(データ入力①)'!BB20=\"\",\"\",'生徒(データ入力①)'!BB20)","v":""},{"$f":"IF('生徒(データ入力①)'!BC20=\"\",\"\",'生徒(データ入力①)'!BC20)","v":""},0,{"$error":"#DIV/0!"},null,0,{"$error":"#DIV/0!"},null,0,{"$error":"#DIV/0!"},null,0,{"$error":"#DIV/0!"},null,null,{"$error":"#DIV/0!"},{"$error":"#DIV/0!"},{"$error":"#DIV/0!"},{"$error":"#DIV/0!"},"自己存在感の感受平均",{"$f":"BG5+BG6+BG7+BG8+BG9","v":0},{"$f":"BJ5+BJ6+BJ7+BJ8+BJ9","v":0},{"$f":"BM5+BM6+BM7+BM8+BM9","v":0},{"$f":"BP5+BP6+BP7+BP8+BP9","v":0},{"$f":"SUM(BY7:CB7)","v":0},{"$f":"ROUND((BY7/$CC$7)*100,1)","v":{"$error":"#DIV/0!"}},{"$f":"ROUND((BZ7/$CC$7)*100,1)","v":{"$error":"#DIV/0!"}},{"$f":"ROUND((CA7/$CC$7)*100,1)","v":{"$error":"#DIV/0!"}},{"$f":"ROUND((CB7/$CC$7)*100,1)","v":{"$error":"#DIV/0!"}},null,{"$f":"BY7+BZ7","v":0},{"$f":"CA7+CB7","v":0},{"$f":"ROUND(CD7+CE7,1)","v":{"$error":"#DIV/0!"}},{"$f":"ROUND(CF7+CG7,1)","v":{"$error":"#DIV/0!"}}]
[null,null,{"$f":"'生徒(個人)'!B9","v":"私の学級では，私のことを理解してくれる先生や友達がいる。"},{"$error":"#DIV/0!"},{"$error":"#DIV/0!"},{"$error":"#DIV/0!"},{"$error":"#DIV/0!"},null,{"$f":"IF('生徒(データ入力①)'!F17=\"\",\"\",'生徒(データ入力①)'!F17)","v":""},{"$f":"IF('生徒(データ入力①)'!G17=\"\",\"\",'生徒(データ入力①)'!G17)","v":""},{"$f":"IF('生徒(データ入力①)'!H17=\"\",\"\",'生徒(データ入力①)'!H17)","v":""},{"$f":"IF('生徒(データ入力①)'!I17=\"\",\"\",'生徒(データ入力①)'!I17)","v":""},{"$f":"IF('生徒(データ入力①)'!J17=\"\",\"\",'生徒(データ入力①)'!J17)","v":""},{"$f":"IF('生徒(データ入力①)'!K17=\"\",\"\",'生徒(データ入力①)'!K17)","v":""},{"$f":"IF('生徒(データ入力①)'!L17=\"\",\"\",'生徒(データ入力①)'!L17)","v":""},{"$f":"IF('生徒(データ入力①)'!M17=\"\",\"\",'生徒(データ入力①)'!M17)","v":""},{"$f":"IF('生徒(データ入力①)'!N17=\"\",\"\",'生徒(データ入力①)'!N17)","v":""},{"$f":"IF('生徒(データ入力①)'!O17=\"\",\"\",'生徒(データ入力①)'!O17)","v":""},{"$f":"IF('生徒(データ入力①)'!P17=\"\",\"\",'生徒(データ入力①)'!P17)","v":""},{"$f":"IF('生徒(データ入力①)'!Q17=\"\",\"\",'生徒(データ入力①)'!Q17)","v":""},{"$f":"IF('生徒(データ入力①)'!R17=\"\",\"\",'生徒(データ入力①)'!R17)","v":""},{"$f":"IF('生徒(データ入力①)'!S17=\"\",\"\",'生徒(データ入力①)'!S17)","v":""},{"$f":"IF('生徒(データ入力①)'!T17=\"\",\"\",'生徒(データ入力①)'!T17)","v":""},{"$f":"IF('生徒(データ入力①)'!U17=\"\",\"\",'生徒(データ入力①)'!U17)","v":""},{"$f":"IF('生徒(データ入力①)'!V17=\"\",\"\",'生徒(データ入力①)'!V17)","v":""},{"$f":"IF('生徒(データ入力①)'!W17=\"\",\"\",'生徒(データ入力①)'!W17)","v":""},{"$f":"IF('生徒(データ入力①)'!X17=\"\",\"\",'生徒(データ入力①)'!X17)","v":""},{"$f":"IF('生徒(データ入力①)'!Y17=\"\",\"\",'生徒(データ入力①)'!Y17)","v":""},{"$f":"IF('生徒(データ入力①)'!Z17=\"\",\"\",'生徒(データ入力①)'!Z17)","v":""},{"$f":"IF('生徒(データ入力①)'!AA17=\"\",\"\",'生徒(データ入力①)'!AA17)","v":""},{"$f":"IF('生徒(データ入力①)'!AB17=\"\",\"\",'生徒(データ入力①)'!AB17)","v":""},{"$f":"IF('生徒(データ入力①)'!AC17=\"\",\"\",'生徒(データ入力①)'!AC17)","v":""},{"$f":"IF('生徒(データ入力①)'!AD17=\"\",\"\",'生徒(データ入力①)'!AD17)","v":""},{"$f":"IF('生徒(データ入力①)'!AE17=\"\",\"\",'生徒(データ入力①)'!AE17)","v":""},{"$f":"IF('生徒(データ入力①)'!AF17=\"\",\"\",'生徒(データ入力①)'!AF17)","v":""},{"$f":"IF('生徒(データ入力①)'!AG17=\"\",\"\",'生徒(データ入力①)'!AG17)","v":""},{"$f":"IF('生徒(データ入力①)'!AH17=\"\",\"\",'生徒(データ入力①)'!AH17)","v":""},{"$f":"IF('生徒(データ入力①)'!AI17=\"\",\"\",'生徒(データ入力①)'!AI17)","v":""},{"$f":"IF('生徒(データ入力①)'!AJ17=\"\",\"\",'生徒(データ入力①)'!AJ17)","v":""},{"$f":"IF('生徒(データ入力①)'!AK17=\"\",\"\",'生徒(データ入力①)'!AK17)","v":""},{"$f":"IF('生徒(データ入力①)'!AL17=\"\",\"\",'生徒(データ入力①)'!AL17)","v":""},{"$f":"IF('生徒(データ入力①)'!AM17=\"\",\"\",'生徒(データ入力①)'!AM17)","v":""},{"$f":"IF('生徒(データ入力①)'!AN17=\"\",\"\",'生徒(データ入力①)'!AN17)","v":""},{"$f":"IF('生徒(データ入力①)'!AO17=\"\",\"\",'生徒(データ入力①)'!AO17)","v":""},{"$f":"IF('生徒(データ入力①)'!AP17=\"\",\"\",'生徒(データ入力①)'!AP17)","v":""},{"$f":"IF('生徒(データ入力①)'!AQ17=\"\",\"\",'生徒(データ入力①)'!AQ17)","v":""},{"$f":"IF('生徒(データ入力①)'!AR17=\"\",\"\",'生徒(データ入力①)'!AR17)","v":""},{"$f":"IF('生徒(データ入力①)'!AS17=\"\",\"\",'生徒(データ入力①)'!AS17)","v":""},{"$f":"IF('生徒(データ入力①)'!AT17=\"\",\"\",'生徒(データ入力①)'!AT17)","v":""},{"$f":"IF('生徒(データ入力①)'!AU17=\"\",\"\",'生徒(データ入力①)'!AU17)","v":""},{"$f":"IF('生徒(データ入力①)'!AV17=\"\",\"\",'生徒(データ入力①)'!AV17)","v":""},{"$f":"IF('生徒(データ入力①)'!AW17=\"\",\"\",'生徒(データ入力①)'!AW17)","v":""},{"$f":"IF('生徒(データ入力①)'!AX17=\"\",\"\",'生徒(データ入力①)'!AX17)","v":""},{"$f":"IF('生徒(データ入力①)'!AY17=\"\",\"\",'生徒(データ入力①)'!AY17)","v":""},{"$f":"IF('生徒(データ入力①)'!AZ17=\"\",\"\",'生徒(データ入力①)'!AZ17)","v":""},{"$f":"IF('生徒(データ入力①)'!BA17=\"\",\"\",'生徒(データ入力①)'!BA17)","v":""},{"$f":"IF('生徒(データ入力①)'!BB17=\"\",\"\",'生徒(データ入力①)'!BB17)","v":""},{"$f":"IF('生徒(データ入力①)'!BC17=\"\",\"\",'生徒(データ入力①)'!BC17)","v":""},0,{"$error":"#DIV/0!"},null,0,{"$error":"#DIV/0!"},null,0,{"$error":"#DIV/0!"},null,0,{"$error":"#DIV/0!"},null,null,{"$error":"#DIV/0!"},{"$error":"#DIV/0!"},{"$error":"#DIV/0!"},{"$error":"#DIV/0!"},"共感的な人間関係平均",{"$f":"BG10+BG11+BG12+BG13+BG14","v":0},{"$f":"BJ10+BJ11+BJ12+BJ13+BJ14","v":0},{"$f":"BM10+BM11+BM12+BM13+BM14","v":0},{"$f":"BP10+BP11+BP12+BP13+BP14","v":0},{"$f":"SUM(BY8:CB8)","v":0},{"$f":"ROUND((BY8/$CC$8)*100,1)","v":{"$error":"#DIV/0!"}},{"$f":"ROUND((BZ8/$CC$8)*100,1)","v":{"$error":"#DIV/0!"}},{"$f":"ROUND((CA8/$CC$8)*100,1)","v":{"$error":"#DIV/0!"}},{"$f":"ROUND((CB8/$CC$8)*100,1)","v":{"$error":"#DIV/0!"}},null,{"$f":"BY8+BZ8","v":0},{"$f":"CA8+CB8","v":0},{"$f":"ROUND(CD8+CE8,1)","v":{"$error":"#DIV/0!"}},{"$f":"ROUND(CF8+CG8,1)","v":{"$error":"#DIV/0!"}}]
[null,null,{"$f":"'生徒(個人)'!B10","v":"私の学級では，私の考えや発言が取り上げられたり紹介されたりすることがある。"},{"$error":"#DIV/0!"},{"$error":"#DIV/0!"},{"$error":"#DIV/0!"},{"$error":"#DIV/0!"},null,{"$f":"IF('生徒(データ入力①)'!F10=\"\",\"\",'生徒(データ入力①)'!F10)","v":""},{"$f":"IF('生徒(データ入力①)'!G10=\"\",\"\",'生徒(データ入力①)'!G10)","v":""},{"$f":"IF('生徒(データ入力①)'!H10=\"\",\"\",'生徒(データ入力①)'!H10)","v":""},{"$f":"IF('生徒(データ入力①)'!I10=\"\",\"\",'生徒(データ入力①)'!I10)","v":""},{"$f":"IF('生徒(データ入力①)'!J10=\"\",\"\",'生徒(データ入力①)'!J10)","v":""},{"$f":"IF('生徒(データ入力①)'!K10=\"\",\"\",'生徒(データ入力①)'!K10)","v":""},{"$f":"IF('生徒(データ入力①)'!L10=\"\",\"\",'生徒(データ入力①)'!L10)","v":""},{"$f":"IF('生徒(データ入力①)'!M10=\"\",\"\",'生徒(データ入力①)'!M10)","v":""},{"$f":"IF('生徒(データ入力①)'!N10=\"\",\"\",'生徒(データ入力①)'!N10)","v":""},{"$f":"IF('生徒(データ入力①)'!O10=\"\",\"\",'生徒(データ入力①)'!O10)","v":""},{"$f":"IF('生徒(データ入力①)'!P10=\"\",\"\",'生徒(データ入力①)'!P10)","v":""},{"$f":"IF('生徒(データ入力①)'!Q10=\"\",\"\",'生徒(データ入力①)'!Q10)","v":""},{"$f":"IF('生徒(データ入力①)'!R10=\"\",\"\",'生徒(データ入力①)'!R10)","v":""},{"$f":"IF('生徒(データ入力①)'!S10=\"\",\"\",'生徒(データ入力①)'!S10)","v":""},{"$f":"IF('生徒(データ入力①)'!T10=\"\",\"\",'生徒(データ入力①)'!T10)","v":""},{"$f":"IF('生徒(データ入力①)'!U10=\"\",\"\",'生徒(データ入力①)'!U10)","v":""},{"$f":"IF('生徒(データ入力①)'!V10=\"\",\"\",'生徒(データ入力①)'!V10)","v":""},{"$f":"IF('生徒(データ入力①)'!W10=\"\",\"\",'生徒(データ入力①)'!W10)","v":""},{"$f":"IF('生徒(データ入力①)'!X10=\"\",\"\",'生徒(データ入力①)'!X10)","v":""},{"$f":"IF('生徒(データ入力①)'!Y10=\"\",\"\",'生徒(データ入力①)'!Y10)","v":""},{"$f":"IF('生徒(データ入力①)'!Z10=\"\",\"\",'生徒(データ入力①)'!Z10)","v":""},{"$f":"IF('生徒(データ入力①)'!AA10=\"\",\"\",'生徒(データ入力①)'!AA10)","v":""},{"$f":"IF('生徒(データ入力①)'!AB10=\"\",\"\",'生徒(データ入力①)'!AB10)","v":""},{"$f":"IF('生徒(データ入力①)'!AC10=\"\",\"\",'生徒(データ入力①)'!AC10)","v":""},{"$f":"IF('生徒(データ入力①)'!AD10=\"\",\"\",'生徒(データ入力①)'!AD10)","v":""},{"$f":"IF('生徒(データ入力①)'!AE10=\"\",\"\",'生徒(データ入力①)'!AE10)","v":""},{"$f":"IF('生徒(データ入力①)'!AF10=\"\",\"\",'生徒(データ入力①)'!AF10)","v":""},{"$f":"IF('生徒(データ入力①)'!AG10=\"\",\"\",'生徒(データ入力①)'!AG10)","v":""},{"$f":"IF('生徒(データ入力①)'!AH10=\"\",\"\",'生徒(データ入力①)'!AH10)","v":""},{"$f":"IF('生徒(データ入力①)'!AI10=\"\",\"\",'生徒(データ入力①)'!AI10)","v":""},{"$f":"IF('生徒(データ入力①)'!AJ10=\"\",\"\",'生徒(データ入力①)'!AJ10)","v":""},{"$f":"IF('生徒(データ入力①)'!AK10=\"\",\"\",'生徒(データ入力①)'!AK10)","v":""},{"$f":"IF('生徒(データ入力①)'!AL10=\"\",\"\",'生徒(データ入力①)'!AL10)","v":""},{"$f":"IF('生徒(データ入力①)'!AM10=\"\",\"\",'生徒(データ入力①)'!AM10)","v":""},{"$f":"IF('生徒(データ入力①)'!AN10=\"\",\"\",'生徒(データ入力①)'!AN10)","v":""},{"$f":"IF('生徒(データ入力①)'!AO10=\"\",\"\",'生徒(データ入力①)'!AO10)","v":""},{"$f":"IF('生徒(データ入力①)'!AP10=\"\",\"\",'生徒(データ入力①)'!AP10)","v":""},{"$f":"IF('生徒(データ入力①)'!AQ10=\"\",\"\",'生徒(データ入力①)'!AQ10)","v":""},{"$f":"IF('生徒(データ入力①)'!AR10=\"\",\"\",'生徒(データ入力①)'!AR10)","v":""},{"$f":"IF('生徒(データ入力①)'!AS10=\"\",\"\",'生徒(データ入力①)'!AS10)","v":""},{"$f":"IF('生徒(データ入力①)'!AT10=\"\",\"\",'生徒(データ入力①)'!AT10)","v":""},{"$f":"IF('生徒(データ入力①)'!AU10=\"\",\"\",'生徒(データ入力①)'!AU10)","v":""},{"$f":"IF('生徒(データ入力①)'!AV10=\"\",\"\",'生徒(データ入力①)'!AV10)","v":""},{"$f":"IF('生徒(データ入力①)'!AW10=\"\",\"\",'生徒(データ入力①)'!AW10)","v":""},{"$f":"IF('生徒(データ入力①)'!AX10=\"\",\"\",'生徒(データ入力①)'!AX10)","v":""},{"$f":"IF('生徒(データ入力①)'!AY10=\"\",\"\",'生徒(データ入力①)'!AY10)","v":""},{"$f":"IF('生徒(データ入力①)'!AZ10=\"\",\"\",'生徒(データ入力①)'!AZ10)","v":""},{"$f":"IF('生徒(データ入力①)'!BA10=\"\",\"\",'生徒(データ入力①)'!BA10)","v":""},{"$f":"IF('生徒(データ入力①)'!BB10=\"\",\"\",'生徒(データ入力①)'!BB10)","v":""},{"$f":"IF('生徒(データ入力①)'!BC10=\"\",\"\",'生徒(データ入力①)'!BC10)","v":""},0,{"$error":"#DIV/0!"},null,0,{"$error":"#DIV/0!"},null,0,{"$error":"#DIV/0!"},null,0,{"$error":"#DIV/0!"},null,null,{"$error":"#DIV/0!"},{"$error":"#DIV/0!"},{"$error":"#DIV/0!"},{"$error":"#DIV/0!"},"自己決定の場の提供平均",{"$f":"BG15+BG16+BG17+BG18+BG19","v":0},{"$f":"BJ15+BJ16+BJ17+BJ18+BJ19","v":0},{"$f":"BM15+BM16+BM17+BM18+BM19","v":0},{"$f":"BP15+BP16+BP17+BP18+BP19","v":0},0,{"$f":"ROUND((BY9/$CC$9)*100,1)","v":{"$error":"#DIV/0!"}},{"$f":"ROUND((BZ9/$CC$9)*100,1)","v":{"$error":"#DIV/0!"}},{"$f":"ROUND((CA9/$CC$9)*100,1)","v":{"$error":"#DIV/0!"}},{"$f":"ROUND((CB9/$CC$9)*100,1)","v":{"$error":"#DIV/0!"}},null,{"$f":"BY9+BZ9","v":0},{"$f":"CA9+CB9","v":0},{"$f":"ROUND(CD9+CE9,1)","v":{"$error":"#DIV/0!"}},{"$f":"ROUND(CF9+CG9,1)","v":{"$error":"#DIV/0!"}}]
[null,"教師や仲間から理解され受け入れられているという安心感",{"$f":"'生徒(個人)'!B11","v":"私の学級では，先生や友達は私の話を最後まで聞いてくれる。"},{"$error":"#DIV/0!"},{"$error":"#DIV/0!"},{"$error":"#DIV/0!"},{"$error":"#DIV/0!"},null,{"$f":"IF('生徒(データ入力①)'!F12=\"\",\"\",'生徒(データ入力①)'!F12)","v":""},{"$f":"IF('生徒(データ入力①)'!G12=\"\",\"\",'生徒(データ入力①)'!G12)","v":""},{"$f":"IF('生徒(データ入力①)'!H12=\"\",\"\",'生徒(データ入力①)'!H12)","v":""},{"$f":"IF('生徒(データ入力①)'!I12=\"\",\"\",'生徒(データ入力①)'!I12)","v":""},{"$f":"IF('生徒(データ入力①)'!J12=\"\",\"\",'生徒(データ入力①)'!J12)","v":""},{"$f":"IF('生徒(データ入力①)'!K12=\"\",\"\",'生徒(データ入力①)'!K12)","v":""},{"$f":"IF('生徒(データ入力①)'!L12=\"\",\"\",'生徒(データ入力①)'!L12)","v":""},{"$f":"IF('生徒(データ入力①)'!M12=\"\",\"\",'生徒(データ入力①)'!M12)","v":""},{"$f":"IF('生徒(データ入力①)'!N12=\"\",\"\",'生徒(データ入力①)'!N12)","v":""},{"$f":"IF('生徒(データ入力①)'!O12=\"\",\"\",'生徒(データ入力①)'!O12)","v":""},{"$f":"IF('生徒(データ入力①)'!P12=\"\",\"\",'生徒(データ入力①)'!P12)","v":""},{"$f":"IF('生徒(データ入力①)'!Q12=\"\",\"\",'生徒(データ入力①)'!Q12)","v":""},{"$f":"IF('生徒(データ入力①)'!R12=\"\",\"\",'生徒(データ入力①)'!R12)","v":""},{"$f":"IF('生徒(データ入力①)'!S12=\"\",\"\",'生徒(データ入力①)'!S12)","v":""},{"$f":"IF('生徒(データ入力①)'!T12=\"\",\"\",'生徒(データ入力①)'!T12)","v":""},{"$f":"IF('生徒(データ入力①)'!U12=\"\",\"\",'生徒(データ入力①)'!U12)","v":""},{"$f":"IF('生徒(データ入力①)'!V12=\"\",\"\",'生徒(データ入力①)'!V12)","v":""},{"$f":"IF('生徒(データ入力①)'!W12=\"\",\"\",'生徒(データ入力①)'!W12)","v":""},{"$f":"IF('生徒(データ入力①)'!X12=\"\",\"\",'生徒(データ入力①)'!X12)","v":""},{"$f":"IF('生徒(データ入力①)'!Y12=\"\",\"\",'生徒(データ入力①)'!Y12)","v":""},{"$f":"IF('生徒(データ入力①)'!Z12=\"\",\"\",'生徒(データ入力①)'!Z12)","v":""},{"$f":"IF('生徒(データ入力①)'!AA12=\"\",\"\",'生徒(データ入力①)'!AA12)","v":""},{"$f":"IF('生徒(データ入力①)'!AB12=\"\",\"\",'生徒(データ入力①)'!AB12)","v":""},{"$f":"IF('生徒(データ入力①)'!AC12=\"\",\"\",'生徒(データ入力①)'!AC12)","v":""},{"$f":"IF('生徒(データ入力①)'!AD12=\"\",\"\",'生徒(データ入力①)'!AD12)","v":""},{"$f":"IF('生徒(データ入力①)'!AE12=\"\",\"\",'生徒(データ入力①)'!AE12)","v":""},{"$f":"IF('生徒(データ入力①)'!AF12=\"\",\"\",'生徒(データ入力①)'!AF12)","v":""},{"$f":"IF('生徒(データ入力①)'!AG12=\"\",\"\",'生徒(データ入力①)'!AG12)","v":""},{"$f":"IF('生徒(データ入力①)'!AH12=\"\",\"\",'生徒(データ入力①)'!AH12)","v":""},{"$f":"IF('生徒(データ入力①)'!AI12=\"\",\"\",'生徒(データ入力①)'!AI12)","v":""},{"$f":"IF('生徒(データ入力①)'!AJ12=\"\",\"\",'生徒(データ入力①)'!AJ12)","v":""},{"$f":"IF('生徒(データ入力①)'!AK12=\"\",\"\",'生徒(データ入力①)'!AK12)","v":""},{"$f":"IF('生徒(データ入力①)'!AL12=\"\",\"\",'生徒(データ入力①)'!AL12)","v":""},{"$f":"IF('生徒(データ入力①)'!AM12=\"\",\"\",'生徒(データ入力①)'!AM12)","v":""},{"$f":"IF('生徒(データ入力①)'!AN12=\"\",\"\",'生徒(データ入力①)'!AN12)","v":""},{"$f":"IF('生徒(データ入力①)'!AO12=\"\",\"\",'生徒(データ入力①)'!AO12)","v":""},{"$f":"IF('生徒(データ入力①)'!AP12=\"\",\"\",'生徒(データ入力①)'!AP12)","v":""},{"$f":"IF('生徒(データ入力①)'!AQ12=\"\",\"\",'生徒(データ入力①)'!AQ12)","v":""},{"$f":"IF('生徒(データ入力①)'!AR12=\"\",\"\",'生徒(データ入力①)'!AR12)","v":""},{"$f":"IF('生徒(データ入力①)'!AS12=\"\",\"\",'生徒(データ入力①)'!AS12)","v":""},{"$f":"IF('生徒(データ入力①)'!AT12=\"\",\"\",'生徒(データ入力①)'!AT12)","v":""},{"$f":"IF('生徒(データ入力①)'!AU12=\"\",\"\",'生徒(データ入力①)'!AU12)","v":""},{"$f":"IF('生徒(データ入力①)'!AV12=\"\",\"\",'生徒(データ入力①)'!AV12)","v":""},{"$f":"IF('生徒(データ入力①)'!AW12=\"\",\"\",'生徒(データ入力①)'!AW12)","v":""},{"$f":"IF('生徒(データ入力①)'!AX12=\"\",\"\",'生徒(データ入力①)'!AX12)","v":""},{"$f":"IF('生徒(データ入力①)'!AY12=\"\",\"\",'生徒(データ入力①)'!AY12)","v":""},{"$f":"IF('生徒(データ入力①)'!AZ12=\"\",\"\",'生徒(データ入力①)'!AZ12)","v":""},{"$f":"IF('生徒(データ入力①)'!BA12=\"\",\"\",'生徒(データ入力①)'!BA12)","v":""},{"$f":"IF('生徒(データ入力①)'!BB12=\"\",\"\",'生徒(データ入力①)'!BB12)","v":""},{"$f":"IF('生徒(データ入力①)'!BC12=\"\",\"\",'生徒(データ入力①)'!BC12)","v":""},0,{"$error":"#DIV/0!"},null,0,{"$error":"#DIV/0!"},null,0,{"$error":"#DIV/0!"},null,0,{"$error":"#DIV/0!"},null,null,{"$error":"#DIV/0!"},{"$error":"#DIV/0!"},{"$error":"#DIV/0!"},{"$error":"#DIV/0!"},"安全・安心な風土の醸成平均",{"$f":"BG20+BG21+BG22+BG23+BG24","v":0},{"$f":"BJ20+BJ21+BJ22+BJ23+BJ24","v":0},{"$f":"BM20+BM21+BM22+BM23+BM24","v":0},{"$f":"BP20+BP21+BP22+BP23+BP24","v":0},0,{"$f":"ROUND((BY10/$CC$10)*100,1)","v":{"$error":"#DIV/0!"}},{"$f":"ROUND((BZ10/$CC$10)*100,1)","v":{"$error":"#DIV/0!"}},{"$f":"ROUND((CA10/$CC$10)*100,1)","v":{"$error":"#DIV/0!"}},{"$f":"ROUND((CB10/$CC$10)*100,1)","v":{"$error":"#DIV/0!"}},null,{"$f":"BY10+BZ10","v":0},{"$f":"CA10+CB10","v":0},{"$f":"ROUND(CD10+CE10,1)","v":{"$error":"#DIV/0!"}},{"$f":"ROUND(CF10+CG10,1)","v":{"$error":"#DIV/0!"}}]
[null,null,{"$f":"'生徒(個人)'!B12","v":"私の学級には，悩みや困りごとを相談できる先生や友達がいる。"},{"$error":"#DIV/0!"},{"$error":"#DIV/0!"},{"$error":"#DIV/0!"},{"$error":"#DIV/0!"},null,{"$f":"IF('生徒(データ入力①)'!F18=\"\",\"\",'生徒(データ入力①)'!F18)","v":""},{"$f":"IF('生徒(データ入力①)'!G18=\"\",\"\",'生徒(データ入力①)'!G18)","v":""},{"$f":"IF('生徒(データ入力①)'!H18=\"\",\"\",'生徒(データ入力①)'!H18)","v":""},{"$f":"IF('生徒(データ入力①)'!I18=\"\",\"\",'生徒(データ入力①)'!I18)","v":""},{"$f":"IF('生徒(データ入力①)'!J18=\"\",\"\",'生徒(データ入力①)'!J18)","v":""},{"$f":"IF('生徒(データ入力①)'!K18=\"\",\"\",'生徒(データ入力①)'!K18)","v":""},{"$f":"IF('生徒(データ入力①)'!L18=\"\",\"\",'生徒(データ入力①)'!L18)","v":""},{"$f":"IF('生徒(データ入力①)'!M18=\"\",\"\",'生徒(データ入力①)'!M18)","v":""},{"$f":"IF('生徒(データ入力①)'!N18=\"\",\"\",'生徒(データ入力①)'!N18)","v":""},{"$f":"IF('生徒(データ入力①)'!O18=\"\",\"\",'生徒(データ入力①)'!O18)","v":""},{"$f":"IF('生徒(データ入力①)'!P18=\"\",\"\",'生徒(データ入力①)'!P18)","v":""},{"$f":"IF('生徒(データ入力①)'!Q18=\"\",\"\",'生徒(データ入力①)'!Q18)","v":""},{"$f":"IF('生徒(データ入力①)'!R18=\"\",\"\",'生徒(データ入力①)'!R18)","v":""},{"$f":"IF('生徒(データ入力①)'!S18=\"\",\"\",'生徒(データ入力①)'!S18)","v":""},{"$f":"IF('生徒(データ入力①)'!T18=\"\",\"\",'生徒(データ入力①)'!T18)","v":""},{"$f":"IF('生徒(データ入力①)'!U18=\"\",\"\",'生徒(データ入力①)'!U18)","v":""},{"$f":"IF('生徒(データ入力①)'!V18=\"\",\"\",'生徒(データ入力①)'!V18)","v":""},{"$f":"IF('生徒(データ入力①)'!W18=\"\",\"\",'生徒(データ入力①)'!W18)","v":""},{"$f":"IF('生徒(データ入力①)'!X18=\"\",\"\",'生徒(データ入力①)'!X18)","v":""},{"$f":"IF('生徒(データ入力①)'!Y18=\"\",\"\",'生徒(データ入力①)'!Y18)","v":""},{"$f":"IF('生徒(データ入力①)'!Z18=\"\",\"\",'生徒(データ入力①)'!Z18)","v":""},{"$f":"IF('生徒(データ入力①)'!AA18=\"\",\"\",'生徒(データ入力①)'!AA18)","v":""},{"$f":"IF('生徒(データ入力①)'!AB18=\"\",\"\",'生徒(データ入力①)'!AB18)","v":""},{"$f":"IF('生徒(データ入力①)'!AC18=\"\",\"\",'生徒(データ入力①)'!AC18)","v":""},{"$f":"IF('生徒(データ入力①)'!AD18=\"\",\"\",'生徒(データ入力①)'!AD18)","v":""},{"$f":"IF('生徒(データ入力①)'!AE18=\"\",\"\",'生徒(データ入力①)'!AE18)","v":""},{"$f":"IF('生徒(データ入力①)'!AF18=\"\",\"\",'生徒(データ入力①)'!AF18)","v":""},{"$f":"IF('生徒(データ入力①)'!AG18=\"\",\"\",'生徒(データ入力①)'!AG18)","v":""},{"$f":"IF('生徒(データ入力①)'!AH18=\"\",\"\",'生徒(データ入力①)'!AH18)","v":""},{"$f":"IF('生徒(データ入力①)'!AI18=\"\",\"\",'生徒(データ入力①)'!AI18)","v":""},{"$f":"IF('生徒(データ入力①)'!AJ18=\"\",\"\",'生徒(データ入力①)'!AJ18)","v":""},{"$f":"IF('生徒(データ入力①)'!AK18=\"\",\"\",'生徒(データ入力①)'!AK18)","v":""},{"$f":"IF('生徒(データ入力①)'!AL18=\"\",\"\",'生徒(データ入力①)'!AL18)","v":""},{"$f":"IF('生徒(データ入力①)'!AM18=\"\",\"\",'生徒(データ入力①)'!AM18)","v":""},{"$f":"IF('生徒(データ入力①)'!AN18=\"\",\"\",'生徒(データ入力①)'!AN18)","v":""},{"$f":"IF('生徒(データ入力①)'!AO18=\"\",\"\",'生徒(データ入力①)'!AO18)","v":""},{"$f":"IF('生徒(データ入力①)'!AP18=\"\",\"\",'生徒(データ入力①)'!AP18)","v":""},{"$f":"IF('生徒(データ入力①)'!AQ18=\"\",\"\",'生徒(データ入力①)'!AQ18)","v":""},{"$f":"IF('生徒(データ入力①)'!AR18=\"\",\"\",'生徒(データ入力①)'!AR18)","v":""},{"$f":"IF('生徒(データ入力①)'!AS18=\"\",\"\",'生徒(データ入力①)'!AS18)","v":""},{"$f":"IF('生徒(データ入力①)'!AT18=\"\",\"\",'生徒(データ入力①)'!AT18)","v":""},{"$f":"IF('生徒(データ入力①)'!AU18=\"\",\"\",'生徒(データ入力①)'!AU18)","v":""},{"$f":"IF('生徒(データ入力①)'!AV18=\"\",\"\",'生徒(データ入力①)'!AV18)","v":""},{"$f":"IF('生徒(データ入力①)'!AW18=\"\",\"\",'生徒(データ入力①)'!AW18)","v":""},{"$f":"IF('生徒(データ入力①)'!AX18=\"\",\"\",'生徒(データ入力①)'!AX18)","v":""},{"$f":"IF('生徒(データ入力①)'!AY18=\"\",\"\",'生徒(データ入力①)'!AY18)","v":""},{"$f":"IF('生徒(データ入力①)'!AZ18=\"\",\"\",'生徒(データ入力①)'!AZ18)","v":""},{"$f":"IF('生徒(データ入力①)'!BA18=\"\",\"\",'生徒(データ入力①)'!BA18)","v":""},{"$f":"IF('生徒(データ入力①)'!BB18=\"\",\"\",'生徒(データ入力①)'!BB18)","v":""},{"$f":"IF('生徒(データ入力①)'!BC18=\"\",\"\",'生徒(データ入力①)'!BC18)","v":""},0,{"$error":"#DIV/0!"},null,0,{"$error":"#DIV/0!"},null,0,{"$error":"#DIV/0!"},null,0,{"$error":"#DIV/0!"},null,null,{"$error":"#DIV/0!"},{"$error":"#DIV/0!"},{"$error":"#DIV/0!"},{"$error":"#DIV/0!"},"そう思う",null,null,null,null,null,null,null,null,null,null,"肯定"]
[null,null,{"$f":"'生徒(個人)'!B13","v":"私の学級では，誰かの発言や行動を否定したり批判したりせずに尊重している。"},{"$error":"#DIV/0!"},{"$error":"#DIV/0!"},{"$error":"#DIV/0!"},{"$error":"#DIV/0!"},null,{"$f":"IF('生徒(データ入力①)'!F21=\"\",\"\",'生徒(データ入力①)'!F21)","v":""},{"$f":"IF('生徒(データ入力①)'!G21=\"\",\"\",'生徒(データ入力①)'!G21)","v":""},{"$f":"IF('生徒(データ入力①)'!H21=\"\",\"\",'生徒(データ入力①)'!H21)","v":""},{"$f":"IF('生徒(データ入力①)'!I21=\"\",\"\",'生徒(データ入力①)'!I21)","v":""},{"$f":"IF('生徒(データ入力①)'!J21=\"\",\"\",'生徒(データ入力①)'!J21)","v":""},{"$f":"IF('生徒(データ入力①)'!K21=\"\",\"\",'生徒(データ入力①)'!K21)","v":""},{"$f":"IF('生徒(データ入力①)'!L21=\"\",\"\",'生徒(データ入力①)'!L21)","v":""},{"$f":"IF('生徒(データ入力①)'!M21=\"\",\"\",'生徒(データ入力①)'!M21)","v":""},{"$f":"IF('生徒(データ入力①)'!N21=\"\",\"\",'生徒(データ入力①)'!N21)","v":""},{"$f":"IF('生徒(データ入力①)'!O21=\"\",\"\",'生徒(データ入力①)'!O21)","v":""},{"$f":"IF('生徒(データ入力①)'!P21=\"\",\"\",'生徒(データ入力①)'!P21)","v":""},{"$f":"IF('生徒(データ入力①)'!Q21=\"\",\"\",'生徒(データ入力①)'!Q21)","v":""},{"$f":"IF('生徒(データ入力①)'!R21=\"\",\"\",'生徒(データ入力①)'!R21)","v":""},{"$f":"IF('生徒(データ入力①)'!S21=\"\",\"\",'生徒(データ入力①)'!S21)","v":""},{"$f":"IF('生徒(データ入力①)'!T21=\"\",\"\",'生徒(データ入力①)'!T21)","v":""},{"$f":"IF('生徒(データ入力①)'!U21=\"\",\"\",'生徒(データ入力①)'!U21)","v":""},{"$f":"IF('生徒(データ入力①)'!V21=\"\",\"\",'生徒(データ入力①)'!V21)","v":""},{"$f":"IF('生徒(データ入力①)'!W21=\"\",\"\",'生徒(データ入力①)'!W21)","v":""},{"$f":"IF('生徒(データ入力①)'!X21=\"\",\"\",'生徒(データ入力①)'!X21)","v":""},{"$f":"IF('生徒(データ入力①)'!Y21=\"\",\"\",'生徒(データ入力①)'!Y21)","v":""},{"$f":"IF('生徒(データ入力①)'!Z21=\"\",\"\",'生徒(データ入力①)'!Z21)","v":""},{"$f":"IF('生徒(データ入力①)'!AA21=\"\",\"\",'生徒(データ入力①)'!AA21)","v":""},{"$f":"IF('生徒(データ入力①)'!AB21=\"\",\"\",'生徒(データ入力①)'!AB21)","v":""},{"$f":"IF('生徒(データ入力①)'!AC21=\"\",\"\",'生徒(データ入力①)'!AC21)","v":""},{"$f":"IF('生徒(データ入力①)'!AD21=\"\",\"\",'生徒(データ入力①)'!AD21)","v":""},{"$f":"IF('生徒(データ入力①)'!AE21=\"\",\"\",'生徒(データ入力①)'!AE21)","v":""},{"$f":"IF('生徒(データ入力①)'!AF21=\"\",\"\",'生徒(データ入力①)'!AF21)","v":""},{"$f":"IF('生徒(データ入力①)'!AG21=\"\",\"\",'生徒(データ入力①)'!AG21)","v":""},{"$f":"IF('生徒(データ入力①)'!AH21=\"\",\"\",'生徒(データ入力①)'!AH21)","v":""},{"$f":"IF('生徒(データ入力①)'!AI21=\"\",\"\",'生徒(データ入力①)'!AI21)","v":""},{"$f":"IF('生徒(データ入力①)'!AJ21=\"\",\"\",'生徒(データ入力①)'!AJ21)","v":""},{"$f":"IF('生徒(データ入力①)'!AK21=\"\",\"\",'生徒(データ入力①)'!AK21)","v":""},{"$f":"IF('生徒(データ入力①)'!AL21=\"\",\"\",'生徒(データ入力①)'!AL21)","v":""},{"$f":"IF('生徒(データ入力①)'!AM21=\"\",\"\",'生徒(データ入力①)'!AM21)","v":""},{"$f":"IF('生徒(データ入力①)'!AN21=\"\",\"\",'生徒(データ入力①)'!AN21)","v":""},{"$f":"IF('生徒(データ入力①)'!AO21=\"\",\"\",'生徒(データ入力①)'!AO21)","v":""},{"$f":"IF('生徒(データ入力①)'!AP21=\"\",\"\",'生徒(データ入力①)'!AP21)","v":""},{"$f":"IF('生徒(データ入力①)'!AQ21=\"\",\"\",'生徒(データ入力①)'!AQ21)","v":""},{"$f":"IF('生徒(データ入力①)'!AR21=\"\",\"\",'生徒(データ入力①)'!AR21)","v":""},{"$f":"IF('生徒(データ入力①)'!AS21=\"\",\"\",'生徒(データ入力①)'!AS21)","v":""},{"$f":"IF('生徒(データ入力①)'!AT21=\"\",\"\",'生徒(データ入力①)'!AT21)","v":""},{"$f":"IF('生徒(データ入力①)'!AU21=\"\",\"\",'生徒(データ入力①)'!AU21)","v":""},{"$f":"IF('生徒(データ入力①)'!AV21=\"\",\"\",'生徒(データ入力①)'!AV21)","v":""},{"$f":"IF('生徒(データ入力①)'!AW21=\"\",\"\",'生徒(データ入力①)'!AW21)","v":""},{"$f":"IF('生徒(データ入力①)'!AX21=\"\",\"\",'生徒(データ入力①)'!AX21)","v":""},{"$f":"IF('生徒(データ入力①)'!AY21=\"\",\"\",'生徒(データ入力①)'!AY21)","v":""},{"$f":"IF('生徒(データ入力①)'!AZ21=\"\",\"\",'生徒(データ入力①)'!AZ21)","v":""},{"$f":"IF('生徒(データ入力①)'!BA21=\"\",\"\",'生徒(データ入力①)'!BA21)","v":""},{"$f":"IF('生徒(データ入力①)'!BB21=\"\",\"\",'生徒(データ入力①)'!BB21)","v":""},{"$f":"IF('生徒(データ入力①)'!BC21=\"\",\"\",'生徒(データ入力①)'!BC21)","v":""},0,{"$error":"#DIV/0!"},null,0,{"$error":"#DIV/0!"},null,0,{"$error":"#DIV/0!"},null,0,{"$error":"#DIV/0!"},null,null,{"$error":"#DIV/0!"},{"$error":"#DIV/0!"},{"$error":"#DIV/0!"},{"$error":"#DIV/0!"},"少しそう思う",null,null,null,null,null,null,null,null,null,null,"否定"]
[null,null,{"$f":"'生徒(個人)'!B14","v":"私の学級では，みんなで協力して一つのことに取り組むことができる。"},{"$error":"#DIV/0!"},{"$error":"#DIV/0!"},{"$error":"#DIV/0!"},{"$error":"#DIV/0!"},null,{"$f":"IF('生徒(データ入力①)'!F6=\"\",\"\",'生徒(データ入力①)'!F6)","v":""},{"$f":"IF('生徒(データ入力①)'!G6=\"\",\"\",'生徒(データ入力①)'!G6)","v":""},{"$f":"IF('生徒(データ入力①)'!H6=\"\",\"\",'生徒(データ入力①)'!H6)","v":""},{"$f":"IF('生徒(データ入力①)'!I6=\"\",\"\",'生徒(データ入力①)'!I6)","v":""},{"$f":"IF('生徒(データ入力①)'!J6=\"\",\"\",'生徒(データ入力①)'!J6)","v":""},{"$f":"IF('生徒(データ入力①)'!K6=\"\",\"\",'生徒(データ入力①)'!K6)","v":""},{"$f":"IF('生徒(データ入力①)'!L6=\"\",\"\",'生徒(データ入力①)'!L6)","v":""},{"$f":"IF('生徒(データ入力①)'!M6=\"\",\"\",'生徒(データ入力①)'!M6)","v":""},{"$f":"IF('生徒(データ入力①)'!N6=\"\",\"\",'生徒(データ入力①)'!N6)","v":""},{"$f":"IF('生徒(データ入力①)'!O6=\"\",\"\",'生徒(データ入力①)'!O6)","v":""},{"$f":"IF('生徒(データ入力①)'!P6=\"\",\"\",'生徒(データ入力①)'!P6)","v":""},{"$f":"IF('生徒(データ入力①)'!Q6=\"\",\"\",'生徒(データ入力①)'!Q6)","v":""},{"$f":"IF('生徒(データ入力①)'!R6=\"\",\"\",'生徒(データ入力①)'!R6)","v":""},{"$f":"IF('生徒(データ入力①)'!S6=\"\",\"\",'生徒(データ入力①)'!S6)","v":""},{"$f":"IF('生徒(データ入力①)'!T6=\"\",\"\",'生徒(データ入力①)'!T6)","v":""},{"$f":"IF('生徒(データ入力①)'!U6=\"\",\"\",'生徒(データ入力①)'!U6)","v":""},{"$f":"IF('生徒(データ入力①)'!V6=\"\",\"\",'生徒(データ入力①)'!V6)","v":""},{"$f":"IF('生徒(データ入力①)'!W6=\"\",\"\",'生徒(データ入力①)'!W6)","v":""},{"$f":"IF('生徒(データ入力①)'!X6=\"\",\"\",'生徒(データ入力①)'!X6)","v":""},{"$f":"IF('生徒(データ入力①)'!Y6=\"\",\"\",'生徒(データ入力①)'!Y6)","v":""},{"$f":"IF('生徒(データ入力①)'!Z6=\"\",\"\",'生徒(データ入力①)'!Z6)","v":""},{"$f":"IF('生徒(データ入力①)'!AA6=\"\",\"\",'生徒(データ入力①)'!AA6)","v":""},{"$f":"IF('生徒(データ入力①)'!AB6=\"\",\"\",'生徒(データ入力①)'!AB6)","v":""},{"$f":"IF('生徒(データ入力①)'!AC6=\"\",\"\",'生徒(データ入力①)'!AC6)","v":""},{"$f":"IF('生徒(データ入力①)'!AD6=\"\",\"\",'生徒(データ入力①)'!AD6)","v":""},{"$f":"IF('生徒(データ入力①)'!AE6=\"\",\"\",'生徒(データ入力①)'!AE6)","v":""},{"$f":"IF('生徒(データ入力①)'!AF6=\"\",\"\",'生徒(データ入力①)'!AF6)","v":""},{"$f":"IF('生徒(データ入力①)'!AG6=\"\",\"\",'生徒(データ入力①)'!AG6)","v":""},{"$f":"IF('生徒(データ入力①)'!AH6=\"\",\"\",'生徒(データ入力①)'!AH6)","v":""},{"$f":"IF('生徒(データ入力①)'!AI6=\"\",\"\",'生徒(データ入力①)'!AI6)","v":""},{"$f":"IF('生徒(データ入力①)'!AJ6=\"\",\"\",'生徒(データ入力①)'!AJ6)","v":""},{"$f":"IF('生徒(データ入力①)'!AK6=\"\",\"\",'生徒(データ入力①)'!AK6)","v":""},{"$f":"IF('生徒(データ入力①)'!AL6=\"\",\"\",'生徒(データ入力①)'!AL6)","v":""},{"$f":"IF('生徒(データ入力①)'!AM6=\"\",\"\",'生徒(データ入力①)'!AM6)","v":""},{"$f":"IF('生徒(データ入力①)'!AN6=\"\",\"\",'生徒(データ入力①)'!AN6)","v":""},{"$f":"IF('生徒(データ入力①)'!AO6=\"\",\"\",'生徒(データ入力①)'!AO6)","v":""},{"$f":"IF('生徒(データ入力①)'!AP6=\"\",\"\",'生徒(データ入力①)'!AP6)","v":""},{"$f":"IF('生徒(データ入力①)'!AQ6=\"\",\"\",'生徒(データ入力①)'!AQ6)","v":""},{"$f":"IF('生徒(データ入力①)'!AR6=\"\",\"\",'生徒(データ入力①)'!AR6)","v":""},{"$f":"IF('生徒(データ入力①)'!AS6=\"\",\"\",'生徒(データ入力①)'!AS6)","v":""},{"$f":"IF('生徒(データ入力①)'!AT6=\"\",\"\",'生徒(データ入力①)'!AT6)","v":""},{"$f":"IF('生徒(データ入力①)'!AU6=\"\",\"\",'生徒(データ入力①)'!AU6)","v":""},{"$f":"IF('生徒(データ入力①)'!AV6=\"\",\"\",'生徒(データ入力①)'!AV6)","v":""},{"$f":"IF('生徒(データ入力①)'!AW6=\"\",\"\",'生徒(データ入力①)'!AW6)","v":""},{"$f":"IF('生徒(データ入力①)'!AX6=\"\",\"\",'生徒(データ入力①)'!AX6)","v":""},{"$f":"IF('生徒(データ入力①)'!AY6=\"\",\"\",'生徒(データ入力①)'!AY6)","v":""},{"$f":"IF('生徒(データ入力①)'!AZ6=\"\",\"\",'生徒(データ入力①)'!AZ6)","v":""},{"$f":"IF('生徒(データ入力①)'!BA6=\"\",\"\",'生徒(データ入力①)'!BA6)","v":""},{"$f":"IF('生徒(データ入力①)'!BB6=\"\",\"\",'生徒(データ入力①)'!BB6)","v":""},{"$f":"IF('生徒(データ入力①)'!BC6=\"\",\"\",'生徒(データ入力①)'!BC6)","v":""},0,{"$error":"#DIV/0!"},null,0,{"$error":"#DIV/0!"},null,0,{"$error":"#DIV/0!"},null,0,{"$error":"#DIV/0!"},null,null,{"$error":"#DIV/0!"},{"$error":"#DIV/0!"},{"$error":"#DIV/0!"},{"$error":"#DIV/0!"},"あまりそう思わない"]
[null,null,{"$f":"'生徒(個人)'!B15","v":"私の学級では，誰かのユーモアある発言に対し，学級が温かい笑いで包まれる雰囲気がある。"},{"$error":"#DIV/0!"},{"$error":"#DIV/0!"},{"$error":"#DIV/0!"},{"$error":"#DIV/0!"},null,{"$f":"IF('生徒(データ入力①)'!F9=\"\",\"\",'生徒(データ入力①)'!F9)","v":""},{"$f":"IF('生徒(データ入力①)'!G9=\"\",\"\",'生徒(データ入力①)'!G9)","v":""},{"$f":"IF('生徒(データ入力①)'!H9=\"\",\"\",'生徒(データ入力①)'!H9)","v":""},{"$f":"IF('生徒(データ入力①)'!I9=\"\",\"\",'生徒(データ入力①)'!I9)","v":""},{"$f":"IF('生徒(データ入力①)'!J9=\"\",\"\",'生徒(データ入力①)'!J9)","v":""},{"$f":"IF('生徒(データ入力①)'!K9=\"\",\"\",'生徒(データ入力①)'!K9)","v":""},{"$f":"IF('生徒(データ入力①)'!L9=\"\",\"\",'生徒(データ入力①)'!L9)","v":""},{"$f":"IF('生徒(データ入力①)'!M9=\"\",\"\",'生徒(データ入力①)'!M9)","v":""},{"$f":"IF('生徒(データ入力①)'!N9=\"\",\"\",'生徒(データ入力①)'!N9)","v":""},{"$f":"IF('生徒(データ入力①)'!O9=\"\",\"\",'生徒(データ入力①)'!O9)","v":""},{"$f":"IF('生徒(データ入力①)'!P9=\"\",\"\",'生徒(データ入力①)'!P9)","v":""},{"$f":"IF('生徒(データ入力①)'!Q9=\"\",\"\",'生徒(データ入力①)'!Q9)","v":""},{"$f":"IF('生徒(データ入力①)'!R9=\"\",\"\",'生徒(データ入力①)'!R9)","v":""},{"$f":"IF('生徒(データ入力①)'!S9=\"\",\"\",'生徒(データ入力①)'!S9)","v":""},{"$f":"IF('生徒(データ入力①)'!T9=\"\",\"\",'生徒(データ入力①)'!T9)","v":""},{"$f":"IF('生徒(データ入力①)'!U9=\"\",\"\",'生徒(データ入力①)'!U9)","v":""},{"$f":"IF('生徒(データ入力①)'!V9=\"\",\"\",'生徒(データ入力①)'!V9)","v":""},{"$f":"IF('生徒(データ入力①)'!W9=\"\",\"\",'生徒(データ入力①)'!W9)","v":""},{"$f":"IF('生徒(データ入力①)'!X9=\"\",\"\",'生徒(データ入力①)'!X9)","v":""},{"$f":"IF('生徒(データ入力①)'!Y9=\"\",\"\",'生徒(データ入力①)'!Y9)","v":""},{"$f":"IF('生徒(データ入力①)'!Z9=\"\",\"\",'生徒(データ入力①)'!Z9)","v":""},{"$f":"IF('生徒(データ入力①)'!AA9=\"\",\"\",'生徒(データ入力①)'!AA9)","v":""},{"$f":"IF('生徒(データ入力①)'!AB9=\"\",\"\",'生徒(データ入力①)'!AB9)","v":""},{"$f":"IF('生徒(データ入力①)'!AC9=\"\",\"\",'生徒(データ入力①)'!AC9)","v":""},{"$f":"IF('生徒(データ入力①)'!AD9=\"\",\"\",'生徒(データ入力①)'!AD9)","v":""},{"$f":"IF('生徒(データ入力①)'!AE9=\"\",\"\",'生徒(データ入力①)'!AE9)","v":""},{"$f":"IF('生徒(データ入力①)'!AF9=\"\",\"\",'生徒(データ入力①)'!AF9)","v":""},{"$f":"IF('生徒(データ入力①)'!AG9=\"\",\"\",'生徒(データ入力①)'!AG9)","v":""},{"$f":"IF('生徒(データ入力①)'!AH9=\"\",\"\",'生徒(データ入力①)'!AH9)","v":""},{"$f":"IF('生徒(データ入力①)'!AI9=\"\",\"\",'生徒(データ入力①)'!AI9)","v":""},{"$f":"IF('生徒(データ入力①)'!AJ9=\"\",\"\",'生徒(データ入力①)'!AJ9)","v":""},{"$f":"IF('生徒(データ入力①)'!AK9=\"\",\"\",'生徒(データ入力①)'!AK9)","v":""},{"$f":"IF('生徒(データ入力①)'!AL9=\"\",\"\",'生徒(データ入力①)'!AL9)","v":""},{"$f":"IF('生徒(データ入力①)'!AM9=\"\",\"\",'生徒(データ入力①)'!AM9)","v":""},{"$f":"IF('生徒(データ入力①)'!AN9=\"\",\"\",'生徒(データ入力①)'!AN9)","v":""},{"$f":"IF('生徒(データ入力①)'!AO9=\"\",\"\",'生徒(データ入力①)'!AO9)","v":""},{"$f":"IF('生徒(データ入力①)'!AP9=\"\",\"\",'生徒(データ入力①)'!AP9)","v":""},{"$f":"IF('生徒(データ入力①)'!AQ9=\"\",\"\",'生徒(データ入力①)'!AQ9)","v":""},{"$f":"IF('生徒(データ入力①)'!AR9=\"\",\"\",'生徒(データ入力①)'!AR9)","v":""},{"$f":"IF('生徒(データ入力①)'!AS9=\"\",\"\",'生徒(データ入力①)'!AS9)","v":""},{"$f":"IF('生徒(データ入力①)'!AT9=\"\",\"\",'生徒(データ入力①)'!AT9)","v":""},{"$f":"IF('生徒(データ入力①)'!AU9=\"\",\"\",'生徒(データ入力①)'!AU9)","v":""},{"$f":"IF('生徒(データ入力①)'!AV9=\"\",\"\",'生徒(データ入力①)'!AV9)","v":""},{"$f":"IF('生徒(データ入力①)'!AW9=\"\",\"\",'生徒(データ入力①)'!AW9)","v":""},{"$f":"IF('生徒(データ入力①)'!AX9=\"\",\"\",'生徒(データ入力①)'!AX9)","v":""},{"$f":"IF('生徒(データ入力①)'!AY9=\"\",\"\",'生徒(データ入力①)'!AY9)","v":""},{"$f":"IF('生徒(データ入力①)'!AZ9=\"\",\"\",'生徒(データ入力①)'!AZ9)","v":""},{"$f":"IF('生徒(データ入力①)'!BA9=\"\",\"\",'生徒(データ入力①)'!BA9)","v":""},{"$f":"IF('生徒(データ入力①)'!BB9=\"\",\"\",'生徒(データ入力①)'!BB9)","v":""},{"$f":"IF('生徒(データ入力①)'!BC9=\"\",\"\",'生徒(データ入力①)'!BC9)","v":""},0,{"$error":"#DIV/0!"},null,0,{"$error":"#DIV/0!"},null,0,{"$error":"#DIV/0!"},null,0,{"$error":"#DIV/0!"},null,null,{"$error":"#DIV/0!"},{"$error":"#DIV/0!"},{"$error":"#DIV/0!"},{"$error":"#DIV/0!"},"そう思わない"]
[null,"自分の考え、選択、決定が尊重されているという安心感",{"$f":"'生徒(個人)'!B16","v":"私の学級では，自分（たち）で学習や生活の目標を決め，振り返りをしている。"},{"$error":"#DIV/0!"},{"$error":"#DIV/0!"},{"$error":"#DIV/0!"},{"$error":"#DIV/0!"},null,{"$f":"IF('生徒(データ入力①)'!F5=\"\",\"\",'生徒(データ入力①)'!F5)","v":""},{"$f":"IF('生徒(データ入力①)'!G5=\"\",\"\",'生徒(データ入力①)'!G5)","v":""},{"$f":"IF('生徒(データ入力①)'!H5=\"\",\"\",'生徒(データ入力①)'!H5)","v":""},{"$f":"IF('生徒(データ入力①)'!I5=\"\",\"\",'生徒(データ入力①)'!I5)","v":""},{"$f":"IF('生徒(データ入力①)'!J5=\"\",\"\",'生徒(データ入力①)'!J5)","v":""},{"$f":"IF('生徒(データ入力①)'!K5=\"\",\"\",'生徒(データ入力①)'!K5)","v":""},{"$f":"IF('生徒(データ入力①)'!L5=\"\",\"\",'生徒(データ入力①)'!L5)","v":""},{"$f":"IF('生徒(データ入力①)'!M5=\"\",\"\",'生徒(データ入力①)'!M5)","v":""},{"$f":"IF('生徒(データ入力①)'!N5=\"\",\"\",'生徒(データ入力①)'!N5)","v":""},{"$f":"IF('生徒(データ入力①)'!O5=\"\",\"\",'生徒(データ入力①)'!O5)","v":""},{"$f":"IF('生徒(データ入力①)'!P5=\"\",\"\",'生徒(データ入力①)'!P5)","v":""},{"$f":"IF('生徒(データ入力①)'!Q5=\"\",\"\",'生徒(データ入力①)'!Q5)","v":""},{"$f":"IF('生徒(データ入力①)'!R5=\"\",\"\",'生徒(データ入力①)'!R5)","v":""},{"$f":"IF('生徒(データ入力①)'!S5=\"\",\"\",'生徒(データ入力①)'!S5)","v":""},{"$f":"IF('生徒(データ入力①)'!T5=\"\",\"\",'生徒(データ入力①)'!T5)","v":""},{"$f":"IF('生徒(データ入力①)'!U5=\"\",\"\",'生徒(データ入力①)'!U5)","v":""},{"$f":"IF('生徒(データ入力①)'!V5=\"\",\"\",'生徒(データ入力①)'!V5)","v":""},{"$f":"IF('生徒(データ入力①)'!W5=\"\",\"\",'生徒(データ入力①)'!W5)","v":""},{"$f":"IF('生徒(データ入力①)'!X5=\"\",\"\",'生徒(データ入力①)'!X5)","v":""},{"$f":"IF('生徒(データ入力①)'!Y5=\"\",\"\",'生徒(データ入力①)'!Y5)","v":""},{"$f":"IF('生徒(データ入力①)'!Z5=\"\",\"\",'生徒(データ入力①)'!Z5)","v":""},{"$f":"IF('生徒(データ入力①)'!AA5=\"\",\"\",'生徒(データ入力①)'!AA5)","v":""},{"$f":"IF('生徒(データ入力①)'!AB5=\"\",\"\",'生徒(データ入力①)'!AB5)","v":""},{"$f":"IF('生徒(データ入力①)'!AC5=\"\",\"\",'生徒(データ入力①)'!AC5)","v":""},{"$f":"IF('生徒(データ入力①)'!AD5=\"\",\"\",'生徒(データ入力①)'!AD5)","v":""},{"$f":"IF('生徒(データ入力①)'!AE5=\"\",\"\",'生徒(データ入力①)'!AE5)","v":""},{"$f":"IF('生徒(データ入力①)'!AF5=\"\",\"\",'生徒(データ入力①)'!AF5)","v":""},{"$f":"IF('生徒(データ入力①)'!AG5=\"\",\"\",'生徒(データ入力①)'!AG5)","v":""},{"$f":"IF('生徒(データ入力①)'!AH5=\"\",\"\",'生徒(データ入力①)'!AH5)","v":""},{"$f":"IF('生徒(データ入力①)'!AI5=\"\",\"\",'生徒(データ入力①)'!AI5)","v":""},{"$f":"IF('生徒(データ入力①)'!AJ5=\"\",\"\",'生徒(データ入力①)'!AJ5)","v":""},{"$f":"IF('生徒(データ入力①)'!AK5=\"\",\"\",'生徒(データ入力①)'!AK5)","v":""},{"$f":"IF('生徒(データ入力①)'!AL5=\"\",\"\",'生徒(データ入力①)'!AL5)","v":""},{"$f":"IF('生徒(データ入力①)'!AM5=\"\",\"\",'生徒(データ入力①)'!AM5)","v":""},{"$f":"IF('生徒(データ入力①)'!AN5=\"\",\"\",'生徒(データ入力①)'!AN5)","v":""},{"$f":"IF('生徒(データ入力①)'!AO5=\"\",\"\",'生徒(データ入力①)'!AO5)","v":""},{"$f":"IF('生徒(データ入力①)'!AP5=\"\",\"\",'生徒(データ入力①)'!AP5)","v":""},{"$f":"IF('生徒(データ入力①)'!AQ5=\"\",\"\",'生徒(データ入力①)'!AQ5)","v":""},{"$f":"IF('生徒(データ入力①)'!AR5=\"\",\"\",'生徒(データ入力①)'!AR5)","v":""},{"$f":"IF('生徒(データ入力①)'!AS5=\"\",\"\",'生徒(データ入力①)'!AS5)","v":""},{"$f":"IF('生徒(データ入力①)'!AT5=\"\",\"\",'生徒(データ入力①)'!AT5)","v":""},{"$f":"IF('生徒(データ入力①)'!AU5=\"\",\"\",'生徒(データ入力①)'!AU5)","v":""},{"$f":"IF('生徒(データ入力①)'!AV5=\"\",\"\",'生徒(データ入力①)'!AV5)","v":""},{"$f":"IF('生徒(データ入力①)'!AW5=\"\",\"\",'生徒(データ入力①)'!AW5)","v":""},{"$f":"IF('生徒(データ入力①)'!AX5=\"\",\"\",'生徒(データ入力①)'!AX5)","v":""},{"$f":"IF('生徒(データ入力①)'!AY5=\"\",\"\",'生徒(データ入力①)'!AY5)","v":""},{"$f":"IF('生徒(データ入力①)'!AZ5=\"\",\"\",'生徒(データ入力①)'!AZ5)","v":""},{"$f":"IF('生徒(データ入力①)'!BA5=\"\",\"\",'生徒(データ入力①)'!BA5)","v":""},{"$f":"IF('生徒(データ入力①)'!BB5=\"\",\"\",'生徒(データ入力①)'!BB5)","v":""},{"$f":"IF('生徒(データ入力①)'!BC5=\"\",\"\",'生徒(データ入力①)'!BC5)","v":""},0,{"$error":"#DIV/0!"},null,0,{"$error":"#DIV/0!"},null,0,{"$error":"#DIV/0!"},null,0,{"$error":"#DIV/0!"},null,null,{"$error":"#DIV/0!"},{"$error":"#DIV/0!"},{"$error":"#DIV/0!"},{"$error":"#DIV/0!"}]
[null,null,{"$f":"'生徒(個人)'!B17","v":"私の学級では，話合いなど自分たちが中心となって活動する場面が多くある。"},{"$error":"#DIV/0!"},{"$error":"#DIV/0!"},{"$error":"#DIV/0!"},{"$error":"#DIV/0!"},null,{"$f":"IF('生徒(データ入力①)'!F24=\"\",\"\",'生徒(データ入力①)'!F24)","v":""},{"$f":"IF('生徒(データ入力①)'!G24=\"\",\"\",'生徒(データ入力①)'!G24)","v":""},{"$f":"IF('生徒(データ入力①)'!H24=\"\",\"\",'生徒(データ入力①)'!H24)","v":""},{"$f":"IF('生徒(データ入力①)'!I24=\"\",\"\",'生徒(データ入力①)'!I24)","v":""},{"$f":"IF('生徒(データ入力①)'!J24=\"\",\"\",'生徒(データ入力①)'!J24)","v":""},{"$f":"IF('生徒(データ入力①)'!K24=\"\",\"\",'生徒(データ入力①)'!K24)","v":""},{"$f":"IF('生徒(データ入力①)'!L24=\"\",\"\",'生徒(データ入力①)'!L24)","v":""},{"$f":"IF('生徒(データ入力①)'!M24=\"\",\"\",'生徒(データ入力①)'!M24)","v":""},{"$f":"IF('生徒(データ入力①)'!N24=\"\",\"\",'生徒(データ入力①)'!N24)","v":""},{"$f":"IF('生徒(データ入力①)'!O24=\"\",\"\",'生徒(データ入力①)'!O24)","v":""},{"$f":"IF('生徒(データ入力①)'!P24=\"\",\"\",'生徒(データ入力①)'!P24)","v":""},{"$f":"IF('生徒(データ入力①)'!Q24=\"\",\"\",'生徒(データ入力①)'!Q24)","v":""},{"$f":"IF('生徒(データ入力①)'!R24=\"\",\"\",'生徒(データ入力①)'!R24)","v":""},{"$f":"IF('生徒(データ入力①)'!S24=\"\",\"\",'生徒(データ入力①)'!S24)","v":""},{"$f":"IF('生徒(データ入力①)'!T24=\"\",\"\",'生徒(データ入力①)'!T24)","v":""},{"$f":"IF('生徒(データ入力①)'!U24=\"\",\"\",'生徒(データ入力①)'!U24)","v":""},{"$f":"IF('生徒(データ入力①)'!V24=\"\",\"\",'生徒(データ入力①)'!V24)","v":""},{"$f":"IF('生徒(データ入力①)'!W24=\"\",\"\",'生徒(データ入力①)'!W24)","v":""},{"$f":"IF('生徒(データ入力①)'!X24=\"\",\"\",'生徒(データ入力①)'!X24)","v":""},{"$f":"IF('生徒(データ入力①)'!Y24=\"\",\"\",'生徒(データ入力①)'!Y24)","v":""},{"$f":"IF('生徒(データ入力①)'!Z24=\"\",\"\",'生徒(データ入力①)'!Z24)","v":""},{"$f":"IF('生徒(データ入力①)'!AA24=\"\",\"\",'生徒(データ入力①)'!AA24)","v":""},{"$f":"IF('生徒(データ入力①)'!AB24=\"\",\"\",'生徒(データ入力①)'!AB24)","v":""},{"$f":"IF('生徒(データ入力①)'!AC24=\"\",\"\",'生徒(データ入力①)'!AC24)","v":""},{"$f":"IF('生徒(データ入力①)'!AD24=\"\",\"\",'生徒(データ入力①)'!AD24)","v":""},{"$f":"IF('生徒(データ入力①)'!AE24=\"\",\"\",'生徒(データ入力①)'!AE24)","v":""},{"$f":"IF('生徒(データ入力①)'!AF24=\"\",\"\",'生徒(データ入力①)'!AF24)","v":""},{"$f":"IF('生徒(データ入力①)'!AG24=\"\",\"\",'生徒(データ入力①)'!AG24)","v":""},{"$f":"IF('生徒(データ入力①)'!AH24=\"\",\"\",'生徒(データ入力①)'!AH24)","v":""},{"$f":"IF('生徒(データ入力①)'!AI24=\"\",\"\",'生徒(データ入力①)'!AI24)","v":""},{"$f":"IF('生徒(データ入力①)'!AJ24=\"\",\"\",'生徒(データ入力①)'!AJ24)","v":""},{"$f":"IF('生徒(データ入力①)'!AK24=\"\",\"\",'生徒(データ入力①)'!AK24)","v":""},{"$f":"IF('生徒(データ入力①)'!AL24=\"\",\"\",'生徒(データ入力①)'!AL24)","v":""},{"$f":"IF('生徒(データ入力①)'!AM24=\"\",\"\",'生徒(データ入力①)'!AM24)","v":""},{"$f":"IF('生徒(データ入力①)'!AN24=\"\",\"\",'生徒(データ入力①)'!AN24)","v":""},{"$f":"IF('生徒(データ入力①)'!AO24=\"\",\"\",'生徒(データ入力①)'!AO24)","v":""},{"$f":"IF('生徒(データ入力①)'!AP24=\"\",\"\",'生徒(データ入力①)'!AP24)","v":""},{"$f":"IF('生徒(データ入力①)'!AQ24=\"\",\"\",'生徒(データ入力①)'!AQ24)","v":""},{"$f":"IF('生徒(データ入力①)'!AR24=\"\",\"\",'生徒(データ入力①)'!AR24)","v":""},{"$f":"IF('生徒(データ入力①)'!AS24=\"\",\"\",'生徒(データ入力①)'!AS24)","v":""},{"$f":"IF('生徒(データ入力①)'!AT24=\"\",\"\",'生徒(データ入力①)'!AT24)","v":""},{"$f":"IF('生徒(データ入力①)'!AU24=\"\",\"\",'生徒(データ入力①)'!AU24)","v":""},{"$f":"IF('生徒(データ入力①)'!AV24=\"\",\"\",'生徒(データ入力①)'!AV24)","v":""},{"$f":"IF('生徒(データ入力①)'!AW24=\"\",\"\",'生徒(データ入力①)'!AW24)","v":""},{"$f":"IF('生徒(データ入力①)'!AX24=\"\",\"\",'生徒(データ入力①)'!AX24)","v":""},{"$f":"IF('生徒(データ入力①)'!AY24=\"\",\"\",'生徒(データ入力①)'!AY24)","v":""},{"$f":"IF('生徒(データ入力①)'!AZ24=\"\",\"\",'生徒(データ入力①)'!AZ24)","v":""},{"$f":"IF('生徒(データ入力①)'!BA24=\"\",\"\",'生徒(データ入力①)'!BA24)","v":""},{"$f":"IF('生徒(データ入力①)'!BB24=\"\",\"\",'生徒(データ入力①)'!BB24)","v":""},{"$f":"IF('生徒(データ入力①)'!BC24=\"\",\"\",'生徒(データ入力①)'!BC24)","v":""},0,{"$error":"#DIV/0!"},null,0,{"$error":"#DIV/0!"},null,0,{"$error":"#DIV/0!"},null,0,{"$error":"#DIV/0!"},null,null,{"$error":"#DIV/0!"},{"$error":"#DIV/0!"},{"$error":"#DIV/0!"},{"$error":"#DIV/0!"}]
[null,null,{"$f":"'生徒(個人)'!B18","v":"私の学級では，自分で調べたり制作したりするときに，先生や友達からアドバイスをもらえる。"},{"$error":"#DIV/0!"},{"$error":"#DIV/0!"},{"$error":"#DIV/0!"},{"$error":"#DIV/0!"},null,{"$f":"IF('生徒(データ入力①)'!F13=\"\",\"\",'生徒(データ入力①)'!F13)","v":""},{"$f":"IF('生徒(データ入力①)'!G13=\"\",\"\",'生徒(データ入力①)'!G13)","v":""},{"$f":"IF('生徒(データ入力①)'!H13=\"\",\"\",'生徒(データ入力①)'!H13)","v":""},{"$f":"IF('生徒(データ入力①)'!I13=\"\",\"\",'生徒(データ入力①)'!I13)","v":""},{"$f":"IF('生徒(データ入力①)'!J13=\"\",\"\",'生徒(データ入力①)'!J13)","v":""},{"$f":"IF('生徒(データ入力①)'!K13=\"\",\"\",'生徒(データ入力①)'!K13)","v":""},{"$f":"IF('生徒(データ入力①)'!L13=\"\",\"\",'生徒(データ入力①)'!L13)","v":""},{"$f":"IF('生徒(データ入力①)'!M13=\"\",\"\",'生徒(データ入力①)'!M13)","v":""},{"$f":"IF('生徒(データ入力①)'!N13=\"\",\"\",'生徒(データ入力①)'!N13)","v":""},{"$f":"IF('生徒(データ入力①)'!O13=\"\",\"\",'生徒(データ入力①)'!O13)","v":""},{"$f":"IF('生徒(データ入力①)'!P13=\"\",\"\",'生徒(データ入力①)'!P13)","v":""},{"$f":"IF('生徒(データ入力①)'!Q13=\"\",\"\",'生徒(データ入力①)'!Q13)","v":""},{"$f":"IF('生徒(データ入力①)'!R13=\"\",\"\",'生徒(データ入力①)'!R13)","v":""},{"$f":"IF('生徒(データ入力①)'!S13=\"\",\"\",'生徒(データ入力①)'!S13)","v":""},{"$f":"IF('生徒(データ入力①)'!T13=\"\",\"\",'生徒(データ入力①)'!T13)","v":""},{"$f":"IF('生徒(データ入力①)'!U13=\"\",\"\",'生徒(データ入力①)'!U13)","v":""},{"$f":"IF('生徒(データ入力①)'!V13=\"\",\"\",'生徒(データ入力①)'!V13)","v":""},{"$f":"IF('生徒(データ入力①)'!W13=\"\",\"\",'生徒(データ入力①)'!W13)","v":""},{"$f":"IF('生徒(データ入力①)'!X13=\"\",\"\",'生徒(データ入力①)'!X13)","v":""},{"$f":"IF('生徒(データ入力①)'!Y13=\"\",\"\",'生徒(データ入力①)'!Y13)","v":""},{"$f":"IF('生徒(データ入力①)'!Z13=\"\",\"\",'生徒(データ入力①)'!Z13)","v":""},{"$f":"IF('生徒(データ入力①)'!AA13=\"\",\"\",'生徒(データ入力①)'!AA13)","v":""},{"$f":"IF('生徒(データ入力①)'!AB13=\"\",\"\",'生徒(データ入力①)'!AB13)","v":""},{"$f":"IF('生徒(データ入力①)'!AC13=\"\",\"\",'生徒(データ入力①)'!AC13)","v":""},{"$f":"IF('生徒(データ入力①)'!AD13=\"\",\"\",'生徒(データ入力①)'!AD13)","v":""},{"$f":"IF('生徒(データ入力①)'!AE13=\"\",\"\",'生徒(データ入力①)'!AE13)","v":""},{"$f":"IF('生徒(データ入力①)'!AF13=\"\",\"\",'生徒(データ入力①)'!AF13)","v":""},{"$f":"IF('生徒(データ入力①)'!AG13=\"\",\"\",'生徒(データ入力①)'!AG13)","v":""},{"$f":"IF('生徒(データ入力①)'!AH13=\"\",\"\",'生徒(データ入力①)'!AH13)","v":""},{"$f":"IF('生徒(データ入力①)'!AI13=\"\",\"\",'生徒(データ入力①)'!AI13)","v":""},{"$f":"IF('生徒(データ入力①)'!AJ13=\"\",\"\",'生徒(データ入力①)'!AJ13)","v":""},{"$f":"IF('生徒(データ入力①)'!AK13=\"\",\"\",'生徒(データ入力①)'!AK13)","v":""},{"$f":"IF('生徒(データ入力①)'!AL13=\"\",\"\",'生徒(データ入力①)'!AL13)","v":""},{"$f":"IF('生徒(データ入力①)'!AM13=\"\",\"\",'生徒(データ入力①)'!AM13)","v":""},{"$f":"IF('生徒(データ入力①)'!AN13=\"\",\"\",'生徒(データ入力①)'!AN13)","v":""},{"$f":"IF('生徒(データ入力①)'!AO13=\"\",\"\",'生徒(データ入力①)'!AO13)","v":""},{"$f":"IF('生徒(データ入力①)'!AP13=\"\",\"\",'生徒(データ入力①)'!AP13)","v":""},{"$f":"IF('生徒(データ入力①)'!AQ13=\"\",\"\",'生徒(データ入力①)'!AQ13)","v":""},{"$f":"IF('生徒(データ入力①)'!AR13=\"\",\"\",'生徒(データ入力①)'!AR13)","v":""},{"$f":"IF('生徒(データ入力①)'!AS13=\"\",\"\",'生徒(データ入力①)'!AS13)","v":""},{"$f":"IF('生徒(データ入力①)'!AT13=\"\",\"\",'生徒(データ入力①)'!AT13)","v":""},{"$f":"IF('生徒(データ入力①)'!AU13=\"\",\"\",'生徒(データ入力①)'!AU13)","v":""},{"$f":"IF('生徒(データ入力①)'!AV13=\"\",\"\",'生徒(データ入力①)'!AV13)","v":""},{"$f":"IF('生徒(データ入力①)'!AW13=\"\",\"\",'生徒(データ入力①)'!AW13)","v":""},{"$f":"IF('生徒(データ入力①)'!AX13=\"\",\"\",'生徒(データ入力①)'!AX13)","v":""},{"$f":"IF('生徒(データ入力①)'!AY13=\"\",\"\",'生徒(データ入力①)'!AY13)","v":""},{"$f":"IF('生徒(データ入力①)'!AZ13=\"\",\"\",'生徒(データ入力①)'!AZ13)","v":""},{"$f":"IF('生徒(データ入力①)'!BA13=\"\",\"\",'生徒(データ入力①)'!BA13)","v":""},{"$f":"IF('生徒(データ入力①)'!BB13=\"\",\"\",'生徒(データ入力①)'!BB13)","v":""},{"$f":"IF('生徒(データ入力①)'!BC13=\"\",\"\",'生徒(データ入力①)'!BC13)","v":""},0,{"$error":"#DIV/0!"},null,0,{"$error":"#DIV/0!"},null,0,{"$error":"#DIV/0!"},null,0,{"$error":"#DIV/0!"},null,null,{"$error":"#DIV/0!"},{"$error":"#DIV/0!"},{"$error":"#DIV/0!"},{"$error":"#DIV/0!"}]
[null,null,{"$f":"'生徒(個人)'!B19","v":"私の学級では，私の考えを伝えたいと思える場面や機会がある。"},{"$error":"#DIV/0!"},{"$error":"#DIV/0!"},{"$error":"#DIV/0!"},{"$error":"#DIV/0!"},null,{"$f":"IF('生徒(データ入力①)'!F7=\"\",\"\",'生徒(データ入力①)'!F7)","v":""},{"$f":"IF('生徒(データ入力①)'!G7=\"\",\"\",'生徒(データ入力①)'!G7)","v":""},{"$f":"IF('生徒(データ入力①)'!H7=\"\",\"\",'生徒(データ入力①)'!H7)","v":""},{"$f":"IF('生徒(データ入力①)'!I7=\"\",\"\",'生徒(データ入力①)'!I7)","v":""},{"$f":"IF('生徒(データ入力①)'!J7=\"\",\"\",'生徒(データ入力①)'!J7)","v":""},{"$f":"IF('生徒(データ入力①)'!K7=\"\",\"\",'生徒(データ入力①)'!K7)","v":""},{"$f":"IF('生徒(データ入力①)'!L7=\"\",\"\",'生徒(データ入力①)'!L7)","v":""},{"$f":"IF('生徒(データ入力①)'!M7=\"\",\"\",'生徒(データ入力①)'!M7)","v":""},{"$f":"IF('生徒(データ入力①)'!N7=\"\",\"\",'生徒(データ入力①)'!N7)","v":""},{"$f":"IF('生徒(データ入力①)'!O7=\"\",\"\",'生徒(データ入力①)'!O7)","v":""},{"$f":"IF('生徒(データ入力①)'!P7=\"\",\"\",'生徒(データ入力①)'!P7)","v":""},{"$f":"IF('生徒(データ入力①)'!Q7=\"\",\"\",'生徒(データ入力①)'!Q7)","v":""},{"$f":"IF('生徒(データ入力①)'!R7=\"\",\"\",'生徒(データ入力①)'!R7)","v":""},{"$f":"IF('生徒(データ入力①)'!S7=\"\",\"\",'生徒(データ入力①)'!S7)","v":""},{"$f":"IF('生徒(データ入力①)'!T7=\"\",\"\",'生徒(データ入力①)'!T7)","v":""},{"$f":"IF('生徒(データ入力①)'!U7=\"\",\"\",'生徒(データ入力①)'!U7)","v":""},{"$f":"IF('生徒(データ入力①)'!V7=\"\",\"\",'生徒(データ入力①)'!V7)","v":""},{"$f":"IF('生徒(データ入力①)'!W7=\"\",\"\",'生徒(データ入力①)'!W7)","v":""},{"$f":"IF('生徒(データ入力①)'!X7=\"\",\"\",'生徒(データ入力①)'!X7)","v":""},{"$f":"IF('生徒(データ入力①)'!Y7=\"\",\"\",'生徒(データ入力①)'!Y7)","v":""},{"$f":"IF('生徒(データ入力①)'!Z7=\"\",\"\",'生徒(データ入力①)'!Z7)","v":""},{"$f":"IF('生徒(データ入力①)'!AA7=\"\",\"\",'生徒(データ入力①)'!AA7)","v":""},{"$f":"IF('生徒(データ入力①)'!AB7=\"\",\"\",'生徒(データ入力①)'!AB7)","v":""},{"$f":"IF('生徒(データ入力①)'!AC7=\"\",\"\",'生徒(データ入力①)'!AC7)","v":""},{"$f":"IF('生徒(データ入力①)'!AD7=\"\",\"\",'生徒(データ入力①)'!AD7)","v":""},{"$f":"IF('生徒(データ入力①)'!AE7=\"\",\"\",'生徒(データ入力①)'!AE7)","v":""},{"$f":"IF('生徒(データ入力①)'!AF7=\"\",\"\",'生徒(データ入力①)'!AF7)","v":""},{"$f":"IF('生徒(データ入力①)'!AG7=\"\",\"\",'生徒(データ入力①)'!AG7)","v":""},{"$f":"IF('生徒(データ入力①)'!AH7=\"\",\"\",'生徒(データ入力①)'!AH7)","v":""},{"$f":"IF('生徒(データ入力①)'!AI7=\"\",\"\",'生徒(データ入力①)'!AI7)","v":""},{"$f":"IF('生徒(データ入力①)'!AJ7=\"\",\"\",'生徒(データ入力①)'!AJ7)","v":""},{"$f":"IF('生徒(データ入力①)'!AK7=\"\",\"\",'生徒(データ入力①)'!AK7)","v":""},{"$f":"IF('生徒(データ入力①)'!AL7=\"\",\"\",'生徒(データ入力①)'!AL7)","v":""},{"$f":"IF('生徒(データ入力①)'!AM7=\"\",\"\",'生徒(データ入力①)'!AM7)","v":""},{"$f":"IF('生徒(データ入力①)'!AN7=\"\",\"\",'生徒(データ入力①)'!AN7)","v":""},{"$f":"IF('生徒(データ入力①)'!AO7=\"\",\"\",'生徒(データ入力①)'!AO7)","v":""},{"$f":"IF('生徒(データ入力①)'!AP7=\"\",\"\",'生徒(データ入力①)'!AP7)","v":""},{"$f":"IF('生徒(データ入力①)'!AQ7=\"\",\"\",'生徒(データ入力①)'!AQ7)","v":""},{"$f":"IF('生徒(データ入力①)'!AR7=\"\",\"\",'生徒(データ入力①)'!AR7)","v":""},{"$f":"IF('生徒(データ入力①)'!AS7=\"\",\"\",'生徒(データ入力①)'!AS7)","v":""},{"$f":"IF('生徒(データ入力①)'!AT7=\"\",\"\",'生徒(データ入力①)'!AT7)","v":""},{"$f":"IF('生徒(データ入力①)'!AU7=\"\",\"\",'生徒(データ入力①)'!AU7)","v":""},{"$f":"IF('生徒(データ入力①)'!AV7=\"\",\"\",'生徒(データ入力①)'!AV7)","v":""},{"$f":"IF('生徒(データ入力①)'!AW7=\"\",\"\",'生徒(データ入力①)'!AW7)","v":""},{"$f":"IF('生徒(データ入力①)'!AX7=\"\",\"\",'生徒(データ入力①)'!AX7)","v":""},{"$f":"IF('生徒(データ入力①)'!AY7=\"\",\"\",'生徒(データ入力①)'!AY7)","v":""},{"$f":"IF('生徒(データ入力①)'!AZ7=\"\",\"\",'生徒(データ入力①)'!AZ7)","v":""},{"$f":"IF('生徒(データ入力①)'!BA7=\"\",\"\",'生徒(データ入力①)'!BA7)","v":""},{"$f":"IF('生徒(データ入力①)'!BB7=\"\",\"\",'生徒(データ入力①)'!BB7)","v":""},{"$f":"IF('生徒(データ入力①)'!BC7=\"\",\"\",'生徒(データ入力①)'!BC7)","v":""},0,{"$error":"#DIV/0!"},null,0,{"$error":"#DIV/0!"},null,0,{"$error":"#DIV/0!"},null,0,{"$error":"#DIV/0!"},null,null,{"$error":"#DIV/0!"},{"$error":"#DIV/0!"},{"$error":"#DIV/0!"},{"$error":"#DIV/0!"}]
[null,null,{"$f":"'生徒(個人)'!B20","v":"私の学級では，自分一人で考える場面で，必要な情報が示されている。"},{"$error":"#DIV/0!"},{"$error":"#DIV/0!"},{"$error":"#DIV/0!"},{"$error":"#DIV/0!"},null,{"$f":"IF('生徒(データ入力①)'!F16=\"\",\"\",'生徒(データ入力①)'!F16)","v":""},{"$f":"IF('生徒(データ入力①)'!G16=\"\",\"\",'生徒(データ入力①)'!G16)","v":""},{"$f":"IF('生徒(データ入力①)'!H16=\"\",\"\",'生徒(データ入力①)'!H16)","v":""},{"$f":"IF('生徒(データ入力①)'!I16=\"\",\"\",'生徒(データ入力①)'!I16)","v":""},{"$f":"IF('生徒(データ入力①)'!J16=\"\",\"\",'生徒(データ入力①)'!J16)","v":""},{"$f":"IF('生徒(データ入力①)'!K16=\"\",\"\",'生徒(データ入力①)'!K16)","v":""},{"$f":"IF('生徒(データ入力①)'!L16=\"\",\"\",'生徒(データ入力①)'!L16)","v":""},{"$f":"IF('生徒(データ入力①)'!M16=\"\",\"\",'生徒(データ入力①)'!M16)","v":""},{"$f":"IF('生徒(データ入力①)'!N16=\"\",\"\",'生徒(データ入力①)'!N16)","v":""},{"$f":"IF('生徒(データ入力①)'!O16=\"\",\"\",'生徒(データ入力①)'!O16)","v":""},{"$f":"IF('生徒(データ入力①)'!P16=\"\",\"\",'生徒(データ入力①)'!P16)","v":""},{"$f":"IF('生徒(データ入力①)'!Q16=\"\",\"\",'生徒(データ入力①)'!Q16)","v":""},{"$f":"IF('生徒(データ入力①)'!R16=\"\",\"\",'生徒(データ入力①)'!R16)","v":""},{"$f":"IF('生徒(データ入力①)'!S16=\"\",\"\",'生徒(データ入力①)'!S16)","v":""},{"$f":"IF('生徒(データ入力①)'!T16=\"\",\"\",'生徒(データ入力①)'!T16)","v":""},{"$f":"IF('生徒(データ入力①)'!U16=\"\",\"\",'生徒(データ入力①)'!U16)","v":""},{"$f":"IF('生徒(データ入力①)'!V16=\"\",\"\",'生徒(データ入力①)'!V16)","v":""},{"$f":"IF('生徒(データ入力①)'!W16=\"\",\"\",'生徒(データ入力①)'!W16)","v":""},{"$f":"IF('生徒(データ入力①)'!X16=\"\",\"\",'生徒(データ入力①)'!X16)","v":""},{"$f":"IF('生徒(データ入力①)'!Y16=\"\",\"\",'生徒(データ入力①)'!Y16)","v":""},{"$f":"IF('生徒(データ入力①)'!Z16=\"\",\"\",'生徒(データ入力①)'!Z16)","v":""},{"$f":"IF('生徒(データ入力①)'!AA16=\"\",\"\",'生徒(データ入力①)'!AA16)","v":""},{"$f":"IF('生徒(データ入力①)'!AB16=\"\",\"\",'生徒(データ入力①)'!AB16)","v":""},{"$f":"IF('生徒(データ入力①)'!AC16=\"\",\"\",'生徒(データ入力①)'!AC16)","v":""},{"$f":"IF('生徒(データ入力①)'!AD16=\"\",\"\",'生徒(データ入力①)'!AD16)","v":""},{"$f":"IF('生徒(データ入力①)'!AE16=\"\",\"\",'生徒(データ入力①)'!AE16)","v":""},{"$f":"IF('生徒(データ入力①)'!AF16=\"\",\"\",'生徒(データ入力①)'!AF16)","v":""},{"$f":"IF('生徒(データ入力①)'!AG16=\"\",\"\",'生徒(データ入力①)'!AG16)","v":""},{"$f":"IF('生徒(データ入力①)'!AH16=\"\",\"\",'生徒(データ入力①)'!AH16)","v":""},{"$f":"IF('生徒(データ入力①)'!AI16=\"\",\"\",'生徒(データ入力①)'!AI16)","v":""},{"$f":"IF('生徒(データ入力①)'!AJ16=\"\",\"\",'生徒(データ入力①)'!AJ16)","v":""},{"$f":"IF('生徒(データ入力①)'!AK16=\"\",\"\",'生徒(データ入力①)'!AK16)","v":""},{"$f":"IF('生徒(データ入力①)'!AL16=\"\",\"\",'生徒(データ入力①)'!AL16)","v":""},{"$f":"IF('生徒(データ入力①)'!AM16=\"\",\"\",'生徒(データ入力①)'!AM16)","v":""},{"$f":"IF('生徒(データ入力①)'!AN16=\"\",\"\",'生徒(データ入力①)'!AN16)","v":""},{"$f":"IF('生徒(データ入力①)'!AO16=\"\",\"\",'生徒(データ入力①)'!AO16)","v":""},{"$f":"IF('生徒(データ入力①)'!AP16=\"\",\"\",'生徒(データ入力①)'!AP16)","v":""},{"$f":"IF('生徒(データ入力①)'!AQ16=\"\",\"\",'生徒(データ入力①)'!AQ16)","v":""},{"$f":"IF('生徒(データ入力①)'!AR16=\"\",\"\",'生徒(データ入力①)'!AR16)","v":""},{"$f":"IF('生徒(データ入力①)'!AS16=\"\",\"\",'生徒(データ入力①)'!AS16)","v":""},{"$f":"IF('生徒(データ入力①)'!AT16=\"\",\"\",'生徒(データ入力①)'!AT16)","v":""},{"$f":"IF('生徒(データ入力①)'!AU16=\"\",\"\",'生徒(データ入力①)'!AU16)","v":""},{"$f":"IF('生徒(データ入力①)'!AV16=\"\",\"\",'生徒(データ入力①)'!AV16)","v":""},{"$f":"IF('生徒(データ入力①)'!AW16=\"\",\"\",'生徒(データ入力①)'!AW16)","v":""},{"$f":"IF('生徒(データ入力①)'!AX16=\"\",\"\",'生徒(データ入力①)'!AX16)","v":""},{"$f":"IF('生徒(データ入力①)'!AY16=\"\",\"\",'生徒(データ入力①)'!AY16)","v":""},{"$f":"IF('生徒(データ入力①)'!AZ16=\"\",\"\",'生徒(データ入力①)'!AZ16)","v":""},{"$f":"IF('生徒(データ入力①)'!BA16=\"\",\"\",'生徒(データ入力①)'!BA16)","v":""},{"$f":"IF('生徒(データ入力①)'!BB16=\"\",\"\",'生徒(データ入力①)'!BB16)","v":""},{"$f":"IF('生徒(データ入力①)'!BC16=\"\",\"\",'生徒(データ入力①)'!BC16)","v":""},0,{"$error":"#DIV/0!"},null,0,{"$error":"#DIV/0!"},null,0,{"$error":"#DIV/0!"},null,0,{"$error":"#DIV/0!"},null,null,{"$error":"#DIV/0!"},{"$error":"#DIV/0!"},{"$error":"#DIV/0!"},{"$error":"#DIV/0!"}]
[null,"ルールが守られ他者から傷つけられないという安心感",{"$f":"'生徒(個人)'!B21","v":"私の学級では，係活動や清掃など，みんなが自分の役割に責任を持って取り組んでいる。"},{"$error":"#DIV/0!"},{"$error":"#DIV/0!"},{"$error":"#DIV/0!"},{"$error":"#DIV/0!"},null,{"$f":"IF('生徒(データ入力①)'!F14=\"\",\"\",'生徒(データ入力①)'!F14)","v":""},{"$f":"IF('生徒(データ入力①)'!G14=\"\",\"\",'生徒(データ入力①)'!G14)","v":""},{"$f":"IF('生徒(データ入力①)'!H14=\"\",\"\",'生徒(データ入力①)'!H14)","v":""},{"$f":"IF('生徒(データ入力①)'!I14=\"\",\"\",'生徒(データ入力①)'!I14)","v":""},{"$f":"IF('生徒(データ入力①)'!J14=\"\",\"\",'生徒(データ入力①)'!J14)","v":""},{"$f":"IF('生徒(データ入力①)'!K14=\"\",\"\",'生徒(データ入力①)'!K14)","v":""},{"$f":"IF('生徒(データ入力①)'!L14=\"\",\"\",'生徒(データ入力①)'!L14)","v":""},{"$f":"IF('生徒(データ入力①)'!M14=\"\",\"\",'生徒(データ入力①)'!M14)","v":""},{"$f":"IF('生徒(データ入力①)'!N14=\"\",\"\",'生徒(データ入力①)'!N14)","v":""},{"$f":"IF('生徒(データ入力①)'!O14=\"\",\"\",'生徒(データ入力①)'!O14)","v":""},{"$f":"IF('生徒(データ入力①)'!P14=\"\",\"\",'生徒(データ入力①)'!P14)","v":""},{"$f":"IF('生徒(データ入力①)'!Q14=\"\",\"\",'生徒(データ入力①)'!Q14)","v":""},{"$f":"IF('生徒(データ入力①)'!R14=\"\",\"\",'生徒(データ入力①)'!R14)","v":""},{"$f":"IF('生徒(データ入力①)'!S14=\"\",\"\",'生徒(データ入力①)'!S14)","v":""},{"$f":"IF('生徒(データ入力①)'!T14=\"\",\"\",'生徒(データ入力①)'!T14)","v":""},{"$f":"IF('生徒(データ入力①)'!U14=\"\",\"\",'生徒(データ入力①)'!U14)","v":""},{"$f":"IF('生徒(データ入力①)'!V14=\"\",\"\",'生徒(データ入力①)'!V14)","v":""},{"$f":"IF('生徒(データ入力①)'!W14=\"\",\"\",'生徒(データ入力①)'!W14)","v":""},{"$f":"IF('生徒(データ入力①)'!X14=\"\",\"\",'生徒(データ入力①)'!X14)","v":""},{"$f":"IF('生徒(データ入力①)'!Y14=\"\",\"\",'生徒(データ入力①)'!Y14)","v":""},{"$f":"IF('生徒(データ入力①)'!Z14=\"\",\"\",'生徒(データ入力①)'!Z14)","v":""},{"$f":"IF('生徒(データ入力①)'!AA14=\"\",\"\",'生徒(データ入力①)'!AA14)","v":""},{"$f":"IF('生徒(データ入力①)'!AB14=\"\",\"\",'生徒(データ入力①)'!AB14)","v":""},{"$f":"IF('生徒(データ入力①)'!AC14=\"\",\"\",'生徒(データ入力①)'!AC14)","v":""},{"$f":"IF('生徒(データ入力①)'!AD14=\"\",\"\",'生徒(データ入力①)'!AD14)","v":""},{"$f":"IF('生徒(データ入力①)'!AE14=\"\",\"\",'生徒(データ入力①)'!AE14)","v":""},{"$f":"IF('生徒(データ入力①)'!AF14=\"\",\"\",'生徒(データ入力①)'!AF14)","v":""},{"$f":"IF('生徒(データ入力①)'!AG14=\"\",\"\",'生徒(データ入力①)'!AG14)","v":""},{"$f":"IF('生徒(データ入力①)'!AH14=\"\",\"\",'生徒(データ入力①)'!AH14)","v":""},{"$f":"IF('生徒(データ入力①)'!AI14=\"\",\"\",'生徒(データ入力①)'!AI14)","v":""},{"$f":"IF('生徒(データ入力①)'!AJ14=\"\",\"\",'生徒(データ入力①)'!AJ14)","v":""},{"$f":"IF('生徒(データ入力①)'!AK14=\"\",\"\",'生徒(データ入力①)'!AK14)","v":""},{"$f":"IF('生徒(データ入力①)'!AL14=\"\",\"\",'生徒(データ入力①)'!AL14)","v":""},{"$f":"IF('生徒(データ入力①)'!AM14=\"\",\"\",'生徒(データ入力①)'!AM14)","v":""},{"$f":"IF('生徒(データ入力①)'!AN14=\"\",\"\",'生徒(データ入力①)'!AN14)","v":""},{"$f":"IF('生徒(データ入力①)'!AO14=\"\",\"\",'生徒(データ入力①)'!AO14)","v":""},{"$f":"IF('生徒(データ入力①)'!AP14=\"\",\"\",'生徒(データ入力①)'!AP14)","v":""},{"$f":"IF('生徒(データ入力①)'!AQ14=\"\",\"\",'生徒(データ入力①)'!AQ14)","v":""},{"$f":"IF('生徒(データ入力①)'!AR14=\"\",\"\",'生徒(データ入力①)'!AR14)","v":""},{"$f":"IF('生徒(データ入力①)'!AS14=\"\",\"\",'生徒(データ入力①)'!AS14)","v":""},{"$f":"IF('生徒(データ入力①)'!AT14=\"\",\"\",'生徒(データ入力①)'!AT14)","v":""},{"$f":"IF('生徒(データ入力①)'!AU14=\"\",\"\",'生徒(データ入力①)'!AU14)","v":""},{"$f":"IF('生徒(データ入力①)'!AV14=\"\",\"\",'生徒(データ入力①)'!AV14)","v":""},{"$f":"IF('生徒(データ入力①)'!AW14=\"\",\"\",'生徒(データ入力①)'!AW14)","v":""},{"$f":"IF('生徒(データ入力①)'!AX14=\"\",\"\",'生徒(データ入力①)'!AX14)","v":""},{"$f":"IF('生徒(データ入力①)'!AY14=\"\",\"\",'生徒(データ入力①)'!AY14)","v":""},{"$f":"IF('生徒(データ入力①)'!AZ14=\"\",\"\",'生徒(データ入力①)'!AZ14)","v":""},{"$f":"IF('生徒(データ入力①)'!BA14=\"\",\"\",'生徒(データ入力①)'!BA14)","v":""},{"$f":"IF('生徒(データ入力①)'!BB14=\"\",\"\",'生徒(データ入力①)'!BB14)","v":""},{"$f":"IF('生徒(データ入力①)'!BC14=\"\",\"\",'生徒(データ入力①)'!BC14)","v":""},0,{"$error":"#DIV/0!"},null,0,{"$error":"#DIV/0!"},null,0,{"$error":"#DIV/0!"},null,0,{"$error":"#DIV/0!"},null,null,{"$error":"#DIV/0!"},{"$error":"#DIV/0!"},{"$error":"#DIV/0!"},{"$error":"#DIV/0!"}]
[null,null,{"$f":"'生徒(個人)'!B22","v":"私の学級には，友達の間違いや失敗を冷やかしたり，からかったりしない雰囲気がある。"},{"$error":"#DIV/0!"},{"$error":"#DIV/0!"},{"$error":"#DIV/0!"},{"$error":"#DIV/0!"},null,{"$f":"IF('生徒(データ入力①)'!F8=\"\",\"\",'生徒(データ入力①)'!F8)","v":""},{"$f":"IF('生徒(データ入力①)'!G8=\"\",\"\",'生徒(データ入力①)'!G8)","v":""},{"$f":"IF('生徒(データ入力①)'!H8=\"\",\"\",'生徒(データ入力①)'!H8)","v":""},{"$f":"IF('生徒(データ入力①)'!I8=\"\",\"\",'生徒(データ入力①)'!I8)","v":""},{"$f":"IF('生徒(データ入力①)'!J8=\"\",\"\",'生徒(データ入力①)'!J8)","v":""},{"$f":"IF('生徒(データ入力①)'!K8=\"\",\"\",'生徒(データ入力①)'!K8)","v":""},{"$f":"IF('生徒(データ入力①)'!L8=\"\",\"\",'生徒(データ入力①)'!L8)","v":""},{"$f":"IF('生徒(データ入力①)'!M8=\"\",\"\",'生徒(データ入力①)'!M8)","v":""},{"$f":"IF('生徒(データ入力①)'!N8=\"\",\"\",'生徒(データ入力①)'!N8)","v":""},{"$f":"IF('生徒(データ入力①)'!O8=\"\",\"\",'生徒(データ入力①)'!O8)","v":""},{"$f":"IF('生徒(データ入力①)'!P8=\"\",\"\",'生徒(データ入力①)'!P8)","v":""},{"$f":"IF('生徒(データ入力①)'!Q8=\"\",\"\",'生徒(データ入力①)'!Q8)","v":""},{"$f":"IF('生徒(データ入力①)'!R8=\"\",\"\",'生徒(データ入力①)'!R8)","v":""},{"$f":"IF('生徒(データ入力①)'!S8=\"\",\"\",'生徒(データ入力①)'!S8)","v":""},{"$f":"IF('生徒(データ入力①)'!T8=\"\",\"\",'生徒(データ入力①)'!T8)","v":""},{"$f":"IF('生徒(データ入力①)'!U8=\"\",\"\",'生徒(データ入力①)'!U8)","v":""},{"$f":"IF('生徒(データ入力①)'!V8=\"\",\"\",'生徒(データ入力①)'!V8)","v":""},{"$f":"IF('生徒(データ入力①)'!W8=\"\",\"\",'生徒(データ入力①)'!W8)","v":""},{"$f":"IF('生徒(データ入力①)'!X8=\"\",\"\",'生徒(データ入力①)'!X8)","v":""},{"$f":"IF('生徒(データ入力①)'!Y8=\"\",\"\",'生徒(データ入力①)'!Y8)","v":""},{"$f":"IF('生徒(データ入力①)'!Z8=\"\",\"\",'生徒(データ入力①)'!Z8)","v":""},{"$f":"IF('生徒(データ入力①)'!AA8=\"\",\"\",'生徒(データ入力①)'!AA8)","v":""},{"$f":"IF('生徒(データ入力①)'!AB8=\"\",\"\",'生徒(データ入力①)'!AB8)","v":""},{"$f":"IF('生徒(データ入力①)'!AC8=\"\",\"\",'生徒(データ入力①)'!AC8)","v":""},{"$f":"IF('生徒(データ入力①)'!AD8=\"\",\"\",'生徒(データ入力①)'!AD8)","v":""},{"$f":"IF('生徒(データ入力①)'!AE8=\"\",\"\",'生徒(データ入力①)'!AE8)","v":""},{"$f":"IF('生徒(データ入力①)'!AF8=\"\",\"\",'生徒(データ入力①)'!AF8)","v":""},{"$f":"IF('生徒(データ入力①)'!AG8=\"\",\"\",'生徒(データ入力①)'!AG8)","v":""},{"$f":"IF('生徒(データ入力①)'!AH8=\"\",\"\",'生徒(データ入力①)'!AH8)","v":""},{"$f":"IF('生徒(データ入力①)'!AI8=\"\",\"\",'生徒(データ入力①)'!AI8)","v":""},{"$f":"IF('生徒(データ入力①)'!AJ8=\"\",\"\",'生徒(データ入力①)'!AJ8)","v":""},{"$f":"IF('生徒(データ入力①)'!AK8=\"\",\"\",'生徒(データ入力①)'!AK8)","v":""},{"$f":"IF('生徒(データ入力①)'!AL8=\"\",\"\",'生徒(データ入力①)'!AL8)","v":""},{"$f":"IF('生徒(データ入力①)'!AM8=\"\",\"\",'生徒(データ入力①)'!AM8)","v":""},{"$f":"IF('生徒(データ入力①)'!AN8=\"\",\"\",'生徒(データ入力①)'!AN8)","v":""},{"$f":"IF('生徒(データ入力①)'!AO8=\"\",\"\",'生徒(データ入力①)'!AO8)","v":""},{"$f":"IF('生徒(データ入力①)'!AP8=\"\",\"\",'生徒(データ入力①)'!AP8)","v":""},{"$f":"IF('生徒(データ入力①)'!AQ8=\"\",\"\",'生徒(データ入力①)'!AQ8)","v":""},{"$f":"IF('生徒(データ入力①)'!AR8=\"\",\"\",'生徒(データ入力①)'!AR8)","v":""},{"$f":"IF('生徒(データ入力①)'!AS8=\"\",\"\",'生徒(データ入力①)'!AS8)","v":""},{"$f":"IF('生徒(データ入力①)'!AT8=\"\",\"\",'生徒(データ入力①)'!AT8)","v":""},{"$f":"IF('生徒(データ入力①)'!AU8=\"\",\"\",'生徒(データ入力①)'!AU8)","v":""},{"$f":"IF('生徒(データ入力①)'!AV8=\"\",\"\",'生徒(データ入力①)'!AV8)","v":""},{"$f":"IF('生徒(データ入力①)'!AW8=\"\",\"\",'生徒(データ入力①)'!AW8)","v":""},{"$f":"IF('生徒(データ入力①)'!AX8=\"\",\"\",'生徒(データ入力①)'!AX8)","v":""},{"$f":"IF('生徒(データ入力①)'!AY8=\"\",\"\",'生徒(データ入力①)'!AY8)","v":""},{"$f":"IF('生徒(データ入力①)'!AZ8=\"\",\"\",'生徒(データ入力①)'!AZ8)","v":""},{"$f":"IF('生徒(データ入力①)'!BA8=\"\",\"\",'生徒(データ入力①)'!BA8)","v":""},{"$f":"IF('生徒(データ入力①)'!BB8=\"\",\"\",'生徒(データ入力①)'!BB8)","v":""},{"$f":"IF('生徒(データ入力①)'!BC8=\"\",\"\",'生徒(データ入力①)'!BC8)","v":""},0,{"$error":"#DIV/0!"},null,0,{"$error":"#DIV/0!"},null,0,{"$error":"#DIV/0!"},null,0,{"$error":"#DIV/0!"},null,null,{"$error":"#DIV/0!"},{"$error":"#DIV/0!"},{"$error":"#DIV/0!"},{"$error":"#DIV/0!"}]
[null,null,{"$f":"'生徒(個人)'!B23","v":"私の学級には，周りの迷惑になる言動をしてはいけない雰囲気がある。"},{"$error":"#DIV/0!"},{"$error":"#DIV/0!"},{"$error":"#DIV/0!"},{"$error":"#DIV/0!"},null,{"$f":"IF('生徒(データ入力①)'!F15=\"\",\"\",'生徒(データ入力①)'!F15)","v":""},{"$f":"IF('生徒(データ入力①)'!G15=\"\",\"\",'生徒(データ入力①)'!G15)","v":""},{"$f":"IF('生徒(データ入力①)'!H15=\"\",\"\",'生徒(データ入力①)'!H15)","v":""},{"$f":"IF('生徒(データ入力①)'!I15=\"\",\"\",'生徒(データ入力①)'!I15)","v":""},{"$f":"IF('生徒(データ入力①)'!J15=\"\",\"\",'生徒(データ入力①)'!J15)","v":""},{"$f":"IF('生徒(データ入力①)'!K15=\"\",\"\",'生徒(データ入力①)'!K15)","v":""},{"$f":"IF('生徒(データ入力①)'!L15=\"\",\"\",'生徒(データ入力①)'!L15)","v":""},{"$f":"IF('生徒(データ入力①)'!M15=\"\",\"\",'生徒(データ入力①)'!M15)","v":""},{"$f":"IF('生徒(データ入力①)'!N15=\"\",\"\",'生徒(データ入力①)'!N15)","v":""},{"$f":"IF('生徒(データ入力①)'!O15=\"\",\"\",'生徒(データ入力①)'!O15)","v":""},{"$f":"IF('生徒(データ入力①)'!P15=\"\",\"\",'生徒(データ入力①)'!P15)","v":""},{"$f":"IF('生徒(データ入力①)'!Q15=\"\",\"\",'生徒(データ入力①)'!Q15)","v":""},{"$f":"IF('生徒(データ入力①)'!R15=\"\",\"\",'生徒(データ入力①)'!R15)","v":""},{"$f":"IF('生徒(データ入力①)'!S15=\"\",\"\",'生徒(データ入力①)'!S15)","v":""},{"$f":"IF('生徒(データ入力①)'!T15=\"\",\"\",'生徒(データ入力①)'!T15)","v":""},{"$f":"IF('生徒(データ入力①)'!U15=\"\",\"\",'生徒(データ入力①)'!U15)","v":""},{"$f":"IF('生徒(データ入力①)'!V15=\"\",\"\",'生徒(データ入力①)'!V15)","v":""},{"$f":"IF('生徒(データ入力①)'!W15=\"\",\"\",'生徒(データ入力①)'!W15)","v":""},{"$f":"IF('生徒(データ入力①)'!X15=\"\",\"\",'生徒(データ入力①)'!X15)","v":""},{"$f":"IF('生徒(データ入力①)'!Y15=\"\",\"\",'生徒(データ入力①)'!Y15)","v":""},{"$f":"IF('生徒(データ入力①)'!Z15=\"\",\"\",'生徒(データ入力①)'!Z15)","v":""},{"$f":"IF('生徒(データ入力①)'!AA15=\"\",\"\",'生徒(データ入力①)'!AA15)","v":""},{"$f":"IF('生徒(データ入力①)'!AB15=\"\",\"\",'生徒(データ入力①)'!AB15)","v":""},{"$f":"IF('生徒(データ入力①)'!AC15=\"\",\"\",'生徒(データ入力①)'!AC15)","v":""},{"$f":"IF('生徒(データ入力①)'!AD15=\"\",\"\",'生徒(データ入力①)'!AD15)","v":""},{"$f":"IF('生徒(データ入力①)'!AE15=\"\",\"\",'生徒(データ入力①)'!AE15)","v":""},{"$f":"IF('生徒(データ入力①)'!AF15=\"\",\"\",'生徒(データ入力①)'!AF15)","v":""},{"$f":"IF('生徒(データ入力①)'!AG15=\"\",\"\",'生徒(データ入力①)'!AG15)","v":""},{"$f":"IF('生徒(データ入力①)'!AH15=\"\",\"\",'生徒(データ入力①)'!AH15)","v":""},{"$f":"IF('生徒(データ入力①)'!AI15=\"\",\"\",'生徒(データ入力①)'!AI15)","v":""},{"$f":"IF('生徒(データ入力①)'!AJ15=\"\",\"\",'生徒(データ入力①)'!AJ15)","v":""},{"$f":"IF('生徒(データ入力①)'!AK15=\"\",\"\",'生徒(データ入力①)'!AK15)","v":""},{"$f":"IF('生徒(データ入力①)'!AL15=\"\",\"\",'生徒(データ入力①)'!AL15)","v":""},{"$f":"IF('生徒(データ入力①)'!AM15=\"\",\"\",'生徒(データ入力①)'!AM15)","v":""},{"$f":"IF('生徒(データ入力①)'!AN15=\"\",\"\",'生徒(データ入力①)'!AN15)","v":""},{"$f":"IF('生徒(データ入力①)'!AO15=\"\",\"\",'生徒(データ入力①)'!AO15)","v":""},{"$f":"IF('生徒(データ入力①)'!AP15=\"\",\"\",'生徒(データ入力①)'!AP15)","v":""},{"$f":"IF('生徒(データ入力①)'!AQ15=\"\",\"\",'生徒(データ入力①)'!AQ15)","v":""},{"$f":"IF('生徒(データ入力①)'!AR15=\"\",\"\",'生徒(データ入力①)'!AR15)","v":""},{"$f":"IF('生徒(データ入力①)'!AS15=\"\",\"\",'生徒(データ入力①)'!AS15)","v":""},{"$f":"IF('生徒(データ入力①)'!AT15=\"\",\"\",'生徒(データ入力①)'!AT15)","v":""},{"$f":"IF('生徒(データ入力①)'!AU15=\"\",\"\",'生徒(データ入力①)'!AU15)","v":""},{"$f":"IF('生徒(データ入力①)'!AV15=\"\",\"\",'生徒(データ入力①)'!AV15)","v":""},{"$f":"IF('生徒(データ入力①)'!AW15=\"\",\"\",'生徒(データ入力①)'!AW15)","v":""},{"$f":"IF('生徒(データ入力①)'!AX15=\"\",\"\",'生徒(データ入力①)'!AX15)","v":""},{"$f":"IF('生徒(データ入力①)'!AY15=\"\",\"\",'生徒(データ入力①)'!AY15)","v":""},{"$f":"IF('生徒(データ入力①)'!AZ15=\"\",\"\",'生徒(データ入力①)'!AZ15)","v":""},{"$f":"IF('生徒(データ入力①)'!BA15=\"\",\"\",'生徒(データ入力①)'!BA15)","v":""},{"$f":"IF('生徒(データ入力①)'!BB15=\"\",\"\",'生徒(データ入力①)'!BB15)","v":""},{"$f":"IF('生徒(データ入力①)'!BC15=\"\",\"\",'生徒(データ入力①)'!BC15)","v":""},0,{"$error":"#DIV/0!"},null,0,{"$error":"#DIV/0!"},null,0,{"$error":"#DIV/0!"},null,0,{"$error":"#DIV/0!"},null,null,{"$error":"#DIV/0!"},{"$error":"#DIV/0!"},{"$error":"#DIV/0!"},{"$error":"#DIV/0!"}]
[null,null,{"$f":"'生徒(個人)'!B24","v":"私の学級では，みんなが活動の始まりと終わりの時間を守っている。"},{"$error":"#DIV/0!"},{"$error":"#DIV/0!"},{"$error":"#DIV/0!"},{"$error":"#DIV/0!"},null,{"$f":"IF('生徒(データ入力①)'!F23=\"\",\"\",'生徒(データ入力①)'!F23)","v":""},{"$f":"IF('生徒(データ入力①)'!G23=\"\",\"\",'生徒(データ入力①)'!G23)","v":""},{"$f":"IF('生徒(データ入力①)'!H23=\"\",\"\",'生徒(データ入力①)'!H23)","v":""},{"$f":"IF('生徒(データ入力①)'!I23=\"\",\"\",'生徒(データ入力①)'!I23)","v":""},{"$f":"IF('生徒(データ入力①)'!J23=\"\",\"\",'生徒(データ入力①)'!J23)","v":""},{"$f":"IF('生徒(データ入力①)'!K23=\"\",\"\",'生徒(データ入力①)'!K23)","v":""},{"$f":"IF('生徒(データ入力①)'!L23=\"\",\"\",'生徒(データ入力①)'!L23)","v":""},{"$f":"IF('生徒(データ入力①)'!M23=\"\",\"\",'生徒(データ入力①)'!M23)","v":""},{"$f":"IF('生徒(データ入力①)'!N23=\"\",\"\",'生徒(データ入力①)'!N23)","v":""},{"$f":"IF('生徒(データ入力①)'!O23=\"\",\"\",'生徒(データ入力①)'!O23)","v":""},{"$f":"IF('生徒(データ入力①)'!P23=\"\",\"\",'生徒(データ入力①)'!P23)","v":""},{"$f":"IF('生徒(データ入力①)'!Q23=\"\",\"\",'生徒(データ入力①)'!Q23)","v":""},{"$f":"IF('生徒(データ入力①)'!R23=\"\",\"\",'生徒(データ入力①)'!R23)","v":""},{"$f":"IF('生徒(データ入力①)'!S23=\"\",\"\",'生徒(データ入力①)'!S23)","v":""},{"$f":"IF('生徒(データ入力①)'!T23=\"\",\"\",'生徒(データ入力①)'!T23)","v":""},{"$f":"IF('生徒(データ入力①)'!U23=\"\",\"\",'生徒(データ入力①)'!U23)","v":""},{"$f":"IF('生徒(データ入力①)'!V23=\"\",\"\",'生徒(データ入力①)'!V23)","v":""},{"$f":"IF('生徒(データ入力①)'!W23=\"\",\"\",'生徒(データ入力①)'!W23)","v":""},{"$f":"IF('生徒(データ入力①)'!X23=\"\",\"\",'生徒(データ入力①)'!X23)","v":""},{"$f":"IF('生徒(データ入力①)'!Y23=\"\",\"\",'生徒(データ入力①)'!Y23)","v":""},{"$f":"IF('生徒(データ入力①)'!Z23=\"\",\"\",'生徒(データ入力①)'!Z23)","v":""},{"$f":"IF('生徒(データ入力①)'!AA23=\"\",\"\",'生徒(データ入力①)'!AA23)","v":""},{"$f":"IF('生徒(データ入力①)'!AB23=\"\",\"\",'生徒(データ入力①)'!AB23)","v":""},{"$f":"IF('生徒(データ入力①)'!AC23=\"\",\"\",'生徒(データ入力①)'!AC23)","v":""},{"$f":"IF('生徒(データ入力①)'!AD23=\"\",\"\",'生徒(データ入力①)'!AD23)","v":""},{"$f":"IF('生徒(データ入力①)'!AE23=\"\",\"\",'生徒(データ入力①)'!AE23)","v":""},{"$f":"IF('生徒(データ入力①)'!AF23=\"\",\"\",'生徒(データ入力①)'!AF23)","v":""},{"$f":"IF('生徒(データ入力①)'!AG23=\"\",\"\",'生徒(データ入力①)'!AG23)","v":""},{"$f":"IF('生徒(データ入力①)'!AH23=\"\",\"\",'生徒(データ入力①)'!AH23)","v":""},{"$f":"IF('生徒(データ入力①)'!AI23=\"\",\"\",'生徒(データ入力①)'!AI23)","v":""},{"$f":"IF('生徒(データ入力①)'!AJ23=\"\",\"\",'生徒(データ入力①)'!AJ23)","v":""},{"$f":"IF('生徒(データ入力①)'!AK23=\"\",\"\",'生徒(データ入力①)'!AK23)","v":""},{"$f":"IF('生徒(データ入力①)'!AL23=\"\",\"\",'生徒(データ入力①)'!AL23)","v":""},{"$f":"IF('生徒(データ入力①)'!AM23=\"\",\"\",'生徒(データ入力①)'!AM23)","v":""},{"$f":"IF('生徒(データ入力①)'!AN23=\"\",\"\",'生徒(データ入力①)'!AN23)","v":""},{"$f":"IF('生徒(データ入力①)'!AO23=\"\",\"\",'生徒(データ入力①)'!AO23)","v":""},{"$f":"IF('生徒(データ入力①)'!AP23=\"\",\"\",'生徒(データ入力①)'!AP23)","v":""},{"$f":"IF('生徒(データ入力①)'!AQ23=\"\",\"\",'生徒(データ入力①)'!AQ23)","v":""},{"$f":"IF('生徒(データ入力①)'!AR23=\"\",\"\",'生徒(データ入力①)'!AR23)","v":""},{"$f":"IF('生徒(データ入力①)'!AS23=\"\",\"\",'生徒(データ入力①)'!AS23)","v":""},{"$f":"IF('生徒(データ入力①)'!AT23=\"\",\"\",'生徒(データ入力①)'!AT23)","v":""},{"$f":"IF('生徒(データ入力①)'!AU23=\"\",\"\",'生徒(データ入力①)'!AU23)","v":""},{"$f":"IF('生徒(データ入力①)'!AV23=\"\",\"\",'生徒(データ入力①)'!AV23)","v":""},{"$f":"IF('生徒(データ入力①)'!AW23=\"\",\"\",'生徒(データ入力①)'!AW23)","v":""},{"$f":"IF('生徒(データ入力①)'!AX23=\"\",\"\",'生徒(データ入力①)'!AX23)","v":""},{"$f":"IF('生徒(データ入力①)'!AY23=\"\",\"\",'生徒(データ入力①)'!AY23)","v":""},{"$f":"IF('生徒(データ入力①)'!AZ23=\"\",\"\",'生徒(データ入力①)'!AZ23)","v":""},{"$f":"IF('生徒(データ入力①)'!BA23=\"\",\"\",'生徒(データ入力①)'!BA23)","v":""},{"$f":"IF('生徒(データ入力①)'!BB23=\"\",\"\",'生徒(データ入力①)'!BB23)","v":""},{"$f":"IF('生徒(データ入力①)'!BC23=\"\",\"\",'生徒(データ入力①)'!BC23)","v":""},0,{"$error":"#DIV/0!"},null,0,{"$error":"#DIV/0!"},null,0,{"$error":"#DIV/0!"},null,0,{"$error":"#DIV/0!"},null,null,{"$error":"#DIV/0!"},{"$error":"#DIV/0!"},{"$error":"#DIV/0!"},{"$error":"#DIV/0!"}]
[null,null,{"$f":"'生徒(個人)'!B25","v":"私の学級では，人の心や体を傷つける言葉や行為を許さない雰囲気がある。"},{"$error":"#DIV/0!"},{"$error":"#DIV/0!"},{"$error":"#DIV/0!"},{"$error":"#DIV/0!"},null,{"$f":"IF('生徒(データ入力①)'!F11=\"\",\"\",'生徒(データ入力①)'!F11)","v":""},{"$f":"IF('生徒(データ入力①)'!G11=\"\",\"\",'生徒(データ入力①)'!G11)","v":""},{"$f":"IF('生徒(データ入力①)'!H11=\"\",\"\",'生徒(データ入力①)'!H11)","v":""},{"$f":"IF('生徒(データ入力①)'!I11=\"\",\"\",'生徒(データ入力①)'!I11)","v":""},{"$f":"IF('生徒(データ入力①)'!J11=\"\",\"\",'生徒(データ入力①)'!J11)","v":""},{"$f":"IF('生徒(データ入力①)'!K11=\"\",\"\",'生徒(データ入力①)'!K11)","v":""},{"$f":"IF('生徒(データ入力①)'!L11=\"\",\"\",'生徒(データ入力①)'!L11)","v":""},{"$f":"IF('生徒(データ入力①)'!M11=\"\",\"\",'生徒(データ入力①)'!M11)","v":""},{"$f":"IF('生徒(データ入力①)'!N11=\"\",\"\",'生徒(データ入力①)'!N11)","v":""},{"$f":"IF('生徒(データ入力①)'!O11=\"\",\"\",'生徒(データ入力①)'!O11)","v":""},{"$f":"IF('生徒(データ入力①)'!P11=\"\",\"\",'生徒(データ入力①)'!P11)","v":""},{"$f":"IF('生徒(データ入力①)'!Q11=\"\",\"\",'生徒(データ入力①)'!Q11)","v":""},{"$f":"IF('生徒(データ入力①)'!R11=\"\",\"\",'生徒(データ入力①)'!R11)","v":""},{"$f":"IF('生徒(データ入力①)'!S11=\"\",\"\",'生徒(データ入力①)'!S11)","v":""},{"$f":"IF('生徒(データ入力①)'!T11=\"\",\"\",'生徒(データ入力①)'!T11)","v":""},{"$f":"IF('生徒(データ入力①)'!U11=\"\",\"\",'生徒(データ入力①)'!U11)","v":""},{"$f":"IF('生徒(データ入力①)'!V11=\"\",\"\",'生徒(データ入力①)'!V11)","v":""},{"$f":"IF('生徒(データ入力①)'!W11=\"\",\"\",'生徒(データ入力①)'!W11)","v":""},{"$f":"IF('生徒(データ入力①)'!X11=\"\",\"\",'生徒(データ入力①)'!X11)","v":""},{"$f":"IF('生徒(データ入力①)'!Y11=\"\",\"\",'生徒(データ入力①)'!Y11)","v":""},{"$f":"IF('生徒(データ入力①)'!Z11=\"\",\"\",'生徒(データ入力①)'!Z11)","v":""},{"$f":"IF('生徒(データ入力①)'!AA11=\"\",\"\",'生徒(データ入力①)'!AA11)","v":""},{"$f":"IF('生徒(データ入力①)'!AB11=\"\",\"\",'生徒(データ入力①)'!AB11)","v":""},{"$f":"IF('生徒(データ入力①)'!AC11=\"\",\"\",'生徒(データ入力①)'!AC11)","v":""},{"$f":"IF('生徒(データ入力①)'!AD11=\"\",\"\",'生徒(データ入力①)'!AD11)","v":""},{"$f":"IF('生徒(データ入力①)'!AE11=\"\",\"\",'生徒(データ入力①)'!AE11)","v":""},{"$f":"IF('生徒(データ入力①)'!AF11=\"\",\"\",'生徒(データ入力①)'!AF11)","v":""},{"$f":"IF('生徒(データ入力①)'!AG11=\"\",\"\",'生徒(データ入力①)'!AG11)","v":""},{"$f":"IF('生徒(データ入力①)'!AH11=\"\",\"\",'生徒(データ入力①)'!AH11)","v":""},{"$f":"IF('生徒(データ入力①)'!AI11=\"\",\"\",'生徒(データ入力①)'!AI11)","v":""},{"$f":"IF('生徒(データ入力①)'!AJ11=\"\",\"\",'生徒(データ入力①)'!AJ11)","v":""},{"$f":"IF('生徒(データ入力①)'!AK11=\"\",\"\",'生徒(データ入力①)'!AK11)","v":""},{"$f":"IF('生徒(データ入力①)'!AL11=\"\",\"\",'生徒(データ入力①)'!AL11)","v":""},{"$f":"IF('生徒(データ入力①)'!AM11=\"\",\"\",'生徒(データ入力①)'!AM11)","v":""},{"$f":"IF('生徒(データ入力①)'!AN11=\"\",\"\",'生徒(データ入力①)'!AN11)","v":""},{"$f":"IF('生徒(データ入力①)'!AO11=\"\",\"\",'生徒(データ入力①)'!AO11)","v":""},{"$f":"IF('生徒(データ入力①)'!AP11=\"\",\"\",'生徒(データ入力①)'!AP11)","v":""},{"$f":"IF('生徒(データ入力①)'!AQ11=\"\",\"\",'生徒(データ入力①)'!AQ11)","v":""},{"$f":"IF('生徒(データ入力①)'!AR11=\"\",\"\",'生徒(データ入力①)'!AR11)","v":""},{"$f":"IF('生徒(データ入力①)'!AS11=\"\",\"\",'生徒(データ入力①)'!AS11)","v":""},{"$f":"IF('生徒(データ入力①)'!AT11=\"\",\"\",'生徒(データ入力①)'!AT11)","v":""},{"$f":"IF('生徒(データ入力①)'!AU11=\"\",\"\",'生徒(データ入力①)'!AU11)","v":""},{"$f":"IF('生徒(データ入力①)'!AV11=\"\",\"\",'生徒(データ入力①)'!AV11)","v":""},{"$f":"IF('生徒(データ入力①)'!AW11=\"\",\"\",'生徒(データ入力①)'!AW11)","v":""},{"$f":"IF('生徒(データ入力①)'!AX11=\"\",\"\",'生徒(データ入力①)'!AX11)","v":""},{"$f":"IF('生徒(データ入力①)'!AY11=\"\",\"\",'生徒(データ入力①)'!AY11)","v":""},{"$f":"IF('生徒(データ入力①)'!AZ11=\"\",\"\",'生徒(データ入力①)'!AZ11)","v":""},{"$f":"IF('生徒(データ入力①)'!BA11=\"\",\"\",'生徒(データ入力①)'!BA11)","v":""},{"$f":"IF('生徒(データ入力①)'!BB11=\"\",\"\",'生徒(データ入力①)'!BB11)","v":""},{"$f":"IF('生徒(データ入力①)'!BC11=\"\",\"\",'生徒(データ入力①)'!BC11)","v":""},0,{"$error":"#DIV/0!"},null,0,{"$error":"#DIV/0!"},null,0,{"$error":"#DIV/0!"},null,0,{"$error":"#DIV/0!"},null,null,{"$error":"#DIV/0!"},{"$error":"#DIV/0!"},{"$error":"#DIV/0!"},{"$error":"#DIV/0!"}]

{"sheet":"生徒第２回入力 (生徒個人表用)","index":18,"n_rows":24,"n_cols":90,"rows_kept":24,"cut":false,"hidden":false,"merged":[[2,65,3,65],[2,66,3,66],[2,67,3,67],[2,68,3,68],[2,69,3,69],[4,1,8,1],[9,1,13,1],[14,1,18,1],[19,1,23,1],[2,64,3,64],[2,58,3,58],[2,59,3,59],[2,60,3,60],[2,61,3,61],[2,62,3,62],[2,63,3,63]]}
[null,null,null,null,null,null,null,null,1,2,3,4,5,6,7,8,9,10,11,12,13,14,15,16,17,18,19,20,21,22,23,24,25,26,27,28,29,30,31,32,33,34,35,36,37,38,39,40,41,42,43,44,45,46,47,48,49,50]
[]
[null,null,null,4,3,2,1,"NO",{"$f":"IF('生徒(データ入力②)'!F3=\"\",\"\",'生徒(データ入力②)'!F3)","v":""},{"$f":"IF('生徒(データ入力②)'!G3=\"\",\"\",'生徒(データ入力②)'!G3)","v":""},{"$f":"IF('生徒(データ入力②)'!H3=\"\",\"\",'生徒(データ入力②)'!H3)","v":""},{"$f":"IF('生徒(データ入力②)'!I3=\"\",\"\",'生徒(データ入力②)'!I3)","v":""},{"$f":"IF('生徒(データ入力②)'!J3=\"\",\"\",'生徒(データ入力②)'!J3)","v":""},{"$f":"IF('生徒(データ入力②)'!K3=\"\",\"\",'生徒(データ入力②)'!K3)","v":""},{"$f":"IF('生徒(データ入力②)'!L3=\"\",\"\",'生徒(データ入力②)'!L3)","v":""},{"$f":"IF('生徒(データ入力②)'!M3=\"\",\"\",'生徒(データ入力②)'!M3)","v":""},{"$f":"IF('生徒(データ入力②)'!N3=\"\",\"\",'生徒(データ入力②)'!N3)","v":""},{"$f":"IF('生徒(データ入力②)'!O3=\"\",\"\",'生徒(データ入力②)'!O3)","v":""},{"$f":"IF('生徒(データ入力②)'!P3=\"\",\"\",'生徒(データ入力②)'!P3)","v":""},{"$f":"IF('生徒(データ入力②)'!Q3=\"\",\"\",'生徒(データ入力②)'!Q3)","v":""},{"$f":"IF('生徒(データ入力②)'!R3=\"\",\"\",'生徒(データ入力②)'!R3)","v":""},{"$f":"IF('生徒(データ入力②)'!S3=\"\",\"\",'生徒(データ入力②)'!S3)","v":""},{"$f":"IF('生徒(データ入力②)'!T3=\"\",\"\",'生徒(データ入力②)'!T3)","v":""},{"$f":"IF('生徒(データ入力②)'!U3=\"\",\"\",'生徒(データ入力②)'!U3)","v":""},{"$f":"IF('生徒(データ入力②)'!V3=\"\",\"\",'生徒(データ入力②)'!V3)","v":""},{"$f":"IF('生徒(データ入力②)'!W3=\"\",\"\",'生徒(データ入力②)'!W3)","v":""},{"$f":"IF('生徒(データ入力②)'!X3=\"\",\"\",'生徒(データ入力②)'!X3)","v":""},{"$f":"IF('生徒(データ入力②)'!Y3=\"\",\"\",'生徒(データ入力②)'!Y3)","v":""},{"$f":"IF('生徒(データ入力②)'!Z3=\"\",\"\",'生徒(データ入力②)'!Z3)","v":""},{"$f":"IF('生徒(データ入力②)'!AA3=\"\",\"\",'生徒(データ入力②)'!AA3)","v":""},{"$f":"IF('生徒(データ入力②)'!AB3=\"\",\"\",'生徒(データ入力②)'!AB3)","v":""},{"$f":"IF('生徒(データ入力②)'!AC3=\"\",\"\",'生徒(データ入力②)'!AC3)","v":""},{"$f":"IF('生徒(データ入力②)'!AD3=\"\",\"\",'生徒(データ入力②)'!AD3)","v":""},{"$f":"IF('生徒(データ入力②)'!AE3=\"\",\"\",'生徒(データ入力②)'!AE3)","v":""},{"$f":"IF('生徒(データ入力②)'!AF3=\"\",\"\",'生徒(データ入力②)'!AF3)","v":""},{"$f":"IF('生徒(データ入力②)'!AG3=\"\",\"\",'生徒(データ入力②)'!AG3)","v":""},{"$f":"IF('生徒(データ入力②)'!AH3=\"\",\"\",'生徒(データ入力②)'!AH3)","v":""},{"$f":"IF('生徒(データ入力②)'!AI3=\"\",\"\",'生徒(データ入力②)'!AI3)","v":""},{"$f":"IF('生徒(データ入力②)'!AJ3=\"\",\"\",'生徒(データ入力②)'!AJ3)","v":""},{"$f":"IF('生徒(データ入力②)'!AK3=\"\",\"\",'生徒(データ入力②)'!AK3)","v":""},{"$f":"IF('生徒(データ入力②)'!AL3=\"\",\"\",'生徒(データ入力②)'!AL3)","v":""},{"$f":"IF('生徒(データ入力②)'!AM3=\"\",\"\",'生徒(データ入力②)'!AM3)","v":""},{"$f":"IF('生徒(データ入力②)'!AN3=\"\",\"\",'生徒(データ入力②)'!AN3)","v":""},{"$f":"IF('生徒(データ入力②)'!AO3=\"\",\"\",'生徒(データ入力②)'!AO3)","v":""},{"$f":"IF('生徒(データ入力②)'!AP3=\"\",\"\",'生徒(データ入力②)'!AP3)","v":""},{"$f":"IF('生徒(データ入力②)'!AQ3=\"\",\"\",'生徒(データ入力②)'!AQ3)","v":""},{"$f":"IF('生徒(データ入力②)'!AR3=\"\",\"\",'生徒(データ入力②)'!AR3)","v":""},{"$f":"IF('生徒(データ入力②)'!AS3=\"\",\"\",'生徒(データ入力②)'!AS3)","v":""},{"$f":"IF('生徒(データ入力②)'!AT3=\"\",\"\",'生徒(データ入力②)'!AT3)","v":""},{"$f":"IF('生徒(データ入力②)'!AU3=\"\",\"\",'生徒(データ入力②)'!AU3)","v":""},{"$f":"IF('生徒(データ入力②)'!AV3=\"\",\"\",'生徒(データ入力②)'!AV3)","v":""},{"$f":"IF('生徒(データ入力②)'!AW3=\"\",\"\",'生徒(データ入力②)'!AW3)","v":""},{"$f":"IF('生徒(データ入力②)'!AX3=\"\",\"\",'生徒(データ入力②)'!AX3)","v":""},{"$f":"IF('生徒(データ入力②)'!AY3=\"\",\"\",'生徒(データ入力②)'!AY3)","v":""},{"$f":"IF('生徒(データ入力②)'!AZ3=\"\",\"\",'生徒(データ入力②)'!AZ3)","v":""},{"$f":"IF('生徒(データ入力②)'!BA3=\"\",\"\",'生徒(データ入力②)'!BA3)","v":""},{"$f":"IF('生徒(データ入力②)'!BB3=\"\",\"\",'生徒(データ入力②)'!BB3)","v":""},{"$f":"IF('生徒(データ入力②)'!BC3=\"\",\"\",'生徒(データ入力②)'!BC3)","v":""},"４と答えた人数","割合","比較増減","３と答えた人数","割合","比較増減","２と答えた人数","割合","比較増減","１と答えた人数","割合","比較増減"]
[null,"第2回目","生徒","%\n（人数）","%\n（人数）","%\n（人数）","%\n（人数）",null,{"$f":"IF('生徒(データ入力②)'!F4=\"\",\"\",'生徒(データ入力②)'!F4)","v":""},{"$f":"IF('生徒(データ入力②)'!G4=\"\",\"\",'生徒(データ入力②)'!G4)","v":""},{"$f":"IF('生徒(データ入力②)'!H4=\"\",\"\",'生徒(データ入力②)'!H4)","v":""},{"$f":"IF('生徒(データ入力②)'!I4=\"\",\"\",'生徒(データ入力②)'!I4)","v":""},{"$f":"IF('生徒(データ入力②)'!J4=\"\",\"\",'生徒(データ入力②)'!J4)","v":""},{"$f":"IF('生徒(データ入力②)'!K4=\"\",\"\",'生徒(データ入力②)'!K4)","v":""},{"$f":"IF('生徒(データ入力②)'!L4=\"\",\"\",'生徒(データ入力②)'!L4)","v":""},{"$f":"IF('生徒(データ入力②)'!M4=\"\",\"\",'生徒(データ入力②)'!M4)","v":""},{"$f":"IF('生徒(データ入力②)'!N4=\"\",\"\",'生徒(データ入力②)'!N4)","v":""},{"$f":"IF('生徒(データ入力②)'!O4=\"\",\"\",'生徒(データ入力②)'!O4)","v":""},{"$f":"IF('生徒(データ入力②)'!P4=\"\",\"\",'生徒(データ入力②)'!P4)","v":""},{"$f":"IF('生徒(データ入力②)'!Q4=\"\",\"\",'生徒(データ入力②)'!Q4)","v":""},{"$f":"IF('生徒(データ入力②)'!R4=\"\",\"\",'生徒(データ入力②)'!R4)","v":""},{"$f":"IF('生徒(データ入力②)'!S4=\"\",\"\",'生徒(データ入力②)'!S4)","v":""},{"$f":"IF('生徒(データ入力②)'!T4=\"\",\"\",'生徒(データ入力②)'!T4)","v":""},{"$f":"IF('生徒(データ入力②)'!U4=\"\",\"\",'生徒(データ入力②)'!U4)","v":""},{"$f":"IF('生徒(データ入力②)'!V4=\"\",\"\",'生徒(データ入力②)'!V4)","v":""},{"$f":"IF('生徒(データ入力②)'!W4=\"\",\"\",'生徒(データ入力②)'!W4)","v":""},{"$f":"IF('生徒(データ入力②)'!X4=\"\",\"\",'生徒(データ入力②)'!X4)","v":""},{"$f":"IF('生徒(データ入力②)'!Y4=\"\",\"\",'生徒(データ入力②)'!Y4)","v":""},{"$f":"IF('生徒(データ入力②)'!Z4=\"\",\"\",'生徒(データ入力②)'!Z4)","v":""},{"$f":"IF('生徒(データ入力②)'!AA4=\"\",\"\",'生徒(データ入力②)'!AA4)","v":""},{"$f":"IF('生徒(データ入力②)'!AB4=\"\",\"\",'生徒(データ入力②)'!AB4)","v":""},{"$f":"IF('生徒(データ入力②)'!AC4=\"\",\"\",'生徒(データ入力②)'!AC4)","v":""},{"$f":"IF('生徒(データ入力②)'!AD4=\"\",\"\",'生徒(データ入力②)'!AD4)","v":""},{"$f":"IF('生徒(データ入力②)'!AE4=\"\",\"\",'生徒(データ入力②)'!AE4)","v":""},{"$f":"IF('生徒(データ入力②)'!AF4=\"\",\"\",'生徒(データ入力②)'!AF4)","v":""},{"$f":"IF('生徒(データ入力②)'!AG4=\"\",\"\",'生徒(データ入力②)'!AG4)","v":""},{"$f":"IF('生徒(データ入力②)'!AH4=\"\",\"\",'生徒(データ入力②)'!AH4)","v":""},{"$f":"IF('生徒(データ入力②)'!AI4=\"\",\"\",'生徒(データ入力②)'!AI4)","v":""},{"$f":"IF('生徒(データ入力②)'!AJ4=\"\",\"\",'生徒(データ入力②)'!AJ4)","v":""},{"$f":"IF('生徒(データ入力②)'!AK4=\"\",\"\",'生徒(データ入力②)'!AK4)","v":""},{"$f":"IF('生徒(データ入力②)'!AL4=\"\",\"\",'生徒(データ入力②)'!AL4)","v":""},{"$f":"IF('生徒(データ入力②)'!AM4=\"\",\"\",'生徒(データ入力②)'!AM4)","v":""},{"$f":"IF('生徒(データ入力②)'!AN4=\"\",\"\",'生徒(データ入力②)'!AN4)","v":""},{"$f":"IF('生徒(データ入力②)'!AO4=\"\",\"\",'生徒(データ入力②)'!AO4)","v":""},{"$f":"IF('生徒(データ入力②)'!AP4=\"\",\"\",'生徒(データ入力②)'!AP4)","v":""},{"$f":"IF('生徒(データ入力②)'!AQ4=\"\",\"\",'生徒(データ入力②)'!AQ4)","v":""},{"$f":"IF('生徒(データ入力②)'!AR4=\"\",\"\",'生徒(データ入力②)'!AR4)","v":""},{"$f":"IF('生徒(データ入力②)'!AS4=\"\",\"\",'生徒(データ入力②)'!AS4)","v":""},{"$f":"IF('生徒(データ入力②)'!AT4=\"\",\"\",'生徒(データ入力②)'!AT4)","v":""},{"$f":"IF('生徒(データ入力②)'!AU4=\"\",\"\",'生徒(データ入力②)'!AU4)","v":""},{"$f":"IF('生徒(データ入力②)'!AV4=\"\",\"\",'生徒(データ入力②)'!AV4)","v":""},{"$f":"IF('生徒(データ入力②)'!AW4=\"\",\"\",'生徒(データ入力②)'!AW4)","v":""},{"$f":"IF('生徒(データ入力②)'!AX4=\"\",\"\",'生徒(データ入力②)'!AX4)","v":""},{"$f":"IF('生徒(データ入力②)'!AY4=\"\",\"\",'生徒(データ入力②)'!AY4)","v":""},{"$f":"IF('生徒(データ入力②)'!AZ4=\"\",\"\",'生徒(データ入力②)'!AZ4)","v":""},{"$f":"IF('生徒(データ入力②)'!BA4=\"\",\"\",'生徒(データ入力②)'!BA4)","v":""},{"$f":"IF('生徒(データ入力②)'!BB4=\"\",\"\",'生徒(データ入力②)'!BB4)","v":""},{"$f":"IF('生徒(データ入力②)'!BC4=\"\",\"\",'生徒(データ入力②)'!BC4)","v":""},null,null,null,null,null,null,null,null,null,null,null,null,null,"肯定人数","割合","否定人数","割合"]
[null,"教師や仲間から学級の一員として認められているという安心感",{"$f":"'生徒(個人)'!B6","v":"私の学級では，私は先生と話（日記や日誌なども含む）をする機会が多くある。"},{"$f":"BH5&\"%\"&\"（\"&BG5&\"人）\"","v":{"$error":"#DIV/0!"}},{"$f":"BK5&\"%\"&\"（\"&BJ5&\"人\"&\"）\"","v":{"$error":"#DIV/0!"}},{"$f":"BN5&\"%\"&\"（\"&BM5&\"人\"&\"）\"","v":{"$error":"#DIV/0!"}},{"$f":"BQ5&\"%\"&\"（\"&BP5&\"人\"&\"）\"","v":{"$error":"#DIV/0!"}},null,{"$f":"IF('生徒(データ入力②)'!F19=\"\",\"\",'生徒(データ入力②)'!F19)","v":""},{"$f":"IF('生徒(データ入力②)'!G19=\"\",\"\",'生徒(データ入力②)'!G19)","v":""},{"$f":"IF('生徒(データ入力②)'!H19=\"\",\"\",'生徒(データ入力②)'!H19)","v":""},{"$f":"IF('生徒(データ入力②)'!I19=\"\",\"\",'生徒(データ入力②)'!I19)","v":""},{"$f":"IF('生徒(データ入力②)'!J19=\"\",\"\",'生徒(データ入力②)'!J19)","v":""},{"$f":"IF('生徒(データ入力②)'!K19=\"\",\"\",'生徒(データ入力②)'!K19)","v":""},{"$f":"IF('生徒(データ入力②)'!L19=\"\",\"\",'生徒(データ入力②)'!L19)","v":""},{"$f":"IF('生徒(データ入力②)'!M19=\"\",\"\",'生徒(データ入力②)'!M19)","v":""},{"$f":"IF('生徒(データ入力②)'!N19=\"\",\"\",'生徒(データ入力②)'!N19)","v":""},{"$f":"IF('生徒(データ入力②)'!O19=\"\",\"\",'生徒(データ入力②)'!O19)","v":""},{"$f":"IF('生徒(データ入力②)'!P19=\"\",\"\",'生徒(データ入力②)'!P19)","v":""},{"$f":"IF('生徒(データ入力②)'!Q19=\"\",\"\",'生徒(データ入力②)'!Q19)","v":""},{"$f":"IF('生徒(データ入力②)'!R19=\"\",\"\",'生徒(データ入力②)'!R19)","v":""},{"$f":"IF('生徒(データ入力②)'!S19=\"\",\"\",'生徒(データ入力②)'!S19)","v":""},{"$f":"IF('生徒(データ入力②)'!T19=\"\",\"\",'生徒(データ入力②)'!T19)","v":""},{"$f":"IF('生徒(データ入力②)'!U19=\"\",\"\",'生徒(データ入力②)'!U19)","v":""},{"$f":"IF('生徒(データ入力②)'!V19=\"\",\"\",'生徒(データ入力②)'!V19)","v":""},{"$f":"IF('生徒(データ入力②)'!W19=\"\",\"\",'生徒(データ入力②)'!W19)","v":""},{"$f":"IF('生徒(データ入力②)'!X19=\"\",\"\",'生徒(データ入力②)'!X19)","v":""},{"$f":"IF('生徒(データ入力②)'!Y19=\"\",\"\",'生徒(データ入力②)'!Y19)","v":""},{"$f":"IF('生徒(データ入力②)'!Z19=\"\",\"\",'生徒(データ入力②)'!Z19)","v":""},{"$f":"IF('生徒(データ入力②)'!AA19=\"\",\"\",'生徒(データ入力②)'!AA19)","v":""},{"$f":"IF('生徒(データ入力②)'!AB19=\"\",\"\",'生徒(データ入力②)'!AB19)","v":""},{"$f":"IF('生徒(データ入力②)'!AC19=\"\",\"\",'生徒(データ入力②)'!AC19)","v":""},{"$f":"IF('生徒(データ入力②)'!AD19=\"\",\"\",'生徒(データ入力②)'!AD19)","v":""},{"$f":"IF('生徒(データ入力②)'!AE19=\"\",\"\",'生徒(データ入力②)'!AE19)","v":""},{"$f":"IF('生徒(データ入力②)'!AF19=\"\",\"\",'生徒(データ入力②)'!AF19)","v":""},{"$f":"IF('生徒(データ入力②)'!AG19=\"\",\"\",'生徒(データ入力②)'!AG19)","v":""},{"$f":"IF('生徒(データ入力②)'!AH19=\"\",\"\",'生徒(データ入力②)'!AH19)","v":""},{"$f":"IF('生徒(データ入力②)'!AI19=\"\",\"\",'生徒(データ入力②)'!AI19)","v":""},{"$f":"IF('生徒(データ入力②)'!AJ19=\"\",\"\",'生徒(データ入力②)'!AJ19)","v":""},{"$f":"IF('生徒(データ入力②)'!AK19=\"\",\"\",'生徒(データ入力②)'!AK19)","v":""},{"$f":"IF('生徒(データ入力②)'!AL19=\"\",\"\",'生徒(データ入力②)'!AL19)","v":""},{"$f":"IF('生徒(データ入力②)'!AM19=\"\",\"\",'生徒(データ入力②)'!AM19)","v":""},{"$f":"IF('生徒(データ入力②)'!AN19=\"\",\"\",'生徒(データ入力②)'!AN19)","v":""},{"$f":"IF('生徒(データ入力②)'!AO19=\"\",\"\",'生徒(データ入力②)'!AO19)","v":""},{"$f":"IF('生徒(データ入力②)'!AP19=\"\",\"\",'生徒(データ入力②)'!AP19)","v":""},{"$f":"IF('生徒(データ入力②)'!AQ19=\"\",\"\",'生徒(データ入力②)'!AQ19)","v":""},{"$f":"IF('生徒(データ入力②)'!AR19=\"\",\"\",'生徒(データ入力②)'!AR19)","v":""},{"$f":"IF('生徒(データ入力②)'!AS19=\"\",\"\",'生徒(データ入力②)'!AS19)","v":""},{"$f":"IF('生徒(データ入力②)'!AT19=\"\",\"\",'生徒(データ入力②)'!AT19)","v":""},{"$f":"IF('生徒(データ入力②)'!AU19=\"\",\"\",'生徒(データ入力②)'!AU19)","v":""},{"$f":"IF('生徒(データ入力②)'!AV19=\"\",\"\",'生徒(データ入力②)'!AV19)","v":""},{"$f":"IF('生徒(データ入力②)'!AW19=\"\",\"\",'生徒(データ入力②)'!AW19)","v":""},{"$f":"IF('生徒(データ入力②)'!AX19=\"\",\"\",'生徒(データ入力②)'!AX19)","v":""},{"$f":"IF('生徒(データ入力②)'!AY19=\"\",\"\",'生徒(データ入力②)'!AY19)","v":""},{"$f":"IF('生徒(データ入力②)'!AZ19=\"\",\"\",'生徒(データ入力②)'!AZ19)","v":""},{"$f":"IF('生徒(データ入力②)'!BA19=\"\",\"\",'生徒(データ入力②)'!BA19)","v":""},{"$f":"IF('生徒(データ入力②)'!BB19=\"\",\"\",'生徒(データ入力②)'!BB19)","v":""},{"$f":"IF('生徒(データ入力②)'!BC19=\"\",\"\",'生徒(データ入力②)'!BC19)","v":""},{"$f":"COUNTIF(I5:BF5,\"4\")","v":0},{"$f":"ROUND((BG5/(50-COUNTBLANK(I5:BF5)))*100,1)","v":{"$error":"#DIV/0!"}},null,{"$f":"COUNTIF(I5:BF5,\"3\")","v":0},{"$f":"ROUND(BJ5/(50-COUNTBLANK(I5:BF5))*100,1)","v":{"$error":"#DIV/0!"}},null,{"$f":"COUNTIF(I5:BF5,\"2\")","v":0},{"$f":"ROUND(BM5/(50-COUNTBLANK(I5:BF5))*100,1)","v":{"$error":"#DIV/0!"}},null,{"$f":"COUNTIF(I5:BF5,\"1\")","v":0},{"$f":"ROUND(BP5/(50-COUNTBLANK(I5:BF5))*100,1)","v":{"$error":"#DIV/0!"}},null,null,{"$f":"BG5+BJ5","v":0},{"$f":"BH5+BK5","v":{"$error":"#DIV/0!"}},{"$f":"BM5+BP5","v":0},{"$f":"BN5+BQ5","v":{"$error":"#DIV/0!"}},null,"人数",null,null,null,null,"割合",null,null,null,null,"肯定値と否定値"]
[null,null,{"$f":"'生徒(個人)'!B7","v":"私の学級では，私に役割があり，その働きが認められていると感じる。"},{"$error":"#DIV/0!"},{"$error":"#DIV/0!"},{"$error":"#DIV/0!"},{"$error":"#DIV/0!"},null,{"$f":"IF('生徒(データ入力②)'!F22=\"\",\"\",'生徒(データ入力②)'!F22)","v":""},{"$f":"IF('生徒(データ入力②)'!G22=\"\",\"\",'生徒(データ入力②)'!G22)","v":""},{"$f":"IF('生徒(データ入力②)'!H22=\"\",\"\",'生徒(データ入力②)'!H22)","v":""},{"$f":"IF('生徒(データ入力②)'!I22=\"\",\"\",'生徒(データ入力②)'!I22)","v":""},{"$f":"IF('生徒(データ入力②)'!J22=\"\",\"\",'生徒(データ入力②)'!J22)","v":""},{"$f":"IF('生徒(データ入力②)'!K22=\"\",\"\",'生徒(データ入力②)'!K22)","v":""},{"$f":"IF('生徒(データ入力②)'!L22=\"\",\"\",'生徒(データ入力②)'!L22)","v":""},{"$f":"IF('生徒(データ入力②)'!M22=\"\",\"\",'生徒(データ入力②)'!M22)","v":""},{"$f":"IF('生徒(データ入力②)'!N22=\"\",\"\",'生徒(データ入力②)'!N22)","v":""},{"$f":"IF('生徒(データ入力②)'!O22=\"\",\"\",'生徒(データ入力②)'!O22)","v":""},{"$f":"IF('生徒(データ入力②)'!P22=\"\",\"\",'生徒(データ入力②)'!P22)","v":""},{"$f":"IF('生徒(データ入力②)'!Q22=\"\",\"\",'生徒(データ入力②)'!Q22)","v":""},{"$f":"IF('生徒(データ入力②)'!R22=\"\",\"\",'生徒(データ入力②)'!R22)","v":""},{"$f":"IF('生徒(データ入力②)'!S22=\"\",\"\",'生徒(データ入力②)'!S22)","v":""},{"$f":"IF('生徒(データ入力②)'!T22=\"\",\"\",'生徒(データ入力②)'!T22)","v":""},{"$f":"IF('生徒(データ入力②)'!U22=\"\",\"\",'生徒(データ入力②)'!U22)","v":""},{"$f":"IF('生徒(データ入力②)'!V22=\"\",\"\",'生徒(データ入力②)'!V22)","v":""},{"$f":"IF('生徒(データ入力②)'!W22=\"\",\"\",'生徒(データ入力②)'!W22)","v":""},{"$f":"IF('生徒(データ入力②)'!X22=\"\",\"\",'生徒(データ入力②)'!X22)","v":""},{"$f":"IF('生徒(データ入力②)'!Y22=\"\",\"\",'生徒(データ入力②)'!Y22)","v":""},{"$f":"IF('生徒(データ入力②)'!Z22=\"\",\"\",'生徒(データ入力②)'!Z22)","v":""},{"$f":"IF('生徒(データ入力②)'!AA22=\"\",\"\",'生徒(データ入力②)'!AA22)","v":""},{"$f":"IF('生徒(データ入力②)'!AB22=\"\",\"\",'生徒(データ入力②)'!AB22)","v":""},{"$f":"IF('生徒(データ入力②)'!AC22=\"\",\"\",'生徒(データ入力②)'!AC22)","v":""},{"$f":"IF('生徒(データ入力②)'!AD22=\"\",\"\",'生徒(データ入力②)'!AD22)","v":""},{"$f":"IF('生徒(データ入力②)'!AE22=\"\",\"\",'生徒(データ入力②)'!AE22)","v":""},{"$f":"IF('生徒(データ入力②)'!AF22=\"\",\"\",'生徒(データ入力②)'!AF22)","v":""},{"$f":"IF('生徒(データ入力②)'!AG22=\"\",\"\",'生徒(データ入力②)'!AG22)","v":""},{"$f":"IF('生徒(データ入力②)'!AH22=\"\",\"\",'生徒(データ入力②)'!AH22)","v":""},{"$f":"IF('生徒(データ入力②)'!AI22=\"\",\"\",'生徒(データ入力②)'!AI22)","v":""},{"$f":"IF('生徒(データ入力②)'!AJ22=\"\",\"\",'生徒(データ入力②)'!AJ22)","v":""},{"$f":"IF('生徒(データ入力②)'!AK22=\"\",\"\",'生徒(データ入力②)'!AK22)","v":""},{"$f":"IF('生徒(データ入力②)'!AL22=\"\",\"\",'生徒(データ入力②)'!AL22)","v":""},{"$f":"IF('生徒(データ入力②)'!AM22=\"\",\"\",'生徒(データ入力②)'!AM22)","v":""},{"$f":"IF('生徒(データ入力②)'!AN22=\"\",\"\",'生徒(データ入力②)'!AN22)","v":""},{"$f":"IF('生徒(データ入力②)'!AO22=\"\",\"\",'生徒(データ入力②)'!AO22)","v":""},{"$f":"IF('生徒(データ入力②)'!AP22=\"\",\"\",'生徒(データ入力②)'!AP22)","v":""},{"$f":"IF('生徒(データ入力②)'!AQ22=\"\",\"\",'生徒(データ入力②)'!AQ22)","v":""},{"$f":"IF('生徒(データ入力②)'!AR22=\"\",\"\",'生徒(データ入力②)'!AR22)","v":""},{"$f":"IF('生徒(データ入力②)'!AS22=\"\",\"\",'生徒(データ入力②)'!AS22)","v":""},{"$f":"IF('生徒(データ入力②)'!AT22=\"\",\"\",'生徒(データ入力②)'!AT22)","v":""},{"$f":"IF('生徒(データ入力②)'!AU22=\"\",\"\",'生徒(データ入力②)'!AU22)","v":""},{"$f":"IF('生徒(データ入力②)'!AV22=\"\",\"\",'生徒(データ入力②)'!AV22)","v":""},{"$f":"IF('生徒(データ入力②)'!AW22=\"\",\"\",'生徒(データ入力②)'!AW22)","v":""},{"$f":"IF('生徒(データ入力②)'!AX22=\"\",\"\",'生徒(データ入力②)'!AX22)","v":""},{"$f":"IF('生徒(データ入力②)'!AY22=\"\",\"\",'生徒(データ入力②)'!AY22)","v":""},{"$f":"IF('生徒(データ入力②)'!AZ22=\"\",\"\",'生徒(データ入力②)'!AZ22)","v":""},{"$f":"IF('生徒(データ入力②)'!BA22=\"\",\"\",'生徒(データ入力②)'!BA22)","v":""},{"$f":"IF('生徒(データ入力②)'!BB22=\"\",\"\",'生徒(データ入力②)'!BB22)","v":""},{"$f":"IF('生徒(データ入力②)'!BC22=\"\",\"\",'生徒(データ入力②)'!BC22)","v":""},{"$f":"COUNTIF(I6:BF6,\"4\")","v":0},{"$f":"ROUND((BG6/(50-COUNTBLANK(I6:BF6)))*100,1)","v":{"$error":"#DIV/0!"}},null,{"$f":"COUNTIF(I6:BF6,\"3\")","v":0},{"$f":"ROUND(BJ6/(50-COUNTBLANK(I6:BF6))*100,1)","v":{"$error":"#DIV/0!"}},null,{"$f":"COUNTIF(I6:BF6,\"2\")","v":0},{"$f":"ROUND(BM6/(50-COUNTBLANK(I6:BF6))*100,1)","v":{"$error":"#DIV/0!"}},null,{"$f":"COUNTIF(I6:BF6,\"1\")","v":0},{"$f":"ROUND(BP6/(50-COUNTBLANK(I6:BF6))*100,1)","v":{"$error":"#DIV/0!"}},null,null,{"$f":"BG6+BJ6","v":0},{"$f":"BH6+BK6","v":{"$error":"#DIV/0!"}},{"$f":"BM6+BP6","v":0},{"$f":"BN6+BQ6","v":{"$error":"#DIV/0!"}},null,4,3,2,1,"合計",4,3,2,1]
[null,null,{"$f":"'生徒(個人)'!B8","v":"私の学級では，先生や友達は私の頑張りや良いところを認めてくれている。"},{"$error":"#DIV/0!"},{"$error":"#DIV/0!"},{"$error":"#DIV/0!"},{"$error":"#DIV/0!"},null,{"$f":"IF('生徒(データ入力②)'!F20=\"\",\"\",'生徒(データ入力②)'!F20)","v":""},{"$f":"IF('生徒(データ入力②)'!G20=\"\",\"\",'生徒(データ入力②)'!G20)","v":""},{"$f":"IF('生徒(データ入力②)'!H20=\"\",\"\",'生徒(データ入力②)'!H20)","v":""},{"$f":"IF('生徒(データ入力②)'!I20=\"\",\"\",'生徒(データ入力②)'!I20)","v":""},{"$f":"IF('生徒(データ入力②)'!J20=\"\",\"\",'生徒(データ入力②)'!J20)","v":""},{"$f":"IF('生徒(データ入力②)'!K20=\"\",\"\",'生徒(データ入力②)'!K20)","v":""},{"$f":"IF('生徒(データ入力②)'!L20=\"\",\"\",'生徒(データ入力②)'!L20)","v":""},{"$f":"IF('生徒(データ入力②)'!M20=\"\",\"\",'生徒(データ入力②)'!M20)","v":""},{"$f":"IF('生徒(データ入力②)'!N20=\"\",\"\",'生徒(データ入力②)'!N20)","v":""},{"$f":"IF('生徒(データ入力②)'!O20=\"\",\"\",'生徒(データ入力②)'!O20)","v":""},{"$f":"IF('生徒(データ入力②)'!P20=\"\",\"\",'生徒(データ入力②)'!P20)","v":""},{"$f":"IF('生徒(データ入力②)'!Q20=\"\",\"\",'生徒(データ入力②)'!Q20)","v":""},{"$f":"IF('生徒(データ入力②)'!R20=\"\",\"\",'生徒(データ入力②)'!R20)","v":""},{"$f":"IF('生徒(データ入力②)'!S20=\"\",\"\",'生徒(データ入力②)'!S20)","v":""},{"$f":"IF('生徒(データ入力②)'!T20=\"\",\"\",'生徒(データ入力②)'!T20)","v":""},{"$f":"IF('生徒(データ入力②)'!U20=\"\",\"\",'生徒(データ入力②)'!U20)","v":""},{"$f":"IF('生徒(データ入力②)'!V20=\"\",\"\",'生徒(データ入力②)'!V20)","v":""},{"$f":"IF('生徒(データ入力②)'!W20=\"\",\"\",'生徒(データ入力②)'!W20)","v":""},{"$f":"IF('生徒(データ入力②)'!X20=\"\",\"\",'生徒(データ入力②)'!X20)","v":""},{"$f":"IF('生徒(データ入力②)'!Y20=\"\",\"\",'生徒(データ入力②)'!Y20)","v":""},{"$f":"IF('生徒(データ入力②)'!Z20=\"\",\"\",'生徒(データ入力②)'!Z20)","v":""},{"$f":"IF('生徒(データ入力②)'!AA20=\"\",\"\",'生徒(データ入力②)'!AA20)","v":""},{"$f":"IF('生徒(データ入力②)'!AB20=\"\",\"\",'生徒(データ入力②)'!AB20)","v":""},{"$f":"IF('生徒(データ入力②)'!AC20=\"\",\"\",'生徒(データ入力②)'!AC20)","v":""},{"$f":"IF('生徒(データ入力②)'!AD20=\"\",\"\",'生徒(データ入力②)'!AD20)","v":""},{"$f":"IF('生徒(データ入力②)'!AE20=\"\",\"\",'生徒(データ入力②)'!AE20)","v":""},{"$f":"IF('生徒(データ入力②)'!AF20=\"\",\"\",'生徒(データ入力②)'!AF20)","v":""},{"$f":"IF('生徒(データ入力②)'!AG20=\"\",\"\",'生徒(データ入力②)'!AG20)","v":""},{"$f":"IF('生徒(データ入力②)'!AH20=\"\",\"\",'生徒(データ入力②)'!AH20)","v":""},{"$f":"IF('生徒(データ入力②)'!AI20=\"\",\"\",'生徒(データ入力②)'!AI20)","v":""},{"$f":"IF('生徒(データ入力②)'!AJ20=\"\",\"\",'生徒(データ入力②)'!AJ20)","v":""},{"$f":"IF('生徒(データ入力②)'!AK20=\"\",\"\",'生徒(データ入力②)'!AK20)","v":""},{"$f":"IF('生徒(データ入力②)'!AL20=\"\",\"\",'生徒(データ入力②)'!AL20)","v":""},{"$f":"IF('生徒(データ入力②)'!AM20=\"\",\"\",'生徒(データ入力②)'!AM20)","v":""},{"$f":"IF('生徒(データ入力②)'!AN20=\"\",\"\",'生徒(データ入力②)'!AN20)","v":""},{"$f":"IF('生徒(データ入力②)'!AO20=\"\",\"\",'生徒(データ入力②)'!AO20)","v":""},{"$f":"IF('生徒(データ入力②)'!AP20=\"\",\"\",'生徒(データ入力②)'!AP20)","v":""},{"$f":"IF('生徒(データ入力②)'!AQ20=\"\",\"\",'生徒(データ入力②)'!AQ20)","v":""},{"$f":"IF('生徒(データ入力②)'!AR20=\"\",\"\",'生徒(データ入力②)'!AR20)","v":""},{"$f":"IF('生徒(データ入力②)'!AS20=\"\",\"\",'生徒(データ入力②)'!AS20)","v":""},{"$f":"IF('生徒(データ入力②)'!AT20=\"\",\"\",'生徒(データ入力②)'!AT20)","v":""},{"$f":"IF('生徒(データ入力②)'!AU20=\"\",\"\",'生徒(データ入力②)'!AU20)","v":""},{"$f":"IF('生徒(データ入力②)'!AV20=\"\",\"\",'生徒(データ入力②)'!AV20)","v":""},{"$f":"IF('生徒(データ入力②)'!AW20=\"\",\"\",'生徒(データ入力②)'!AW20)","v":""},{"$f":"IF('生徒(データ入力②)'!AX20=\"\",\"\",'生徒(データ入力②)'!AX20)","v":""},{"$f":"IF('生徒(データ入力②)'!AY20=\"\",\"\",'生徒(データ入力②)'!AY20)","v":""},{"$f":"IF('生徒(データ入力②)'!AZ20=\"\",\"\",'生徒(データ入力②)'!AZ20)","v":""},{"$f":"IF('生徒(データ入力②)'!BA20=\"\",\"\",'生徒(データ入力②)'!BA20)","v":""},{"$f":"IF('生徒(データ入力②)'!BB20=\"\",\"\",'生徒(データ入力②)'!BB20)","v":""},{"$f":"IF('生徒(データ入力②)'!BC20=\"\",\"\",'生徒(データ入力②)'!BC20)","v":""},0,{"$error":"#DIV/0!"},null,0,{"$error":"#DIV/0!"},null,0,{"$error":"#DIV/0!"},null,0,{"$error":"#DIV/0!"},null,null,{"$f":"BH7+BJ7","v":{"$error":"#DIV/0!"}},{"$f":"BH7+BK7","v":{"$error":"#DIV/0!"}},{"$f":"BL7+BN7","v":{"$error":"#DIV/0!"}},{"$f":"BN7+BQ7","v":{"$error":"#DIV/0!"}},"自己存在感の感受平均",{"$f":"BG5+BG6+BG7+BG8+BG9","v":0},{"$f":"BJ5+BJ6+BJ7+BJ8+BJ9","v":0},{"$f":"BM5+BM6+BM7+BM8+BM9","v":0},{"$f":"BP5+BP6+BP7+BP8+BP9","v":0},{"$f":"SUM(BY7:CB7)","v":0},{"$f":"ROUND((BY7/$CC$7)*100,1)","v":{"$error":"#DIV/0!"}},{"$f":"ROUND((BZ7/$CC$7)*100,1)","v":{"$error":"#DIV/0!"}},{"$f":"ROUND((CA7/$CC$7)*100,1)","v":{"$error":"#DIV/0!"}},{"$f":"ROUND((CB7/$CC$7)*100,1)","v":{"$error":"#DIV/0!"}},null,{"$f":"BY7+BZ7","v":0},{"$f":"CA7+CB7","v":0},{"$f":"ROUND(CD7+CE7,1)","v":{"$error":"#DIV/0!"}},{"$f":"ROUND(CF7+CG7,1)","v":{"$error":"#DIV/0!"}}]
[null,null,{"$f":"'生徒(個人)'!B9","v":"私の学級では，私のことを理解してくれる先生や友達がいる。"},{"$error":"#DIV/0!"},{"$error":"#DIV/0!"},{"$error":"#DIV/0!"},{"$error":"#DIV/0!"},null,{"$f":"IF('生徒(データ入力②)'!F17=\"\",\"\",'生徒(データ入力②)'!F17)","v":""},{"$f":"IF('生徒(データ入力②)'!G17=\"\",\"\",'生徒(データ入力②)'!G17)","v":""},{"$f":"IF('生徒(データ入力②)'!H17=\"\",\"\",'生徒(データ入力②)'!H17)","v":""},{"$f":"IF('生徒(データ入力②)'!I17=\"\",\"\",'生徒(データ入力②)'!I17)","v":""},{"$f":"IF('生徒(データ入力②)'!J17=\"\",\"\",'生徒(データ入力②)'!J17)","v":""},{"$f":"IF('生徒(データ入力②)'!K17=\"\",\"\",'生徒(データ入力②)'!K17)","v":""},{"$f":"IF('生徒(データ入力②)'!L17=\"\",\"\",'生徒(データ入力②)'!L17)","v":""},{"$f":"IF('生徒(データ入力②)'!M17=\"\",\"\",'生徒(データ入力②)'!M17)","v":""},{"$f":"IF('生徒(データ入力②)'!N17=\"\",\"\",'生徒(データ入力②)'!N17)","v":""},{"$f":"IF('生徒(データ入力②)'!O17=\"\",\"\",'生徒(データ入力②)'!O17)","v":""},{"$f":"IF('生徒(データ入力②)'!P17=\"\",\"\",'生徒(データ入力②)'!P17)","v":""},{"$f":"IF('生徒(データ入力②)'!Q17=\"\",\"\",'生徒(データ入力②)'!Q17)","v":""},{"$f":"IF('生徒(データ入力②)'!R17=\"\",\"\",'生徒(データ入力②)'!R17)","v":""},{"$f":"IF('生徒(データ入力②)'!S17=\"\",\"\",'生徒(データ入力②)'!S17)","v":""},{"$f":"IF('生徒(データ入力②)'!T17=\"\",\"\",'生徒(データ入力②)'!T17)","v":""},{"$f":"IF('生徒(データ入力②)'!U17=\"\",\"\",'生徒(データ入力②)'!U17)","v":""},{"$f":"IF('生徒(データ入力②)'!V17=\"\",\"\",'生徒(データ入力②)'!V17)","v":""},{"$f":"IF('生徒(データ入力②)'!W17=\"\",\"\",'生徒(データ入力②)'!W17)","v":""},{"$f":"IF('生徒(データ入力②)'!X17=\"\",\"\",'生徒(データ入力②)'!X17)","v":""},{"$f":"IF('生徒(データ入力②)'!Y17=\"\",\"\",'生徒(データ入力②)'!Y17)","v":""},{"$f":"IF('生徒(データ入力②)'!Z17=\"\",\"\",'生徒(データ入力②)'!Z17)","v":""},{"$f":"IF('生徒(データ入力②)'!AA17=\"\",\"\",'生徒(データ入力②)'!AA17)","v":""},{"$f":"IF('生徒(データ入力②)'!AB17=\"\",\"\",'生徒(データ入力②)'!AB17)","v":""},{"$f":"IF('生徒(データ入力②)'!AC17=\"\",\"\",'生徒(データ入力②)'!AC17)","v":""},{"$f":"IF('生徒(データ入力②)'!AD17=\"\",\"\",'生徒(データ入力②)'!AD17)","v":""},{"$f":"IF('生徒(データ入力②)'!AE17=\"\",\"\",'生徒(データ入力②)'!AE17)","v":""},{"$f":"IF('生徒(データ入力②)'!AF17=\"\",\"\",'生徒(データ入力②)'!AF17)","v":""},{"$f":"IF('生徒(データ入力②)'!AG17=\"\",\"\",'生徒(データ入力②)'!AG17)","v":""},{"$f":"IF('生徒(データ入力②)'!AH17=\"\",\"\",'生徒(データ入力②)'!AH17)","v":""},{"$f":"IF('生徒(データ入力②)'!AI17=\"\",\"\",'生徒(データ入力②)'!AI17)","v":""},{"$f":"IF('生徒(データ入力②)'!AJ17=\"\",\"\",'生徒(データ入力②)'!AJ17)","v":""},{"$f":"IF('生徒(データ入力②)'!AK17=\"\",\"\",'生徒(データ入力②)'!AK17)","v":""},{"$f":"IF('生徒(データ入力②)'!AL17=\"\",\"\",'生徒(データ入力②)'!AL17)","v":""},{"$f":"IF('生徒(データ入力②)'!AM17=\"\",\"\",'生徒(データ入力②)'!AM17)","v":""},{"$f":"IF('生徒(データ入力②)'!AN17=\"\",\"\",'生徒(データ入力②)'!AN17)","v":""},{"$f":"IF('生徒(データ入力②)'!AO17=\"\",\"\",'生徒(データ入力②)'!AO17)","v":""},{"$f":"IF('生徒(データ入力②)'!AP17=\"\",\"\",'生徒(データ入力②)'!AP17)","v":""},{"$f":"IF('生徒(データ入力②)'!AQ17=\"\",\"\",'生徒(データ入力②)'!AQ17)","v":""},{"$f":"IF('生徒(データ入力②)'!AR17=\"\",\"\",'生徒(データ入力②)'!AR17)","v":""},{"$f":"IF('生徒(データ入力②)'!AS17=\"\",\"\",'生徒(データ入力②)'!AS17)","v":""},{"$f":"IF('生徒(データ入力②)'!AT17=\"\",\"\",'生徒(データ入力②)'!AT17)","v":""},{"$f":"IF('生徒(データ入力②)'!AU17=\"\",\"\",'生徒(データ入力②)'!AU17)","v":""},{"$f":"IF('生徒(データ入力②)'!AV17=\"\",\"\",'生徒(データ入力②)'!AV17)","v":""},{"$f":"IF('生徒(データ入力②)'!AW17=\"\",\"\",'生徒(データ入力②)'!AW17)","v":""},{"$f":"IF('生徒(データ入力②)'!AX17=\"\",\"\",'生徒(データ入力②)'!AX17)","v":""},{"$f":"IF('生徒(データ入力②)'!AY17=\"\",\"\",'生徒(データ入力②)'!AY17)","v":""},{"$f":"IF('生徒(データ入力②)'!AZ17=\"\",\"\",'生徒(データ入力②)'!AZ17)","v":""},{"$f":"IF('生徒(データ入力②)'!BA17=\"\",\"\",'生徒(データ入力②)'!BA17)","v":""},{"$f":"IF('生徒(データ入力②)'!BB17=\"\",\"\",'生徒(データ入力②)'!BB17)","v":""},{"$f":"IF('生徒(データ入力②)'!BC17=\"\",\"\",'生徒(データ入力②)'!BC17)","v":""},0,{"$error":"#DIV/0!"},null,0,{"$error":"#DIV/0!"},null,0,{"$error":"#DIV/0!"},null,0,{"$error":"#DIV/0!"},null,null,{"$error":"#DIV/0!"},{"$error":"#DIV/0!"},{"$error":"#DIV/0!"},{"$error":"#DIV/0!"},"共感的な人間関係平均",{"$f":"BG10+BG11+BG12+BG13+BG14","v":0},{"$f":"BJ10+BJ11+BJ12+BJ13+BJ14","v":0},{"$f":"BM10+BM11+BM12+BM13+BM14","v":0},{"$f":"BP10+BP11+BP12+BP13+BP14","v":0},{"$f":"SUM(BY8:CB8)","v":0},{"$f":"ROUND((BY8/$CC$8)*100,1)","v":{"$error":"#DIV/0!"}},{"$f":"ROUND((BZ8/$CC$8)*100,1)","v":{"$error":"#DIV/0!"}},{"$f":"ROUND((CA8/$CC$8)*100,1)","v":{"$error":"#DIV/0!"}},{"$f":"ROUND((CB8/$CC$8)*100,1)","v":{"$error":"#DIV/0!"}},null,{"$f":"BY8+BZ8","v":0},{"$f":"CA8+CB8","v":0},{"$f":"ROUND(CD8+CE8,1)","v":{"$error":"#DIV/0!"}},{"$f":"ROUND(CF8+CG8,1)","v":{"$error":"#DIV/0!"}}]
[null,null,{"$f":"'生徒(個人)'!B10","v":"私の学級では，私の考えや発言が取り上げられたり紹介されたりすることがある。"},{"$error":"#DIV/0!"},{"$error":"#DIV/0!"},{"$error":"#DIV/0!"},{"$error":"#DIV/0!"},null,{"$f":"IF('生徒(データ入力②)'!F10=\"\",\"\",'生徒(データ入力②)'!F10)","v":""},{"$f":"IF('生徒(データ入力②)'!G10=\"\",\"\",'生徒(データ入力②)'!G10)","v":""},{"$f":"IF('生徒(データ入力②)'!H10=\"\",\"\",'生徒(データ入力②)'!H10)","v":""},{"$f":"IF('生徒(データ入力②)'!I10=\"\",\"\",'生徒(データ入力②)'!I10)","v":""},{"$f":"IF('生徒(データ入力②)'!J10=\"\",\"\",'生徒(データ入力②)'!J10)","v":""},{"$f":"IF('生徒(データ入力②)'!K10=\"\",\"\",'生徒(データ入力②)'!K10)","v":""},{"$f":"IF('生徒(データ入力②)'!L10=\"\",\"\",'生徒(データ入力②)'!L10)","v":""},{"$f":"IF('生徒(データ入力②)'!M10=\"\",\"\",'生徒(データ入力②)'!M10)","v":""},{"$f":"IF('生徒(データ入力②)'!N10=\"\",\"\",'生徒(データ入力②)'!N10)","v":""},{"$f":"IF('生徒(データ入力②)'!O10=\"\",\"\",'生徒(データ入力②)'!O10)","v":""},{"$f":"IF('生徒(データ入力②)'!P10=\"\",\"\",'生徒(データ入力②)'!P10)","v":""},{"$f":"IF('生徒(データ入力②)'!Q10=\"\",\"\",'生徒(データ入力②)'!Q10)","v":""},{"$f":"IF('生徒(データ入力②)'!R10=\"\",\"\",'生徒(データ入力②)'!R10)","v":""},{"$f":"IF('生徒(データ入力②)'!S10=\"\",\"\",'生徒(データ入力②)'!S10)","v":""},{"$f":"IF('生徒(データ入力②)'!T10=\"\",\"\",'生徒(データ入力②)'!T10)","v":""},{"$f":"IF('生徒(データ入力②)'!U10=\"\",\"\",'生徒(データ入力②)'!U10)","v":""},{"$f":"IF('生徒(データ入力②)'!V10=\"\",\"\",'生徒(データ入力②)'!V10)","v":""},{"$f":"IF('生徒(データ入力②)'!W10=\"\",\"\",'生徒(データ入力②)'!W10)","v":""},{"$f":"IF('生徒(データ入力②)'!X10=\"\",\"\",'生徒(データ入力②)'!X10)","v":""},{"$f":"IF('生徒(データ入力②)'!Y10=\"\",\"\",'生徒(データ入力②)'!Y10)","v":""},{"$f":"IF('生徒(データ入力②)'!Z10=\"\",\"\",'生徒(データ入力②)'!Z10)","v":""},{"$f":"IF('生徒(データ入力②)'!AA10=\"\",\"\",'生徒(データ入力②)'!AA10)","v":""},{"$f":"IF('生徒(データ入力②)'!AB10=\"\",\"\",'生徒(データ入力②)'!AB10)","v":""},{"$f":"IF('生徒(データ入力②)'!AC10=\"\",\"\",'生徒(データ入力②)'!AC10)","v":""},{"$f":"IF('生徒(データ入力②)'!AD10=\"\",\"\",'生徒(データ入力②)'!AD10)","v":""},{"$f":"IF('生徒(データ入力②)'!AE10=\"\",\"\",'生徒(データ入力②)'!AE10)","v":""},{"$f":"IF('生徒(データ入力②)'!AF10=\"\",\"\",'生徒(データ入力②)'!AF10)","v":""},{"$f":"IF('生徒(データ入力②)'!AG10=\"\",\"\",'生徒(データ入力②)'!AG10)","v":""},{"$f":"IF('生徒(データ入力②)'!AH10=\"\",\"\",'生徒(データ入力②)'!AH10)","v":""},{"$f":"IF('生徒(データ入力②)'!AI10=\"\",\"\",'生徒(データ入力②)'!AI10)","v":""},{"$f":"IF('生徒(データ入力②)'!AJ10=\"\",\"\",'生徒(データ入力②)'!AJ10)","v":""},{"$f":"IF('生徒(データ入力②)'!AK10=\"\",\"\",'生徒(データ入力②)'!AK10)","v":""},{"$f":"IF('生徒(データ入力②)'!AL10=\"\",\"\",'生徒(データ入力②)'!AL10)","v":""},{"$f":"IF('生徒(データ入力②)'!AM10=\"\",\"\",'生徒(データ入力②)'!AM10)","v":""},{"$f":"IF('生徒(データ入力②)'!AN10=\"\",\"\",'生徒(データ入力②)'!AN10)","v":""},{"$f":"IF('生徒(データ入力②)'!AO10=\"\",\"\",'生徒(データ入力②)'!AO10)","v":""},{"$f":"IF('生徒(データ入力②)'!AP10=\"\",\"\",'生徒(データ入力②)'!AP10)","v":""},{"$f":"IF('生徒(データ入力②)'!AQ10=\"\",\"\",'生徒(データ入力②)'!AQ10)","v":""},{"$f":"IF('生徒(データ入力②)'!AR10=\"\",\"\",'生徒(データ入力②)'!AR10)","v":""},{"$f":"IF('生徒(データ入力②)'!AS10=\"\",\"\",'生徒(データ入力②)'!AS10)","v":""},{"$f":"IF('生徒(データ入力②)'!AT10=\"\",\"\",'生徒(データ入力②)'!AT10)","v":""},{"$f":"IF('生徒(データ入力②)'!AU10=\"\",\"\",'生徒(データ入力②)'!AU10)","v":""},{"$f":"IF('生徒(データ入力②)'!AV10=\"\",\"\",'生徒(データ入力②)'!AV10)","v":""},{"$f":"IF('生徒(データ入力②)'!AW10=\"\",\"\",'生徒(データ入力②)'!AW10)","v":""},{"$f":"IF('生徒(データ入力②)'!AX10=\"\",\"\",'生徒(データ入力②)'!AX10)","v":""},{"$f":"IF('生徒(データ入力②)'!AY10=\"\",\"\",'生徒(データ入力②)'!AY10)","v":""},{"$f":"IF('生徒(データ入力②)'!AZ10=\"\",\"\",'生徒(データ入力②)'!AZ10)","v":""},{"$f":"IF('生徒(データ入力②)'!BA10=\"\",\"\",'生徒(データ入力②)'!BA10)","v":""},{"$f":"IF('生徒(データ入力②)'!BB10=\"\",\"\",'生徒(データ入力②)'!BB10)","v":""},{"$f":"IF('生徒(データ入力②)'!BC10=\"\",\"\",'生徒(データ入力②)'!BC10)","v":""},0,{"$error":"#DIV/0!"},null,0,{"$error":"#DIV/0!"},null,0,{"$error":"#DIV/0!"},null,0,{"$error":"#DIV/0!"},null,null,{"$error":"#DIV/0!"},{"$error":"#DIV/0!"},{"$error":"#DIV/0!"},{"$error":"#DIV/0!"},"自己決定の場の提供平均",{"$f":"BG15+BG16+BG17+BG18+BG19","v":0},{"$f":"BJ15+BJ16+BJ17+BJ18+BJ19","v":0},{"$f":"BM15+BM16+BM17+BM18+BM19","v":0},{"$f":"BP15+BP16+BP17+BP18+BP19","v":0},0,{"$f":"ROUND((BY9/$CC$9)*100,1)","v":{"$error":"#DIV/0!"}},{"$f":"ROUND((BZ9/$CC$9)*100,1)","v":{"$error":"#DIV/0!"}},{"$f":"ROUND((CA9/$CC$9)*100,1)","v":{"$error":"#DIV/0!"}},{"$f":"ROUND((CB9/$CC$9)*100,1)","v":{"$error":"#DIV/0!"}},null,{"$f":"BY9+BZ9","v":0},{"$f":"CA9+CB9","v":0},{"$f":"ROUND(CD9+CE9,1)","v":{"$error":"#DIV/0!"}},{"$f":"ROUND(CF9+CG9,1)","v":{"$error":"#DIV/0!"}}]
[null,"教師や仲間から理解され受け入れられているという安心感",{"$f":"'生徒(個人)'!B11","v":"私の学級では，先生や友達は私の話を最後まで聞いてくれる。"},{"$error":"#DIV/0!"},{"$error":"#DIV/0!"},{"$error":"#DIV/0!"},{"$error":"#DIV/0!"},null,{"$f":"IF('生徒(データ入力②)'!F12=\"\",\"\",'生徒(データ入力②)'!F12)","v":""},{"$f":"IF('生徒(データ入力②)'!G12=\"\",\"\",'生徒(データ入力②)'!G12)","v":""},{"$f":"IF('生徒(データ入力②)'!H12=\"\",\"\",'生徒(データ入力②)'!H12)","v":""},{"$f":"IF('生徒(データ入力②)'!I12=\"\",\"\",'生徒(データ入力②)'!I12)","v":""},{"$f":"IF('生徒(データ入力②)'!J12=\"\",\"\",'生徒(データ入力②)'!J12)","v":""},{"$f":"IF('生徒(データ入力②)'!K12=\"\",\"\",'生徒(データ入力②)'!K12)","v":""},{"$f":"IF('生徒(データ入力②)'!L12=\"\",\"\",'生徒(データ入力②)'!L12)","v":""},{"$f":"IF('生徒(データ入力②)'!M12=\"\",\"\",'生徒(データ入力②)'!M12)","v":""},{"$f":"IF('生徒(データ入力②)'!N12=\"\",\"\",'生徒(データ入力②)'!N12)","v":""},{"$f":"IF('生徒(データ入力②)'!O12=\"\",\"\",'生徒(データ入力②)'!O12)","v":""},{"$f":"IF('生徒(データ入力②)'!P12=\"\",\"\",'生徒(データ入力②)'!P12)","v":""},{"$f":"IF('生徒(データ入力②)'!Q12=\"\",\"\",'生徒(データ入力②)'!Q12)","v":""},{"$f":"IF('生徒(データ入力②)'!R12=\"\",\"\",'生徒(データ入力②)'!R12)","v":""},{"$f":"IF('生徒(データ入力②)'!S12=\"\",\"\",'生徒(データ入力②)'!S12)","v":""},{"$f":"IF('生徒(データ入力②)'!T12=\"\",\"\",'生徒(データ入力②)'!T12)","v":""},{"$f":"IF('生徒(データ入力②)'!U12=\"\",\"\",'生徒(データ入力②)'!U12)","v":""},{"$f":"IF('生徒(データ入力②)'!V12=\"\",\"\",'生徒(データ入力②)'!V12)","v":""},{"$f":"IF('生徒(データ入力②)'!W12=\"\",\"\",'生徒(データ入力②)'!W12)","v":""},{"$f":"IF('生徒(データ入力②)'!X12=\"\",\"\",'生徒(データ入力②)'!X12)","v":""},{"$f":"IF('生徒(データ入力②)'!Y12=\"\",\"\",'生徒(データ入力②)'!Y12)","v":""},{"$f":"IF('生徒(データ入力②)'!Z12=\"\",\"\",'生徒(データ入力②)'!Z12)","v":""},{"$f":"IF('生徒(データ入力②)'!AA12=\"\",\"\",'生徒(データ入力②)'!AA12)","v":""},{"$f":"IF('生徒(データ入力②)'!AB12=\"\",\"\",'生徒(データ入力②)'!AB12)","v":""},{"$f":"IF('生徒(データ入力②)'!AC12=\"\",\"\",'生徒(データ入力②)'!AC12)","v":""},{"$f":"IF('生徒(データ入力②)'!AD12=\"\",\"\",'生徒(データ入力②)'!AD12)","v":""},{"$f":"IF('生徒(データ入力②)'!AE12=\"\",\"\",'生徒(データ入力②)'!AE12)","v":""},{"$f":"IF('生徒(データ入力②)'!AF12=\"\",\"\",'生徒(データ入力②)'!AF12)","v":""},{"$f":"IF('生徒(データ入力②)'!AG12=\"\",\"\",'生徒(データ入力②)'!AG12)","v":""},{"$f":"IF('生徒(データ入力②)'!AH12=\"\",\"\",'生徒(データ入力②)'!AH12)","v":""},{"$f":"IF('生徒(データ入力②)'!AI12=\"\",\"\",'生徒(データ入力②)'!AI12)","v":""},{"$f":"IF('生徒(データ入力②)'!AJ12=\"\",\"\",'生徒(データ入力②)'!AJ12)","v":""},{"$f":"IF('生徒(データ入力②)'!AK12=\"\",\"\",'生徒(データ入力②)'!AK12)","v":""},{"$f":"IF('生徒(データ入力②)'!AL12=\"\",\"\",'生徒(データ入力②)'!AL12)","v":""},{"$f":"IF('生徒(データ入力②)'!AM12=\"\",\"\",'生徒(データ入力②)'!AM12)","v":""},{"$f":"IF('生徒(データ入力②)'!AN12=\"\",\"\",'生徒(データ入力②)'!AN12)","v":""},{"$f":"IF('生徒(データ入力②)'!AO12=\"\",\"\",'生徒(データ入力②)'!AO12)","v":""},{"$f":"IF('生徒(データ入力②)'!AP12=\"\",\"\",'生徒(データ入力②)'!AP12)","v":""},{"$f":"IF('生徒(データ入力②)'!AQ12=\"\",\"\",'生徒(データ入力②)'!AQ12)","v":""},{"$f":"IF('生徒(データ入力②)'!AR12=\"\",\"\",'生徒(データ入力②)'!AR12)","v":""},{"$f":"IF('生徒(データ入力②)'!AS12=\"\",\"\",'生徒(データ入力②)'!AS12)","v":""},{"$f":"IF('生徒(データ入力②)'!AT12=\"\",\"\",'生徒(データ入力②)'!AT12)","v":""},{"$f":"IF('生徒(データ入力②)'!AU12=\"\",\"\",'生徒(データ入力②)'!AU12)","v":""},{"$f":"IF('生徒(データ入力②)'!AV12=\"\",\"\",'生徒(データ入力②)'!AV12)","v":""},{"$f":"IF('生徒(データ入力②)'!AW12=\"\",\"\",'生徒(データ入力②)'!AW12)","v":""},{"$f":"IF('生徒(データ入力②)'!AX12=\"\",\"\",'生徒(データ入力②)'!AX12)","v":""},{"$f":"IF('生徒(データ入力②)'!AY12=\"\",\"\",'生徒(データ入力②)'!AY12)","v":""},{"$f":"IF('生徒(データ入力②)'!AZ12=\"\",\"\",'生徒(データ入力②)'!AZ12)","v":""},{"$f":"IF('生徒(データ入力②)'!BA12=\"\",\"\",'生徒(データ入力②)'!BA12)","v":""},{"$f":"IF('生徒(データ入力②)'!BB12=\"\",\"\",'生徒(データ入力②)'!BB12)","v":""},{"$f":"IF('生徒(データ入力②)'!BC12=\"\",\"\",'生徒(データ入力②)'!BC12)","v":""},0,{"$error":"#DIV/0!"},null,0,{"$error":"#DIV/0!"},null,0,{"$error":"#DIV/0!"},null,0,{"$error":"#DIV/0!"},null,null,{"$error":"#DIV/0!"},{"$error":"#DIV/0!"},{"$error":"#DIV/0!"},{"$error":"#DIV/0!"},"安全・安心な風土の醸成平均",{"$f":"BG20+BG21+BG22+BG23+BG24","v":0},{"$f":"BJ20+BJ21+BJ22+BJ23+BJ24","v":0},{"$f":"BM20+BM21+BM22+BM23+BM24","v":0},{"$f":"BP20+BP21+BP22+BP23+BP24","v":0},0,{"$f":"ROUND((BY10/$CC$10)*100,1)","v":{"$error":"#DIV/0!"}},{"$f":"ROUND((BZ10/$CC$10)*100,1)","v":{"$error":"#DIV/0!"}},{"$f":"ROUND((CA10/$CC$10)*100,1)","v":{"$error":"#DIV/0!"}},{"$f":"ROUND((CB10/$CC$10)*100,1)","v":{"$error":"#DIV/0!"}},null,{"$f":"BY10+BZ10","v":0},{"$f":"CA10+CB10","v":0},{"$f":"ROUND(CD10+CE10,1)","v":{"$error":"#DIV/0!"}},{"$f":"ROUND(CF10+CG10,1)","v":{"$error":"#DIV/0!"}}]
[null,null,{"$f":"'生徒(個人)'!B12","v":"私の学級には，悩みや困りごとを相談できる先生や友達がいる。"},{"$error":"#DIV/0!"},{"$error":"#DIV/0!"},{"$error":"#DIV/0!"},{"$error":"#DIV/0!"},null,{"$f":"IF('生徒(データ入力②)'!F18=\"\",\"\",'生徒(データ入力②)'!F18)","v":""},{"$f":"IF('生徒(データ入力②)'!G18=\"\",\"\",'生徒(データ入力②)'!G18)","v":""},{"$f":"IF('生徒(データ入力②)'!H18=\"\",\"\",'生徒(データ入力②)'!H18)","v":""},{"$f":"IF('生徒(データ入力②)'!I18=\"\",\"\",'生徒(データ入力②)'!I18)","v":""},{"$f":"IF('生徒(データ入力②)'!J18=\"\",\"\",'生徒(データ入力②)'!J18)","v":""},{"$f":"IF('生徒(データ入力②)'!K18=\"\",\"\",'生徒(データ入力②)'!K18)","v":""},{"$f":"IF('生徒(データ入力②)'!L18=\"\",\"\",'生徒(データ入力②)'!L18)","v":""},{"$f":"IF('生徒(データ入力②)'!M18=\"\",\"\",'生徒(データ入力②)'!M18)","v":""},{"$f":"IF('生徒(データ入力②)'!N18=\"\",\"\",'生徒(データ入力②)'!N18)","v":""},{"$f":"IF('生徒(データ入力②)'!O18=\"\",\"\",'生徒(データ入力②)'!O18)","v":""},{"$f":"IF('生徒(データ入力②)'!P18=\"\",\"\",'生徒(データ入力②)'!P18)","v":""},{"$f":"IF('生徒(データ入力②)'!Q18=\"\",\"\",'生徒(データ入力②)'!Q18)","v":""},{"$f":"IF('生徒(データ入力②)'!R18=\"\",\"\",'生徒(データ入力②)'!R18)","v":""},{"$f":"IF('生徒(データ入力②)'!S18=\"\",\"\",'生徒(データ入力②)'!S18)","v":""},{"$f":"IF('生徒(データ入力②)'!T18=\"\",\"\",'生徒(データ入力②)'!T18)","v":""},{"$f":"IF('生徒(データ入力②)'!U18=\"\",\"\",'生徒(データ入力②)'!U18)","v":""},{"$f":"IF('生徒(データ入力②)'!V18=\"\",\"\",'生徒(データ入力②)'!V18)","v":""},{"$f":"IF('生徒(データ入力②)'!W18=\"\",\"\",'生徒(データ入力②)'!W18)","v":""},{"$f":"IF('生徒(データ入力②)'!X18=\"\",\"\",'生徒(データ入力②)'!X18)","v":""},{"$f":"IF('生徒(データ入力②)'!Y18=\"\",\"\",'生徒(データ入力②)'!Y18)","v":""},{"$f":"IF('生徒(データ入力②)'!Z18=\"\",\"\",'生徒(データ入力②)'!Z18)","v":""},{"$f":"IF('生徒(データ入力②)'!AA18=\"\",\"\",'生徒(データ入力②)'!AA18)","v":""},{"$f":"IF('生徒(データ入力②)'!AB18=\"\",\"\",'生徒(データ入力②)'!AB18)","v":""},{"$f":"IF('生徒(データ入力②)'!AC18=\"\",\"\",'生徒(データ入力②)'!AC18)","v":""},{"$f":"IF('生徒(データ入力②)'!AD18=\"\",\"\",'生徒(データ入力②)'!AD18)","v":""},{"$f":"IF('生徒(データ入力②)'!AE18=\"\",\"\",'生徒(データ入力②)'!AE18)","v":""},{"$f":"IF('生徒(データ入力②)'!AF18=\"\",\"\",'生徒(データ入力②)'!AF18)","v":""},{"$f":"IF('生徒(データ入力②)'!AG18=\"\",\"\",'生徒(データ入力②)'!AG18)","v":""},{"$f":"IF('生徒(データ入力②)'!AH18=\"\",\"\",'生徒(データ入力②)'!AH18)","v":""},{"$f":"IF('生徒(データ入力②)'!AI18=\"\",\"\",'生徒(データ入力②)'!AI18)","v":""},{"$f":"IF('生徒(データ入力②)'!AJ18=\"\",\"\",'生徒(データ入力②)'!AJ18)","v":""},{"$f":"IF('生徒(データ入力②)'!AK18=\"\",\"\",'生徒(データ入力②)'!AK18)","v":""},{"$f":"IF('生徒(データ入力②)'!AL18=\"\",\"\",'生徒(データ入力②)'!AL18)","v":""},{"$f":"IF('生徒(データ入力②)'!AM18=\"\",\"\",'生徒(データ入力②)'!AM18)","v":""},{"$f":"IF('生徒(データ入力②)'!AN18=\"\",\"\",'生徒(データ入力②)'!AN18)","v":""},{"$f":"IF('生徒(データ入力②)'!AO18=\"\",\"\",'生徒(データ入力②)'!AO18)","v":""},{"$f":"IF('生徒(データ入力②)'!AP18=\"\",\"\",'生徒(データ入力②)'!AP18)","v":""},{"$f":"IF('生徒(データ入力②)'!AQ18=\"\",\"\",'生徒(データ入力②)'!AQ18)","v":""},{"$f":"IF('生徒(データ入力②)'!AR18=\"\",\"\",'生徒(データ入力②)'!AR18)","v":""},{"$f":"IF('生徒(データ入力②)'!AS18=\"\",\"\",'生徒(データ入力②)'!AS18)","v":""},{"$f":"IF('生徒(データ入力②)'!AT18=\"\",\"\",'生徒(データ入力②)'!AT18)","v":""},{"$f":"IF('生徒(データ入力②)'!AU18=\"\",\"\",'生徒(データ入力②)'!AU18)","v":""},{"$f":"IF('生徒(データ入力②)'!AV18=\"\",\"\",'生徒(データ入力②)'!AV18)","v":""},{"$f":"IF('生徒(データ入力②)'!AW18=\"\",\"\",'生徒(データ入力②)'!AW18)","v":""},{"$f":"IF('生徒(データ入力②)'!AX18=\"\",\"\",'生徒(データ入力②)'!AX18)","v":""},{"$f":"IF('生徒(データ入力②)'!AY18=\"\",\"\",'生徒(データ入力②)'!AY18)","v":""},{"$f":"IF('生徒(データ入力②)'!AZ18=\"\",\"\",'生徒(データ入力②)'!AZ18)","v":""},{"$f":"IF('生徒(データ入力②)'!BA18=\"\",\"\",'生徒(データ入力②)'!BA18)","v":""},{"$f":"IF('生徒(データ入力②)'!BB18=\"\",\"\",'生徒(データ入力②)'!BB18)","v":""},{"$f":"IF('生徒(データ入力②)'!BC18=\"\",\"\",'生徒(データ入力②)'!BC18)","v":""},0,{"$error":"#DIV/0!"},null,0,{"$error":"#DIV/0!"},null,0,{"$error":"#DIV/0!"},null,0,{"$error":"#DIV/0!"},null,null,{"$error":"#DIV/0!"},{"$error":"#DIV/0!"},{"$error":"#DIV/0!"},{"$error":"#DIV/0!"},"そう思う",null,null,null,null,null,null,null,null,null,null,"肯定"]
[null,null,{"$f":"'生徒(個人)'!B13","v":"私の学級では，誰かの発言や行動を否定したり批判したりせずに尊重している。"},{"$error":"#DIV/0!"},{"$error":"#DIV/0!"},{"$error":"#DIV/0!"},{"$error":"#DIV/0!"},null,{"$f":"IF('生徒(データ入力②)'!F21=\"\",\"\",'生徒(データ入力②)'!F21)","v":""},{"$f":"IF('生徒(データ入力②)'!G21=\"\",\"\",'生徒(データ入力②)'!G21)","v":""},{"$f":"IF('生徒(データ入力②)'!H21=\"\",\"\",'生徒(データ入力②)'!H21)","v":""},{"$f":"IF('生徒(データ入力②)'!I21=\"\",\"\",'生徒(データ入力②)'!I21)","v":""},{"$f":"IF('生徒(データ入力②)'!J21=\"\",\"\",'生徒(データ入力②)'!J21)","v":""},{"$f":"IF('生徒(データ入力②)'!K21=\"\",\"\",'生徒(データ入力②)'!K21)","v":""},{"$f":"IF('生徒(データ入力②)'!L21=\"\",\"\",'生徒(データ入力②)'!L21)","v":""},{"$f":"IF('生徒(データ入力②)'!M21=\"\",\"\",'生徒(データ入力②)'!M21)","v":""},{"$f":"IF('生徒(データ入力②)'!N21=\"\",\"\",'生徒(データ入力②)'!N21)","v":""},{"$f":"IF('生徒(データ入力②)'!O21=\"\",\"\",'生徒(データ入力②)'!O21)","v":""},{"$f":"IF('生徒(データ入力②)'!P21=\"\",\"\",'生徒(データ入力②)'!P21)","v":""},{"$f":"IF('生徒(データ入力②)'!Q21=\"\",\"\",'生徒(データ入力②)'!Q21)","v":""},{"$f":"IF('生徒(データ入力②)'!R21=\"\",\"\",'生徒(データ入力②)'!R21)","v":""},{"$f":"IF('生徒(データ入力②)'!S21=\"\",\"\",'生徒(データ入力②)'!S21)","v":""},{"$f":"IF('生徒(データ入力②)'!T21=\"\",\"\",'生徒(データ入力②)'!T21)","v":""},{"$f":"IF('生徒(データ入力②)'!U21=\"\",\"\",'生徒(データ入力②)'!U21)","v":""},{"$f":"IF('生徒(データ入力②)'!V21=\"\",\"\",'生徒(データ入力②)'!V21)","v":""},{"$f":"IF('生徒(データ入力②)'!W21=\"\",\"\",'生徒(データ入力②)'!W21)","v":""},{"$f":"IF('生徒(データ入力②)'!X21=\"\",\"\",'生徒(データ入力②)'!X21)","v":""},{"$f":"IF('生徒(データ入力②)'!Y21=\"\",\"\",'生徒(データ入力②)'!Y21)","v":""},{"$f":"IF('生徒(データ入力②)'!Z21=\"\",\"\",'生徒(データ入力②)'!Z21)","v":""},{"$f":"IF('生徒(データ入力②)'!AA21=\"\",\"\",'生徒(データ入力②)'!AA21)","v":""},{"$f":"IF('生徒(データ入力②)'!AB21=\"\",\"\",'生徒(データ入力②)'!AB21)","v":""},{"$f":"IF('生徒(データ入力②)'!AC21=\"\",\"\",'生徒(データ入力②)'!AC21)","v":""},{"$f":"IF('生徒(データ入力②)'!AD21=\"\",\"\",'生徒(データ入力②)'!AD21)","v":""},{"$f":"IF('生徒(データ入力②)'!AE21=\"\",\"\",'生徒(データ入力②)'!AE21)","v":""},{"$f":"IF('生徒(データ入力②)'!AF21=\"\",\"\",'生徒(データ入力②)'!AF21)","v":""},{"$f":"IF('生徒(データ入力②)'!AG21=\"\",\"\",'生徒(データ入力②)'!AG21)","v":""},{"$f":"IF('生徒(データ入力②)'!AH21=\"\",\"\",'生徒(データ入力②)'!AH21)","v":""},{"$f":"IF('生徒(データ入力②)'!AI21=\"\",\"\",'生徒(データ入力②)'!AI21)","v":""},{"$f":"IF('生徒(データ入力②)'!AJ21=\"\",\"\",'生徒(データ入力②)'!AJ21)","v":""},{"$f":"IF('生徒(データ入力②)'!AK21=\"\",\"\",'生徒(データ入力②)'!AK21)","v":""},{"$f":"IF('生徒(データ入力②)'!AL21=\"\",\"\",'生徒(データ入力②)'!AL21)","v":""},{"$f":"IF('生徒(データ入力②)'!AM21=\"\",\"\",'生徒(データ入力②)'!AM21)","v":""},{"$f":"IF('生徒(データ入力②)'!AN21=\"\",\"\",'生徒(データ入力②)'!AN21)","v":""},{"$f":"IF('生徒(データ入力②)'!AO21=\"\",\"\",'生徒(データ入力②)'!AO21)","v":""},{"$f":"IF('生徒(データ入力②)'!AP21=\"\",\"\",'生徒(データ入力②)'!AP21)","v":""},{"$f":"IF('生徒(データ入力②)'!AQ21=\"\",\"\",'生徒(データ入力②)'!AQ21)","v":""},{"$f":"IF('生徒(データ入力②)'!AR21=\"\",\"\",'生徒(データ入力②)'!AR21)","v":""},{"$f":"IF('生徒(データ入力②)'!AS21=\"\",\"\",'生徒(データ入力②)'!AS21)","v":""},{"$f":"IF('生徒(データ入力②)'!AT21=\"\",\"\",'生徒(データ入力②)'!AT21)","v":""},{"$f":"IF('生徒(データ入力②)'!AU21=\"\",\"\",'生徒(データ入力②)'!AU21)","v":""},{"$f":"IF('生徒(データ入力②)'!AV21=\"\",\"\",'生徒(データ入力②)'!AV21)","v":""},{"$f":"IF('生徒(データ入力②)'!AW21=\"\",\"\",'生徒(データ入力②)'!AW21)","v":""},{"$f":"IF('生徒(データ入力②)'!AX21=\"\",\"\",'生徒(データ入力②)'!AX21)","v":""},{"$f":"IF('生徒(データ入力②)'!AY21=\"\",\"\",'生徒(データ入力②)'!AY21)","v":""},{"$f":"IF('生徒(データ入力②)'!AZ21=\"\",\"\",'生徒(データ入力②)'!AZ21)","v":""},{"$f":"IF('生徒(データ入力②)'!BA21=\"\",\"\",'生徒(データ入力②)'!BA21)","v":""},{"$f":"IF('生徒(データ入力②)'!BB21=\"\",\"\",'生徒(データ入力②)'!BB21)","v":""},{"$f":"IF('生徒(データ入力②)'!BC21=\"\",\"\",'生徒(データ入力②)'!BC21)","v":""},0,{"$error":"#DIV/0!"},null,0,{"$error":"#DIV/0!"},null,0,{"$error":"#DIV/0!"},null,0,{"$error":"#DIV/0!"},null,null,{"$error":"#DIV/0!"},{"$error":"#DIV/0!"},{"$error":"#DIV/0!"},{"$error":"#DIV/0!"},"少しそう思う",null,null,null,null,null,null,null,null,null,null,"否定"]
[null,null,{"$f":"'生徒(個人)'!B14","v":"私の学級では，みんなで協力して一つのことに取り組むことができる。"},{"$error":"#DIV/0!"},{"$error":"#DIV/0!"},{"$error":"#DIV/0!"},{"$error":"#DIV/0!"},null,{"$f":"IF('生徒(データ入力②)'!F6=\"\",\"\",'生徒(データ入力②)'!F6)","v":""},{"$f":"IF('生徒(データ入力②)'!G6=\"\",\"\",'生徒(データ入力②)'!G6)","v":""},{"$f":"IF('生徒(データ入力②)'!H6=\"\",\"\",'生徒(データ入力②)'!H6)","v":""},{"$f":"IF('生徒(データ入力②)'!I6=\"\",\"\",'生徒(データ入力②)'!I6)","v":""},{"$f":"IF('生徒(データ入力②)'!J6=\"\",\"\",'生徒(データ入力②)'!J6)","v":""},{"$f":"IF('生徒(データ入力②)'!K6=\"\",\"\",'生徒(データ入力②)'!K6)","v":""},{"$f":"IF('生徒(データ入力②)'!L6=\"\",\"\",'生徒(データ入力②)'!L6)","v":""},{"$f":"IF('生徒(データ入力②)'!M6=\"\",\"\",'生徒(データ入力②)'!M6)","v":""},{"$f":"IF('生徒(データ入力②)'!N6=\"\",\"\",'生徒(データ入力②)'!N6)","v":""},{"$f":"IF('生徒(データ入力②)'!O6=\"\",\"\",'生徒(データ入力②)'!O6)","v":""},{"$f":"IF('生徒(データ入力②)'!P6=\"\",\"\",'生徒(データ入力②)'!P6)","v":""},{"$f":"IF('生徒(データ入力②)'!Q6=\"\",\"\",'生徒(データ入力②)'!Q6)","v":""},{"$f":"IF('生徒(データ入力②)'!R6=\"\",\"\",'生徒(データ入力②)'!R6)","v":""},{"$f":"IF('生徒(データ入力②)'!S6=\"\",\"\",'生徒(データ入力②)'!S6)","v":""},{"$f":"IF('生徒(データ入力②)'!T6=\"\",\"\",'生徒(データ入力②)'!T6)","v":""},{"$f":"IF('生徒(データ入力②)'!U6=\"\",\"\",'生徒(データ入力②)'!U6)","v":""},{"$f":"IF('生徒(データ入力②)'!V6=\"\",\"\",'生徒(データ入力②)'!V6)","v":""},{"$f":"IF('生徒(データ入力②)'!W6=\"\",\"\",'生徒(データ入力②)'!W6)","v":""},{"$f":"IF('生徒(データ入力②)'!X6=\"\",\"\",'生徒(データ入力②)'!X6)","v":""},{"$f":"IF('生徒(データ入力②)'!Y6=\"\",\"\",'生徒(データ入力②)'!Y6)","v":""},{"$f":"IF('生徒(データ入力②)'!Z6=\"\",\"\",'生徒(データ入力②)'!Z6)","v":""},{"$f":"IF('生徒(データ入力②)'!AA6=\"\",\"\",'生徒(データ入力②)'!AA6)","v":""},{"$f":"IF('生徒(データ入力②)'!AB6=\"\",\"\",'生徒(データ入力②)'!AB6)","v":""},{"$f":"IF('生徒(データ入力②)'!AC6=\"\",\"\",'生徒(データ入力②)'!AC6)","v":""},{"$f":"IF('生徒(データ入力②)'!AD6=\"\",\"\",'生徒(データ入力②)'!AD6)","v":""},{"$f":"IF('生徒(データ入力②)'!AE6=\"\",\"\",'生徒(データ入力②)'!AE6)","v":""},{"$f":"IF('生徒(データ入力②)'!AF6=\"\",\"\",'生徒(データ入力②)'!AF6)","v":""},{"$f":"IF('生徒(データ入力②)'!AG6=\"\",\"\",'生徒(データ入力②)'!AG6)","v":""},{"$f":"IF('生徒(データ入力②)'!AH6=\"\",\"\",'生徒(データ入力②)'!AH6)","v":""},{"$f":"IF('生徒(データ入力②)'!AI6=\"\",\"\",'生徒(データ入力②)'!AI6)","v":""},{"$f":"IF('生徒(データ入力②)'!AJ6=\"\",\"\",'生徒(データ入力②)'!AJ6)","v":""},{"$f":"IF('生徒(データ入力②)'!AK6=\"\",\"\",'生徒(データ入力②)'!AK6)","v":""},{"$f":"IF('生徒(データ入力②)'!AL6=\"\",\"\",'生徒(データ入力②)'!AL6)","v":""},{"$f":"IF('生徒(データ入力②)'!AM6=\"\",\"\",'生徒(データ入力②)'!AM6)","v":""},{"$f":"IF('生徒(データ入力②)'!AN6=\"\",\"\",'生徒(データ入力②)'!AN6)","v":""},{"$f":"IF('生徒(データ入力②)'!AO6=\"\",\"\",'生徒(データ入力②)'!AO6)","v":""},{"$f":"IF('生徒(データ入力②)'!AP6=\"\",\"\",'生徒(データ入力②)'!AP6)","v":""},{"$f":"IF('生徒(データ入力②)'!AQ6=\"\",\"\",'生徒(データ入力②)'!AQ6)","v":""},{"$f":"IF('生徒(データ入力②)'!AR6=\"\",\"\",'生徒(データ入力②)'!AR6)","v":""},{"$f":"IF('生徒(データ入力②)'!AS6=\"\",\"\",'生徒(データ入力②)'!AS6)","v":""},{"$f":"IF('生徒(データ入力②)'!AT6=\"\",\"\",'生徒(データ入力②)'!AT6)","v":""},{"$f":"IF('生徒(データ入力②)'!AU6=\"\",\"\",'生徒(データ入力②)'!AU6)","v":""},{"$f":"IF('生徒(データ入力②)'!AV6=\"\",\"\",'生徒(データ入力②)'!AV6)","v":""},{"$f":"IF('生徒(データ入力②)'!AW6=\"\",\"\",'生徒(データ入力②)'!AW6)","v":""},{"$f":"IF('生徒(データ入力②)'!AX6=\"\",\"\",'生徒(データ入力②)'!AX6)","v":""},{"$f":"IF('生徒(データ入力②)'!AY6=\"\",\"\",'生徒(データ入力②)'!AY6)","v":""},{"$f":"IF('生徒(データ入力②)'!AZ6=\"\",\"\",'生徒(データ入力②)'!AZ6)","v":""},{"$f":"IF('生徒(データ入力②)'!BA6=\"\",\"\",'生徒(データ入力②)'!BA6)","v":""},{"$f":"IF('生徒(データ入力②)'!BB6=\"\",\"\",'生徒(データ入力②)'!BB6)","v":""},{"$f":"IF('生徒(データ入力②)'!BC6=\"\",\"\",'生徒(データ入力②)'!BC6)","v":""},0,{"$error":"#DIV/0!"},null,0,{"$error":"#DIV/0!"},null,0,{"$error":"#DIV/0!"},null,0,{"$error":"#DIV/0!"},null,null,{"$error":"#DIV/0!"},{"$error":"#DIV/0!"},{"$error":"#DIV/0!"},{"$error":"#DIV/0!"},"あまりそう思わない"]
[null,null,{"$f":"'生徒(個人)'!B15","v":"私の学級では，誰かのユーモアある発言に対し，学級が温かい笑いで包まれる雰囲気がある。"},{"$error":"#DIV/0!"},{"$error":"#DIV/0!"},{"$error":"#DIV/0!"},{"$error":"#DIV/0!"},null,{"$f":"IF('生徒(データ入力②)'!F9=\"\",\"\",'生徒(データ入力②)'!F9)","v":""},{"$f":"IF('生徒(データ入力②)'!G9=\"\",\"\",'生徒(データ入力②)'!G9)","v":""},{"$f":"IF('生徒(データ入力②)'!H9=\"\",\"\",'生徒(データ入力②)'!H9)","v":""},{"$f":"IF('生徒(データ入力②)'!I9=\"\",\"\",'生徒(データ入力②)'!I9)","v":""},{"$f":"IF('生徒(データ入力②)'!J9=\"\",\"\",'生徒(データ入力②)'!J9)","v":""},{"$f":"IF('生徒(データ入力②)'!K9=\"\",\"\",'生徒(データ入力②)'!K9)","v":""},{"$f":"IF('生徒(データ入力②)'!L9=\"\",\"\",'生徒(データ入力②)'!L9)","v":""},{"$f":"IF('生徒(データ入力②)'!M9=\"\",\"\",'生徒(データ入力②)'!M9)","v":""},{"$f":"IF('生徒(データ入力②)'!N9=\"\",\"\",'生徒(データ入力②)'!N9)","v":""},{"$f":"IF('生徒(データ入力②)'!O9=\"\",\"\",'生徒(データ入力②)'!O9)","v":""},{"$f":"IF('生徒(データ入力②)'!P9=\"\",\"\",'生徒(データ入力②)'!P9)","v":""},{"$f":"IF('生徒(データ入力②)'!Q9=\"\",\"\",'生徒(データ入力②)'!Q9)","v":""},{"$f":"IF('生徒(データ入力②)'!R9=\"\",\"\",'生徒(データ入力②)'!R9)","v":""},{"$f":"IF('生徒(データ入力②)'!S9=\"\",\"\",'生徒(データ入力②)'!S9)","v":""},{"$f":"IF('生徒(データ入力②)'!T9=\"\",\"\",'生徒(データ入力②)'!T9)","v":""},{"$f":"IF('生徒(データ入力②)'!U9=\"\",\"\",'生徒(データ入力②)'!U9)","v":""},{"$f":"IF('生徒(データ入力②)'!V9=\"\",\"\",'生徒(データ入力②)'!V9)","v":""},{"$f":"IF('生徒(データ入力②)'!W9=\"\",\"\",'生徒(データ入力②)'!W9)","v":""},{"$f":"IF('生徒(データ入力②)'!X9=\"\",\"\",'生徒(データ入力②)'!X9)","v":""},{"$f":"IF('生徒(データ入力②)'!Y9=\"\",\"\",'生徒(データ入力②)'!Y9)","v":""},{"$f":"IF('生徒(データ入力②)'!Z9=\"\",\"\",'生徒(データ入力②)'!Z9)","v":""},{"$f":"IF('生徒(データ入力②)'!AA9=\"\",\"\",'生徒(データ入力②)'!AA9)","v":""},{"$f":"IF('生徒(データ入力②)'!AB9=\"\",\"\",'生徒(データ入力②)'!AB9)","v":""},{"$f":"IF('生徒(データ入力②)'!AC9=\"\",\"\",'生徒(データ入力②)'!AC9)","v":""},{"$f":"IF('生徒(データ入力②)'!AD9=\"\",\"\",'生徒(データ入力②)'!AD9)","v":""},{"$f":"IF('生徒(データ入力②)'!AE9=\"\",\"\",'生徒(データ入力②)'!AE9)","v":""},{"$f":"IF('生徒(データ入力②)'!AF9=\"\",\"\",'生徒(データ入力②)'!AF9)","v":""},{"$f":"IF('生徒(データ入力②)'!AG9=\"\",\"\",'生徒(データ入力②)'!AG9)","v":""},{"$f":"IF('生徒(データ入力②)'!AH9=\"\",\"\",'生徒(データ入力②)'!AH9)","v":""},{"$f":"IF('生徒(データ入力②)'!AI9=\"\",\"\",'生徒(データ入力②)'!AI9)","v":""},{"$f":"IF('生徒(データ入力②)'!AJ9=\"\",\"\",'生徒(データ入力②)'!AJ9)","v":""},{"$f":"IF('生徒(データ入力②)'!AK9=\"\",\"\",'生徒(データ入力②)'!AK9)","v":""},{"$f":"IF('生徒(データ入力②)'!AL9=\"\",\"\",'生徒(データ入力②)'!AL9)","v":""},{"$f":"IF('生徒(データ入力②)'!AM9=\"\",\"\",'生徒(データ入力②)'!AM9)","v":""},{"$f":"IF('生徒(データ入力②)'!AN9=\"\",\"\",'生徒(データ入力②)'!AN9)","v":""},{"$f":"IF('生徒(データ入力②)'!AO9=\"\",\"\",'生徒(データ入力②)'!AO9)","v":""},{"$f":"IF('生徒(データ入力②)'!AP9=\"\",\"\",'生徒(データ入力②)'!AP9)","v":""},{"$f":"IF('生徒(データ入力②)'!AQ9=\"\",\"\",'生徒(データ入力②)'!AQ9)","v":""},{"$f":"IF('生徒(データ入力②)'!AR9=\"\",\"\",'生徒(データ入力②)'!AR9)","v":""},{"$f":"IF('生徒(データ入力②)'!AS9=\"\",\"\",'生徒(データ入力②)'!AS9)","v":""},{"$f":"IF('生徒(データ入力②)'!AT9=\"\",\"\",'生徒(データ入力②)'!AT9)","v":""},{"$f":"IF('生徒(データ入力②)'!AU9=\"\",\"\",'生徒(データ入力②)'!AU9)","v":""},{"$f":"IF('生徒(データ入力②)'!AV9=\"\",\"\",'生徒(データ入力②)'!AV9)","v":""},{"$f":"IF('生徒(データ入力②)'!AW9=\"\",\"\",'生徒(データ入力②)'!AW9)","v":""},{"$f":"IF('生徒(データ入力②)'!AX9=\"\",\"\",'生徒(データ入力②)'!AX9)","v":""},{"$f":"IF('生徒(データ入力②)'!AY9=\"\",\"\",'生徒(データ入力②)'!AY9)","v":""},{"$f":"IF('生徒(データ入力②)'!AZ9=\"\",\"\",'生徒(データ入力②)'!AZ9)","v":""},{"$f":"IF('生徒(データ入力②)'!BA9=\"\",\"\",'生徒(データ入力②)'!BA9)","v":""},{"$f":"IF('生徒(データ入力②)'!BB9=\"\",\"\",'生徒(データ入力②)'!BB9)","v":""},{"$f":"IF('生徒(データ入力②)'!BC9=\"\",\"\",'生徒(データ入力②)'!BC9)","v":""},0,{"$error":"#DIV/0!"},null,0,{"$error":"#DIV/0!"},null,0,{"$error":"#DIV/0!"},null,0,{"$error":"#DIV/0!"},null,null,{"$error":"#DIV/0!"},{"$error":"#DIV/0!"},{"$error":"#DIV/0!"},{"$error":"#DIV/0!"},"そう思わない"]
[null,"自分の考え、選択、決定が尊重されているという安心感",{"$f":"'生徒(個人)'!B16","v":"私の学級では，自分（たち）で学習や生活の目標を決め，振り返りをしている。"},{"$error":"#DIV/0!"},{"$error":"#DIV/0!"},{"$error":"#DIV/0!"},{"$error":"#DIV/0!"},null,{"$f":"IF('生徒(データ入力②)'!F5=\"\",\"\",'生徒(データ入力②)'!F5)","v":""},{"$f":"IF('生徒(データ入力②)'!G5=\"\",\"\",'生徒(データ入力②)'!G5)","v":""},{"$f":"IF('生徒(データ入力②)'!H5=\"\",\"\",'生徒(データ入力②)'!H5)","v":""},{"$f":"IF('生徒(データ入力②)'!I5=\"\",\"\",'生徒(データ入力②)'!I5)","v":""},{"$f":"IF('生徒(データ入力②)'!J5=\"\",\"\",'生徒(データ入力②)'!J5)","v":""},{"$f":"IF('生徒(データ入力②)'!K5=\"\",\"\",'生徒(データ入力②)'!K5)","v":""},{"$f":"IF('生徒(データ入力②)'!L5=\"\",\"\",'生徒(データ入力②)'!L5)","v":""},{"$f":"IF('生徒(データ入力②)'!M5=\"\",\"\",'生徒(データ入力②)'!M5)","v":""},{"$f":"IF('生徒(データ入力②)'!N5=\"\",\"\",'生徒(データ入力②)'!N5)","v":""},{"$f":"IF('生徒(データ入力②)'!O5=\"\",\"\",'生徒(データ入力②)'!O5)","v":""},{"$f":"IF('生徒(データ入力②)'!P5=\"\",\"\",'生徒(データ入力②)'!P5)","v":""},{"$f":"IF('生徒(データ入力②)'!Q5=\"\",\"\",'生徒(データ入力②)'!Q5)","v":""},{"$f":"IF('生徒(データ入力②)'!R5=\"\",\"\",'生徒(データ入力②)'!R5)","v":""},{"$f":"IF('生徒(データ入力②)'!S5=\"\",\"\",'生徒(データ入力②)'!S5)","v":""},{"$f":"IF('生徒(データ入力②)'!T5=\"\",\"\",'生徒(データ入力②)'!T5)","v":""},{"$f":"IF('生徒(データ入力②)'!U5=\"\",\"\",'生徒(データ入力②)'!U5)","v":""},{"$f":"IF('生徒(データ入力②)'!V5=\"\",\"\",'生徒(データ入力②)'!V5)","v":""},{"$f":"IF('生徒(データ入力②)'!W5=\"\",\"\",'生徒(データ入力②)'!W5)","v":""},{"$f":"IF('生徒(データ入力②)'!X5=\"\",\"\",'生徒(データ入力②)'!X5)","v":""},{"$f":"IF('生徒(データ入力②)'!Y5=\"\",\"\",'生徒(データ入力②)'!Y5)","v":""},{"$f":"IF('生徒(データ入力②)'!Z5=\"\",\"\",'生徒(データ入力②)'!Z5)","v":""},{"$f":"IF('生徒(データ入力②)'!AA5=\"\",\"\",'生徒(データ入力②)'!AA5)","v":""},{"$f":"IF('生徒(データ入力②)'!AB5=\"\",\"\",'生徒(データ入力②)'!AB5)","v":""},{"$f":"IF('生徒(データ入力②)'!AC5=\"\",\"\",'生徒(データ入力②)'!AC5)","v":""},{"$f":"IF('生徒(データ入力②)'!AD5=\"\",\"\",'生徒(データ入力②)'!AD5)","v":""},{"$f":"IF('生徒(データ入力②)'!AE5=\"\",\"\",'生徒(データ入力②)'!AE5)","v":""},{"$f":"IF('生徒(データ入力②)'!AF5=\"\",\"\",'生徒(データ入力②)'!AF5)","v":""},{"$f":"IF('生徒(データ入力②)'!AG5=\"\",\"\",'生徒(データ入力②)'!AG5)","v":""},{"$f":"IF('生徒(データ入力②)'!AH5=\"\",\"\",'生徒(データ入力②)'!AH5)","v":""},{"$f":"IF('生徒(データ入力②)'!AI5=\"\",\"\",'生徒(データ入力②)'!AI5)","v":""},{"$f":"IF('生徒(データ入力②)'!AJ5=\"\",\"\",'生徒(データ入力②)'!AJ5)","v":""},{"$f":"IF('生徒(データ入力②)'!AK5=\"\",\"\",'生徒(データ入力②)'!AK5)","v":""},{"$f":"IF('生徒(データ入力②)'!AL5=\"\",\"\",'生徒(データ入力②)'!AL5)","v":""},{"$f":"IF('生徒(データ入力②)'!AM5=\"\",\"\",'生徒(データ入力②)'!AM5)","v":""},{"$f":"IF('生徒(データ入力②)'!AN5=\"\",\"\",'生徒(データ入力②)'!AN5)","v":""},{"$f":"IF('生徒(データ入力②)'!AO5=\"\",\"\",'生徒(データ入力②)'!AO5)","v":""},{"$f":"IF('生徒(データ入力②)'!AP5=\"\",\"\",'生徒(データ入力②)'!AP5)","v":""},{"$f":"IF('生徒(データ入力②)'!AQ5=\"\",\"\",'生徒(データ入力②)'!AQ5)","v":""},{"$f":"IF('生徒(データ入力②)'!AR5=\"\",\"\",'生徒(データ入力②)'!AR5)","v":""},{"$f":"IF('生徒(データ入力②)'!AS5=\"\",\"\",'生徒(データ入力②)'!AS5)","v":""},{"$f":"IF('生徒(データ入力②)'!AT5=\"\",\"\",'生徒(データ入力②)'!AT5)","v":""},{"$f":"IF('生徒(データ入力②)'!AU5=\"\",\"\",'生徒(データ入力②)'!AU5)","v":""},{"$f":"IF('生徒(データ入力②)'!AV5=\"\",\"\",'生徒(データ入力②)'!AV5)","v":""},{"$f":"IF('生徒(データ入力②)'!AW5=\"\",\"\",'生徒(データ入力②)'!AW5)","v":""},{"$f":"IF('生徒(データ入力②)'!AX5=\"\",\"\",'生徒(データ入力②)'!AX5)","v":""},{"$f":"IF('生徒(データ入力②)'!AY5=\"\",\"\",'生徒(データ入力②)'!AY5)","v":""},{"$f":"IF('生徒(データ入力②)'!AZ5=\"\",\"\",'生徒(データ入力②)'!AZ5)","v":""},{"$f":"IF('生徒(データ入力②)'!BA5=\"\",\"\",'生徒(データ入力②)'!BA5)","v":""},{"$f":"IF('生徒(データ入力②)'!BB5=\"\",\"\",'生徒(データ入力②)'!BB5)","v":""},{"$f":"IF('生徒(データ入力②)'!BC5=\"\",\"\",'生徒(データ入力②)'!BC5)","v":""},0,{"$error":"#DIV/0!"},null,0,{"$error":"#DIV/0!"},null,0,{"$error":"#DIV/0!"},null,0,{"$error":"#DIV/0!"},null,null,{"$error":"#DIV/0!"},{"$error":"#DIV/0!"},{"$error":"#DIV/0!"},{"$error":"#DIV/0!"}]
[null,null,{"$f":"'生徒(個人)'!B17","v":"私の学級では，話合いなど自分たちが中心となって活動する場面が多くある。"},{"$error":"#DIV/0!"},{"$error":"#DIV/0!"},{"$error":"#DIV/0!"},{"$error":"#DIV/0!"},null,{"$f":"IF('生徒(データ入力②)'!F24=\"\",\"\",'生徒(データ入力②)'!F24)","v":""},{"$f":"IF('生徒(データ入力②)'!G24=\"\",\"\",'生徒(データ入力②)'!G24)","v":""},{"$f":"IF('生徒(データ入力②)'!H24=\"\",\"\",'生徒(データ入力②)'!H24)","v":""},{"$f":"IF('生徒(データ入力②)'!I24=\"\",\"\",'生徒(データ入力②)'!I24)","v":""},{"$f":"IF('生徒(データ入力②)'!J24=\"\",\"\",'生徒(データ入力②)'!J24)","v":""},{"$f":"IF('生徒(データ入力②)'!K24=\"\",\"\",'生徒(データ入力②)'!K24)","v":""},{"$f":"IF('生徒(データ入力②)'!L24=\"\",\"\",'生徒(データ入力②)'!L24)","v":""},{"$f":"IF('生徒(データ入力②)'!M24=\"\",\"\",'生徒(データ入力②)'!M24)","v":""},{"$f":"IF('生徒(データ入力②)'!N24=\"\",\"\",'生徒(データ入力②)'!N24)","v":""},{"$f":"IF('生徒(データ入力②)'!O24=\"\",\"\",'生徒(データ入力②)'!O24)","v":""},{"$f":"IF('生徒(データ入力②)'!P24=\"\",\"\",'生徒(データ入力②)'!P24)","v":""},{"$f":"IF('生徒(データ入力②)'!Q24=\"\",\"\",'生徒(データ入力②)'!Q24)","v":""},{"$f":"IF('生徒(データ入力②)'!R24=\"\",\"\",'生徒(データ入力②)'!R24)","v":""},{"$f":"IF('生徒(データ入力②)'!S24=\"\",\"\",'生徒(データ入力②)'!S24)","v":""},{"$f":"IF('生徒(データ入力②)'!T24=\"\",\"\",'生徒(データ入力②)'!T24)","v":""},{"$f":"IF('生徒(データ入力②)'!U24=\"\",\"\",'生徒(データ入力②)'!U24)","v":""},{"$f":"IF('生徒(データ入力②)'!V24=\"\",\"\",'生徒(データ入力②)'!V24)","v":""},{"$f":"IF('生徒(データ入力②)'!W24=\"\",\"\",'生徒(データ入力②)'!W24)","v":""},{"$f":"IF('生徒(データ入力②)'!X24=\"\",\"\",'生徒(データ入力②)'!X24)","v":""},{"$f":"IF('生徒(データ入力②)'!Y24=\"\",\"\",'生徒(データ入力②)'!Y24)","v":""},{"$f":"IF('生徒(データ入力②)'!Z24=\"\",\"\",'生徒(データ入力②)'!Z24)","v":""},{"$f":"IF('生徒(データ入力②)'!AA24=\"\",\"\",'生徒(データ入力②)'!AA24)","v":""},{"$f":"IF('生徒(データ入力②)'!AB24=\"\",\"\",'生徒(データ入力②)'!AB24)","v":""},{"$f":"IF('生徒(データ入力②)'!AC24=\"\",\"\",'生徒(データ入力②)'!AC24)","v":""},{"$f":"IF('生徒(データ入力②)'!AD24=\"\",\"\",'生徒(データ入力②)'!AD24)","v":""},{"$f":"IF('生徒(データ入力②)'!AE24=\"\",\"\",'生徒(データ入力②)'!AE24)","v":""},{"$f":"IF('生徒(データ入力②)'!AF24=\"\",\"\",'生徒(データ入力②)'!AF24)","v":""},{"$f":"IF('生徒(データ入力②)'!AG24=\"\",\"\",'生徒(データ入力②)'!AG24)","v":""},{"$f":"IF('生徒(データ入力②)'!AH24=\"\",\"\",'生徒(データ入力②)'!AH24)","v":""},{"$f":"IF('生徒(データ入力②)'!AI24=\"\",\"\",'生徒(データ入力②)'!AI24)","v":""},{"$f":"IF('生徒(データ入力②)'!AJ24=\"\",\"\",'生徒(データ入力②)'!AJ24)","v":""},{"$f":"IF('生徒(データ入力②)'!AK24=\"\",\"\",'生徒(データ入力②)'!AK24)","v":""},{"$f":"IF('生徒(データ入力②)'!AL24=\"\",\"\",'生徒(データ入力②)'!AL24)","v":""},{"$f":"IF('生徒(データ入力②)'!AM24=\"\",\"\",'生徒(データ入力②)'!AM24)","v":""},{"$f":"IF('生徒(データ入力②)'!AN24=\"\",\"\",'生徒(データ入力②)'!AN24)","v":""},{"$f":"IF('生徒(データ入力②)'!AO24=\"\",\"\",'生徒(データ入力②)'!AO24)","v":""},{"$f":"IF('生徒(データ入力②)'!AP24=\"\",\"\",'生徒(データ入力②)'!AP24)","v":""},{"$f":"IF('生徒(データ入力②)'!AQ24=\"\",\"\",'生徒(データ入力②)'!AQ24)","v":""},{"$f":"IF('生徒(データ入力②)'!AR24=\"\",\"\",'生徒(データ入力②)'!AR24)","v":""},{"$f":"IF('生徒(データ入力②)'!AS24=\"\",\"\",'生徒(データ入力②)'!AS24)","v":""},{"$f":"IF('生徒(データ入力②)'!AT24=\"\",\"\",'生徒(データ入力②)'!AT24)","v":""},{"$f":"IF('生徒(データ入力②)'!AU24=\"\",\"\",'生徒(データ入力②)'!AU24)","v":""},{"$f":"IF('生徒(データ入力②)'!AV24=\"\",\"\",'生徒(データ入力②)'!AV24)","v":""},{"$f":"IF('生徒(データ入力②)'!AW24=\"\",\"\",'生徒(データ入力②)'!AW24)","v":""},{"$f":"IF('生徒(データ入力②)'!AX24=\"\",\"\",'生徒(データ入力②)'!AX24)","v":""},{"$f":"IF('生徒(データ入力②)'!AY24=\"\",\"\",'生徒(データ入力②)'!AY24)","v":""},{"$f":"IF('生徒(データ入力②)'!AZ24=\"\",\"\",'生徒(データ入力②)'!AZ24)","v":""},{"$f":"IF('生徒(データ入力②)'!BA24=\"\",\"\",'生徒(データ入力②)'!BA24)","v":""},{"$f":"IF('生徒(データ入力②)'!BB24=\"\",\"\",'生徒(データ入力②)'!BB24)","v":""},{"$f":"IF('生徒(データ入力②)'!BC24=\"\",\"\",'生徒(データ入力②)'!BC24)","v":""},0,{"$error":"#DIV/0!"},null,0,{"$error":"#DIV/0!"},null,0,{"$error":"#DIV/0!"},null,0,{"$error":"#DIV/0!"},null,null,{"$error":"#DIV/0!"},{"$error":"#DIV/0!"},{"$error":"#DIV/0!"},{"$error":"#DIV/0!"}]
[null,null,{"$f":"'生徒(個人)'!B18","v":"私の学級では，自分で調べたり制作したりするときに，先生や友達からアドバイスをもらえる。"},{"$error":"#DIV/0!"},{"$error":"#DIV/0!"},{"$error":"#DIV/0!"},{"$error":"#DIV/0!"},null,{"$f":"IF('生徒(データ入力②)'!F13=\"\",\"\",'生徒(データ入力②)'!F13)","v":""},{"$f":"IF('生徒(データ入力②)'!G13=\"\",\"\",'生徒(データ入力②)'!G13)","v":""},{"$f":"IF('生徒(データ入力②)'!H13=\"\",\"\",'生徒(データ入力②)'!H13)","v":""},{"$f":"IF('生徒(データ入力②)'!I13=\"\",\"\",'生徒(データ入力②)'!I13)","v":""},{"$f":"IF('生徒(データ入力②)'!J13=\"\",\"\",'生徒(データ入力②)'!J13)","v":""},{"$f":"IF('生徒(データ入力②)'!K13=\"\",\"\",'生徒(データ入力②)'!K13)","v":""},{"$f":"IF('生徒(データ入力②)'!L13=\"\",\"\",'生徒(データ入力②)'!L13)","v":""},{"$f":"IF('生徒(データ入力②)'!M13=\"\",\"\",'生徒(データ入力②)'!M13)","v":""},{"$f":"IF('生徒(データ入力②)'!N13=\"\",\"\",'生徒(データ入力②)'!N13)","v":""},{"$f":"IF('生徒(データ入力②)'!O13=\"\",\"\",'生徒(データ入力②)'!O13)","v":""},{"$f":"IF('生徒(データ入力②)'!P13=\"\",\"\",'生徒(データ入力②)'!P13)","v":""},{"$f":"IF('生徒(データ入力②)'!Q13=\"\",\"\",'生徒(データ入力②)'!Q13)","v":""},{"$f":"IF('生徒(データ入力②)'!R13=\"\",\"\",'生徒(データ入力②)'!R13)","v":""},{"$f":"IF('生徒(データ入力②)'!S13=\"\",\"\",'生徒(データ入力②)'!S13)","v":""},{"$f":"IF('生徒(データ入力②)'!T13=\"\",\"\",'生徒(データ入力②)'!T13)","v":""},{"$f":"IF('生徒(データ入力②)'!U13=\"\",\"\",'生徒(データ入力②)'!U13)","v":""},{"$f":"IF('生徒(データ入力②)'!V13=\"\",\"\",'生徒(データ入力②)'!V13)","v":""},{"$f":"IF('生徒(データ入力②)'!W13=\"\",\"\",'生徒(データ入力②)'!W13)","v":""},{"$f":"IF('生徒(データ入力②)'!X13=\"\",\"\",'生徒(データ入力②)'!X13)","v":""},{"$f":"IF('生徒(データ入力②)'!Y13=\"\",\"\",'生徒(データ入力②)'!Y13)","v":""},{"$f":"IF('生徒(データ入力②)'!Z13=\"\",\"\",'生徒(データ入力②)'!Z13)","v":""},{"$f":"IF('生徒(データ入力②)'!AA13=\"\",\"\",'生徒(データ入力②)'!AA13)","v":""},{"$f":"IF('生徒(データ入力②)'!AB13=\"\",\"\",'生徒(データ入力②)'!AB13)","v":""},{"$f":"IF('生徒(データ入力②)'!AC13=\"\",\"\",'生徒(データ入力②)'!AC13)","v":""},{"$f":"IF('生徒(データ入力②)'!AD13=\"\",\"\",'生徒(データ入力②)'!AD13)","v":""},{"$f":"IF('生徒(データ入力②)'!AE13=\"\",\"\",'生徒(データ入力②)'!AE13)","v":""},{"$f":"IF('生徒(データ入力②)'!AF13=\"\",\"\",'生徒(データ入力②)'!AF13)","v":""},{"$f":"IF('生徒(データ入力②)'!AG13=\"\",\"\",'生徒(データ入力②)'!AG13)","v":""},{"$f":"IF('生徒(データ入力②)'!AH13=\"\",\"\",'生徒(データ入力②)'!AH13)","v":""},{"$f":"IF('生徒(データ入力②)'!AI13=\"\",\"\",'生徒(データ入力②)'!AI13)","v":""},{"$f":"IF('生徒(データ入力②)'!AJ13=\"\",\"\",'生徒(データ入力②)'!AJ13)","v":""},{"$f":"IF('生徒(データ入力②)'!AK13=\"\",\"\",'生徒(データ入力②)'!AK13)","v":""},{"$f":"IF('生徒(データ入力②)'!AL13=\"\",\"\",'生徒(データ入力②)'!AL13)","v":""},{"$f":"IF('生徒(データ入力②)'!AM13=\"\",\"\",'生徒(データ入力②)'!AM13)","v":""},{"$f":"IF('生徒(データ入力②)'!AN13=\"\",\"\",'生徒(データ入力②)'!AN13)","v":""},{"$f":"IF('生徒(データ入力②)'!AO13=\"\",\"\",'生徒(データ入力②)'!AO13)","v":""},{"$f":"IF('生徒(データ入力②)'!AP13=\"\",\"\",'生徒(データ入力②)'!AP13)","v":""},{"$f":"IF('生徒(データ入力②)'!AQ13=\"\",\"\",'生徒(データ入力②)'!AQ13)","v":""},{"$f":"IF('生徒(データ入力②)'!AR13=\"\",\"\",'生徒(データ入力②)'!AR13)","v":""},{"$f":"IF('生徒(データ入力②)'!AS13=\"\",\"\",'生徒(データ入力②)'!AS13)","v":""},{"$f":"IF('生徒(データ入力②)'!AT13=\"\",\"\",'生徒(データ入力②)'!AT13)","v":""},{"$f":"IF('生徒(データ入力②)'!AU13=\"\",\"\",'生徒(データ入力②)'!AU13)","v":""},{"$f":"IF('生徒(データ入力②)'!AV13=\"\",\"\",'生徒(データ入力②)'!AV13)","v":""},{"$f":"IF('生徒(データ入力②)'!AW13=\"\",\"\",'生徒(データ入力②)'!AW13)","v":""},{"$f":"IF('生徒(データ入力②)'!AX13=\"\",\"\",'生徒(データ入力②)'!AX13)","v":""},{"$f":"IF('生徒(データ入力②)'!AY13=\"\",\"\",'生徒(データ入力②)'!AY13)","v":""},{"$f":"IF('生徒(データ入力②)'!AZ13=\"\",\"\",'生徒(データ入力②)'!AZ13)","v":""},{"$f":"IF('生徒(データ入力②)'!BA13=\"\",\"\",'生徒(データ入力②)'!BA13)","v":""},{"$f":"IF('生徒(データ入力②)'!BB13=\"\",\"\",'生徒(データ入力②)'!BB13)","v":""},{"$f":"IF('生徒(データ入力②)'!BC13=\"\",\"\",'生徒(データ入力②)'!BC13)","v":""},0,{"$error":"#DIV/0!"},null,0,{"$error":"#DIV/0!"},null,0,{"$error":"#DIV/0!"},null,0,{"$error":"#DIV/0!"},null,null,{"$error":"#DIV/0!"},{"$error":"#DIV/0!"},{"$error":"#DIV/0!"},{"$error":"#DIV/0!"}]
[null,null,{"$f":"'生徒(個人)'!B19","v":"私の学級では，私の考えを伝えたいと思える場面や機会がある。"},{"$error":"#DIV/0!"},{"$error":"#DIV/0!"},{"$error":"#DIV/0!"},{"$error":"#DIV/0!"},null,{"$f":"IF('生徒(データ入力②)'!F7=\"\",\"\",'生徒(データ入力②)'!F7)","v":""},{"$f":"IF('生徒(データ入力②)'!G7=\"\",\"\",'生徒(データ入力②)'!G7)","v":""},{"$f":"IF('生徒(データ入力②)'!H7=\"\",\"\",'生徒(データ入力②)'!H7)","v":""},{"$f":"IF('生徒(データ入力②)'!I7=\"\",\"\",'生徒(データ入力②)'!I7)","v":""},{"$f":"IF('生徒(データ入力②)'!J7=\"\",\"\",'生徒(データ入力②)'!J7)","v":""},{"$f":"IF('生徒(データ入力②)'!K7=\"\",\"\",'生徒(データ入力②)'!K7)","v":""},{"$f":"IF('生徒(データ入力②)'!L7=\"\",\"\",'生徒(データ入力②)'!L7)","v":""},{"$f":"IF('生徒(データ入力②)'!M7=\"\",\"\",'生徒(データ入力②)'!M7)","v":""},{"$f":"IF('生徒(データ入力②)'!N7=\"\",\"\",'生徒(データ入力②)'!N7)","v":""},{"$f":"IF('生徒(データ入力②)'!O7=\"\",\"\",'生徒(データ入力②)'!O7)","v":""},{"$f":"IF('生徒(データ入力②)'!P7=\"\",\"\",'生徒(データ入力②)'!P7)","v":""},{"$f":"IF('生徒(データ入力②)'!Q7=\"\",\"\",'生徒(データ入力②)'!Q7)","v":""},{"$f":"IF('生徒(データ入力②)'!R7=\"\",\"\",'生徒(データ入力②)'!R7)","v":""},{"$f":"IF('生徒(データ入力②)'!S7=\"\",\"\",'生徒(データ入力②)'!S7)","v":""},{"$f":"IF('生徒(データ入力②)'!T7=\"\",\"\",'生徒(データ入力②)'!T7)","v":""},{"$f":"IF('生徒(データ入力②)'!U7=\"\",\"\",'生徒(データ入力②)'!U7)","v":""},{"$f":"IF('生徒(データ入力②)'!V7=\"\",\"\",'生徒(データ入力②)'!V7)","v":""},{"$f":"IF('生徒(データ入力②)'!W7=\"\",\"\",'生徒(データ入力②)'!W7)","v":""},{"$f":"IF('生徒(データ入力②)'!X7=\"\",\"\",'生徒(データ入力②)'!X7)","v":""},{"$f":"IF('生徒(データ入力②)'!Y7=\"\",\"\",'生徒(データ入力②)'!Y7)","v":""},{"$f":"IF('生徒(データ入力②)'!Z7=\"\",\"\",'生徒(データ入力②)'!Z7)","v":""},{"$f":"IF('生徒(データ入力②)'!AA7=\"\",\"\",'生徒(データ入力②)'!AA7)","v":""},{"$f":"IF('生徒(データ入力②)'!AB7=\"\",\"\",'生徒(データ入力②)'!AB7)","v":""},{"$f":"IF('生徒(データ入力②)'!AC7=\"\",\"\",'生徒(データ入力②)'!AC7)","v":""},{"$f":"IF('生徒(データ入力②)'!AD7=\"\",\"\",'生徒(データ入力②)'!AD7)","v":""},{"$f":"IF('生徒(データ入力②)'!AE7=\"\",\"\",'生徒(データ入力②)'!AE7)","v":""},{"$f":"IF('生徒(データ入力②)'!AF7=\"\",\"\",'生徒(データ入力②)'!AF7)","v":""},{"$f":"IF('生徒(データ入力②)'!AG7=\"\",\"\",'生徒(データ入力②)'!AG7)","v":""},{"$f":"IF('生徒(データ入力②)'!AH7=\"\",\"\",'生徒(データ入力②)'!AH7)","v":""},{"$f":"IF('生徒(データ入力②)'!AI7=\"\",\"\",'生徒(データ入力②)'!AI7)","v":""},{"$f":"IF('生徒(データ入力②)'!AJ7=\"\",\"\",'生徒(データ入力②)'!AJ7)","v":""},{"$f":"IF('生徒(データ入力②)'!AK7=\"\",\"\",'生徒(データ入力②)'!AK7)","v":""},{"$f":"IF('生徒(データ入力②)'!AL7=\"\",\"\",'生徒(データ入力②)'!AL7)","v":""},{"$f":"IF('生徒(データ入力②)'!AM7=\"\",\"\",'生徒(データ入力②)'!AM7)","v":""},{"$f":"IF('生徒(データ入力②)'!AN7=\"\",\"\",'生徒(データ入力②)'!AN7)","v":""},{"$f":"IF('生徒(データ入力②)'!AO7=\"\",\"\",'生徒(データ入力②)'!AO7)","v":""},{"$f":"IF('生徒(データ入力②)'!AP7=\"\",\"\",'生徒(データ入力②)'!AP7)","v":""},{"$f":"IF('生徒(データ入力②)'!AQ7=\"\",\"\",'生徒(データ入力②)'!AQ7)","v":""},{"$f":"IF('生徒(データ入力②)'!AR7=\"\",\"\",'生徒(データ入力②)'!AR7)","v":""},{"$f":"IF('生徒(データ入力②)'!AS7=\"\",\"\",'生徒(データ入力②)'!AS7)","v":""},{"$f":"IF('生徒(データ入力②)'!AT7=\"\",\"\",'生徒(データ入力②)'!AT7)","v":""},{"$f":"IF('生徒(データ入力②)'!AU7=\"\",\"\",'生徒(データ入力②)'!AU7)","v":""},{"$f":"IF('生徒(データ入力②)'!AV7=\"\",\"\",'生徒(データ入力②)'!AV7)","v":""},{"$f":"IF('生徒(データ入力②)'!AW7=\"\",\"\",'生徒(データ入力②)'!AW7)","v":""},{"$f":"IF('生徒(データ入力②)'!AX7=\"\",\"\",'生徒(データ入力②)'!AX7)","v":""},{"$f":"IF('生徒(データ入力②)'!AY7=\"\",\"\",'生徒(データ入力②)'!AY7)","v":""},{"$f":"IF('生徒(データ入力②)'!AZ7=\"\",\"\",'生徒(データ入力②)'!AZ7)","v":""},{"$f":"IF('生徒(データ入力②)'!BA7=\"\",\"\",'生徒(データ入力②)'!BA7)","v":""},{"$f":"IF('生徒(データ入力②)'!BB7=\"\",\"\",'生徒(データ入力②)'!BB7)","v":""},{"$f":"IF('生徒(データ入力②)'!BC7=\"\",\"\",'生徒(データ入力②)'!BC7)","v":""},0,{"$error":"#DIV/0!"},null,0,{"$error":"#DIV/0!"},null,0,{"$error":"#DIV/0!"},null,0,{"$error":"#DIV/0!"},null,null,{"$error":"#DIV/0!"},{"$error":"#DIV/0!"},{"$error":"#DIV/0!"},{"$error":"#DIV/0!"}]
[null,null,{"$f":"'生徒(個人)'!B20","v":"私の学級では，自分一人で考える場面で，必要な情報が示されている。"},{"$error":"#DIV/0!"},{"$error":"#DIV/0!"},{"$error":"#DIV/0!"},{"$error":"#DIV/0!"},null,{"$f":"IF('生徒(データ入力②)'!F16=\"\",\"\",'生徒(データ入力②)'!F16)","v":""},{"$f":"IF('生徒(データ入力②)'!G16=\"\",\"\",'生徒(データ入力②)'!G16)","v":""},{"$f":"IF('生徒(データ入力②)'!H16=\"\",\"\",'生徒(データ入力②)'!H16)","v":""},{"$f":"IF('生徒(データ入力②)'!I16=\"\",\"\",'生徒(データ入力②)'!I16)","v":""},{"$f":"IF('生徒(データ入力②)'!J16=\"\",\"\",'生徒(データ入力②)'!J16)","v":""},{"$f":"IF('生徒(データ入力②)'!K16=\"\",\"\",'生徒(データ入力②)'!K16)","v":""},{"$f":"IF('生徒(データ入力②)'!L16=\"\",\"\",'生徒(データ入力②)'!L16)","v":""},{"$f":"IF('生徒(データ入力②)'!M16=\"\",\"\",'生徒(データ入力②)'!M16)","v":""},{"$f":"IF('生徒(データ入力②)'!N16=\"\",\"\",'生徒(データ入力②)'!N16)","v":""},{"$f":"IF('生徒(データ入力②)'!O16=\"\",\"\",'生徒(データ入力②)'!O16)","v":""},{"$f":"IF('生徒(データ入力②)'!P16=\"\",\"\",'生徒(データ入力②)'!P16)","v":""},{"$f":"IF('生徒(データ入力②)'!Q16=\"\",\"\",'生徒(データ入力②)'!Q16)","v":""},{"$f":"IF('生徒(データ入力②)'!R16=\"\",\"\",'生徒(データ入力②)'!R16)","v":""},{"$f":"IF('生徒(データ入力②)'!S16=\"\",\"\",'生徒(データ入力②)'!S16)","v":""},{"$f":"IF('生徒(データ入力②)'!T16=\"\",\"\",'生徒(データ入力②)'!T16)","v":""},{"$f":"IF('生徒(データ入力②)'!U16=\"\",\"\",'生徒(データ入力②)'!U16)","v":""},{"$f":"IF('生徒(データ入力②)'!V16=\"\",\"\",'生徒(データ入力②)'!V16)","v":""},{"$f":"IF('生徒(データ入力②)'!W16=\"\",\"\",'生徒(データ入力②)'!W16)","v":""},{"$f":"IF('生徒(データ入力②)'!X16=\"\",\"\",'生徒(データ入力②)'!X16)","v":""},{"$f":"IF('生徒(データ入力②)'!Y16=\"\",\"\",'生徒(データ入力②)'!Y16)","v":""},{"$f":"IF('生徒(データ入力②)'!Z16=\"\",\"\",'生徒(データ入力②)'!Z16)","v":""},{"$f":"IF('生徒(データ入力②)'!AA16=\"\",\"\",'生徒(データ入力②)'!AA16)","v":""},{"$f":"IF('生徒(データ入力②)'!AB16=\"\",\"\",'生徒(データ入力②)'!AB16)","v":""},{"$f":"IF('生徒(データ入力②)'!AC16=\"\",\"\",'生徒(データ入力②)'!AC16)","v":""},{"$f":"IF('生徒(データ入力②)'!AD16=\"\",\"\",'生徒(データ入力②)'!AD16)","v":""},{"$f":"IF('生徒(データ入力②)'!AE16=\"\",\"\",'生徒(データ入力②)'!AE16)","v":""},{"$f":"IF('生徒(データ入力②)'!AF16=\"\",\"\",'生徒(データ入力②)'!AF16)","v":""},{"$f":"IF('生徒(データ入力②)'!AG16=\"\",\"\",'生徒(データ入力②)'!AG16)","v":""},{"$f":"IF('生徒(データ入力②)'!AH16=\"\",\"\",'生徒(データ入力②)'!AH16)","v":""},{"$f":"IF('生徒(データ入力②)'!AI16=\"\",\"\",'生徒(データ入力②)'!AI16)","v":""},{"$f":"IF('生徒(データ入力②)'!AJ16=\"\",\"\",'生徒(データ入力②)'!AJ16)","v":""},{"$f":"IF('生徒(データ入力②)'!AK16=\"\",\"\",'生徒(データ入力②)'!AK16)","v":""},{"$f":"IF('生徒(データ入力②)'!AL16=\"\",\"\",'生徒(データ入力②)'!AL16)","v":""},{"$f":"IF('生徒(データ入力②)'!AM16=\"\",\"\",'生徒(データ入力②)'!AM16)","v":""},{"$f":"IF('生徒(データ入力②)'!AN16=\"\",\"\",'生徒(データ入力②)'!AN16)","v":""},{"$f":"IF('生徒(データ入力②)'!AO16=\"\",\"\",'生徒(データ入力②)'!AO16)","v":""},{"$f":"IF('生徒(データ入力②)'!AP16=\"\",\"\",'生徒(データ入力②)'!AP16)","v":""},{"$f":"IF('生徒(データ入力②)'!AQ16=\"\",\"\",'生徒(データ入力②)'!AQ16)","v":""},{"$f":"IF('生徒(データ入力②)'!AR16=\"\",\"\",'生徒(データ入力②)'!AR16)","v":""},{"$f":"IF('生徒(データ入力②)'!AS16=\"\",\"\",'生徒(データ入力②)'!AS16)","v":""},{"$f":"IF('生徒(データ入力②)'!AT16=\"\",\"\",'生徒(データ入力②)'!AT16)","v":""},{"$f":"IF('生徒(データ入力②)'!AU16=\"\",\"\",'生徒(データ入力②)'!AU16)","v":""},{"$f":"IF('生徒(データ入力②)'!AV16=\"\",\"\",'生徒(データ入力②)'!AV16)","v":""},{"$f":"IF('生徒(データ入力②)'!AW16=\"\",\"\",'生徒(データ入力②)'!AW16)","v":""},{"$f":"IF('生徒(データ入力②)'!AX16=\"\",\"\",'生徒(データ入力②)'!AX16)","v":""},{"$f":"IF('生徒(データ入力②)'!AY16=\"\",\"\",'生徒(データ入力②)'!AY16)","v":""},{"$f":"IF('生徒(データ入力②)'!AZ16=\"\",\"\",'生徒(データ入力②)'!AZ16)","v":""},{"$f":"IF('生徒(データ入力②)'!BA16=\"\",\"\",'生徒(データ入力②)'!BA16)","v":""},{"$f":"IF('生徒(データ入力②)'!BB16=\"\",\"\",'生徒(データ入力②)'!BB16)","v":""},{"$f":"IF('生徒(データ入力②)'!BC16=\"\",\"\",'生徒(データ入力②)'!BC16)","v":""},0,{"$error":"#DIV/0!"},null,0,{"$error":"#DIV/0!"},null,0,{"$error":"#DIV/0!"},null,0,{"$error":"#DIV/0!"},null,null,{"$error":"#DIV/0!"},{"$error":"#DIV/0!"},{"$error":"#DIV/0!"},{"$error":"#DIV/0!"}]
[null,"ルールが守られ他者から傷つけられないという安心感",{"$f":"'生徒(個人)'!B21","v":"私の学級では，係活動や清掃など，みんなが自分の役割に責任を持って取り組んでいる。"},{"$error":"#DIV/0!"},{"$error":"#DIV/0!"},{"$error":"#DIV/0!"},{"$error":"#DIV/0!"},null,{"$f":"IF('生徒(データ入力②)'!F14=\"\",\"\",'生徒(データ入力②)'!F14)","v":""},{"$f":"IF('生徒(データ入力②)'!G14=\"\",\"\",'生徒(データ入力②)'!G14)","v":""},{"$f":"IF('生徒(データ入力②)'!H14=\"\",\"\",'生徒(データ入力②)'!H14)","v":""},{"$f":"IF('生徒(データ入力②)'!I14=\"\",\"\",'生徒(データ入力②)'!I14)","v":""},{"$f":"IF('生徒(データ入力②)'!J14=\"\",\"\",'生徒(データ入力②)'!J14)","v":""},{"$f":"IF('生徒(データ入力②)'!K14=\"\",\"\",'生徒(データ入力②)'!K14)","v":""},{"$f":"IF('生徒(データ入力②)'!L14=\"\",\"\",'生徒(データ入力②)'!L14)","v":""},{"$f":"IF('生徒(データ入力②)'!M14=\"\",\"\",'生徒(データ入力②)'!M14)","v":""},{"$f":"IF('生徒(データ入力②)'!N14=\"\",\"\",'生徒(データ入力②)'!N14)","v":""},{"$f":"IF('生徒(データ入力②)'!O14=\"\",\"\",'生徒(データ入力②)'!O14)","v":""},{"$f":"IF('生徒(データ入力②)'!P14=\"\",\"\",'生徒(データ入力②)'!P14)","v":""},{"$f":"IF('生徒(データ入力②)'!Q14=\"\",\"\",'生徒(データ入力②)'!Q14)","v":""},{"$f":"IF('生徒(データ入力②)'!R14=\"\",\"\",'生徒(データ入力②)'!R14)","v":""},{"$f":"IF('生徒(データ入力②)'!S14=\"\",\"\",'生徒(データ入力②)'!S14)","v":""},{"$f":"IF('生徒(データ入力②)'!T14=\"\",\"\",'生徒(データ入力②)'!T14)","v":""},{"$f":"IF('生徒(データ入力②)'!U14=\"\",\"\",'生徒(データ入力②)'!U14)","v":""},{"$f":"IF('生徒(データ入力②)'!V14=\"\",\"\",'生徒(データ入力②)'!V14)","v":""},{"$f":"IF('生徒(データ入力②)'!W14=\"\",\"\",'生徒(データ入力②)'!W14)","v":""},{"$f":"IF('生徒(データ入力②)'!X14=\"\",\"\",'生徒(データ入力②)'!X14)","v":""},{"$f":"IF('生徒(データ入力②)'!Y14=\"\",\"\",'生徒(データ入力②)'!Y14)","v":""},{"$f":"IF('生徒(データ入力②)'!Z14=\"\",\"\",'生徒(データ入力②)'!Z14)","v":""},{"$f":"IF('生徒(データ入力②)'!AA14=\"\",\"\",'生徒(データ入力②)'!AA14)","v":""},{"$f":"IF('生徒(データ入力②)'!AB14=\"\",\"\",'生徒(データ入力②)'!AB14)","v":""},{"$f":"IF('生徒(データ入力②)'!AC14=\"\",\"\",'生徒(データ入力②)'!AC14)","v":""},{"$f":"IF('生徒(データ入力②)'!AD14=\"\",\"\",'生徒(データ入力②)'!AD14)","v":""},{"$f":"IF('生徒(データ入力②)'!AE14=\"\",\"\",'生徒(データ入力②)'!AE14)","v":""},{"$f":"IF('生徒(データ入力②)'!AF14=\"\",\"\",'生徒(データ入力②)'!AF14)","v":""},{"$f":"IF('生徒(データ入力②)'!AG14=\"\",\"\",'生徒(データ入力②)'!AG14)","v":""},{"$f":"IF('生徒(データ入力②)'!AH14=\"\",\"\",'生徒(データ入力②)'!AH14)","v":""},{"$f":"IF('生徒(データ入力②)'!AI14=\"\",\"\",'生徒(データ入力②)'!AI14)","v":""},{"$f":"IF('生徒(データ入力②)'!AJ14=\"\",\"\",'生徒(データ入力②)'!AJ14)","v":""},{"$f":"IF('生徒(データ入力②)'!AK14=\"\",\"\",'生徒(データ入力②)'!AK14)","v":""},{"$f":"IF('生徒(データ入力②)'!AL14=\"\",\"\",'生徒(データ入力②)'!AL14)","v":""},{"$f":"IF('生徒(データ入力②)'!AM14=\"\",\"\",'生徒(データ入力②)'!AM14)","v":""},{"$f":"IF('生徒(データ入力②)'!AN14=\"\",\"\",'生徒(データ入力②)'!AN14)","v":""},{"$f":"IF('生徒(データ入力②)'!AO14=\"\",\"\",'生徒(データ入力②)'!AO14)","v":""},{"$f":"IF('生徒(データ入力②)'!AP14=\"\",\"\",'生徒(データ入力②)'!AP14)","v":""},{"$f":"IF('生徒(データ入力②)'!AQ14=\"\",\"\",'生徒(データ入力②)'!AQ14)","v":""},{"$f":"IF('生徒(データ入力②)'!AR14=\"\",\"\",'生徒(データ入力②)'!AR14)","v":""},{"$f":"IF('生徒(データ入力②)'!AS14=\"\",\"\",'生徒(データ入力②)'!AS14)","v":""},{"$f":"IF('生徒(データ入力②)'!AT14=\"\",\"\",'生徒(データ入力②)'!AT14)","v":""},{"$f":"IF('生徒(データ入力②)'!AU14=\"\",\"\",'生徒(データ入力②)'!AU14)","v":""},{"$f":"IF('生徒(データ入力②)'!AV14=\"\",\"\",'生徒(データ入力②)'!AV14)","v":""},{"$f":"IF('生徒(データ入力②)'!AW14=\"\",\"\",'生徒(データ入力②)'!AW14)","v":""},{"$f":"IF('生徒(データ入力②)'!AX14=\"\",\"\",'生徒(データ入力②)'!AX14)","v":""},{"$f":"IF('生徒(データ入力②)'!AY14=\"\",\"\",'生徒(データ入力②)'!AY14)","v":""},{"$f":"IF('生徒(データ入力②)'!AZ14=\"\",\"\",'生徒(データ入力②)'!AZ14)","v":""},{"$f":"IF('生徒(データ入力②)'!BA14=\"\",\"\",'生徒(データ入力②)'!BA14)","v":""},{"$f":"IF('生徒(データ入力②)'!BB14=\"\",\"\",'生徒(データ入力②)'!BB14)","v":""},{"$f":"IF('生徒(データ入力②)'!BC14=\"\",\"\",'生徒(データ入力②)'!BC14)","v":""},0,{"$error":"#DIV/0!"},null,0,{"$error":"#DIV/0!"},null,0,{"$error":"#DIV/0!"},null,0,{"$error":"#DIV/0!"},null,null,{"$error":"#DIV/0!"},{"$error":"#DIV/0!"},{"$error":"#DIV/0!"},{"$error":"#DIV/0!"}]
[null,null,{"$f":"'生徒(個人)'!B22","v":"私の学級には，友達の間違いや失敗を冷やかしたり，からかったりしない雰囲気がある。"},{"$error":"#DIV/0!"},{"$error":"#DIV/0!"},{"$error":"#DIV/0!"},{"$error":"#DIV/0!"},null,{"$f":"IF('生徒(データ入力②)'!F8=\"\",\"\",'生徒(データ入力②)'!F8)","v":""},{"$f":"IF('生徒(データ入力②)'!G8=\"\",\"\",'生徒(データ入力②)'!G8)","v":""},{"$f":"IF('生徒(データ入力②)'!H8=\"\",\"\",'生徒(データ入力②)'!H8)","v":""},{"$f":"IF('生徒(データ入力②)'!I8=\"\",\"\",'生徒(データ入力②)'!I8)","v":""},{"$f":"IF('生徒(データ入力②)'!J8=\"\",\"\",'生徒(データ入力②)'!J8)","v":""},{"$f":"IF('生徒(データ入力②)'!K8=\"\",\"\",'生徒(データ入力②)'!K8)","v":""},{"$f":"IF('生徒(データ入力②)'!L8=\"\",\"\",'生徒(データ入力②)'!L8)","v":""},{"$f":"IF('生徒(データ入力②)'!M8=\"\",\"\",'生徒(データ入力②)'!M8)","v":""},{"$f":"IF('生徒(データ入力②)'!N8=\"\",\"\",'生徒(データ入力②)'!N8)","v":""},{"$f":"IF('生徒(データ入力②)'!O8=\"\",\"\",'生徒(データ入力②)'!O8)","v":""},{"$f":"IF('生徒(データ入力②)'!P8=\"\",\"\",'生徒(データ入力②)'!P8)","v":""},{"$f":"IF('生徒(データ入力②)'!Q8=\"\",\"\",'生徒(データ入力②)'!Q8)","v":""},{"$f":"IF('生徒(データ入力②)'!R8=\"\",\"\",'生徒(データ入力②)'!R8)","v":""},{"$f":"IF('生徒(データ入力②)'!S8=\"\",\"\",'生徒(データ入力②)'!S8)","v":""},{"$f":"IF('生徒(データ入力②)'!T8=\"\",\"\",'生徒(データ入力②)'!T8)","v":""},{"$f":"IF('生徒(データ入力②)'!U8=\"\",\"\",'生徒(データ入力②)'!U8)","v":""},{"$f":"IF('生徒(データ入力②)'!V8=\"\",\"\",'生徒(データ入力②)'!V8)","v":""},{"$f":"IF('生徒(データ入力②)'!W8=\"\",\"\",'生徒(データ入力②)'!W8)","v":""},{"$f":"IF('生徒(データ入力②)'!X8=\"\",\"\",'生徒(データ入力②)'!X8)","v":""},{"$f":"IF('生徒(データ入力②)'!Y8=\"\",\"\",'生徒(データ入力②)'!Y8)","v":""},{"$f":"IF('生徒(データ入力②)'!Z8=\"\",\"\",'生徒(データ入力②)'!Z8)","v":""},{"$f":"IF('生徒(データ入力②)'!AA8=\"\",\"\",'生徒(データ入力②)'!AA8)","v":""},{"$f":"IF('生徒(データ入力②)'!AB8=\"\",\"\",'生徒(データ入力②)'!AB8)","v":""},{"$f":"IF('生徒(データ入力②)'!AC8=\"\",\"\",'生徒(データ入力②)'!AC8)","v":""},{"$f":"IF('生徒(データ入力②)'!AD8=\"\",\"\",'生徒(データ入力②)'!AD8)","v":""},{"$f":"IF('生徒(データ入力②)'!AE8=\"\",\"\",'生徒(データ入力②)'!AE8)","v":""},{"$f":"IF('生徒(データ入力②)'!AF8=\"\",\"\",'生徒(データ入力②)'!AF8)","v":""},{"$f":"IF('生徒(データ入力②)'!AG8=\"\",\"\",'生徒(データ入力②)'!AG8)","v":""},{"$f":"IF('生徒(データ入力②)'!AH8=\"\",\"\",'生徒(データ入力②)'!AH8)","v":""},{"$f":"IF('生徒(データ入力②)'!AI8=\"\",\"\",'生徒(データ入力②)'!AI8)","v":""},{"$f":"IF('生徒(データ入力②)'!AJ8=\"\",\"\",'生徒(データ入力②)'!AJ8)","v":""},{"$f":"IF('生徒(データ入力②)'!AK8=\"\",\"\",'生徒(データ入力②)'!AK8)","v":""},{"$f":"IF('生徒(データ入力②)'!AL8=\"\",\"\",'生徒(データ入力②)'!AL8)","v":""},{"$f":"IF('生徒(データ入力②)'!AM8=\"\",\"\",'生徒(データ入力②)'!AM8)","v":""},{"$f":"IF('生徒(データ入力②)'!AN8=\"\",\"\",'生徒(データ入力②)'!AN8)","v":""},{"$f":"IF('生徒(データ入力②)'!AO8=\"\",\"\",'生徒(データ入力②)'!AO8)","v":""},{"$f":"IF('生徒(データ入力②)'!AP8=\"\",\"\",'生徒(データ入力②)'!AP8)","v":""},{"$f":"IF('生徒(データ入力②)'!AQ8=\"\",\"\",'生徒(データ入力②)'!AQ8)","v":""},{"$f":"IF('生徒(データ入力②)'!AR8=\"\",\"\",'生徒(データ入力②)'!AR8)","v":""},{"$f":"IF('生徒(データ入力②)'!AS8=\"\",\"\",'生徒(データ入力②)'!AS8)","v":""},{"$f":"IF('生徒(データ入力②)'!AT8=\"\",\"\",'生徒(データ入力②)'!AT8)","v":""},{"$f":"IF('生徒(データ入力②)'!AU8=\"\",\"\",'生徒(データ入力②)'!AU8)","v":""},{"$f":"IF('生徒(データ入力②)'!AV8=\"\",\"\",'生徒(データ入力②)'!AV8)","v":""},{"$f":"IF('生徒(データ入力②)'!AW8=\"\",\"\",'生徒(データ入力②)'!AW8)","v":""},{"$f":"IF('生徒(データ入力②)'!AX8=\"\",\"\",'生徒(データ入力②)'!AX8)","v":""},{"$f":"IF('生徒(データ入力②)'!AY8=\"\",\"\",'生徒(データ入力②)'!AY8)","v":""},{"$f":"IF('生徒(データ入力②)'!AZ8=\"\",\"\",'生徒(データ入力②)'!AZ8)","v":""},{"$f":"IF('生徒(データ入力②)'!BA8=\"\",\"\",'生徒(データ入力②)'!BA8)","v":""},{"$f":"IF('生徒(データ入力②)'!BB8=\"\",\"\",'生徒(データ入力②)'!BB8)","v":""},{"$f":"IF('生徒(データ入力②)'!BC8=\"\",\"\",'生徒(データ入力②)'!BC8)","v":""},0,{"$error":"#DIV/0!"},null,0,{"$error":"#DIV/0!"},null,0,{"$error":"#DIV/0!"},null,0,{"$error":"#DIV/0!"},null,null,{"$error":"#DIV/0!"},{"$error":"#DIV/0!"},{"$error":"#DIV/0!"},{"$error":"#DIV/0!"}]
[null,null,{"$f":"'生徒(個人)'!B23","v":"私の学級には，周りの迷惑になる言動をしてはいけない雰囲気がある。"},{"$error":"#DIV/0!"},{"$error":"#DIV/0!"},{"$error":"#DIV/0!"},{"$error":"#DIV/0!"},null,{"$f":"IF('生徒(データ入力②)'!F15=\"\",\"\",'生徒(データ入力②)'!F15)","v":""},{"$f":"IF('生徒(データ入力②)'!G15=\"\",\"\",'生徒(データ入力②)'!G15)","v":""},{"$f":"IF('生徒(データ入力②)'!H15=\"\",\"\",'生徒(データ入力②)'!H15)","v":""},{"$f":"IF('生徒(データ入力②)'!I15=\"\",\"\",'生徒(データ入力②)'!I15)","v":""},{"$f":"IF('生徒(データ入力②)'!J15=\"\",\"\",'生徒(データ入力②)'!J15)","v":""},{"$f":"IF('生徒(データ入力②)'!K15=\"\",\"\",'生徒(データ入力②)'!K15)","v":""},{"$f":"IF('生徒(データ入力②)'!L15=\"\",\"\",'生徒(データ入力②)'!L15)","v":""},{"$f":"IF('生徒(データ入力②)'!M15=\"\",\"\",'生徒(データ入力②)'!M15)","v":""},{"$f":"IF('生徒(データ入力②)'!N15=\"\",\"\",'生徒(データ入力②)'!N15)","v":""},{"$f":"IF('生徒(データ入力②)'!O15=\"\",\"\",'生徒(データ入力②)'!O15)","v":""},{"$f":"IF('生徒(データ入力②)'!P15=\"\",\"\",'生徒(データ入力②)'!P15)","v":""},{"$f":"IF('生徒(データ入力②)'!Q15=\"\",\"\",'生徒(データ入力②)'!Q15)","v":""},{"$f":"IF('生徒(データ入力②)'!R15=\"\",\"\",'生徒(データ入力②)'!R15)","v":""},{"$f":"IF('生徒(データ入力②)'!S15=\"\",\"\",'生徒(データ入力②)'!S15)","v":""},{"$f":"IF('生徒(データ入力②)'!T15=\"\",\"\",'生徒(データ入力②)'!T15)","v":""},{"$f":"IF('生徒(データ入力②)'!U15=\"\",\"\",'生徒(データ入力②)'!U15)","v":""},{"$f":"IF('生徒(データ入力②)'!V15=\"\",\"\",'生徒(データ入力②)'!V15)","v":""},{"$f":"IF('生徒(データ入力②)'!W15=\"\",\"\",'生徒(データ入力②)'!W15)","v":""},{"$f":"IF('生徒(データ入力②)'!X15=\"\",\"\",'生徒(データ入力②)'!X15)","v":""},{"$f":"IF('生徒(データ入力②)'!Y15=\"\",\"\",'生徒(データ入力②)'!Y15)","v":""},{"$f":"IF('生徒(データ入力②)'!Z15=\"\",\"\",'生徒(データ入力②)'!Z15)","v":""},{"$f":"IF('生徒(データ入力②)'!AA15=\"\",\"\",'生徒(データ入力②)'!AA15)","v":""},{"$f":"IF('生徒(データ入力②)'!AB15=\"\",\"\",'生徒(データ入力②)'!AB15)","v":""},{"$f":"IF('生徒(データ入力②)'!AC15=\"\",\"\",'生徒(データ入力②)'!AC15)","v":""},{"$f":"IF('生徒(データ入力②)'!AD15=\"\",\"\",'生徒(データ入力②)'!AD15)","v":""},{"$f":"IF('生徒(データ入力②)'!AE15=\"\",\"\",'生徒(データ入力②)'!AE15)","v":""},{"$f":"IF('生徒(データ入力②)'!AF15=\"\",\"\",'生徒(データ入力②)'!AF15)","v":""},{"$f":"IF('生徒(データ入力②)'!AG15=\"\",\"\",'生徒(データ入力②)'!AG15)","v":""},{"$f":"IF('生徒(データ入力②)'!AH15=\"\",\"\",'生徒(データ入力②)'!AH15)","v":""},{"$f":"IF('生徒(データ入力②)'!AI15=\"\",\"\",'生徒(データ入力②)'!AI15)","v":""},{"$f":"IF('生徒(データ入力②)'!AJ15=\"\",\"\",'生徒(データ入力②)'!AJ15)","v":""},{"$f":"IF('生徒(データ入力②)'!AK15=\"\",\"\",'生徒(データ入力②)'!AK15)","v":""},{"$f":"IF('生徒(データ入力②)'!AL15=\"\",\"\",'生徒(データ入力②)'!AL15)","v":""},{"$f":"IF('生徒(データ入力②)'!AM15=\"\",\"\",'生徒(データ入力②)'!AM15)","v":""},{"$f":"IF('生徒(データ入力②)'!AN15=\"\",\"\",'生徒(データ入力②)'!AN15)","v":""},{"$f":"IF('生徒(データ入力②)'!AO15=\"\",\"\",'生徒(データ入力②)'!AO15)","v":""},{"$f":"IF('生徒(データ入力②)'!AP15=\"\",\"\",'生徒(データ入力②)'!AP15)","v":""},{"$f":"IF('生徒(データ入力②)'!AQ15=\"\",\"\",'生徒(データ入力②)'!AQ15)","v":""},{"$f":"IF('生徒(データ入力②)'!AR15=\"\",\"\",'生徒(データ入力②)'!AR15)","v":""},{"$f":"IF('生徒(データ入力②)'!AS15=\"\",\"\",'生徒(データ入力②)'!AS15)","v":""},{"$f":"IF('生徒(データ入力②)'!AT15=\"\",\"\",'生徒(データ入力②)'!AT15)","v":""},{"$f":"IF('生徒(データ入力②)'!AU15=\"\",\"\",'生徒(データ入力②)'!AU15)","v":""},{"$f":"IF('生徒(データ入力②)'!AV15=\"\",\"\",'生徒(データ入力②)'!AV15)","v":""},{"$f":"IF('生徒(データ入力②)'!AW15=\"\",\"\",'生徒(データ入力②)'!AW15)","v":""},{"$f":"IF('生徒(データ入力②)'!AX15=\"\",\"\",'生徒(データ入力②)'!AX15)","v":""},{"$f":"IF('生徒(データ入力②)'!AY15=\"\",\"\",'生徒(データ入力②)'!AY15)","v":""},{"$f":"IF('生徒(データ入力②)'!AZ15=\"\",\"\",'生徒(データ入力②)'!AZ15)","v":""},{"$f":"IF('生徒(データ入力②)'!BA15=\"\",\"\",'生徒(データ入力②)'!BA15)","v":""},{"$f":"IF('生徒(データ入力②)'!BB15=\"\",\"\",'生徒(データ入力②)'!BB15)","v":""},{"$f":"IF('生徒(データ入力②)'!BC15=\"\",\"\",'生徒(データ入力②)'!BC15)","v":""},0,{"$error":"#DIV/0!"},null,0,{"$error":"#DIV/0!"},null,0,{"$error":"#DIV/0!"},null,0,{"$error":"#DIV/0!"},null,null,{"$error":"#DIV/0!"},{"$error":"#DIV/0!"},{"$error":"#DIV/0!"},{"$error":"#DIV/0!"}]
[null,null,{"$f":"'生徒(個人)'!B24","v":"私の学級では，みんなが活動の始まりと終わりの時間を守っている。"},{"$error":"#DIV/0!"},{"$error":"#DIV/0!"},{"$error":"#DIV/0!"},{"$error":"#DIV/0!"},null,{"$f":"IF('生徒(データ入力②)'!F23=\"\",\"\",'生徒(データ入力②)'!F23)","v":""},{"$f":"IF('生徒(データ入力②)'!G23=\"\",\"\",'生徒(データ入力②)'!G23)","v":""},{"$f":"IF('生徒(データ入力②)'!H23=\"\",\"\",'生徒(データ入力②)'!H23)","v":""},{"$f":"IF('生徒(データ入力②)'!I23=\"\",\"\",'生徒(データ入力②)'!I23)","v":""},{"$f":"IF('生徒(データ入力②)'!J23=\"\",\"\",'生徒(データ入力②)'!J23)","v":""},{"$f":"IF('生徒(データ入力②)'!K23=\"\",\"\",'生徒(データ入力②)'!K23)","v":""},{"$f":"IF('生徒(データ入力②)'!L23=\"\",\"\",'生徒(データ入力②)'!L23)","v":""},{"$f":"IF('生徒(データ入力②)'!M23=\"\",\"\",'生徒(データ入力②)'!M23)","v":""},{"$f":"IF('生徒(データ入力②)'!N23=\"\",\"\",'生徒(データ入力②)'!N23)","v":""},{"$f":"IF('生徒(データ入力②)'!O23=\"\",\"\",'生徒(データ入力②)'!O23)","v":""},{"$f":"IF('生徒(データ入力②)'!P23=\"\",\"\",'生徒(データ入力②)'!P23)","v":""},{"$f":"IF('生徒(データ入力②)'!Q23=\"\",\"\",'生徒(データ入力②)'!Q23)","v":""},{"$f":"IF('生徒(データ入力②)'!R23=\"\",\"\",'生徒(データ入力②)'!R23)","v":""},{"$f":"IF('生徒(データ入力②)'!S23=\"\",\"\",'生徒(データ入力②)'!S23)","v":""},{"$f":"IF('生徒(データ入力②)'!T23=\"\",\"\",'生徒(データ入力②)'!T23)","v":""},{"$f":"IF('生徒(データ入力②)'!U23=\"\",\"\",'生徒(データ入力②)'!U23)","v":""},{"$f":"IF('生徒(データ入力②)'!V23=\"\",\"\",'生徒(データ入力②)'!V23)","v":""},{"$f":"IF('生徒(データ入力②)'!W23=\"\",\"\",'生徒(データ入力②)'!W23)","v":""},{"$f":"IF('生徒(データ入力②)'!X23=\"\",\"\",'生徒(データ入力②)'!X23)","v":""},{"$f":"IF('生徒(データ入力②)'!Y23=\"\",\"\",'生徒(データ入力②)'!Y23)","v":""},{"$f":"IF('生徒(データ入力②)'!Z23=\"\",\"\",'生徒(データ入力②)'!Z23)","v":""},{"$f":"IF('生徒(データ入力②)'!AA23=\"\",\"\",'生徒(データ入力②)'!AA23)","v":""},{"$f":"IF('生徒(データ入力②)'!AB23=\"\",\"\",'生徒(データ入力②)'!AB23)","v":""},{"$f":"IF('生徒(データ入力②)'!AC23=\"\",\"\",'生徒(データ入力②)'!AC23)","v":""},{"$f":"IF('生徒(データ入力②)'!AD23=\"\",\"\",'生徒(データ入力②)'!AD23)","v":""},{"$f":"IF('生徒(データ入力②)'!AE23=\"\",\"\",'生徒(データ入力②)'!AE23)","v":""},{"$f":"IF('生徒(データ入力②)'!AF23=\"\",\"\",'生徒(データ入力②)'!AF23)","v":""},{"$f":"IF('生徒(データ入力②)'!AG23=\"\",\"\",'生徒(データ入力②)'!AG23)","v":""},{"$f":"IF('生徒(データ入力②)'!AH23=\"\",\"\",'生徒(データ入力②)'!AH23)","v":""},{"$f":"IF('生徒(データ入力②)'!AI23=\"\",\"\",'生徒(データ入力②)'!AI23)","v":""},{"$f":"IF('生徒(データ入力②)'!AJ23=\"\",\"\",'生徒(データ入力②)'!AJ23)","v":""},{"$f":"IF('生徒(データ入力②)'!AK23=\"\",\"\",'生徒(データ入力②)'!AK23)","v":""},{"$f":"IF('生徒(データ入力②)'!AL23=\"\",\"\",'生徒(データ入力②)'!AL23)","v":""},{"$f":"IF('生徒(データ入力②)'!AM23=\"\",\"\",'生徒(データ入力②)'!AM23)","v":""},{"$f":"IF('生徒(データ入力②)'!AN23=\"\",\"\",'生徒(データ入力②)'!AN23)","v":""},{"$f":"IF('生徒(データ入力②)'!AO23=\"\",\"\",'生徒(データ入力②)'!AO23)","v":""},{"$f":"IF('生徒(データ入力②)'!AP23=\"\",\"\",'生徒(データ入力②)'!AP23)","v":""},{"$f":"IF('生徒(データ入力②)'!AQ23=\"\",\"\",'生徒(データ入力②)'!AQ23)","v":""},{"$f":"IF('生徒(データ入力②)'!AR23=\"\",\"\",'生徒(データ入力②)'!AR23)","v":""},{"$f":"IF('生徒(データ入力②)'!AS23=\"\",\"\",'生徒(データ入力②)'!AS23)","v":""},{"$f":"IF('生徒(データ入力②)'!AT23=\"\",\"\",'生徒(データ入力②)'!AT23)","v":""},{"$f":"IF('生徒(データ入力②)'!AU23=\"\",\"\",'生徒(データ入力②)'!AU23)","v":""},{"$f":"IF('生徒(データ入力②)'!AV23=\"\",\"\",'生徒(データ入力②)'!AV23)","v":""},{"$f":"IF('生徒(データ入力②)'!AW23=\"\",\"\",'生徒(データ入力②)'!AW23)","v":""},{"$f":"IF('生徒(データ入力②)'!AX23=\"\",\"\",'生徒(データ入力②)'!AX23)","v":""},{"$f":"IF('生徒(データ入力②)'!AY23=\"\",\"\",'生徒(データ入力②)'!AY23)","v":""},{"$f":"IF('生徒(データ入力②)'!AZ23=\"\",\"\",'生徒(データ入力②)'!AZ23)","v":""},{"$f":"IF('生徒(データ入力②)'!BA23=\"\",\"\",'生徒(データ入力②)'!BA23)","v":""},{"$f":"IF('生徒(データ入力②)'!BB23=\"\",\"\",'生徒(データ入力②)'!BB23)","v":""},{"$f":"IF('生徒(データ入力②)'!BC23=\"\",\"\",'生徒(データ入力②)'!BC23)","v":""},0,{"$error":"#DIV/0!"},null,0,{"$error":"#DIV/0!"},null,0,{"$error":"#DIV/0!"},null,0,{"$error":"#DIV/0!"},null,null,{"$error":"#DIV/0!"},{"$error":"#DIV/0!"},{"$error":"#DIV/0!"},{"$error":"#DIV/0!"}]
[null,null,{"$f":"'生徒(個人)'!B25","v":"私の学級では，人の心や体を傷つける言葉や行為を許さない雰囲気がある。"},{"$error":"#DIV/0!"},{"$error":"#DIV/0!"},{"$error":"#DIV/0!"},{"$error":"#DIV/0!"},null,{"$f":"IF('生徒(データ入力②)'!F11=\"\",\"\",'生徒(データ入力②)'!F11)","v":""},{"$f":"IF('生徒(データ入力②)'!G11=\"\",\"\",'生徒(データ入力②)'!G11)","v":""},{"$f":"IF('生徒(データ入力②)'!H11=\"\",\"\",'生徒(データ入力②)'!H11)","v":""},{"$f":"IF('生徒(データ入力②)'!I11=\"\",\"\",'生徒(データ入力②)'!I11)","v":""},{"$f":"IF('生徒(データ入力②)'!J11=\"\",\"\",'生徒(データ入力②)'!J11)","v":""},{"$f":"IF('生徒(データ入力②)'!K11=\"\",\"\",'生徒(データ入力②)'!K11)","v":""},{"$f":"IF('生徒(データ入力②)'!L11=\"\",\"\",'生徒(データ入力②)'!L11)","v":""},{"$f":"IF('生徒(データ入力②)'!M11=\"\",\"\",'生徒(データ入力②)'!M11)","v":""},{"$f":"IF('生徒(データ入力②)'!N11=\"\",\"\",'生徒(データ入力②)'!N11)","v":""},{"$f":"IF('生徒(データ入力②)'!O11=\"\",\"\",'生徒(データ入力②)'!O11)","v":""},{"$f":"IF('生徒(データ入力②)'!P11=\"\",\"\",'生徒(データ入力②)'!P11)","v":""},{"$f":"IF('生徒(データ入力②)'!Q11=\"\",\"\",'生徒(データ入力②)'!Q11)","v":""},{"$f":"IF('生徒(データ入力②)'!R11=\"\",\"\",'生徒(データ入力②)'!R11)","v":""},{"$f":"IF('生徒(データ入力②)'!S11=\"\",\"\",'生徒(データ入力②)'!S11)","v":""},{"$f":"IF('生徒(データ入力②)'!T11=\"\",\"\",'生徒(データ入力②)'!T11)","v":""},{"$f":"IF('生徒(データ入力②)'!U11=\"\",\"\",'生徒(データ入力②)'!U11)","v":""},{"$f":"IF('生徒(データ入力②)'!V11=\"\",\"\",'生徒(データ入力②)'!V11)","v":""},{"$f":"IF('生徒(データ入力②)'!W11=\"\",\"\",'生徒(データ入力②)'!W11)","v":""},{"$f":"IF('生徒(データ入力②)'!X11=\"\",\"\",'生徒(データ入力②)'!X11)","v":""},{"$f":"IF('生徒(データ入力②)'!Y11=\"\",\"\",'生徒(データ入力②)'!Y11)","v":""},{"$f":"IF('生徒(データ入力②)'!Z11=\"\",\"\",'生徒(データ入力②)'!Z11)","v":""},{"$f":"IF('生徒(データ入力②)'!AA11=\"\",\"\",'生徒(データ入力②)'!AA11)","v":""},{"$f":"IF('生徒(データ入力②)'!AB11=\"\",\"\",'生徒(データ入力②)'!AB11)","v":""},{"$f":"IF('生徒(データ入力②)'!AC11=\"\",\"\",'生徒(データ入力②)'!AC11)","v":""},{"$f":"IF('生徒(データ入力②)'!AD11=\"\",\"\",'生徒(データ入力②)'!AD11)","v":""},{"$f":"IF('生徒(データ入力②)'!AE11=\"\",\"\",'生徒(データ入力②)'!AE11)","v":""},{"$f":"IF('生徒(データ入力②)'!AF11=\"\",\"\",'生徒(データ入力②)'!AF11)","v":""},{"$f":"IF('生徒(データ入力②)'!AG11=\"\",\"\",'生徒(データ入力②)'!AG11)","v":""},{"$f":"IF('生徒(データ入力②)'!AH11=\"\",\"\",'生徒(データ入力②)'!AH11)","v":""},{"$f":"IF('生徒(データ入力②)'!AI11=\"\",\"\",'生徒(データ入力②)'!AI11)","v":""},{"$f":"IF('生徒(データ入力②)'!AJ11=\"\",\"\",'生徒(データ入力②)'!AJ11)","v":""},{"$f":"IF('生徒(データ入力②)'!AK11=\"\",\"\",'生徒(データ入力②)'!AK11)","v":""},{"$f":"IF('生徒(データ入力②)'!AL11=\"\",\"\",'生徒(データ入力②)'!AL11)","v":""},{"$f":"IF('生徒(データ入力②)'!AM11=\"\",\"\",'生徒(データ入力②)'!AM11)","v":""},{"$f":"IF('生徒(データ入力②)'!AN11=\"\",\"\",'生徒(データ入力②)'!AN11)","v":""},{"$f":"IF('生徒(データ入力②)'!AO11=\"\",\"\",'生徒(データ入力②)'!AO11)","v":""},{"$f":"IF('生徒(データ入力②)'!AP11=\"\",\"\",'生徒(データ入力②)'!AP11)","v":""},{"$f":"IF('生徒(データ入力②)'!AQ11=\"\",\"\",'生徒(データ入力②)'!AQ11)","v":""},{"$f":"IF('生徒(データ入力②)'!AR11=\"\",\"\",'生徒(データ入力②)'!AR11)","v":""},{"$f":"IF('生徒(データ入力②)'!AS11=\"\",\"\",'生徒(データ入力②)'!AS11)","v":""},{"$f":"IF('生徒(データ入力②)'!AT11=\"\",\"\",'生徒(データ入力②)'!AT11)","v":""},{"$f":"IF('生徒(データ入力②)'!AU11=\"\",\"\",'生徒(データ入力②)'!AU11)","v":""},{"$f":"IF('生徒(データ入力②)'!AV11=\"\",\"\",'生徒(データ入力②)'!AV11)","v":""},{"$f":"IF('生徒(データ入力②)'!AW11=\"\",\"\",'生徒(データ入力②)'!AW11)","v":""},{"$f":"IF('生徒(データ入力②)'!AX11=\"\",\"\",'生徒(データ入力②)'!AX11)","v":""},{"$f":"IF('生徒(データ入力②)'!AY11=\"\",\"\",'生徒(データ入力②)'!AY11)","v":""},{"$f":"IF('生徒(データ入力②)'!AZ11=\"\",\"\",'生徒(データ入力②)'!AZ11)","v":""},{"$f":"IF('生徒(データ入力②)'!BA11=\"\",\"\",'生徒(データ入力②)'!BA11)","v":""},{"$f":"IF('生徒(データ入力②)'!BB11=\"\",\"\",'生徒(データ入力②)'!BB11)","v":""},{"$f":"IF('生徒(データ入力②)'!BC11=\"\",\"\",'生徒(データ入力②)'!BC11)","v":""},0,{"$error":"#DIV/0!"},null,0,{"$error":"#DIV/0!"},null,0,{"$error":"#DIV/0!"},null,0,{"$error":"#DIV/0!"},null,null,{"$error":"#DIV/0!"},{"$error":"#DIV/0!"},{"$error":"#DIV/0!"},{"$error":"#DIV/0!"}]

{"sheet":"実施方法","index":19,"n_rows":0,"n_cols":0,"rows_kept":0,"cut":false,"hidden":false,"merged":[]}

{"sheet":"結果作成","index":20,"n_rows":0,"n_cols":0,"rows_kept":0,"cut":false,"hidden":false,"merged":[]}